{"text_format":"1","workbook":"xlsx","n_sheets":14,"sheets":["Basic Information","Instructions","Drop-down lists","Data Collection Sheet","Cost Data","Consequence of Failure","Most Critical","CoF and PoF","Calculate Risk","Graph","Definitions","Calculations","Inflation Data","Life Expectancy and Criticality"],"not_rendered":{"charts":1,"images":1,"macros":1,"external_links":0,"defined_names":45,"comments":0,"pivot_tables":0},"unopened":[],"bounds":{"document_bytes":16777216,"sheet_cells":100000,"rows_first":2000,"rows_last":500,"rows_between":2000,"halvings":0,"cell_chars":16384,"cell_head_chars":4096},"cells_cut":0,"cells_raw":0,"read":"whole","date_system":"1900"}

{"sheet":"Basic Information","index":0,"n_rows":19,"n_cols":3,"rows_kept":19,"cut":false,"hidden":false,"merged":[[11,4,11,17],[12,4,12,17],[13,4,13,17],[14,4,14,17],[15,4,15,17],[13,2,13,3],[14,2,14,3],[15,2,15,3],[11,2,11,3],[12,2,12,3],[5,2,5,3],[7,2,7,3],[8,2,8,3],[3,2,3,17],[4,2,4,17],[5,4,5,17],[6,2,6,3],[6,4,6,17],[9,2,9,3],[10,2,10,3],[7,4,7,17],[8,4,8,17],[9,4,9,17],[10,4,10,17]]}
[]
[]
[]
[null,null,"Public Water Supply Asset Management Plan "]
[null,null,"Drinking Water System Assessment "]
[null,null,"Utility Name:"]
[null,null,"PWSID No."]
[null,null,"Utility Location:"]
[null,null,"Date of Inventory:"]
[null,null,"System Capacity:"]
[null,null,"Population Served:"]
[null,null,"Number of Connections:"]
[null,null,"System Representatives:"]
[null,null,"System Contact info:"]
[null,null,"BPWS Regional Engineer:"]
[null,null,"BPWS RE Contact Info:"]
[]
[null,null,"This planning document can be developed with one specific PWSID in mind. If desired by system officials, included multiple system PWSIDs could be combined into one document"]
[null,null,"to cover the multipile systems that are managed by the single board."]

{"sheet":"Instructions","index":1,"n_rows":19,"n_cols":5,"rows_kept":19,"cut":false,"hidden":false,"merged":[[16,1,19,1],[3,1,5,1],[6,1,7,1],[8,1,10,1],[11,1,13,1],[14,1,15,1]]}
[]
[null,null,null,null,"HOW TO FILL-OUT YOUR ASSET MANAGEMENT PLAN"]
[]
[null,"Enter information:",null,"ENTER information in the cells with RED HEADERS"]
[null,null,null,"These are found in the RED TABBED SHEETS: Data Collection Sheet, Cost Data, and Consequence of Failure"]
[]
[null,"Auto-Calculated Cells:",null,"All cells with BLACK HEADERS are AUTOMATICALLY FILLED-IN."]
[]
[null,"Enabling Macros:",null,"Click ENABLE on the YELLOW BANNER at the top of the spreadsheet."]
[null,null,null,"This will enable the \"Macros,\" which is required for the auto-zoom function within the spreadsheet."]
[]
[null,"Inserting rows within table:",null,"If you insert a row on one of the RED TABBED sheets, YOU MUST insert one in the same place on ALL OTHER RED TABBED SHEETS."]
[null,null,null,"It will look like it inserted it for you, however the data that is not automatically transferred to the other sheets will not be correct."]
[]
[null,"Removing an asset:",null,"If you want to DELETE an asset, either delete the row on ALL RED TABBED SHEETS, or only select and delete the cells with RED HEADERS."]
[]
[null,"Auto-calculate not working:",null,"If the cells with the BLACK HEADERS are not filling in, click another cell in the same column,"]
[null,null,null,"then click and drag from the small green box located in the bottom right of the \"new\" cell into the cell that was not working. This will highlight both cells."]
[null,null,null,"Once you release the mouse, it should apply the formula to the cell that was previously not working. This should fix most problems."]

{"sheet":"Drop-down lists","index":2,"n_rows":41,"n_cols":19,"rows_kept":41,"cut":false,"hidden":true,"merged":[]}
["       ",null,"Category List ","Pump","Hydrant","Meter","Pipe","Source","Tank","Analytical","Treatment","Valve","Control","Safety","Building","Vehicle","Other",null,"       "]
["    ",null,"Pump","High Service ","Fire ","Master ","PVC","Well","Clear Well","pH Meter ","Sedimentation ","Gate ","Telemetry ","PPE","Treatment Plant","Truck","Add Description",null,"    "]
[null,null,"Hydrant","Booster ","Flush ","Well ","Ductile Iron (DI)","Intake Structure ","Ground Level Storage Tank","Chlorine Monitor ","Filtration","Ball","SCADA ","Fencing","Well house","Backhoe"]
[null,null,"Meter","Transfer ","Flow Test ","Source ","Steel ","Springs ","Elevated Storage Tank","Colorimeter","Clarifier","Butterfly ","Variable Frequency Drive (VFD)","Add Description ","Office","Dump Truck"]
[null,null,"Pipe","Metering ","Other ","Customer ","Cast Iron ","Reservoir ","Standpipe","Turbidimeter","Chemical Feed","Pressure Relief (PRV)","Other ",null,"Add Description","HVAC Truck"]
[null,null,"Source","Surface Water Intake ",null,"Residential ","Concrete ","Other ","Other ","TDS Meter","Chlorination ","Air Release (ARV)",null,null,null,"Add Description "]
[null,null,"Tank","Backwash ",null,"Flow","Asbestos Cement ",null,null,"Other Remote Sensor ","Ozonation ","Air Vacuum"]
[null,null,"Analytical","Motor ",null,"Other ","Decant",null,null,null,"Ultraviolet Disenfection ","Check "]
[null,null,"Treatment","Decant",null,null,"Other ",null,null,null,"Ion Exchange ","Blow-Off"]
[null,null,"Valve","Other ",null,null,null,null,null,null,"Fluoride ","Altitude "]
[null,null,"Control",null,null,null,null,null,null,null,"Corrosion Control"]
[null,null,"Safety",null,null,null,null,null,null,null,"Backwash Lagoon"]
[null,null,"Other",null,null,null,null,null,null,null,"Other "]
[]
[]
[null,null,null,null,null,null,null,"Compliance "]
[null,null,null,null,null,null,null,"Yes",null,null,null,"Life ","Capacity",null,null,null,"Repair"]
[null,null,"Current Condition",null,null,"Back Ups","Importance ","No",null,null,null,"Yes","Above",null,null,null,"Yes"]
[null,null,"Bad",null,null,"Yes","0%-25%",null,null,null,null,"No","At","Reliability ",null,null,"No"]
[null,null,"Fair",null,null,"No","26%-50%",null,null,"Concerns",null,null,"Below","Yes"]
[null,null,"Good",null,null,null,"51%-75%",null,null,"Yes",null,null,null,"No"]
[null,null,"Great",null,null,null,"76%-100%",null,null,"No"]
[]
[]
[]
[]
[]
[null,null,"Funding Source "]
[null,null,"Annual Budget "]
[null,null,"Capital Improvement Account"]
[null,null,"Reserve Account"]
[null,null,"MSDH - Drinking Water State Revolving Loan Fund"]
[null,null,"MSDH - Drinking Water SRF - Emergency"]
[null,null,"CDBG - Mississippi Development Authority"]
[null,null,"U.S. Department of Agriculture "]
[null,null,"U.S. Environmental Protection Agency"]
[null,null,"Delta Regional Authority"]
[null,null,"Appalachian Regional Commission"]
[null,null,"Communities Unlimited"]
[null,null,"Mississippi Rural Water Association"]
[null,null,"Other (Type in cell)"]

{"sheet":"Data Collection Sheet","index":3,"n_rows":246,"n_cols":14,"rows_kept":246,"cut":false,"hidden":false,"merged":[]}
[]
[null,"ENTER INFORMATION IN THE RED CATEGORIES \nTHE BLACKED-OUT CATEGORIES ARE AUTOMATICALLY CALCULATED"]
[null,null,null,null,null,null,null,null,"Data Collection Sheet"]
[]
["I.D. Number ","Category","Type","Size ","Description","Location","Installation Year","Installation Estimated?","Current Condition","Repair and Maintenance History ","Estimated Year of Failure","Life Expectancy"]
[{"$f":"IF('CoF and PoF'!C2=\"--\",\"\",'CoF and PoF'!C2)","v":"TaEl-1994-1"},"Tank","Elevated Storage Tank","100,000 Gallon","Tank","Eastport",1994,null,"Fair","Needs Paining",{"$f":"IF(Table13[[#This Row],[I.D. Number ]]=\"\",\"\",IF(Table13[[#This Row],[Installation Year]]=\"\",\"\",('Life Expectancy and Criticality'!$V3+Table13[[#This Row],[Installation Year]])))","v":2019},{"$f":"IF(Table13[[#This Row],[I.D. Number ]]=\"\",\"\",(IF('Life Expectancy and Criticality'!$V3-(YEAR(TODAY())-Table13[[#This Row],[Installation Year]])<0,0,'Life Expectancy and Criticality'!$V3-(YEAR(TODAY())-Table13[[#This Row],[Installation Year]]))))","v":0},null,false]
[{"$f":"IF('CoF and PoF'!C3=\"--\",\"\",'CoF and PoF'!C3)","v":"TaEl-1994-2"},"Tank","Elevated Storage Tank","100,000 Gallon","Tank","Snowdown",1994,null,"Fair","Needs Painting",{"$f":"IF(Table13[[#This Row],[I.D. Number ]]=\"\",\"\",IF(Table13[[#This Row],[Installation Year]]=\"\",\"\",('Life Expectancy and Criticality'!$V4+Table13[[#This Row],[Installation Year]])))","v":2019},{"$f":"IF(Table13[[#This Row],[I.D. Number ]]=\"\",\"\",(IF('Life Expectancy and Criticality'!$V4-(YEAR(TODAY())-Table13[[#This Row],[Installation Year]])<0,0,'Life Expectancy and Criticality'!$V4-(YEAR(TODAY())-Table13[[#This Row],[Installation Year]]))))","v":0},null,false]
[{"$f":"IF('CoF and PoF'!C4=\"--\",\"\",'CoF and PoF'!C4)","v":"PiPV-1970-1"},"Pipe","PVC","6\"","68662 linear feet","System Wide",1970,null,"Fair",null,{"$f":"IF(Table13[[#This Row],[I.D. Number ]]=\"\",\"\",IF(Table13[[#This Row],[Installation Year]]=\"\",\"\",('Life Expectancy and Criticality'!$V5+Table13[[#This Row],[Installation Year]])))","v":2010},{"$f":"IF(Table13[[#This Row],[I.D. Number ]]=\"\",\"\",(IF('Life Expectancy and Criticality'!$V5-(YEAR(TODAY())-Table13[[#This Row],[Installation Year]])<0,0,'Life Expectancy and Criticality'!$V5-(YEAR(TODAY())-Table13[[#This Row],[Installation Year]]))))","v":0},null,false]
[{"$f":"IF('CoF and PoF'!C5=\"--\",\"\",'CoF and PoF'!C5)","v":"PiPV-1970-2"},"Pipe","PVC","4\"","39651 linear feet","System Wide",1970,null,"Fair",null,{"$f":"IF(Table13[[#This Row],[I.D. Number ]]=\"\",\"\",IF(Table13[[#This Row],[Installation Year]]=\"\",\"\",('Life Expectancy and Criticality'!$V6+Table13[[#This Row],[Installation Year]])))","v":2010},{"$f":"IF(Table13[[#This Row],[I.D. Number ]]=\"\",\"\",(IF('Life Expectancy and Criticality'!$V6-(YEAR(TODAY())-Table13[[#This Row],[Installation Year]])<0,0,'Life Expectancy and Criticality'!$V6-(YEAR(TODAY())-Table13[[#This Row],[Installation Year]]))))","v":0},null,false]
[{"$f":"IF('CoF and PoF'!C6=\"--\",\"\",'CoF and PoF'!C6)","v":"PiPV-2011-1"},"Pipe","PVC","6\"","36,960 linear feet","System Wide",2011,null,"Fair",null,{"$f":"IF(Table13[[#This Row],[I.D. Number ]]=\"\",\"\",IF(Table13[[#This Row],[Installation Year]]=\"\",\"\",('Life Expectancy and Criticality'!$V7+Table13[[#This Row],[Installation Year]])))","v":2051},{"$f":"IF(Table13[[#This Row],[I.D. Number ]]=\"\",\"\",(IF('Life Expectancy and Criticality'!$V7-(YEAR(TODAY())-Table13[[#This Row],[Installation Year]])<0,0,'Life Expectancy and Criticality'!$V7-(YEAR(TODAY())-Table13[[#This Row],[Installation Year]]))))","v":27},null,false]
[{"$f":"IF('CoF and PoF'!C7=\"--\",\"\",'CoF and PoF'!C7)","v":"PiPV-1970-3"},"Pipe","PVC","2\"","24,923 linear feet","System Wide",1970,null,"Fair",null,{"$f":"IF(Table13[[#This Row],[I.D. Number ]]=\"\",\"\",IF(Table13[[#This Row],[Installation Year]]=\"\",\"\",('Life Expectancy and Criticality'!$V8+Table13[[#This Row],[Installation Year]])))","v":2010},{"$f":"IF(Table13[[#This Row],[I.D. Number ]]=\"\",\"\",(IF('Life Expectancy and Criticality'!$V8-(YEAR(TODAY())-Table13[[#This Row],[Installation Year]])<0,0,'Life Expectancy and Criticality'!$V8-(YEAR(TODAY())-Table13[[#This Row],[Installation Year]]))))","v":0},null,false]
[{"$f":"IF('CoF and PoF'!C8=\"--\",\"\",'CoF and PoF'!C8)","v":"PiPV-1970-4"},"Pipe","PVC","3\"","2,292 linear feet","System Wide",1970,null,"Fair",null,{"$f":"IF(Table13[[#This Row],[I.D. Number ]]=\"\",\"\",IF(Table13[[#This Row],[Installation Year]]=\"\",\"\",('Life Expectancy and Criticality'!$V9+Table13[[#This Row],[Installation Year]])))","v":2010},{"$f":"IF(Table13[[#This Row],[I.D. Number ]]=\"\",\"\",(IF('Life Expectancy and Criticality'!$V9-(YEAR(TODAY())-Table13[[#This Row],[Installation Year]])<0,0,'Life Expectancy and Criticality'!$V9-(YEAR(TODAY())-Table13[[#This Row],[Installation Year]]))))","v":0},null,false]
[{"$f":"IF('CoF and PoF'!C9=\"--\",\"\",'CoF and PoF'!C9)","v":"PiPV-1994-1"},"Pipe","PVC","4\"","31500 linrar feet","System Wide",1994,null,"Fair",null,{"$f":"IF(Table13[[#This Row],[I.D. Number ]]=\"\",\"\",IF(Table13[[#This Row],[Installation Year]]=\"\",\"\",('Life Expectancy and Criticality'!$V10+Table13[[#This Row],[Installation Year]])))","v":2034},{"$f":"IF(Table13[[#This Row],[I.D. Number ]]=\"\",\"\",(IF('Life Expectancy and Criticality'!$V10-(YEAR(TODAY())-Table13[[#This Row],[Installation Year]])<0,0,'Life Expectancy and Criticality'!$V10-(YEAR(TODAY())-Table13[[#This Row],[Installation Year]]))))","v":10},null,false]
[{"$f":"IF('CoF and PoF'!C10=\"--\",\"\",'CoF and PoF'!C10)","v":"PiPV-1994-2"},"Pipe","PVC","6\"","74550 linear feet","System Wide",1994,null,"Fair",null,{"$f":"IF(Table13[[#This Row],[I.D. Number ]]=\"\",\"\",IF(Table13[[#This Row],[Installation Year]]=\"\",\"\",('Life Expectancy and Criticality'!$V11+Table13[[#This Row],[Installation Year]])))","v":2034},{"$f":"IF(Table13[[#This Row],[I.D. Number ]]=\"\",\"\",(IF('Life Expectancy and Criticality'!$V11-(YEAR(TODAY())-Table13[[#This Row],[Installation Year]])<0,0,'Life Expectancy and Criticality'!$V11-(YEAR(TODAY())-Table13[[#This Row],[Installation Year]]))))","v":10},null,false]
[{"$f":"IF('CoF and PoF'!C11=\"--\",\"\",'CoF and PoF'!C11)","v":"PiPV-1994-3"},"Pipe","PVC","8\"","29,399 linear feet","System Wide",1994,null,"Fair",null,{"$f":"IF(Table13[[#This Row],[I.D. Number ]]=\"\",\"\",IF(Table13[[#This Row],[Installation Year]]=\"\",\"\",('Life Expectancy and Criticality'!$V12+Table13[[#This Row],[Installation Year]])))","v":2034},{"$f":"IF(Table13[[#This Row],[I.D. Number ]]=\"\",\"\",(IF('Life Expectancy and Criticality'!$V12-(YEAR(TODAY())-Table13[[#This Row],[Installation Year]])<0,0,'Life Expectancy and Criticality'!$V12-(YEAR(TODAY())-Table13[[#This Row],[Installation Year]]))))","v":10}]
[{"$f":"IF('CoF and PoF'!C12=\"--\",\"\",'CoF and PoF'!C12)","v":"PiPV-1994-4"},"Pipe","PVC","10\"","5,713 linear feet","System Wide",1994,null,"Fair",null,{"$f":"IF(Table13[[#This Row],[I.D. Number ]]=\"\",\"\",IF(Table13[[#This Row],[Installation Year]]=\"\",\"\",('Life Expectancy and Criticality'!$V13+Table13[[#This Row],[Installation Year]])))","v":2034},{"$f":"IF(Table13[[#This Row],[I.D. Number ]]=\"\",\"\",(IF('Life Expectancy and Criticality'!$V13-(YEAR(TODAY())-Table13[[#This Row],[Installation Year]])<0,0,'Life Expectancy and Criticality'!$V13-(YEAR(TODAY())-Table13[[#This Row],[Installation Year]]))))","v":10},null,false]
[{"$f":"IF('CoF and PoF'!C13=\"--\",\"\",'CoF and PoF'!C13)","v":"PiPV-1994-5"},"Pipe","PVC","12\"","40,940 linear feet","System Wide",1994,null,"Fair",null,{"$f":"IF(Table13[[#This Row],[I.D. Number ]]=\"\",\"\",IF(Table13[[#This Row],[Installation Year]]=\"\",\"\",('Life Expectancy and Criticality'!$V14+Table13[[#This Row],[Installation Year]])))","v":2034},{"$f":"IF(Table13[[#This Row],[I.D. Number ]]=\"\",\"\",(IF('Life Expectancy and Criticality'!$V14-(YEAR(TODAY())-Table13[[#This Row],[Installation Year]])<0,0,'Life Expectancy and Criticality'!$V14-(YEAR(TODAY())-Table13[[#This Row],[Installation Year]]))))","v":10},null,false]
[{"$f":"IF('CoF and PoF'!C14=\"--\",\"\",'CoF and PoF'!C14)","v":"HyFi-1994-1"},"Hydrant","Fire ",null,"24 each","System Wide",1994,null,"Good",null,{"$f":"IF(Table13[[#This Row],[I.D. Number ]]=\"\",\"\",IF(Table13[[#This Row],[Installation Year]]=\"\",\"\",('Life Expectancy and Criticality'!$V15+Table13[[#This Row],[Installation Year]])))","v":2034},{"$f":"IF(Table13[[#This Row],[I.D. Number ]]=\"\",\"\",(IF('Life Expectancy and Criticality'!$V15-(YEAR(TODAY())-Table13[[#This Row],[Installation Year]])<0,0,'Life Expectancy and Criticality'!$V15-(YEAR(TODAY())-Table13[[#This Row],[Installation Year]]))))","v":10},null,true]
[{"$f":"IF('CoF and PoF'!C15=\"--\",\"\",'CoF and PoF'!C15)","v":"SoWe-2021-1"},"Source","Well",null,"Well 1","CR 473",2021,null,"Great",null,{"$f":"IF(Table13[[#This Row],[I.D. Number ]]=\"\",\"\",IF(Table13[[#This Row],[Installation Year]]=\"\",\"\",('Life Expectancy and Criticality'!$V16+Table13[[#This Row],[Installation Year]])))","v":2071},{"$f":"IF(Table13[[#This Row],[I.D. Number ]]=\"\",\"\",(IF('Life Expectancy and Criticality'!$V16-(YEAR(TODAY())-Table13[[#This Row],[Installation Year]])<0,0,'Life Expectancy and Criticality'!$V16-(YEAR(TODAY())-Table13[[#This Row],[Installation Year]]))))","v":47}]
[{"$f":"IF('CoF and PoF'!C16=\"--\",\"\",'CoF and PoF'!C16)","v":"SoWe-2021-2"},"Source","Well",null,"Well 2","CR 473",2021,null,"Great",null,{"$f":"IF(Table13[[#This Row],[I.D. Number ]]=\"\",\"\",IF(Table13[[#This Row],[Installation Year]]=\"\",\"\",('Life Expectancy and Criticality'!$V17+Table13[[#This Row],[Installation Year]])))","v":2071},{"$f":"IF(Table13[[#This Row],[I.D. Number ]]=\"\",\"\",(IF('Life Expectancy and Criticality'!$V17-(YEAR(TODAY())-Table13[[#This Row],[Installation Year]])<0,0,'Life Expectancy and Criticality'!$V17-(YEAR(TODAY())-Table13[[#This Row],[Installation Year]]))))","v":47}]
[{"$f":"IF('CoF and PoF'!C17=\"--\",\"\",'CoF and PoF'!C17)","v":"PuTr-2021-1"},"Pump","Transfer ","600 GPM","Well 1 Pump","CR 473",2021,null,"Great",null,{"$f":"IF(Table13[[#This Row],[I.D. Number ]]=\"\",\"\",IF(Table13[[#This Row],[Installation Year]]=\"\",\"\",('Life Expectancy and Criticality'!$V18+Table13[[#This Row],[Installation Year]])))","v":2036},{"$f":"IF(Table13[[#This Row],[I.D. Number ]]=\"\",\"\",(IF('Life Expectancy and Criticality'!$V18-(YEAR(TODAY())-Table13[[#This Row],[Installation Year]])<0,0,'Life Expectancy and Criticality'!$V18-(YEAR(TODAY())-Table13[[#This Row],[Installation Year]]))))","v":12}]
[{"$f":"IF('CoF and PoF'!C18=\"--\",\"\",'CoF and PoF'!C18)","v":"PuTr-2021-2"},"Pump","Transfer ","600 GPM","Well 2 Pump","Cr 473",2021,null,"Great",null,{"$f":"IF(Table13[[#This Row],[I.D. Number ]]=\"\",\"\",IF(Table13[[#This Row],[Installation Year]]=\"\",\"\",('Life Expectancy and Criticality'!$V19+Table13[[#This Row],[Installation Year]])))","v":2036},{"$f":"IF(Table13[[#This Row],[I.D. Number ]]=\"\",\"\",(IF('Life Expectancy and Criticality'!$V19-(YEAR(TODAY())-Table13[[#This Row],[Installation Year]])<0,0,'Life Expectancy and Criticality'!$V19-(YEAR(TODAY())-Table13[[#This Row],[Installation Year]]))))","v":12}]
[{"$f":"IF('CoF and PoF'!C19=\"--\",\"\",'CoF and PoF'!C19)","v":"MeWe-2021-1"},"Meter","Well ",null,"Master Meter, Well 1","Cr 473",2021,null,"Great",null,{"$f":"IF(Table13[[#This Row],[I.D. Number ]]=\"\",\"\",IF(Table13[[#This Row],[Installation Year]]=\"\",\"\",('Life Expectancy and Criticality'!$V20+Table13[[#This Row],[Installation Year]])))","v":2036},{"$f":"IF(Table13[[#This Row],[I.D. Number ]]=\"\",\"\",(IF('Life Expectancy and Criticality'!$V20-(YEAR(TODAY())-Table13[[#This Row],[Installation Year]])<0,0,'Life Expectancy and Criticality'!$V20-(YEAR(TODAY())-Table13[[#This Row],[Installation Year]]))))","v":12},null,false]
[{"$f":"IF('CoF and PoF'!C20=\"--\",\"\",'CoF and PoF'!C20)","v":"MeWe-2021-2"},"Meter","Well ",null,"Master Meter, Well 2","CR 473",2021,null,"Great",null,{"$f":"IF(Table13[[#This Row],[I.D. Number ]]=\"\",\"\",IF(Table13[[#This Row],[Installation Year]]=\"\",\"\",('Life Expectancy and Criticality'!$V21+Table13[[#This Row],[Installation Year]])))","v":2036},{"$f":"IF(Table13[[#This Row],[I.D. Number ]]=\"\",\"\",(IF('Life Expectancy and Criticality'!$V21-(YEAR(TODAY())-Table13[[#This Row],[Installation Year]])<0,0,'Life Expectancy and Criticality'!$V21-(YEAR(TODAY())-Table13[[#This Row],[Installation Year]]))))","v":12},null,false]
[{"$f":"IF('CoF and PoF'!C21=\"--\",\"\",'CoF and PoF'!C21)","v":"WTP-2022-1"},"Building","Treatment Plant",null,"400 Sq Ft Treatment Plant Room","Cr 473",2022,null,"Great",null,{"$f":"IF(Table13[[#This Row],[I.D. Number ]]=\"\",\"\",IF(Table13[[#This Row],[Installation Year]]=\"\",\"\",('Life Expectancy and Criticality'!$V22+Table13[[#This Row],[Installation Year]])))","v":2072},{"$f":"IF(Table13[[#This Row],[I.D. Number ]]=\"\",\"\",(IF('Life Expectancy and Criticality'!$V22-(YEAR(TODAY())-Table13[[#This Row],[Installation Year]])<0,0,'Life Expectancy and Criticality'!$V22-(YEAR(TODAY())-Table13[[#This Row],[Installation Year]]))))","v":48},null,false]
[{"$f":"IF('CoF and PoF'!C22=\"--\",\"\",'CoF and PoF'!C22)","v":"TaCl-2022-1"},"Tank","Clear Well","30,000 Gallon","Water Treatment Clear well","CR 473",2022,null,"Great",null,{"$f":"IF(Table13[[#This Row],[I.D. Number ]]=\"\",\"\",IF(Table13[[#This Row],[Installation Year]]=\"\",\"\",('Life Expectancy and Criticality'!$V23+Table13[[#This Row],[Installation Year]])))","v":2072},{"$f":"IF(Table13[[#This Row],[I.D. Number ]]=\"\",\"\",(IF('Life Expectancy and Criticality'!$V23-(YEAR(TODAY())-Table13[[#This Row],[Installation Year]])<0,0,'Life Expectancy and Criticality'!$V23-(YEAR(TODAY())-Table13[[#This Row],[Installation Year]]))))","v":48},null,false]
[{"$f":"IF('CoF and PoF'!C23=\"--\",\"\",'CoF and PoF'!C23)","v":"PuHi-2022-1"},"Pump","High Service ","600 GPM","Vertical Turbine","CR 473",2022,null,"Great",null,{"$f":"IF(Table13[[#This Row],[I.D. Number ]]=\"\",\"\",IF(Table13[[#This Row],[Installation Year]]=\"\",\"\",('Life Expectancy and Criticality'!$V24+Table13[[#This Row],[Installation Year]])))","v":2037},{"$f":"IF(Table13[[#This Row],[I.D. Number ]]=\"\",\"\",(IF('Life Expectancy and Criticality'!$V24-(YEAR(TODAY())-Table13[[#This Row],[Installation Year]])<0,0,'Life Expectancy and Criticality'!$V24-(YEAR(TODAY())-Table13[[#This Row],[Installation Year]]))))","v":13},null,false]
[{"$f":"IF('CoF and PoF'!C24=\"--\",\"\",'CoF and PoF'!C24)","v":"PuHi-2022-2"},"Pump","High Service ","600 GPM","Vertical Turbine","CR 473",2022,null,"Great",null,{"$f":"IF(Table13[[#This Row],[I.D. Number ]]=\"\",\"\",IF(Table13[[#This Row],[Installation Year]]=\"\",\"\",('Life Expectancy and Criticality'!$V25+Table13[[#This Row],[Installation Year]])))","v":2037},{"$f":"IF(Table13[[#This Row],[I.D. Number ]]=\"\",\"\",(IF('Life Expectancy and Criticality'!$V25-(YEAR(TODAY())-Table13[[#This Row],[Installation Year]])<0,0,'Life Expectancy and Criticality'!$V25-(YEAR(TODAY())-Table13[[#This Row],[Installation Year]]))))","v":13},null,false]
[{"$f":"IF('CoF and PoF'!C25=\"--\",\"\",'CoF and PoF'!C25)","v":"CoTe-2022-1"},"Control","Telemetry ",null,"Plant Control Panel","CR 473",2022,null,"Great",null,{"$f":"IF(Table13[[#This Row],[I.D. Number ]]=\"\",\"\",IF(Table13[[#This Row],[Installation Year]]=\"\",\"\",('Life Expectancy and Criticality'!$V26+Table13[[#This Row],[Installation Year]])))","v":2037},{"$f":"IF(Table13[[#This Row],[I.D. Number ]]=\"\",\"\",(IF('Life Expectancy and Criticality'!$V26-(YEAR(TODAY())-Table13[[#This Row],[Installation Year]])<0,0,'Life Expectancy and Criticality'!$V26-(YEAR(TODAY())-Table13[[#This Row],[Installation Year]]))))","v":13},null,false]
[{"$f":"IF('CoF and PoF'!C26=\"--\",\"\",'CoF and PoF'!C26)","v":"CoTe-2022-2"},"Control","Telemetry ",null,"Electrical Control Panel","CR 473",2022,null,"Great",null,{"$f":"IF(Table13[[#This Row],[I.D. Number ]]=\"\",\"\",IF(Table13[[#This Row],[Installation Year]]=\"\",\"\",('Life Expectancy and Criticality'!$V27+Table13[[#This Row],[Installation Year]])))","v":2037},{"$f":"IF(Table13[[#This Row],[I.D. Number ]]=\"\",\"\",(IF('Life Expectancy and Criticality'!$V27-(YEAR(TODAY())-Table13[[#This Row],[Installation Year]])<0,0,'Life Expectancy and Criticality'!$V27-(YEAR(TODAY())-Table13[[#This Row],[Installation Year]]))))","v":13},null,false]
[{"$f":"IF('CoF and PoF'!C27=\"--\",\"\",'CoF and PoF'!C27)","v":"TrSe-2022-1"},"Treatment","Sedimentation ",null,"Sediment Pond","CR 473",2022,null,"Great",null,{"$f":"IF(Table13[[#This Row],[I.D. Number ]]=\"\",\"\",IF(Table13[[#This Row],[Installation Year]]=\"\",\"\",('Life Expectancy and Criticality'!$V28+Table13[[#This Row],[Installation Year]])))","v":2042},{"$f":"IF(Table13[[#This Row],[I.D. Number ]]=\"\",\"\",(IF('Life Expectancy and Criticality'!$V28-(YEAR(TODAY())-Table13[[#This Row],[Installation Year]])<0,0,'Life Expectancy and Criticality'!$V28-(YEAR(TODAY())-Table13[[#This Row],[Installation Year]]))))","v":18},null,false]
[{"$f":"IF('CoF and PoF'!C28=\"--\",\"\",'CoF and PoF'!C28)","v":"SaFe-2022-1"},"Safety","Fencing",null,"Chain Link Fencing","CR 473",2022,null,"Great",null,{"$f":"IF(Table13[[#This Row],[I.D. Number ]]=\"\",\"\",IF(Table13[[#This Row],[Installation Year]]=\"\",\"\",('Life Expectancy and Criticality'!$V29+Table13[[#This Row],[Installation Year]])))","v":2032},{"$f":"IF(Table13[[#This Row],[I.D. Number ]]=\"\",\"\",(IF('Life Expectancy and Criticality'!$V29-(YEAR(TODAY())-Table13[[#This Row],[Installation Year]])<0,0,'Life Expectancy and Criticality'!$V29-(YEAR(TODAY())-Table13[[#This Row],[Installation Year]]))))","v":8},null,false]
[{"$f":"IF('CoF and PoF'!C29=\"--\",\"\",'CoF and PoF'!C29)","v":"TrCh-2022-1"},"Treatment","Chlorination ",null,"Chlorination System","CR 473",2022,null,"Great",null,{"$f":"IF(Table13[[#This Row],[I.D. Number ]]=\"\",\"\",IF(Table13[[#This Row],[Installation Year]]=\"\",\"\",('Life Expectancy and Criticality'!$V30+Table13[[#This Row],[Installation Year]])))","v":2042},{"$f":"IF(Table13[[#This Row],[I.D. Number ]]=\"\",\"\",(IF('Life Expectancy and Criticality'!$V30-(YEAR(TODAY())-Table13[[#This Row],[Installation Year]])<0,0,'Life Expectancy and Criticality'!$V30-(YEAR(TODAY())-Table13[[#This Row],[Installation Year]]))))","v":18},null,false]
[{"$f":"IF('CoF and PoF'!C30=\"--\",\"\",'CoF and PoF'!C30)","v":"TrFi-2022-1"},"Treatment","Filtration","10\" Dia","Qty 3 Pressure Filter","CR 473",2022,null,"Great",null,{"$f":"IF(Table13[[#This Row],[I.D. Number ]]=\"\",\"\",IF(Table13[[#This Row],[Installation Year]]=\"\",\"\",('Life Expectancy and Criticality'!$V31+Table13[[#This Row],[Installation Year]])))","v":2042},{"$f":"IF(Table13[[#This Row],[I.D. Number ]]=\"\",\"\",(IF('Life Expectancy and Criticality'!$V31-(YEAR(TODAY())-Table13[[#This Row],[Installation Year]])<0,0,'Life Expectancy and Criticality'!$V31-(YEAR(TODAY())-Table13[[#This Row],[Installation Year]]))))","v":18},null,false]
[{"$f":"IF('CoF and PoF'!C31=\"--\",\"\",'CoF and PoF'!C31)","v":"TrFi-2022-2"},"Treatment","Filtration",null,"Cascade Aerator","CR 473",2022,null,"Great",null,{"$f":"IF(Table13[[#This Row],[I.D. Number ]]=\"\",\"\",IF(Table13[[#This Row],[Installation Year]]=\"\",\"\",('Life Expectancy and Criticality'!$V32+Table13[[#This Row],[Installation Year]])))","v":2042},{"$f":"IF(Table13[[#This Row],[I.D. Number ]]=\"\",\"\",(IF('Life Expectancy and Criticality'!$V32-(YEAR(TODAY())-Table13[[#This Row],[Installation Year]])<0,0,'Life Expectancy and Criticality'!$V32-(YEAR(TODAY())-Table13[[#This Row],[Installation Year]]))))","v":18},null,false]
[{"$f":"IF('CoF and PoF'!C32=\"--\",\"\",'CoF and PoF'!C32)","v":"PuMe-2022-1"},"Pump","Metering ",null,"Phosphate Feed Pump","CR 473",2022,null,"Great",null,{"$f":"IF(Table13[[#This Row],[I.D. Number ]]=\"\",\"\",IF(Table13[[#This Row],[Installation Year]]=\"\",\"\",('Life Expectancy and Criticality'!$V33+Table13[[#This Row],[Installation Year]])))","v":2037},{"$f":"IF(Table13[[#This Row],[I.D. Number ]]=\"\",\"\",(IF('Life Expectancy and Criticality'!$V33-(YEAR(TODAY())-Table13[[#This Row],[Installation Year]])<0,0,'Life Expectancy and Criticality'!$V33-(YEAR(TODAY())-Table13[[#This Row],[Installation Year]]))))","v":13}]
[{"$f":"IF('CoF and PoF'!C33=\"--\",\"\",'CoF and PoF'!C33)","v":"PuMe-2022-2"},"Pump","Metering ",null,"Caustic Feed Pump","CR 473",2022,null,"Great",null,{"$f":"IF(Table13[[#This Row],[I.D. Number ]]=\"\",\"\",IF(Table13[[#This Row],[Installation Year]]=\"\",\"\",('Life Expectancy and Criticality'!$V34+Table13[[#This Row],[Installation Year]])))","v":2037},{"$f":"IF(Table13[[#This Row],[I.D. Number ]]=\"\",\"\",(IF('Life Expectancy and Criticality'!$V34-(YEAR(TODAY())-Table13[[#This Row],[Installation Year]])<0,0,'Life Expectancy and Criticality'!$V34-(YEAR(TODAY())-Table13[[#This Row],[Installation Year]]))))","v":13},null,false]
[{"$f":"IF('CoF and PoF'!C34=\"--\",\"\",'CoF and PoF'!C34)","v":"PuMe-2022-3"},"Pump","Metering ",null,"Pot Perm Feed Pump","CR 473",2022,null,"Great",null,{"$f":"IF(Table13[[#This Row],[I.D. Number ]]=\"\",\"\",IF(Table13[[#This Row],[Installation Year]]=\"\",\"\",('Life Expectancy and Criticality'!$V35+Table13[[#This Row],[Installation Year]])))","v":2037},{"$f":"IF(Table13[[#This Row],[I.D. Number ]]=\"\",\"\",(IF('Life Expectancy and Criticality'!$V35-(YEAR(TODAY())-Table13[[#This Row],[Installation Year]])<0,0,'Life Expectancy and Criticality'!$V35-(YEAR(TODAY())-Table13[[#This Row],[Installation Year]]))))","v":13}]
[{"$f":"IF('CoF and PoF'!C35=\"--\",\"\",'CoF and PoF'!C35)","v":"MeSo-2022-1"},"Meter","Source ",null,"Tank Meter Controller","CR 473",2022,null,"Good",null,{"$f":"IF(Table13[[#This Row],[I.D. Number ]]=\"\",\"\",IF(Table13[[#This Row],[Installation Year]]=\"\",\"\",('Life Expectancy and Criticality'!$V36+Table13[[#This Row],[Installation Year]])))","v":2034},{"$f":"IF(Table13[[#This Row],[I.D. Number ]]=\"\",\"\",(IF('Life Expectancy and Criticality'!$V36-(YEAR(TODAY())-Table13[[#This Row],[Installation Year]])<0,0,'Life Expectancy and Criticality'!$V36-(YEAR(TODAY())-Table13[[#This Row],[Installation Year]]))))","v":10},null,false]
[{"$f":"IF('CoF and PoF'!C36=\"--\",\"\",'CoF and PoF'!C36)","v":"HyFi-2022-1"},"Hydrant","Fire ",null,"Fire Hydrant","Treatment Plant",2022,null,"Great",null,{"$f":"IF(Table13[[#This Row],[I.D. Number ]]=\"\",\"\",IF(Table13[[#This Row],[Installation Year]]=\"\",\"\",('Life Expectancy and Criticality'!$V37+Table13[[#This Row],[Installation Year]])))","v":2072},{"$f":"IF(Table13[[#This Row],[I.D. Number ]]=\"\",\"\",(IF('Life Expectancy and Criticality'!$V37-(YEAR(TODAY())-Table13[[#This Row],[Installation Year]])<0,0,'Life Expectancy and Criticality'!$V37-(YEAR(TODAY())-Table13[[#This Row],[Installation Year]]))))","v":48},null,false]
[{"$f":"IF('CoF and PoF'!C37=\"--\",\"\",'CoF and PoF'!C37)","v":"PiPV-2024-1"},"Pipe","PVC","8\"","HDPE, DR11, 200 psi, 4545 linear feet","X-COUNTRY",2024,null,"Great",null,{"$f":"IF(Table13[[#This Row],[I.D. Number ]]=\"\",\"\",IF(Table13[[#This Row],[Installation Year]]=\"\",\"\",('Life Expectancy and Criticality'!$V38+Table13[[#This Row],[Installation Year]])))","v":2104},{"$f":"IF(Table13[[#This Row],[I.D. Number ]]=\"\",\"\",(IF('Life Expectancy and Criticality'!$V38-(YEAR(TODAY())-Table13[[#This Row],[Installation Year]])<0,0,'Life Expectancy and Criticality'!$V38-(YEAR(TODAY())-Table13[[#This Row],[Installation Year]]))))","v":80}]
[{"$f":"IF('CoF and PoF'!C38=\"--\",\"\",'CoF and PoF'!C38)","v":"PiPV-2024-2"},"Pipe","PVC","6\"","HDPE, DR11, 200 psi, 4820 linear feet","CR956",2024,null,"Great",null,{"$f":"IF(Table13[[#This Row],[I.D. Number ]]=\"\",\"\",IF(Table13[[#This Row],[Installation Year]]=\"\",\"\",('Life Expectancy and Criticality'!$V39+Table13[[#This Row],[Installation Year]])))","v":2104},{"$f":"IF(Table13[[#This Row],[I.D. Number ]]=\"\",\"\",(IF('Life Expectancy and Criticality'!$V39-(YEAR(TODAY())-Table13[[#This Row],[Installation Year]])<0,0,'Life Expectancy and Criticality'!$V39-(YEAR(TODAY())-Table13[[#This Row],[Installation Year]]))))","v":80},null,false]
[{"$f":"IF('CoF and PoF'!C39=\"--\",\"\",'CoF and PoF'!C39)","v":"PiPV-2024-3"},"Pipe","PVC","10\"","HDPE, DR11, 200 psi, 10,400 linear feet","CR956",2024,null,"Great",null,{"$f":"IF(Table13[[#This Row],[I.D. Number ]]=\"\",\"\",IF(Table13[[#This Row],[Installation Year]]=\"\",\"\",('Life Expectancy and Criticality'!$V40+Table13[[#This Row],[Installation Year]])))","v":2104},{"$f":"IF(Table13[[#This Row],[I.D. Number ]]=\"\",\"\",(IF('Life Expectancy and Criticality'!$V40-(YEAR(TODAY())-Table13[[#This Row],[Installation Year]])<0,0,'Life Expectancy and Criticality'!$V40-(YEAR(TODAY())-Table13[[#This Row],[Installation Year]]))))","v":80}]
[{"$f":"IF('CoF and PoF'!C40=\"--\",\"\",'CoF and PoF'!C40)","v":"HyFi-2024-1"},"Hydrant","Fire ",null,"Qty 5 Fire Hydrants","CR956",2024,null,"Great",null,{"$f":"IF(Table13[[#This Row],[I.D. Number ]]=\"\",\"\",IF(Table13[[#This Row],[Installation Year]]=\"\",\"\",('Life Expectancy and Criticality'!$V41+Table13[[#This Row],[Installation Year]])))","v":2074},{"$f":"IF(Table13[[#This Row],[I.D. Number ]]=\"\",\"\",(IF('Life Expectancy and Criticality'!$V41-(YEAR(TODAY())-Table13[[#This Row],[Installation Year]])<0,0,'Life Expectancy and Criticality'!$V41-(YEAR(TODAY())-Table13[[#This Row],[Installation Year]]))))","v":50},null,false]
[{"$f":"IF('CoF and PoF'!C41=\"--\",\"\",'CoF and PoF'!C41)","v":"MeMa-2024-1"},"Meter","Master ",null,"Assembly 1, 2, 9 and 10 - Qty 4","UNION HARBER, MILL CREEK,X-COUNTRY, X-COUNTRY",2024,null,"Great",null,{"$f":"IF(Table13[[#This Row],[I.D. Number ]]=\"\",\"\",IF(Table13[[#This Row],[Installation Year]]=\"\",\"\",('Life Expectancy and Criticality'!$V42+Table13[[#This Row],[Installation Year]])))","v":2039},{"$f":"IF(Table13[[#This Row],[I.D. Number ]]=\"\",\"\",(IF('Life Expectancy and Criticality'!$V42-(YEAR(TODAY())-Table13[[#This Row],[Installation Year]])<0,0,'Life Expectancy and Criticality'!$V42-(YEAR(TODAY())-Table13[[#This Row],[Installation Year]]))))","v":15}]
[{"$f":"IF('CoF and PoF'!C42=\"--\",\"\",'CoF and PoF'!C42)","v":"MeMa-2024-2"},"Meter","Master ",null,"Assembly 3 - Qty 1","MILL CREEK #2",2024,null,"Great",null,{"$f":"IF(Table13[[#This Row],[I.D. Number ]]=\"\",\"\",IF(Table13[[#This Row],[Installation Year]]=\"\",\"\",('Life Expectancy and Criticality'!$V43+Table13[[#This Row],[Installation Year]])))","v":2039},{"$f":"IF(Table13[[#This Row],[I.D. Number ]]=\"\",\"\",(IF('Life Expectancy and Criticality'!$V43-(YEAR(TODAY())-Table13[[#This Row],[Installation Year]])<0,0,'Life Expectancy and Criticality'!$V43-(YEAR(TODAY())-Table13[[#This Row],[Installation Year]]))))","v":15}]
[{"$f":"IF('CoF and PoF'!C43=\"--\",\"\",'CoF and PoF'!C43)","v":"MeMa-2024-3"},"Meter","Master ",null,"Assembly 4 & 6 - Qty 2","WINBUSH HOLLOW, SNOWDOWN TANK",2024,null,"Great",null,{"$f":"IF(Table13[[#This Row],[I.D. Number ]]=\"\",\"\",IF(Table13[[#This Row],[Installation Year]]=\"\",\"\",('Life Expectancy and Criticality'!$V44+Table13[[#This Row],[Installation Year]])))","v":2039},{"$f":"IF(Table13[[#This Row],[I.D. Number ]]=\"\",\"\",(IF('Life Expectancy and Criticality'!$V44-(YEAR(TODAY())-Table13[[#This Row],[Installation Year]])<0,0,'Life Expectancy and Criticality'!$V44-(YEAR(TODAY())-Table13[[#This Row],[Installation Year]]))))","v":15}]
[{"$f":"IF('CoF and PoF'!C44=\"--\",\"\",'CoF and PoF'!C44)","v":"MeMa-2024-4"},"Meter","Master ",null,"Assembly 5 & 19 - Qty 2","INDIAN CREEK#1 AND INDIAN CREEK #2",2024,null,"Great",null,{"$f":"IF(Table13[[#This Row],[I.D. Number ]]=\"\",\"\",IF(Table13[[#This Row],[Installation Year]]=\"\",\"\",('Life Expectancy and Criticality'!$V45+Table13[[#This Row],[Installation Year]])))","v":2039},{"$f":"IF(Table13[[#This Row],[I.D. Number ]]=\"\",\"\",(IF('Life Expectancy and Criticality'!$V45-(YEAR(TODAY())-Table13[[#This Row],[Installation Year]])<0,0,'Life Expectancy and Criticality'!$V45-(YEAR(TODAY())-Table13[[#This Row],[Installation Year]]))))","v":15},null,false]
[{"$f":"IF('CoF and PoF'!C45=\"--\",\"\",'CoF and PoF'!C45)","v":"MeMa-2024-5"},"Meter","Master ",null,"Assembly 7 - Qty 1","SNOWDOWN MAIN FEED LINE",2024,null,"Great",null,{"$f":"IF(Table13[[#This Row],[I.D. Number ]]=\"\",\"\",IF(Table13[[#This Row],[Installation Year]]=\"\",\"\",('Life Expectancy and Criticality'!$V46+Table13[[#This Row],[Installation Year]])))","v":2039},{"$f":"IF(Table13[[#This Row],[I.D. Number ]]=\"\",\"\",(IF('Life Expectancy and Criticality'!$V46-(YEAR(TODAY())-Table13[[#This Row],[Installation Year]])<0,0,'Life Expectancy and Criticality'!$V46-(YEAR(TODAY())-Table13[[#This Row],[Installation Year]]))))","v":15}]
[{"$f":"IF('CoF and PoF'!C46=\"--\",\"\",'CoF and PoF'!C46)","v":"MeMa-2024-6"},"Meter","Master ",null,"Assembly 8 - Qty 1","CR 956",2024,null,"Great",null,{"$f":"IF(Table13[[#This Row],[I.D. Number ]]=\"\",\"\",IF(Table13[[#This Row],[Installation Year]]=\"\",\"\",('Life Expectancy and Criticality'!$V47+Table13[[#This Row],[Installation Year]])))","v":2039},{"$f":"IF(Table13[[#This Row],[I.D. Number ]]=\"\",\"\",(IF('Life Expectancy and Criticality'!$V47-(YEAR(TODAY())-Table13[[#This Row],[Installation Year]])<0,0,'Life Expectancy and Criticality'!$V47-(YEAR(TODAY())-Table13[[#This Row],[Installation Year]]))))","v":15}]
[{"$f":"IF('CoF and PoF'!C47=\"--\",\"\",'CoF and PoF'!C47)","v":"MeMa-2024-7"},"Meter","Master ",null,"Assembly 11 - Qty 1","OASIS",2024,null,"Great",null,{"$f":"IF(Table13[[#This Row],[I.D. Number ]]=\"\",\"\",IF(Table13[[#This Row],[Installation Year]]=\"\",\"\",('Life Expectancy and Criticality'!$V48+Table13[[#This Row],[Installation Year]])))","v":2039},{"$f":"IF(Table13[[#This Row],[I.D. Number ]]=\"\",\"\",(IF('Life Expectancy and Criticality'!$V48-(YEAR(TODAY())-Table13[[#This Row],[Installation Year]])<0,0,'Life Expectancy and Criticality'!$V48-(YEAR(TODAY())-Table13[[#This Row],[Installation Year]]))))","v":15}]
[{"$f":"IF('CoF and PoF'!C48=\"--\",\"\",'CoF and PoF'!C48)","v":"MeMa-2024-8"},"Meter","Master ",null,"Assembly 12 - Qty 1","HIGH GROVE",2024,null,"Great",null,{"$f":"IF(Table13[[#This Row],[I.D. Number ]]=\"\",\"\",IF(Table13[[#This Row],[Installation Year]]=\"\",\"\",('Life Expectancy and Criticality'!$V49+Table13[[#This Row],[Installation Year]])))","v":2039},{"$f":"IF(Table13[[#This Row],[I.D. Number ]]=\"\",\"\",(IF('Life Expectancy and Criticality'!$V49-(YEAR(TODAY())-Table13[[#This Row],[Installation Year]])<0,0,'Life Expectancy and Criticality'!$V49-(YEAR(TODAY())-Table13[[#This Row],[Installation Year]]))))","v":15}]
[{"$f":"IF('CoF and PoF'!C49=\"--\",\"\",'CoF and PoF'!C49)","v":"MeMa-2024-9"},"Meter","Master ",null,"Assembly 13 - Qty 1","HILLS OF THE BEAR",2024,null,"Great",null,{"$f":"IF(Table13[[#This Row],[I.D. Number ]]=\"\",\"\",IF(Table13[[#This Row],[Installation Year]]=\"\",\"\",('Life Expectancy and Criticality'!$V50+Table13[[#This Row],[Installation Year]])))","v":2039},{"$f":"IF(Table13[[#This Row],[I.D. Number ]]=\"\",\"\",(IF('Life Expectancy and Criticality'!$V50-(YEAR(TODAY())-Table13[[#This Row],[Installation Year]])<0,0,'Life Expectancy and Criticality'!$V50-(YEAR(TODAY())-Table13[[#This Row],[Installation Year]]))))","v":15}]
[{"$f":"IF('CoF and PoF'!C50=\"--\",\"\",'CoF and PoF'!C50)","v":"MeMa-2024-10"},"Meter","Master ",null,"Assembly 14 - Qty 1","HARBER SUBDIVISION",2024,null,"Great",null,{"$f":"IF(Table13[[#This Row],[I.D. Number ]]=\"\",\"\",IF(Table13[[#This Row],[Installation Year]]=\"\",\"\",('Life Expectancy and Criticality'!$V51+Table13[[#This Row],[Installation Year]])))","v":2039},{"$f":"IF(Table13[[#This Row],[I.D. Number ]]=\"\",\"\",(IF('Life Expectancy and Criticality'!$V51-(YEAR(TODAY())-Table13[[#This Row],[Installation Year]])<0,0,'Life Expectancy and Criticality'!$V51-(YEAR(TODAY())-Table13[[#This Row],[Installation Year]]))))","v":15},null,false]
[{"$f":"IF('CoF and PoF'!C51=\"--\",\"\",'CoF and PoF'!C51)","v":"MeMa-2024-11"},"Meter","Master ",null,"Assembly 15, 16, 17, 18 - Qty 4","CR 259, CR 256, CR 410 AND CR 956",2024,null,"Great",null,{"$f":"IF(Table13[[#This Row],[I.D. Number ]]=\"\",\"\",IF(Table13[[#This Row],[Installation Year]]=\"\",\"\",('Life Expectancy and Criticality'!$V52+Table13[[#This Row],[Installation Year]])))","v":2039},{"$f":"IF(Table13[[#This Row],[I.D. Number ]]=\"\",\"\",(IF('Life Expectancy and Criticality'!$V52-(YEAR(TODAY())-Table13[[#This Row],[Installation Year]])<0,0,'Life Expectancy and Criticality'!$V52-(YEAR(TODAY())-Table13[[#This Row],[Installation Year]]))))","v":15}]
[{"$f":"IF('CoF and PoF'!C52=\"--\",\"\",'CoF and PoF'!C52)","v":"MeMa-2024-12"},"Meter","Master ",null,"Assembly 20 - Qty 1","EASTPORT TANK",2024,null,"Great",null,{"$f":"IF(Table13[[#This Row],[I.D. Number ]]=\"\",\"\",IF(Table13[[#This Row],[Installation Year]]=\"\",\"\",('Life Expectancy and Criticality'!$V53+Table13[[#This Row],[Installation Year]])))","v":2039},{"$f":"IF(Table13[[#This Row],[I.D. Number ]]=\"\",\"\",(IF('Life Expectancy and Criticality'!$V53-(YEAR(TODAY())-Table13[[#This Row],[Installation Year]])<0,0,'Life Expectancy and Criticality'!$V53-(YEAR(TODAY())-Table13[[#This Row],[Installation Year]]))))","v":15}]
[{"$f":"IF('CoF and PoF'!C53=\"--\",\"\",'CoF and PoF'!C53)","v":"VaGa-2024-1"},"Valve","Gate ","10\"","Qty 3","CR956",2024,null,"Great",null,{"$f":"IF(Table13[[#This Row],[I.D. Number ]]=\"\",\"\",IF(Table13[[#This Row],[Installation Year]]=\"\",\"\",('Life Expectancy and Criticality'!$V54+Table13[[#This Row],[Installation Year]])))","v":2044},{"$f":"IF(Table13[[#This Row],[I.D. Number ]]=\"\",\"\",(IF('Life Expectancy and Criticality'!$V54-(YEAR(TODAY())-Table13[[#This Row],[Installation Year]])<0,0,'Life Expectancy and Criticality'!$V54-(YEAR(TODAY())-Table13[[#This Row],[Installation Year]]))))","v":20}]
[{"$f":"IF('CoF and PoF'!C54=\"--\",\"\",'CoF and PoF'!C54)","v":"VaGa-2024-2"},"Valve","Gate ","8\"","Qty 1","CR956",2024,null,"Great",null,{"$f":"IF(Table13[[#This Row],[I.D. Number ]]=\"\",\"\",IF(Table13[[#This Row],[Installation Year]]=\"\",\"\",('Life Expectancy and Criticality'!$V55+Table13[[#This Row],[Installation Year]])))","v":2044},{"$f":"IF(Table13[[#This Row],[I.D. Number ]]=\"\",\"\",(IF('Life Expectancy and Criticality'!$V55-(YEAR(TODAY())-Table13[[#This Row],[Installation Year]])<0,0,'Life Expectancy and Criticality'!$V55-(YEAR(TODAY())-Table13[[#This Row],[Installation Year]]))))","v":20}]
[{"$f":"IF('CoF and PoF'!C55=\"--\",\"\",'CoF and PoF'!C55)","v":"VaGa-2024-3"},"Valve","Gate ","6\"","Qty 2","CR956",2024,null,"Great",null,{"$f":"IF(Table13[[#This Row],[I.D. Number ]]=\"\",\"\",IF(Table13[[#This Row],[Installation Year]]=\"\",\"\",('Life Expectancy and Criticality'!$V56+Table13[[#This Row],[Installation Year]])))","v":2044},{"$f":"IF(Table13[[#This Row],[I.D. Number ]]=\"\",\"\",(IF('Life Expectancy and Criticality'!$V56-(YEAR(TODAY())-Table13[[#This Row],[Installation Year]])<0,0,'Life Expectancy and Criticality'!$V56-(YEAR(TODAY())-Table13[[#This Row],[Installation Year]]))))","v":20}]
[{"$f":"IF('CoF and PoF'!C56=\"--\",\"\",'CoF and PoF'!C56)","v":"VaGa-2024-4"},"Valve","Gate ","4\"","Qty 3","CR956",2024,null,"Great",null,{"$f":"IF(Table13[[#This Row],[I.D. Number ]]=\"\",\"\",IF(Table13[[#This Row],[Installation Year]]=\"\",\"\",('Life Expectancy and Criticality'!$V57+Table13[[#This Row],[Installation Year]])))","v":2044},{"$f":"IF(Table13[[#This Row],[I.D. Number ]]=\"\",\"\",(IF('Life Expectancy and Criticality'!$V57-(YEAR(TODAY())-Table13[[#This Row],[Installation Year]])<0,0,'Life Expectancy and Criticality'!$V57-(YEAR(TODAY())-Table13[[#This Row],[Installation Year]]))))","v":20}]
[{"$f":"IF('CoF and PoF'!C57=\"--\",\"\",'CoF and PoF'!C57)","v":"VaPr-2024-1"},"Valve","Pressure Relief (PRV)",null,"PRV-8","CR956",2024,null,"Great",null,{"$f":"IF(Table13[[#This Row],[I.D. Number ]]=\"\",\"\",IF(Table13[[#This Row],[Installation Year]]=\"\",\"\",('Life Expectancy and Criticality'!$V58+Table13[[#This Row],[Installation Year]])))","v":2044},{"$f":"IF(Table13[[#This Row],[I.D. Number ]]=\"\",\"\",(IF('Life Expectancy and Criticality'!$V58-(YEAR(TODAY())-Table13[[#This Row],[Installation Year]])<0,0,'Life Expectancy and Criticality'!$V58-(YEAR(TODAY())-Table13[[#This Row],[Installation Year]]))))","v":20}]
[{"$f":"IF('CoF and PoF'!C58=\"--\",\"\",'CoF and PoF'!C58)","v":"VaPr-2024-2"},"Valve","Pressure Relief (PRV)",null,"Residential - Qty 4","CR956",2024,null,"Great",null,{"$f":"IF(Table13[[#This Row],[I.D. Number ]]=\"\",\"\",IF(Table13[[#This Row],[Installation Year]]=\"\",\"\",('Life Expectancy and Criticality'!$V59+Table13[[#This Row],[Installation Year]])))","v":2044},{"$f":"IF(Table13[[#This Row],[I.D. Number ]]=\"\",\"\",(IF('Life Expectancy and Criticality'!$V59-(YEAR(TODAY())-Table13[[#This Row],[Installation Year]])<0,0,'Life Expectancy and Criticality'!$V59-(YEAR(TODAY())-Table13[[#This Row],[Installation Year]]))))","v":20}]
[{"$f":"IF('CoF and PoF'!C59=\"--\",\"\",'CoF and PoF'!C59)","v":"VaGa-2024-5"},"Valve","Gate ","6\"","Flush Valve","CR956",2024,null,"Great",null,{"$f":"IF(Table13[[#This Row],[I.D. Number ]]=\"\",\"\",IF(Table13[[#This Row],[Installation Year]]=\"\",\"\",('Life Expectancy and Criticality'!$V60+Table13[[#This Row],[Installation Year]])))","v":2044},{"$f":"IF(Table13[[#This Row],[I.D. Number ]]=\"\",\"\",(IF('Life Expectancy and Criticality'!$V60-(YEAR(TODAY())-Table13[[#This Row],[Installation Year]])<0,0,'Life Expectancy and Criticality'!$V60-(YEAR(TODAY())-Table13[[#This Row],[Installation Year]]))))","v":20},null,false]
[{"$f":"IF('CoF and PoF'!C60=\"--\",\"\",'CoF and PoF'!C60)","v":"CoSC-2024-1"},"Control","SCADA ",null,"Automated Meter Reading System","OFFICE",2024,null,"Great",null,{"$f":"IF(Table13[[#This Row],[I.D. Number ]]=\"\",\"\",IF(Table13[[#This Row],[Installation Year]]=\"\",\"\",('Life Expectancy and Criticality'!$V61+Table13[[#This Row],[Installation Year]])))","v":2039},{"$f":"IF(Table13[[#This Row],[I.D. Number ]]=\"\",\"\",(IF('Life Expectancy and Criticality'!$V61-(YEAR(TODAY())-Table13[[#This Row],[Installation Year]])<0,0,'Life Expectancy and Criticality'!$V61-(YEAR(TODAY())-Table13[[#This Row],[Installation Year]]))))","v":15}]
[{"$f":"IF('CoF and PoF'!C61=\"--\",\"\",'CoF and PoF'!C61)","v":"MeRe-2024-1"},"Meter","Residential ",null,"5/8\" x 3/4\" Meters - Qty 932","System Wide",2024,null,"Great",null,{"$f":"IF(Table13[[#This Row],[I.D. Number ]]=\"\",\"\",IF(Table13[[#This Row],[Installation Year]]=\"\",\"\",('Life Expectancy and Criticality'!$V62+Table13[[#This Row],[Installation Year]])))","v":2039},{"$f":"IF(Table13[[#This Row],[I.D. Number ]]=\"\",\"\",(IF('Life Expectancy and Criticality'!$V62-(YEAR(TODAY())-Table13[[#This Row],[Installation Year]])<0,0,'Life Expectancy and Criticality'!$V62-(YEAR(TODAY())-Table13[[#This Row],[Installation Year]]))))","v":15}]
[{"$f":"IF('CoF and PoF'!C62=\"--\",\"\",'CoF and PoF'!C62)","v":"MeCu-2024-1"},"Meter","Customer ",null,"Meters - Qty 8","System Wide",2024,null,"Great",null,{"$f":"IF(Table13[[#This Row],[I.D. Number ]]=\"\",\"\",IF(Table13[[#This Row],[Installation Year]]=\"\",\"\",('Life Expectancy and Criticality'!$V63+Table13[[#This Row],[Installation Year]])))","v":2039},{"$f":"IF(Table13[[#This Row],[I.D. Number ]]=\"\",\"\",(IF('Life Expectancy and Criticality'!$V63-(YEAR(TODAY())-Table13[[#This Row],[Installation Year]])<0,0,'Life Expectancy and Criticality'!$V63-(YEAR(TODAY())-Table13[[#This Row],[Installation Year]]))))","v":15}]
[{"$f":"IF('CoF and PoF'!C63=\"--\",\"\",'CoF and PoF'!C63)","v":"VaPr-2024-3"},"Valve","Pressure Relief (PRV)",null,"PRV-7","System Wide",2024,null,"Great",null,{"$f":"IF(Table13[[#This Row],[I.D. Number ]]=\"\",\"\",IF(Table13[[#This Row],[Installation Year]]=\"\",\"\",('Life Expectancy and Criticality'!$V64+Table13[[#This Row],[Installation Year]])))","v":2044},{"$f":"IF(Table13[[#This Row],[I.D. Number ]]=\"\",\"\",(IF('Life Expectancy and Criticality'!$V64-(YEAR(TODAY())-Table13[[#This Row],[Installation Year]])<0,0,'Life Expectancy and Criticality'!$V64-(YEAR(TODAY())-Table13[[#This Row],[Installation Year]]))))","v":20}]
[{"$f":"IF('CoF and PoF'!C64=\"--\",\"\",'CoF and PoF'!C64)","v":"VaGa-2024-6"},"Valve","Gate ","4\"","Qty - 2","System Wide",2024,null,"Great",null,{"$f":"IF(Table13[[#This Row],[I.D. Number ]]=\"\",\"\",IF(Table13[[#This Row],[Installation Year]]=\"\",\"\",('Life Expectancy and Criticality'!$V65+Table13[[#This Row],[Installation Year]])))","v":2044},{"$f":"IF(Table13[[#This Row],[I.D. Number ]]=\"\",\"\",(IF('Life Expectancy and Criticality'!$V65-(YEAR(TODAY())-Table13[[#This Row],[Installation Year]])<0,0,'Life Expectancy and Criticality'!$V65-(YEAR(TODAY())-Table13[[#This Row],[Installation Year]]))))","v":20}]
[{"$f":"IF('CoF and PoF'!C65=\"--\",\"\",'CoF and PoF'!C65)","v":"PiPV-2024-4"},"Pipe","PVC","8\"","HDPE, DR11, 200psi - 4195 linear ft","CR261",2024,null,"Great",null,{"$f":"IF(Table13[[#This Row],[I.D. Number ]]=\"\",\"\",IF(Table13[[#This Row],[Installation Year]]=\"\",\"\",('Life Expectancy and Criticality'!$V66+Table13[[#This Row],[Installation Year]])))","v":2104},{"$f":"IF(Table13[[#This Row],[I.D. Number ]]=\"\",\"\",(IF('Life Expectancy and Criticality'!$V66-(YEAR(TODAY())-Table13[[#This Row],[Installation Year]])<0,0,'Life Expectancy and Criticality'!$V66-(YEAR(TODAY())-Table13[[#This Row],[Installation Year]]))))","v":80},null,false]
[{"$f":"IF('CoF and PoF'!C66=\"--\",\"\",'CoF and PoF'!C66)","v":"VaGa-2024-7"},"Valve","Gate ","8\"",null,"CR261",2024,null,"Great",null,{"$f":"IF(Table13[[#This Row],[I.D. Number ]]=\"\",\"\",IF(Table13[[#This Row],[Installation Year]]=\"\",\"\",('Life Expectancy and Criticality'!$V67+Table13[[#This Row],[Installation Year]])))","v":2044},{"$f":"IF(Table13[[#This Row],[I.D. Number ]]=\"\",\"\",(IF('Life Expectancy and Criticality'!$V67-(YEAR(TODAY())-Table13[[#This Row],[Installation Year]])<0,0,'Life Expectancy and Criticality'!$V67-(YEAR(TODAY())-Table13[[#This Row],[Installation Year]]))))","v":20}]
[{"$f":"IF('CoF and PoF'!C67=\"--\",\"\",'CoF and PoF'!C67)","v":"VaPr-2024-4"},"Valve","Pressure Relief (PRV)",null,"PRV-1 thru PRV-6 + PRV-9 - Qty 7","System Wide",2024,null,"Great",null,{"$f":"IF(Table13[[#This Row],[I.D. Number ]]=\"\",\"\",IF(Table13[[#This Row],[Installation Year]]=\"\",\"\",('Life Expectancy and Criticality'!$V68+Table13[[#This Row],[Installation Year]])))","v":2044},{"$f":"IF(Table13[[#This Row],[I.D. Number ]]=\"\",\"\",(IF('Life Expectancy and Criticality'!$V68-(YEAR(TODAY())-Table13[[#This Row],[Installation Year]])<0,0,'Life Expectancy and Criticality'!$V68-(YEAR(TODAY())-Table13[[#This Row],[Installation Year]]))))","v":20}]
[{"$f":"IF('CoF and PoF'!C68=\"--\",\"\",'CoF and PoF'!C68)","v":"VaGa-2024-8"},"Valve","Gate ","6\"","Gate Valve System","System Wide",2024,null,"Great",null,{"$f":"IF(Table13[[#This Row],[I.D. Number ]]=\"\",\"\",IF(Table13[[#This Row],[Installation Year]]=\"\",\"\",('Life Expectancy and Criticality'!$V69+Table13[[#This Row],[Installation Year]])))","v":2044},{"$f":"IF(Table13[[#This Row],[I.D. Number ]]=\"\",\"\",(IF('Life Expectancy and Criticality'!$V69-(YEAR(TODAY())-Table13[[#This Row],[Installation Year]])<0,0,'Life Expectancy and Criticality'!$V69-(YEAR(TODAY())-Table13[[#This Row],[Installation Year]]))))","v":20},null,false]
[{"$f":"IF('CoF and PoF'!C69=\"--\",\"\",'CoF and PoF'!C69)","v":""},null,null,null,null,null,null,null,null,null,{"$f":"IF(Table13[[#This Row],[I.D. Number ]]=\"\",\"\",IF(Table13[[#This Row],[Installation Year]]=\"\",\"\",('Life Expectancy and Criticality'!$V70+Table13[[#This Row],[Installation Year]])))","v":""},{"$f":"IF(Table13[[#This Row],[I.D. Number ]]=\"\",\"\",(IF('Life Expectancy and Criticality'!$V70-(YEAR(TODAY())-Table13[[#This Row],[Installation Year]])<0,0,'Life Expectancy and Criticality'!$V70-(YEAR(TODAY())-Table13[[#This Row],[Installation Year]]))))","v":""}]
[{"$f":"IF('CoF and PoF'!C70=\"--\",\"\",'CoF and PoF'!C70)","v":""},null,null,null,null,null,null,null,null,null,{"$f":"IF(Table13[[#This Row],[I.D. Number ]]=\"\",\"\",IF(Table13[[#This Row],[Installation Year]]=\"\",\"\",('Life Expectancy and Criticality'!$V71+Table13[[#This Row],[Installation Year]])))","v":""},{"$f":"IF(Table13[[#This Row],[I.D. Number ]]=\"\",\"\",(IF('Life Expectancy and Criticality'!$V71-(YEAR(TODAY())-Table13[[#This Row],[Installation Year]])<0,0,'Life Expectancy and Criticality'!$V71-(YEAR(TODAY())-Table13[[#This Row],[Installation Year]]))))","v":""},null,false]
[{"$f":"IF('CoF and PoF'!C71=\"--\",\"\",'CoF and PoF'!C71)","v":""},null,null,null,null,null,null,null,null,null,{"$f":"IF(Table13[[#This Row],[I.D. Number ]]=\"\",\"\",IF(Table13[[#This Row],[Installation Year]]=\"\",\"\",('Life Expectancy and Criticality'!$V72+Table13[[#This Row],[Installation Year]])))","v":""},{"$f":"IF(Table13[[#This Row],[I.D. Number ]]=\"\",\"\",(IF('Life Expectancy and Criticality'!$V72-(YEAR(TODAY())-Table13[[#This Row],[Installation Year]])<0,0,'Life Expectancy and Criticality'!$V72-(YEAR(TODAY())-Table13[[#This Row],[Installation Year]]))))","v":""}]
[{"$f":"IF('CoF and PoF'!C72=\"--\",\"\",'CoF and PoF'!C72)","v":""},null,null,null,null,null,null,null,null,null,{"$f":"IF(Table13[[#This Row],[I.D. Number ]]=\"\",\"\",IF(Table13[[#This Row],[Installation Year]]=\"\",\"\",('Life Expectancy and Criticality'!$V73+Table13[[#This Row],[Installation Year]])))","v":""},{"$f":"IF(Table13[[#This Row],[I.D. Number ]]=\"\",\"\",(IF('Life Expectancy and Criticality'!$V73-(YEAR(TODAY())-Table13[[#This Row],[Installation Year]])<0,0,'Life Expectancy and Criticality'!$V73-(YEAR(TODAY())-Table13[[#This Row],[Installation Year]]))))","v":""}]
[{"$f":"IF('CoF and PoF'!C73=\"--\",\"\",'CoF and PoF'!C73)","v":""},null,null,null,null,null,null,null,null,null,{"$f":"IF(Table13[[#This Row],[I.D. Number ]]=\"\",\"\",IF(Table13[[#This Row],[Installation Year]]=\"\",\"\",('Life Expectancy and Criticality'!$V74+Table13[[#This Row],[Installation Year]])))","v":""},{"$f":"IF(Table13[[#This Row],[I.D. Number ]]=\"\",\"\",(IF('Life Expectancy and Criticality'!$V74-(YEAR(TODAY())-Table13[[#This Row],[Installation Year]])<0,0,'Life Expectancy and Criticality'!$V74-(YEAR(TODAY())-Table13[[#This Row],[Installation Year]]))))","v":""}]
[{"$f":"IF('CoF and PoF'!C74=\"--\",\"\",'CoF and PoF'!C74)","v":""},null,null,null,null,null,null,null,null,null,{"$f":"IF(Table13[[#This Row],[I.D. Number ]]=\"\",\"\",IF(Table13[[#This Row],[Installation Year]]=\"\",\"\",('Life Expectancy and Criticality'!$V75+Table13[[#This Row],[Installation Year]])))","v":""},{"$f":"IF(Table13[[#This Row],[I.D. Number ]]=\"\",\"\",(IF('Life Expectancy and Criticality'!$V75-(YEAR(TODAY())-Table13[[#This Row],[Installation Year]])<0,0,'Life Expectancy and Criticality'!$V75-(YEAR(TODAY())-Table13[[#This Row],[Installation Year]]))))","v":""},null,false]
[{"$f":"IF('CoF and PoF'!C75=\"--\",\"\",'CoF and PoF'!C75)","v":""},null,null,null,null,null,null,null,null,null,{"$f":"IF(Table13[[#This Row],[I.D. Number ]]=\"\",\"\",IF(Table13[[#This Row],[Installation Year]]=\"\",\"\",('Life Expectancy and Criticality'!$V76+Table13[[#This Row],[Installation Year]])))","v":""},{"$f":"IF(Table13[[#This Row],[I.D. Number ]]=\"\",\"\",(IF('Life Expectancy and Criticality'!$V76-(YEAR(TODAY())-Table13[[#This Row],[Installation Year]])<0,0,'Life Expectancy and Criticality'!$V76-(YEAR(TODAY())-Table13[[#This Row],[Installation Year]]))))","v":""}]
[{"$f":"IF('CoF and PoF'!C76=\"--\",\"\",'CoF and PoF'!C76)","v":""},null,null,null,null,null,null,null,null,null,{"$f":"IF(Table13[[#This Row],[I.D. Number ]]=\"\",\"\",IF(Table13[[#This Row],[Installation Year]]=\"\",\"\",('Life Expectancy and Criticality'!$V77+Table13[[#This Row],[Installation Year]])))","v":""},{"$f":"IF(Table13[[#This Row],[I.D. Number ]]=\"\",\"\",(IF('Life Expectancy and Criticality'!$V77-(YEAR(TODAY())-Table13[[#This Row],[Installation Year]])<0,0,'Life Expectancy and Criticality'!$V77-(YEAR(TODAY())-Table13[[#This Row],[Installation Year]]))))","v":""}]
[{"$f":"IF('CoF and PoF'!C77=\"--\",\"\",'CoF and PoF'!C77)","v":""},null,null,null,null,null,null,null,null,null,{"$f":"IF(Table13[[#This Row],[I.D. Number ]]=\"\",\"\",IF(Table13[[#This Row],[Installation Year]]=\"\",\"\",('Life Expectancy and Criticality'!$V78+Table13[[#This Row],[Installation Year]])))","v":""},{"$f":"IF(Table13[[#This Row],[I.D. Number ]]=\"\",\"\",(IF('Life Expectancy and Criticality'!$V78-(YEAR(TODAY())-Table13[[#This Row],[Installation Year]])<0,0,'Life Expectancy and Criticality'!$V78-(YEAR(TODAY())-Table13[[#This Row],[Installation Year]]))))","v":""}]
[{"$f":"IF('CoF and PoF'!C78=\"--\",\"\",'CoF and PoF'!C78)","v":""},null,null,null,null,null,null,null,null,null,{"$f":"IF(Table13[[#This Row],[I.D. Number ]]=\"\",\"\",IF(Table13[[#This Row],[Installation Year]]=\"\",\"\",('Life Expectancy and Criticality'!$V79+Table13[[#This Row],[Installation Year]])))","v":""},{"$f":"IF(Table13[[#This Row],[I.D. Number ]]=\"\",\"\",(IF('Life Expectancy and Criticality'!$V79-(YEAR(TODAY())-Table13[[#This Row],[Installation Year]])<0,0,'Life Expectancy and Criticality'!$V79-(YEAR(TODAY())-Table13[[#This Row],[Installation Year]]))))","v":""}]
[{"$f":"IF('CoF and PoF'!C79=\"--\",\"\",'CoF and PoF'!C79)","v":""},null,null,null,null,null,null,null,null,null,{"$f":"IF(Table13[[#This Row],[I.D. Number ]]=\"\",\"\",IF(Table13[[#This Row],[Installation Year]]=\"\",\"\",('Life Expectancy and Criticality'!$V80+Table13[[#This Row],[Installation Year]])))","v":""},{"$f":"IF(Table13[[#This Row],[I.D. Number ]]=\"\",\"\",(IF('Life Expectancy and Criticality'!$V80-(YEAR(TODAY())-Table13[[#This Row],[Installation Year]])<0,0,'Life Expectancy and Criticality'!$V80-(YEAR(TODAY())-Table13[[#This Row],[Installation Year]]))))","v":""}]
[{"$f":"IF('CoF and PoF'!C80=\"--\",\"\",'CoF and PoF'!C80)","v":""},null,null,null,null,null,null,null,null,null,{"$f":"IF(Table13[[#This Row],[I.D. Number ]]=\"\",\"\",IF(Table13[[#This Row],[Installation Year]]=\"\",\"\",('Life Expectancy and Criticality'!$V81+Table13[[#This Row],[Installation Year]])))","v":""},{"$f":"IF(Table13[[#This Row],[I.D. Number ]]=\"\",\"\",(IF('Life Expectancy and Criticality'!$V81-(YEAR(TODAY())-Table13[[#This Row],[Installation Year]])<0,0,'Life Expectancy and Criticality'!$V81-(YEAR(TODAY())-Table13[[#This Row],[Installation Year]]))))","v":""}]
[{"$f":"IF('CoF and PoF'!C81=\"--\",\"\",'CoF and PoF'!C81)","v":""},null,null,null,null,null,null,null,null,null,{"$f":"IF(Table13[[#This Row],[I.D. Number ]]=\"\",\"\",IF(Table13[[#This Row],[Installation Year]]=\"\",\"\",('Life Expectancy and Criticality'!$V82+Table13[[#This Row],[Installation Year]])))","v":""},{"$f":"IF(Table13[[#This Row],[I.D. Number ]]=\"\",\"\",(IF('Life Expectancy and Criticality'!$V82-(YEAR(TODAY())-Table13[[#This Row],[Installation Year]])<0,0,'Life Expectancy and Criticality'!$V82-(YEAR(TODAY())-Table13[[#This Row],[Installation Year]]))))","v":""}]
[{"$f":"IF('CoF and PoF'!C82=\"--\",\"\",'CoF and PoF'!C82)","v":""},null,null,null,null,null,null,null,null,null,{"$f":"IF(Table13[[#This Row],[I.D. Number ]]=\"\",\"\",IF(Table13[[#This Row],[Installation Year]]=\"\",\"\",('Life Expectancy and Criticality'!$V83+Table13[[#This Row],[Installation Year]])))","v":""},{"$f":"IF(Table13[[#This Row],[I.D. Number ]]=\"\",\"\",(IF('Life Expectancy and Criticality'!$V83-(YEAR(TODAY())-Table13[[#This Row],[Installation Year]])<0,0,'Life Expectancy and Criticality'!$V83-(YEAR(TODAY())-Table13[[#This Row],[Installation Year]]))))","v":""}]
[{"$f":"IF('CoF and PoF'!C83=\"--\",\"\",'CoF and PoF'!C83)","v":""},null,null,null,null,null,null,null,null,null,{"$f":"IF(Table13[[#This Row],[I.D. Number ]]=\"\",\"\",IF(Table13[[#This Row],[Installation Year]]=\"\",\"\",('Life Expectancy and Criticality'!$V84+Table13[[#This Row],[Installation Year]])))","v":""},{"$f":"IF(Table13[[#This Row],[I.D. Number ]]=\"\",\"\",(IF('Life Expectancy and Criticality'!$V84-(YEAR(TODAY())-Table13[[#This Row],[Installation Year]])<0,0,'Life Expectancy and Criticality'!$V84-(YEAR(TODAY())-Table13[[#This Row],[Installation Year]]))))","v":""},null,false]
[{"$f":"IF('CoF and PoF'!C84=\"--\",\"\",'CoF and PoF'!C84)","v":""},null,null,null,null,null,null,null,null,null,{"$f":"IF(Table13[[#This Row],[I.D. Number ]]=\"\",\"\",IF(Table13[[#This Row],[Installation Year]]=\"\",\"\",('Life Expectancy and Criticality'!$V85+Table13[[#This Row],[Installation Year]])))","v":""},{"$f":"IF(Table13[[#This Row],[I.D. Number ]]=\"\",\"\",(IF('Life Expectancy and Criticality'!$V85-(YEAR(TODAY())-Table13[[#This Row],[Installation Year]])<0,0,'Life Expectancy and Criticality'!$V85-(YEAR(TODAY())-Table13[[#This Row],[Installation Year]]))))","v":""}]
[{"$f":"IF('CoF and PoF'!C85=\"--\",\"\",'CoF and PoF'!C85)","v":""},null,null,null,null,null,null,null,null,null,{"$f":"IF(Table13[[#This Row],[I.D. Number ]]=\"\",\"\",IF(Table13[[#This Row],[Installation Year]]=\"\",\"\",('Life Expectancy and Criticality'!$V86+Table13[[#This Row],[Installation Year]])))","v":""},{"$f":"IF(Table13[[#This Row],[I.D. Number ]]=\"\",\"\",(IF('Life Expectancy and Criticality'!$V86-(YEAR(TODAY())-Table13[[#This Row],[Installation Year]])<0,0,'Life Expectancy and Criticality'!$V86-(YEAR(TODAY())-Table13[[#This Row],[Installation Year]]))))","v":""}]
[{"$f":"IF('CoF and PoF'!C86=\"--\",\"\",'CoF and PoF'!C86)","v":""},null,null,null,null,null,null,null,null,null,{"$f":"IF(Table13[[#This Row],[I.D. Number ]]=\"\",\"\",IF(Table13[[#This Row],[Installation Year]]=\"\",\"\",('Life Expectancy and Criticality'!$V87+Table13[[#This Row],[Installation Year]])))","v":""},{"$f":"IF(Table13[[#This Row],[I.D. Number ]]=\"\",\"\",(IF('Life Expectancy and Criticality'!$V87-(YEAR(TODAY())-Table13[[#This Row],[Installation Year]])<0,0,'Life Expectancy and Criticality'!$V87-(YEAR(TODAY())-Table13[[#This Row],[Installation Year]]))))","v":""}]
[{"$f":"IF('CoF and PoF'!C87=\"--\",\"\",'CoF and PoF'!C87)","v":""},null,null,null,null,null,null,null,null,null,{"$f":"IF(Table13[[#This Row],[I.D. Number ]]=\"\",\"\",IF(Table13[[#This Row],[Installation Year]]=\"\",\"\",('Life Expectancy and Criticality'!$V88+Table13[[#This Row],[Installation Year]])))","v":""},{"$f":"IF(Table13[[#This Row],[I.D. Number ]]=\"\",\"\",(IF('Life Expectancy and Criticality'!$V88-(YEAR(TODAY())-Table13[[#This Row],[Installation Year]])<0,0,'Life Expectancy and Criticality'!$V88-(YEAR(TODAY())-Table13[[#This Row],[Installation Year]]))))","v":""}]
[{"$f":"IF('CoF and PoF'!C88=\"--\",\"\",'CoF and PoF'!C88)","v":""},null,null,null,null,null,null,null,null,null,{"$f":"IF(Table13[[#This Row],[I.D. Number ]]=\"\",\"\",IF(Table13[[#This Row],[Installation Year]]=\"\",\"\",('Life Expectancy and Criticality'!$V89+Table13[[#This Row],[Installation Year]])))","v":""},{"$f":"IF(Table13[[#This Row],[I.D. Number ]]=\"\",\"\",(IF('Life Expectancy and Criticality'!$V89-(YEAR(TODAY())-Table13[[#This Row],[Installation Year]])<0,0,'Life Expectancy and Criticality'!$V89-(YEAR(TODAY())-Table13[[#This Row],[Installation Year]]))))","v":""}]
[{"$f":"IF('CoF and PoF'!C89=\"--\",\"\",'CoF and PoF'!C89)","v":""},null,null,null,null,null,null,null,null,null,{"$f":"IF(Table13[[#This Row],[I.D. Number ]]=\"\",\"\",IF(Table13[[#This Row],[Installation Year]]=\"\",\"\",('Life Expectancy and Criticality'!$V90+Table13[[#This Row],[Installation Year]])))","v":""},{"$f":"IF(Table13[[#This Row],[I.D. Number ]]=\"\",\"\",(IF('Life Expectancy and Criticality'!$V90-(YEAR(TODAY())-Table13[[#This Row],[Installation Year]])<0,0,'Life Expectancy and Criticality'!$V90-(YEAR(TODAY())-Table13[[#This Row],[Installation Year]]))))","v":""},null,false]
[{"$f":"IF('CoF and PoF'!C90=\"--\",\"\",'CoF and PoF'!C90)","v":""},null,null,null,null,null,null,null,null,null,{"$f":"IF(Table13[[#This Row],[I.D. Number ]]=\"\",\"\",IF(Table13[[#This Row],[Installation Year]]=\"\",\"\",('Life Expectancy and Criticality'!$V91+Table13[[#This Row],[Installation Year]])))","v":""},{"$f":"IF(Table13[[#This Row],[I.D. Number ]]=\"\",\"\",(IF('Life Expectancy and Criticality'!$V91-(YEAR(TODAY())-Table13[[#This Row],[Installation Year]])<0,0,'Life Expectancy and Criticality'!$V91-(YEAR(TODAY())-Table13[[#This Row],[Installation Year]]))))","v":""},null,false]
[{"$f":"IF('CoF and PoF'!C91=\"--\",\"\",'CoF and PoF'!C91)","v":""},null,null,null,null,null,null,null,null,null,{"$f":"IF(Table13[[#This Row],[I.D. Number ]]=\"\",\"\",IF(Table13[[#This Row],[Installation Year]]=\"\",\"\",('Life Expectancy and Criticality'!$V92+Table13[[#This Row],[Installation Year]])))","v":""},{"$f":"IF(Table13[[#This Row],[I.D. Number ]]=\"\",\"\",(IF('Life Expectancy and Criticality'!$V92-(YEAR(TODAY())-Table13[[#This Row],[Installation Year]])<0,0,'Life Expectancy and Criticality'!$V92-(YEAR(TODAY())-Table13[[#This Row],[Installation Year]]))))","v":""}]
[{"$f":"IF('CoF and PoF'!C92=\"--\",\"\",'CoF and PoF'!C92)","v":""},null,null,null,null,null,null,null,null,null,{"$f":"IF(Table13[[#This Row],[I.D. Number ]]=\"\",\"\",IF(Table13[[#This Row],[Installation Year]]=\"\",\"\",('Life Expectancy and Criticality'!$V93+Table13[[#This Row],[Installation Year]])))","v":""},{"$f":"IF(Table13[[#This Row],[I.D. Number ]]=\"\",\"\",(IF('Life Expectancy and Criticality'!$V93-(YEAR(TODAY())-Table13[[#This Row],[Installation Year]])<0,0,'Life Expectancy and Criticality'!$V93-(YEAR(TODAY())-Table13[[#This Row],[Installation Year]]))))","v":""}]
[{"$f":"IF('CoF and PoF'!C93=\"--\",\"\",'CoF and PoF'!C93)","v":""},null,null,null,null,null,null,null,null,null,{"$f":"IF(Table13[[#This Row],[I.D. Number ]]=\"\",\"\",IF(Table13[[#This Row],[Installation Year]]=\"\",\"\",('Life Expectancy and Criticality'!$V94+Table13[[#This Row],[Installation Year]])))","v":""},{"$f":"IF(Table13[[#This Row],[I.D. Number ]]=\"\",\"\",(IF('Life Expectancy and Criticality'!$V94-(YEAR(TODAY())-Table13[[#This Row],[Installation Year]])<0,0,'Life Expectancy and Criticality'!$V94-(YEAR(TODAY())-Table13[[#This Row],[Installation Year]]))))","v":""}]
[{"$f":"IF('CoF and PoF'!C94=\"--\",\"\",'CoF and PoF'!C94)","v":""},null,null,null,null,null,null,null,null,null,{"$f":"IF(Table13[[#This Row],[I.D. Number ]]=\"\",\"\",IF(Table13[[#This Row],[Installation Year]]=\"\",\"\",('Life Expectancy and Criticality'!$V95+Table13[[#This Row],[Installation Year]])))","v":""},{"$f":"IF(Table13[[#This Row],[I.D. Number ]]=\"\",\"\",(IF('Life Expectancy and Criticality'!$V95-(YEAR(TODAY())-Table13[[#This Row],[Installation Year]])<0,0,'Life Expectancy and Criticality'!$V95-(YEAR(TODAY())-Table13[[#This Row],[Installation Year]]))))","v":""}]
[{"$f":"IF('CoF and PoF'!C95=\"--\",\"\",'CoF and PoF'!C95)","v":""},null,null,null,null,null,null,null,null,null,{"$f":"IF(Table13[[#This Row],[I.D. Number ]]=\"\",\"\",IF(Table13[[#This Row],[Installation Year]]=\"\",\"\",('Life Expectancy and Criticality'!$V96+Table13[[#This Row],[Installation Year]])))","v":""},{"$f":"IF(Table13[[#This Row],[I.D. Number ]]=\"\",\"\",(IF('Life Expectancy and Criticality'!$V96-(YEAR(TODAY())-Table13[[#This Row],[Installation Year]])<0,0,'Life Expectancy and Criticality'!$V96-(YEAR(TODAY())-Table13[[#This Row],[Installation Year]]))))","v":""}]
[{"$f":"IF('CoF and PoF'!C96=\"--\",\"\",'CoF and PoF'!C96)","v":""},null,null,null,null,null,null,null,null,null,{"$f":"IF(Table13[[#This Row],[I.D. Number ]]=\"\",\"\",IF(Table13[[#This Row],[Installation Year]]=\"\",\"\",('Life Expectancy and Criticality'!$V97+Table13[[#This Row],[Installation Year]])))","v":""},{"$f":"IF(Table13[[#This Row],[I.D. Number ]]=\"\",\"\",(IF('Life Expectancy and Criticality'!$V97-(YEAR(TODAY())-Table13[[#This Row],[Installation Year]])<0,0,'Life Expectancy and Criticality'!$V97-(YEAR(TODAY())-Table13[[#This Row],[Installation Year]]))))","v":""}]
[{"$f":"IF('CoF and PoF'!C97=\"--\",\"\",'CoF and PoF'!C97)","v":""},null,null,null,null,null,null,null,null,null,{"$f":"IF(Table13[[#This Row],[I.D. Number ]]=\"\",\"\",IF(Table13[[#This Row],[Installation Year]]=\"\",\"\",('Life Expectancy and Criticality'!$V98+Table13[[#This Row],[Installation Year]])))","v":""},{"$f":"IF(Table13[[#This Row],[I.D. Number ]]=\"\",\"\",(IF('Life Expectancy and Criticality'!$V98-(YEAR(TODAY())-Table13[[#This Row],[Installation Year]])<0,0,'Life Expectancy and Criticality'!$V98-(YEAR(TODAY())-Table13[[#This Row],[Installation Year]]))))","v":""}]
[{"$f":"IF('CoF and PoF'!C98=\"--\",\"\",'CoF and PoF'!C98)","v":""},null,null,null,null,null,null,null,null,null,{"$f":"IF(Table13[[#This Row],[I.D. Number ]]=\"\",\"\",IF(Table13[[#This Row],[Installation Year]]=\"\",\"\",('Life Expectancy and Criticality'!$V99+Table13[[#This Row],[Installation Year]])))","v":""},{"$f":"IF(Table13[[#This Row],[I.D. Number ]]=\"\",\"\",(IF('Life Expectancy and Criticality'!$V99-(YEAR(TODAY())-Table13[[#This Row],[Installation Year]])<0,0,'Life Expectancy and Criticality'!$V99-(YEAR(TODAY())-Table13[[#This Row],[Installation Year]]))))","v":""}]
[{"$f":"IF('CoF and PoF'!C99=\"--\",\"\",'CoF and PoF'!C99)","v":""},null,null,null,null,null,null,null,null,null,{"$f":"IF(Table13[[#This Row],[I.D. Number ]]=\"\",\"\",IF(Table13[[#This Row],[Installation Year]]=\"\",\"\",('Life Expectancy and Criticality'!$V100+Table13[[#This Row],[Installation Year]])))","v":""},{"$f":"IF(Table13[[#This Row],[I.D. Number ]]=\"\",\"\",(IF('Life Expectancy and Criticality'!$V100-(YEAR(TODAY())-Table13[[#This Row],[Installation Year]])<0,0,'Life Expectancy and Criticality'!$V100-(YEAR(TODAY())-Table13[[#This Row],[Installation Year]]))))","v":""}]
[{"$f":"IF('CoF and PoF'!C100=\"--\",\"\",'CoF and PoF'!C100)","v":""},null,null,null,null,null,null,null,null,null,{"$f":"IF(Table13[[#This Row],[I.D. Number ]]=\"\",\"\",IF(Table13[[#This Row],[Installation Year]]=\"\",\"\",('Life Expectancy and Criticality'!$V101+Table13[[#This Row],[Installation Year]])))","v":""},{"$f":"IF(Table13[[#This Row],[I.D. Number ]]=\"\",\"\",(IF('Life Expectancy and Criticality'!$V101-(YEAR(TODAY())-Table13[[#This Row],[Installation Year]])<0,0,'Life Expectancy and Criticality'!$V101-(YEAR(TODAY())-Table13[[#This Row],[Installation Year]]))))","v":""}]
[{"$f":"IF('CoF and PoF'!C101=\"--\",\"\",'CoF and PoF'!C101)","v":""},null,null,null,null,null,null,null,null,null,{"$f":"IF(Table13[[#This Row],[I.D. Number ]]=\"\",\"\",IF(Table13[[#This Row],[Installation Year]]=\"\",\"\",('Life Expectancy and Criticality'!$V102+Table13[[#This Row],[Installation Year]])))","v":""},{"$f":"IF(Table13[[#This Row],[I.D. Number ]]=\"\",\"\",(IF('Life Expectancy and Criticality'!$V102-(YEAR(TODAY())-Table13[[#This Row],[Installation Year]])<0,0,'Life Expectancy and Criticality'!$V102-(YEAR(TODAY())-Table13[[#This Row],[Installation Year]]))))","v":""}]
[{"$f":"IF('CoF and PoF'!C102=\"--\",\"\",'CoF and PoF'!C102)","v":""},null,null,null,null,null,null,null,null,null,{"$f":"IF(Table13[[#This Row],[I.D. Number ]]=\"\",\"\",IF(Table13[[#This Row],[Installation Year]]=\"\",\"\",('Life Expectancy and Criticality'!$V103+Table13[[#This Row],[Installation Year]])))","v":""},{"$f":"IF(Table13[[#This Row],[I.D. Number ]]=\"\",\"\",(IF('Life Expectancy and Criticality'!$V103-(YEAR(TODAY())-Table13[[#This Row],[Installation Year]])<0,0,'Life Expectancy and Criticality'!$V103-(YEAR(TODAY())-Table13[[#This Row],[Installation Year]]))))","v":""}]
[{"$f":"IF('CoF and PoF'!C103=\"--\",\"\",'CoF and PoF'!C103)","v":""},null,null,null,null,null,null,null,null,null,{"$f":"IF(Table13[[#This Row],[I.D. Number ]]=\"\",\"\",IF(Table13[[#This Row],[Installation Year]]=\"\",\"\",('Life Expectancy and Criticality'!$V104+Table13[[#This Row],[Installation Year]])))","v":""},{"$f":"IF(Table13[[#This Row],[I.D. Number ]]=\"\",\"\",(IF('Life Expectancy and Criticality'!$V104-(YEAR(TODAY())-Table13[[#This Row],[Installation Year]])<0,0,'Life Expectancy and Criticality'!$V104-(YEAR(TODAY())-Table13[[#This Row],[Installation Year]]))))","v":""}]
[{"$f":"IF('CoF and PoF'!C104=\"--\",\"\",'CoF and PoF'!C104)","v":""},null,null,null,null,null,null,null,null,null,{"$f":"IF(Table13[[#This Row],[I.D. Number ]]=\"\",\"\",IF(Table13[[#This Row],[Installation Year]]=\"\",\"\",('Life Expectancy and Criticality'!$V105+Table13[[#This Row],[Installation Year]])))","v":""},{"$f":"IF(Table13[[#This Row],[I.D. Number ]]=\"\",\"\",(IF('Life Expectancy and Criticality'!$V105-(YEAR(TODAY())-Table13[[#This Row],[Installation Year]])<0,0,'Life Expectancy and Criticality'!$V105-(YEAR(TODAY())-Table13[[#This Row],[Installation Year]]))))","v":""}]
[{"$f":"IF('CoF and PoF'!C105=\"--\",\"\",'CoF and PoF'!C105)","v":""},null,null,null,null,null,null,null,null,null,{"$f":"IF(Table13[[#This Row],[I.D. Number ]]=\"\",\"\",IF(Table13[[#This Row],[Installation Year]]=\"\",\"\",('Life Expectancy and Criticality'!$V106+Table13[[#This Row],[Installation Year]])))","v":""},{"$f":"IF(Table13[[#This Row],[I.D. Number ]]=\"\",\"\",(IF('Life Expectancy and Criticality'!$V106-(YEAR(TODAY())-Table13[[#This Row],[Installation Year]])<0,0,'Life Expectancy and Criticality'!$V106-(YEAR(TODAY())-Table13[[#This Row],[Installation Year]]))))","v":""}]
[{"$f":"IF('CoF and PoF'!C106=\"--\",\"\",'CoF and PoF'!C106)","v":""},null,null,null,null,null,null,null,null,null,{"$f":"IF(Table13[[#This Row],[I.D. Number ]]=\"\",\"\",IF(Table13[[#This Row],[Installation Year]]=\"\",\"\",('Life Expectancy and Criticality'!$V107+Table13[[#This Row],[Installation Year]])))","v":""},{"$f":"IF(Table13[[#This Row],[I.D. Number ]]=\"\",\"\",(IF('Life Expectancy and Criticality'!$V107-(YEAR(TODAY())-Table13[[#This Row],[Installation Year]])<0,0,'Life Expectancy and Criticality'!$V107-(YEAR(TODAY())-Table13[[#This Row],[Installation Year]]))))","v":""}]
[{"$f":"IF('CoF and PoF'!C107=\"--\",\"\",'CoF and PoF'!C107)","v":""},null,null,null,null,null,null,null,null,null,{"$f":"IF(Table13[[#This Row],[I.D. Number ]]=\"\",\"\",IF(Table13[[#This Row],[Installation Year]]=\"\",\"\",('Life Expectancy and Criticality'!$V108+Table13[[#This Row],[Installation Year]])))","v":""},{"$f":"IF(Table13[[#This Row],[I.D. Number ]]=\"\",\"\",(IF('Life Expectancy and Criticality'!$V108-(YEAR(TODAY())-Table13[[#This Row],[Installation Year]])<0,0,'Life Expectancy and Criticality'!$V108-(YEAR(TODAY())-Table13[[#This Row],[Installation Year]]))))","v":""}]
[{"$f":"IF('CoF and PoF'!C108=\"--\",\"\",'CoF and PoF'!C108)","v":""},null,null,null,null,null,null,null,null,null,{"$f":"IF(Table13[[#This Row],[I.D. Number ]]=\"\",\"\",IF(Table13[[#This Row],[Installation Year]]=\"\",\"\",('Life Expectancy and Criticality'!$V109+Table13[[#This Row],[Installation Year]])))","v":""},{"$f":"IF(Table13[[#This Row],[I.D. Number ]]=\"\",\"\",(IF('Life Expectancy and Criticality'!$V109-(YEAR(TODAY())-Table13[[#This Row],[Installation Year]])<0,0,'Life Expectancy and Criticality'!$V109-(YEAR(TODAY())-Table13[[#This Row],[Installation Year]]))))","v":""}]
[{"$f":"IF('CoF and PoF'!C109=\"--\",\"\",'CoF and PoF'!C109)","v":""},null,null,null,null,null,null,null,null,null,{"$f":"IF(Table13[[#This Row],[I.D. Number ]]=\"\",\"\",IF(Table13[[#This Row],[Installation Year]]=\"\",\"\",('Life Expectancy and Criticality'!$V110+Table13[[#This Row],[Installation Year]])))","v":""},{"$f":"IF(Table13[[#This Row],[I.D. Number ]]=\"\",\"\",(IF('Life Expectancy and Criticality'!$V110-(YEAR(TODAY())-Table13[[#This Row],[Installation Year]])<0,0,'Life Expectancy and Criticality'!$V110-(YEAR(TODAY())-Table13[[#This Row],[Installation Year]]))))","v":""}]
[{"$f":"IF('CoF and PoF'!C110=\"--\",\"\",'CoF and PoF'!C110)","v":""},null,null,null,null,null,null,null,null,null,{"$f":"IF(Table13[[#This Row],[I.D. Number ]]=\"\",\"\",IF(Table13[[#This Row],[Installation Year]]=\"\",\"\",('Life Expectancy and Criticality'!$V111+Table13[[#This Row],[Installation Year]])))","v":""},{"$f":"IF(Table13[[#This Row],[I.D. Number ]]=\"\",\"\",(IF('Life Expectancy and Criticality'!$V111-(YEAR(TODAY())-Table13[[#This Row],[Installation Year]])<0,0,'Life Expectancy and Criticality'!$V111-(YEAR(TODAY())-Table13[[#This Row],[Installation Year]]))))","v":""}]
[{"$f":"IF('CoF and PoF'!C111=\"--\",\"\",'CoF and PoF'!C111)","v":""},null,null,null,null,null,null,null,null,null,{"$f":"IF(Table13[[#This Row],[I.D. Number ]]=\"\",\"\",IF(Table13[[#This Row],[Installation Year]]=\"\",\"\",('Life Expectancy and Criticality'!$V112+Table13[[#This Row],[Installation Year]])))","v":""},{"$f":"IF(Table13[[#This Row],[I.D. Number ]]=\"\",\"\",(IF('Life Expectancy and Criticality'!$V112-(YEAR(TODAY())-Table13[[#This Row],[Installation Year]])<0,0,'Life Expectancy and Criticality'!$V112-(YEAR(TODAY())-Table13[[#This Row],[Installation Year]]))))","v":""},null,false]
[{"$f":"IF('CoF and PoF'!C112=\"--\",\"\",'CoF and PoF'!C112)","v":""},null,null,null,null,null,null,null,null,null,{"$f":"IF(Table13[[#This Row],[I.D. Number ]]=\"\",\"\",IF(Table13[[#This Row],[Installation Year]]=\"\",\"\",('Life Expectancy and Criticality'!$V113+Table13[[#This Row],[Installation Year]])))","v":""},{"$f":"IF(Table13[[#This Row],[I.D. Number ]]=\"\",\"\",(IF('Life Expectancy and Criticality'!$V113-(YEAR(TODAY())-Table13[[#This Row],[Installation Year]])<0,0,'Life Expectancy and Criticality'!$V113-(YEAR(TODAY())-Table13[[#This Row],[Installation Year]]))))","v":""}]
[{"$f":"IF('CoF and PoF'!C113=\"--\",\"\",'CoF and PoF'!C113)","v":""},null,null,null,null,null,null,null,null,null,{"$f":"IF(Table13[[#This Row],[I.D. Number ]]=\"\",\"\",IF(Table13[[#This Row],[Installation Year]]=\"\",\"\",('Life Expectancy and Criticality'!$V114+Table13[[#This Row],[Installation Year]])))","v":""},{"$f":"IF(Table13[[#This Row],[I.D. Number ]]=\"\",\"\",(IF('Life Expectancy and Criticality'!$V114-(YEAR(TODAY())-Table13[[#This Row],[Installation Year]])<0,0,'Life Expectancy and Criticality'!$V114-(YEAR(TODAY())-Table13[[#This Row],[Installation Year]]))))","v":""}]
[{"$f":"IF('CoF and PoF'!C114=\"--\",\"\",'CoF and PoF'!C114)","v":""},null,null,null,null,null,null,null,null,null,{"$f":"IF(Table13[[#This Row],[I.D. Number ]]=\"\",\"\",IF(Table13[[#This Row],[Installation Year]]=\"\",\"\",('Life Expectancy and Criticality'!$V115+Table13[[#This Row],[Installation Year]])))","v":""},{"$f":"IF(Table13[[#This Row],[I.D. Number ]]=\"\",\"\",(IF('Life Expectancy and Criticality'!$V115-(YEAR(TODAY())-Table13[[#This Row],[Installation Year]])<0,0,'Life Expectancy and Criticality'!$V115-(YEAR(TODAY())-Table13[[#This Row],[Installation Year]]))))","v":""}]
[{"$f":"IF('CoF and PoF'!C115=\"--\",\"\",'CoF and PoF'!C115)","v":""},null,null,null,null,null,null,null,null,null,{"$f":"IF(Table13[[#This Row],[I.D. Number ]]=\"\",\"\",IF(Table13[[#This Row],[Installation Year]]=\"\",\"\",('Life Expectancy and Criticality'!$V116+Table13[[#This Row],[Installation Year]])))","v":""},{"$f":"IF(Table13[[#This Row],[I.D. Number ]]=\"\",\"\",(IF('Life Expectancy and Criticality'!$V116-(YEAR(TODAY())-Table13[[#This Row],[Installation Year]])<0,0,'Life Expectancy and Criticality'!$V116-(YEAR(TODAY())-Table13[[#This Row],[Installation Year]]))))","v":""}]
[{"$f":"IF('CoF and PoF'!C116=\"--\",\"\",'CoF and PoF'!C116)","v":""},null,null,null,null,null,null,null,null,null,{"$f":"IF(Table13[[#This Row],[I.D. Number ]]=\"\",\"\",IF(Table13[[#This Row],[Installation Year]]=\"\",\"\",('Life Expectancy and Criticality'!$V117+Table13[[#This Row],[Installation Year]])))","v":""},{"$f":"IF(Table13[[#This Row],[I.D. Number ]]=\"\",\"\",(IF('Life Expectancy and Criticality'!$V117-(YEAR(TODAY())-Table13[[#This Row],[Installation Year]])<0,0,'Life Expectancy and Criticality'!$V117-(YEAR(TODAY())-Table13[[#This Row],[Installation Year]]))))","v":""}]
[{"$f":"IF('CoF and PoF'!C117=\"--\",\"\",'CoF and PoF'!C117)","v":""},null,null,null,null,null,null,null,null,null,{"$f":"IF(Table13[[#This Row],[I.D. Number ]]=\"\",\"\",IF(Table13[[#This Row],[Installation Year]]=\"\",\"\",('Life Expectancy and Criticality'!$V118+Table13[[#This Row],[Installation Year]])))","v":""},{"$f":"IF(Table13[[#This Row],[I.D. Number ]]=\"\",\"\",(IF('Life Expectancy and Criticality'!$V118-(YEAR(TODAY())-Table13[[#This Row],[Installation Year]])<0,0,'Life Expectancy and Criticality'!$V118-(YEAR(TODAY())-Table13[[#This Row],[Installation Year]]))))","v":""}]
[{"$f":"IF('CoF and PoF'!C118=\"--\",\"\",'CoF and PoF'!C118)","v":""},null,null,null,null,null,null,null,null,null,{"$f":"IF(Table13[[#This Row],[I.D. Number ]]=\"\",\"\",IF(Table13[[#This Row],[Installation Year]]=\"\",\"\",('Life Expectancy and Criticality'!$V119+Table13[[#This Row],[Installation Year]])))","v":""},{"$f":"IF(Table13[[#This Row],[I.D. Number ]]=\"\",\"\",(IF('Life Expectancy and Criticality'!$V119-(YEAR(TODAY())-Table13[[#This Row],[Installation Year]])<0,0,'Life Expectancy and Criticality'!$V119-(YEAR(TODAY())-Table13[[#This Row],[Installation Year]]))))","v":""}]
[{"$f":"IF('CoF and PoF'!C119=\"--\",\"\",'CoF and PoF'!C119)","v":""},null,null,null,null,null,null,null,null,null,{"$f":"IF(Table13[[#This Row],[I.D. Number ]]=\"\",\"\",IF(Table13[[#This Row],[Installation Year]]=\"\",\"\",('Life Expectancy and Criticality'!$V120+Table13[[#This Row],[Installation Year]])))","v":""},{"$f":"IF(Table13[[#This Row],[I.D. Number ]]=\"\",\"\",(IF('Life Expectancy and Criticality'!$V120-(YEAR(TODAY())-Table13[[#This Row],[Installation Year]])<0,0,'Life Expectancy and Criticality'!$V120-(YEAR(TODAY())-Table13[[#This Row],[Installation Year]]))))","v":""}]
[{"$f":"IF('CoF and PoF'!C120=\"--\",\"\",'CoF and PoF'!C120)","v":""},null,null,null,null,null,null,null,null,null,{"$f":"IF(Table13[[#This Row],[I.D. Number ]]=\"\",\"\",IF(Table13[[#This Row],[Installation Year]]=\"\",\"\",('Life Expectancy and Criticality'!$V121+Table13[[#This Row],[Installation Year]])))","v":""},{"$f":"IF(Table13[[#This Row],[I.D. Number ]]=\"\",\"\",(IF('Life Expectancy and Criticality'!$V121-(YEAR(TODAY())-Table13[[#This Row],[Installation Year]])<0,0,'Life Expectancy and Criticality'!$V121-(YEAR(TODAY())-Table13[[#This Row],[Installation Year]]))))","v":""}]
[{"$f":"IF('CoF and PoF'!C121=\"--\",\"\",'CoF and PoF'!C121)","v":""},null,null,null,null,null,null,null,null,null,{"$f":"IF(Table13[[#This Row],[I.D. Number ]]=\"\",\"\",IF(Table13[[#This Row],[Installation Year]]=\"\",\"\",('Life Expectancy and Criticality'!$V122+Table13[[#This Row],[Installation Year]])))","v":""},{"$f":"IF(Table13[[#This Row],[I.D. Number ]]=\"\",\"\",(IF('Life Expectancy and Criticality'!$V122-(YEAR(TODAY())-Table13[[#This Row],[Installation Year]])<0,0,'Life Expectancy and Criticality'!$V122-(YEAR(TODAY())-Table13[[#This Row],[Installation Year]]))))","v":""}]
[{"$f":"IF('CoF and PoF'!C122=\"--\",\"\",'CoF and PoF'!C122)","v":""},null,null,null,null,null,null,null,null,null,{"$f":"IF(Table13[[#This Row],[I.D. Number ]]=\"\",\"\",IF(Table13[[#This Row],[Installation Year]]=\"\",\"\",('Life Expectancy and Criticality'!$V123+Table13[[#This Row],[Installation Year]])))","v":""},{"$f":"IF(Table13[[#This Row],[I.D. Number ]]=\"\",\"\",(IF('Life Expectancy and Criticality'!$V123-(YEAR(TODAY())-Table13[[#This Row],[Installation Year]])<0,0,'Life Expectancy and Criticality'!$V123-(YEAR(TODAY())-Table13[[#This Row],[Installation Year]]))))","v":""}]
[{"$f":"IF('CoF and PoF'!C123=\"--\",\"\",'CoF and PoF'!C123)","v":""},null,null,null,null,null,null,null,null,null,{"$f":"IF(Table13[[#This Row],[I.D. Number ]]=\"\",\"\",IF(Table13[[#This Row],[Installation Year]]=\"\",\"\",('Life Expectancy and Criticality'!$V124+Table13[[#This Row],[Installation Year]])))","v":""},{"$f":"IF(Table13[[#This Row],[I.D. Number ]]=\"\",\"\",(IF('Life Expectancy and Criticality'!$V124-(YEAR(TODAY())-Table13[[#This Row],[Installation Year]])<0,0,'Life Expectancy and Criticality'!$V124-(YEAR(TODAY())-Table13[[#This Row],[Installation Year]]))))","v":""}]
[{"$f":"IF('CoF and PoF'!C124=\"--\",\"\",'CoF and PoF'!C124)","v":""},null,null,null,null,null,null,null,null,null,{"$f":"IF(Table13[[#This Row],[I.D. Number ]]=\"\",\"\",IF(Table13[[#This Row],[Installation Year]]=\"\",\"\",('Life Expectancy and Criticality'!$V125+Table13[[#This Row],[Installation Year]])))","v":""},{"$f":"IF(Table13[[#This Row],[I.D. Number ]]=\"\",\"\",(IF('Life Expectancy and Criticality'!$V125-(YEAR(TODAY())-Table13[[#This Row],[Installation Year]])<0,0,'Life Expectancy and Criticality'!$V125-(YEAR(TODAY())-Table13[[#This Row],[Installation Year]]))))","v":""}]
[{"$f":"IF('CoF and PoF'!C125=\"--\",\"\",'CoF and PoF'!C125)","v":""},null,null,null,null,null,null,null,null,null,{"$f":"IF(Table13[[#This Row],[I.D. Number ]]=\"\",\"\",IF(Table13[[#This Row],[Installation Year]]=\"\",\"\",('Life Expectancy and Criticality'!$V126+Table13[[#This Row],[Installation Year]])))","v":""},{"$f":"IF(Table13[[#This Row],[I.D. Number ]]=\"\",\"\",(IF('Life Expectancy and Criticality'!$V126-(YEAR(TODAY())-Table13[[#This Row],[Installation Year]])<0,0,'Life Expectancy and Criticality'!$V126-(YEAR(TODAY())-Table13[[#This Row],[Installation Year]]))))","v":""}]
[{"$f":"IF('CoF and PoF'!C126=\"--\",\"\",'CoF and PoF'!C126)","v":""},null,null,null,null,null,null,null,null,null,{"$f":"IF(Table13[[#This Row],[I.D. Number ]]=\"\",\"\",IF(Table13[[#This Row],[Installation Year]]=\"\",\"\",('Life Expectancy and Criticality'!$V127+Table13[[#This Row],[Installation Year]])))","v":""},{"$f":"IF(Table13[[#This Row],[I.D. Number ]]=\"\",\"\",(IF('Life Expectancy and Criticality'!$V127-(YEAR(TODAY())-Table13[[#This Row],[Installation Year]])<0,0,'Life Expectancy and Criticality'!$V127-(YEAR(TODAY())-Table13[[#This Row],[Installation Year]]))))","v":""}]
[{"$f":"IF('CoF and PoF'!C127=\"--\",\"\",'CoF and PoF'!C127)","v":""},null,null,null,null,null,null,null,null,null,{"$f":"IF(Table13[[#This Row],[I.D. Number ]]=\"\",\"\",IF(Table13[[#This Row],[Installation Year]]=\"\",\"\",('Life Expectancy and Criticality'!$V128+Table13[[#This Row],[Installation Year]])))","v":""},{"$f":"IF(Table13[[#This Row],[I.D. Number ]]=\"\",\"\",(IF('Life Expectancy and Criticality'!$V128-(YEAR(TODAY())-Table13[[#This Row],[Installation Year]])<0,0,'Life Expectancy and Criticality'!$V128-(YEAR(TODAY())-Table13[[#This Row],[Installation Year]]))))","v":""}]
[{"$f":"IF('CoF and PoF'!C128=\"--\",\"\",'CoF and PoF'!C128)","v":""},null,null,null,null,null,null,null,null,null,{"$f":"IF(Table13[[#This Row],[I.D. Number ]]=\"\",\"\",IF(Table13[[#This Row],[Installation Year]]=\"\",\"\",('Life Expectancy and Criticality'!$V129+Table13[[#This Row],[Installation Year]])))","v":""},{"$f":"IF(Table13[[#This Row],[I.D. Number ]]=\"\",\"\",(IF('Life Expectancy and Criticality'!$V129-(YEAR(TODAY())-Table13[[#This Row],[Installation Year]])<0,0,'Life Expectancy and Criticality'!$V129-(YEAR(TODAY())-Table13[[#This Row],[Installation Year]]))))","v":""}]
[{"$f":"IF('CoF and PoF'!C129=\"--\",\"\",'CoF and PoF'!C129)","v":""},null,null,null,null,null,null,null,null,null,{"$f":"IF(Table13[[#This Row],[I.D. Number ]]=\"\",\"\",IF(Table13[[#This Row],[Installation Year]]=\"\",\"\",('Life Expectancy and Criticality'!$V130+Table13[[#This Row],[Installation Year]])))","v":""},{"$f":"IF(Table13[[#This Row],[I.D. Number ]]=\"\",\"\",(IF('Life Expectancy and Criticality'!$V130-(YEAR(TODAY())-Table13[[#This Row],[Installation Year]])<0,0,'Life Expectancy and Criticality'!$V130-(YEAR(TODAY())-Table13[[#This Row],[Installation Year]]))))","v":""}]
[{"$f":"IF('CoF and PoF'!C130=\"--\",\"\",'CoF and PoF'!C130)","v":""},null,null,null,null,null,null,null,null,null,{"$f":"IF(Table13[[#This Row],[I.D. Number ]]=\"\",\"\",IF(Table13[[#This Row],[Installation Year]]=\"\",\"\",('Life Expectancy and Criticality'!$V131+Table13[[#This Row],[Installation Year]])))","v":""},{"$f":"IF(Table13[[#This Row],[I.D. Number ]]=\"\",\"\",(IF('Life Expectancy and Criticality'!$V131-(YEAR(TODAY())-Table13[[#This Row],[Installation Year]])<0,0,'Life Expectancy and Criticality'!$V131-(YEAR(TODAY())-Table13[[#This Row],[Installation Year]]))))","v":""}]
[{"$f":"IF('CoF and PoF'!C131=\"--\",\"\",'CoF and PoF'!C131)","v":""},null,null,null,null,null,null,null,null,null,{"$f":"IF(Table13[[#This Row],[I.D. Number ]]=\"\",\"\",IF(Table13[[#This Row],[Installation Year]]=\"\",\"\",('Life Expectancy and Criticality'!$V132+Table13[[#This Row],[Installation Year]])))","v":""},{"$f":"IF(Table13[[#This Row],[I.D. Number ]]=\"\",\"\",(IF('Life Expectancy and Criticality'!$V132-(YEAR(TODAY())-Table13[[#This Row],[Installation Year]])<0,0,'Life Expectancy and Criticality'!$V132-(YEAR(TODAY())-Table13[[#This Row],[Installation Year]]))))","v":""}]
[{"$f":"IF('CoF and PoF'!C132=\"--\",\"\",'CoF and PoF'!C132)","v":""},null,null,null,null,null,null,null,null,null,{"$f":"IF(Table13[[#This Row],[I.D. Number ]]=\"\",\"\",IF(Table13[[#This Row],[Installation Year]]=\"\",\"\",('Life Expectancy and Criticality'!$V133+Table13[[#This Row],[Installation Year]])))","v":""},{"$f":"IF(Table13[[#This Row],[I.D. Number ]]=\"\",\"\",(IF('Life Expectancy and Criticality'!$V133-(YEAR(TODAY())-Table13[[#This Row],[Installation Year]])<0,0,'Life Expectancy and Criticality'!$V133-(YEAR(TODAY())-Table13[[#This Row],[Installation Year]]))))","v":""}]
[{"$f":"IF('CoF and PoF'!C133=\"--\",\"\",'CoF and PoF'!C133)","v":""},null,null,null,null,null,null,null,null,null,{"$f":"IF(Table13[[#This Row],[I.D. Number ]]=\"\",\"\",IF(Table13[[#This Row],[Installation Year]]=\"\",\"\",('Life Expectancy and Criticality'!$V134+Table13[[#This Row],[Installation Year]])))","v":""},{"$f":"IF(Table13[[#This Row],[I.D. Number ]]=\"\",\"\",(IF('Life Expectancy and Criticality'!$V134-(YEAR(TODAY())-Table13[[#This Row],[Installation Year]])<0,0,'Life Expectancy and Criticality'!$V134-(YEAR(TODAY())-Table13[[#This Row],[Installation Year]]))))","v":""}]
[{"$f":"IF('CoF and PoF'!C134=\"--\",\"\",'CoF and PoF'!C134)","v":""},null,null,null,null,null,null,null,null,null,{"$f":"IF(Table13[[#This Row],[I.D. Number ]]=\"\",\"\",IF(Table13[[#This Row],[Installation Year]]=\"\",\"\",('Life Expectancy and Criticality'!$V135+Table13[[#This Row],[Installation Year]])))","v":""},{"$f":"IF(Table13[[#This Row],[I.D. Number ]]=\"\",\"\",(IF('Life Expectancy and Criticality'!$V135-(YEAR(TODAY())-Table13[[#This Row],[Installation Year]])<0,0,'Life Expectancy and Criticality'!$V135-(YEAR(TODAY())-Table13[[#This Row],[Installation Year]]))))","v":""}]
[{"$f":"IF('CoF and PoF'!C135=\"--\",\"\",'CoF and PoF'!C135)","v":""},null,null,null,null,null,null,null,null,null,{"$f":"IF(Table13[[#This Row],[I.D. Number ]]=\"\",\"\",IF(Table13[[#This Row],[Installation Year]]=\"\",\"\",('Life Expectancy and Criticality'!$V136+Table13[[#This Row],[Installation Year]])))","v":""},{"$f":"IF(Table13[[#This Row],[I.D. Number ]]=\"\",\"\",(IF('Life Expectancy and Criticality'!$V136-(YEAR(TODAY())-Table13[[#This Row],[Installation Year]])<0,0,'Life Expectancy and Criticality'!$V136-(YEAR(TODAY())-Table13[[#This Row],[Installation Year]]))))","v":""}]
[{"$f":"IF('CoF and PoF'!C136=\"--\",\"\",'CoF and PoF'!C136)","v":""},null,null,null,null,null,null,null,null,null,{"$f":"IF(Table13[[#This Row],[I.D. Number ]]=\"\",\"\",IF(Table13[[#This Row],[Installation Year]]=\"\",\"\",('Life Expectancy and Criticality'!$V137+Table13[[#This Row],[Installation Year]])))","v":""},{"$f":"IF(Table13[[#This Row],[I.D. Number ]]=\"\",\"\",(IF('Life Expectancy and Criticality'!$V137-(YEAR(TODAY())-Table13[[#This Row],[Installation Year]])<0,0,'Life Expectancy and Criticality'!$V137-(YEAR(TODAY())-Table13[[#This Row],[Installation Year]]))))","v":""}]
[{"$f":"IF('CoF and PoF'!C137=\"--\",\"\",'CoF and PoF'!C137)","v":""},null,null,null,null,null,null,null,null,null,{"$f":"IF(Table13[[#This Row],[I.D. Number ]]=\"\",\"\",IF(Table13[[#This Row],[Installation Year]]=\"\",\"\",('Life Expectancy and Criticality'!$V138+Table13[[#This Row],[Installation Year]])))","v":""},{"$f":"IF(Table13[[#This Row],[I.D. Number ]]=\"\",\"\",(IF('Life Expectancy and Criticality'!$V138-(YEAR(TODAY())-Table13[[#This Row],[Installation Year]])<0,0,'Life Expectancy and Criticality'!$V138-(YEAR(TODAY())-Table13[[#This Row],[Installation Year]]))))","v":""}]
[{"$f":"IF('CoF and PoF'!C138=\"--\",\"\",'CoF and PoF'!C138)","v":""},null,null,null,null,null,null,null,null,null,{"$f":"IF(Table13[[#This Row],[I.D. Number ]]=\"\",\"\",IF(Table13[[#This Row],[Installation Year]]=\"\",\"\",('Life Expectancy and Criticality'!$V139+Table13[[#This Row],[Installation Year]])))","v":""},{"$f":"IF(Table13[[#This Row],[I.D. Number ]]=\"\",\"\",(IF('Life Expectancy and Criticality'!$V139-(YEAR(TODAY())-Table13[[#This Row],[Installation Year]])<0,0,'Life Expectancy and Criticality'!$V139-(YEAR(TODAY())-Table13[[#This Row],[Installation Year]]))))","v":""}]
[{"$f":"IF('CoF and PoF'!C139=\"--\",\"\",'CoF and PoF'!C139)","v":""},null,null,null,null,null,null,null,null,null,{"$f":"IF(Table13[[#This Row],[I.D. Number ]]=\"\",\"\",IF(Table13[[#This Row],[Installation Year]]=\"\",\"\",('Life Expectancy and Criticality'!$V140+Table13[[#This Row],[Installation Year]])))","v":""},{"$f":"IF(Table13[[#This Row],[I.D. Number ]]=\"\",\"\",(IF('Life Expectancy and Criticality'!$V140-(YEAR(TODAY())-Table13[[#This Row],[Installation Year]])<0,0,'Life Expectancy and Criticality'!$V140-(YEAR(TODAY())-Table13[[#This Row],[Installation Year]]))))","v":""}]
[{"$f":"IF('CoF and PoF'!C140=\"--\",\"\",'CoF and PoF'!C140)","v":""},null,null,null,null,null,null,null,null,null,{"$f":"IF(Table13[[#This Row],[I.D. Number ]]=\"\",\"\",IF(Table13[[#This Row],[Installation Year]]=\"\",\"\",('Life Expectancy and Criticality'!$V141+Table13[[#This Row],[Installation Year]])))","v":""},{"$f":"IF(Table13[[#This Row],[I.D. Number ]]=\"\",\"\",(IF('Life Expectancy and Criticality'!$V141-(YEAR(TODAY())-Table13[[#This Row],[Installation Year]])<0,0,'Life Expectancy and Criticality'!$V141-(YEAR(TODAY())-Table13[[#This Row],[Installation Year]]))))","v":""}]
[{"$f":"IF('CoF and PoF'!C141=\"--\",\"\",'CoF and PoF'!C141)","v":""},null,null,null,null,null,null,null,null,null,{"$f":"IF(Table13[[#This Row],[I.D. Number ]]=\"\",\"\",IF(Table13[[#This Row],[Installation Year]]=\"\",\"\",('Life Expectancy and Criticality'!$V142+Table13[[#This Row],[Installation Year]])))","v":""},{"$f":"IF(Table13[[#This Row],[I.D. Number ]]=\"\",\"\",(IF('Life Expectancy and Criticality'!$V142-(YEAR(TODAY())-Table13[[#This Row],[Installation Year]])<0,0,'Life Expectancy and Criticality'!$V142-(YEAR(TODAY())-Table13[[#This Row],[Installation Year]]))))","v":""}]
[{"$f":"IF('CoF and PoF'!C142=\"--\",\"\",'CoF and PoF'!C142)","v":""},null,null,null,null,null,null,null,null,null,{"$f":"IF(Table13[[#This Row],[I.D. Number ]]=\"\",\"\",IF(Table13[[#This Row],[Installation Year]]=\"\",\"\",('Life Expectancy and Criticality'!$V143+Table13[[#This Row],[Installation Year]])))","v":""},{"$f":"IF(Table13[[#This Row],[I.D. Number ]]=\"\",\"\",(IF('Life Expectancy and Criticality'!$V143-(YEAR(TODAY())-Table13[[#This Row],[Installation Year]])<0,0,'Life Expectancy and Criticality'!$V143-(YEAR(TODAY())-Table13[[#This Row],[Installation Year]]))))","v":""}]
[{"$f":"IF('CoF and PoF'!C143=\"--\",\"\",'CoF and PoF'!C143)","v":""},null,null,null,null,null,null,null,null,null,{"$f":"IF(Table13[[#This Row],[I.D. Number ]]=\"\",\"\",IF(Table13[[#This Row],[Installation Year]]=\"\",\"\",('Life Expectancy and Criticality'!$V144+Table13[[#This Row],[Installation Year]])))","v":""},{"$f":"IF(Table13[[#This Row],[I.D. Number ]]=\"\",\"\",(IF('Life Expectancy and Criticality'!$V144-(YEAR(TODAY())-Table13[[#This Row],[Installation Year]])<0,0,'Life Expectancy and Criticality'!$V144-(YEAR(TODAY())-Table13[[#This Row],[Installation Year]]))))","v":""}]
[{"$f":"IF('CoF and PoF'!C144=\"--\",\"\",'CoF and PoF'!C144)","v":""},null,null,null,null,null,null,null,null,null,{"$f":"IF(Table13[[#This Row],[I.D. Number ]]=\"\",\"\",IF(Table13[[#This Row],[Installation Year]]=\"\",\"\",('Life Expectancy and Criticality'!$V145+Table13[[#This Row],[Installation Year]])))","v":""},{"$f":"IF(Table13[[#This Row],[I.D. Number ]]=\"\",\"\",(IF('Life Expectancy and Criticality'!$V145-(YEAR(TODAY())-Table13[[#This Row],[Installation Year]])<0,0,'Life Expectancy and Criticality'!$V145-(YEAR(TODAY())-Table13[[#This Row],[Installation Year]]))))","v":""}]
[{"$f":"IF('CoF and PoF'!C145=\"--\",\"\",'CoF and PoF'!C145)","v":""},null,null,null,null,null,null,null,null,null,{"$f":"IF(Table13[[#This Row],[I.D. Number ]]=\"\",\"\",IF(Table13[[#This Row],[Installation Year]]=\"\",\"\",('Life Expectancy and Criticality'!$V146+Table13[[#This Row],[Installation Year]])))","v":""},{"$f":"IF(Table13[[#This Row],[I.D. Number ]]=\"\",\"\",(IF('Life Expectancy and Criticality'!$V146-(YEAR(TODAY())-Table13[[#This Row],[Installation Year]])<0,0,'Life Expectancy and Criticality'!$V146-(YEAR(TODAY())-Table13[[#This Row],[Installation Year]]))))","v":""}]
[{"$f":"IF('CoF and PoF'!C146=\"--\",\"\",'CoF and PoF'!C146)","v":""},null,null,null,null,null,null,null,null,null,{"$f":"IF(Table13[[#This Row],[I.D. Number ]]=\"\",\"\",IF(Table13[[#This Row],[Installation Year]]=\"\",\"\",('Life Expectancy and Criticality'!$V147+Table13[[#This Row],[Installation Year]])))","v":""},{"$f":"IF(Table13[[#This Row],[I.D. Number ]]=\"\",\"\",(IF('Life Expectancy and Criticality'!$V147-(YEAR(TODAY())-Table13[[#This Row],[Installation Year]])<0,0,'Life Expectancy and Criticality'!$V147-(YEAR(TODAY())-Table13[[#This Row],[Installation Year]]))))","v":""}]
[{"$f":"IF('CoF and PoF'!C147=\"--\",\"\",'CoF and PoF'!C147)","v":""},null,null,null,null,null,null,null,null,null,{"$f":"IF(Table13[[#This Row],[I.D. Number ]]=\"\",\"\",IF(Table13[[#This Row],[Installation Year]]=\"\",\"\",('Life Expectancy and Criticality'!$V148+Table13[[#This Row],[Installation Year]])))","v":""},{"$f":"IF(Table13[[#This Row],[I.D. Number ]]=\"\",\"\",(IF('Life Expectancy and Criticality'!$V148-(YEAR(TODAY())-Table13[[#This Row],[Installation Year]])<0,0,'Life Expectancy and Criticality'!$V148-(YEAR(TODAY())-Table13[[#This Row],[Installation Year]]))))","v":""}]
[{"$f":"IF('CoF and PoF'!C148=\"--\",\"\",'CoF and PoF'!C148)","v":""},null,null,null,null,null,null,null,null,null,{"$f":"IF(Table13[[#This Row],[I.D. Number ]]=\"\",\"\",IF(Table13[[#This Row],[Installation Year]]=\"\",\"\",('Life Expectancy and Criticality'!$V149+Table13[[#This Row],[Installation Year]])))","v":""},{"$f":"IF(Table13[[#This Row],[I.D. Number ]]=\"\",\"\",(IF('Life Expectancy and Criticality'!$V149-(YEAR(TODAY())-Table13[[#This Row],[Installation Year]])<0,0,'Life Expectancy and Criticality'!$V149-(YEAR(TODAY())-Table13[[#This Row],[Installation Year]]))))","v":""}]
[{"$f":"IF('CoF and PoF'!C149=\"--\",\"\",'CoF and PoF'!C149)","v":""},null,null,null,null,null,null,null,null,null,{"$f":"IF(Table13[[#This Row],[I.D. Number ]]=\"\",\"\",IF(Table13[[#This Row],[Installation Year]]=\"\",\"\",('Life Expectancy and Criticality'!$V150+Table13[[#This Row],[Installation Year]])))","v":""},{"$f":"IF(Table13[[#This Row],[I.D. Number ]]=\"\",\"\",(IF('Life Expectancy and Criticality'!$V150-(YEAR(TODAY())-Table13[[#This Row],[Installation Year]])<0,0,'Life Expectancy and Criticality'!$V150-(YEAR(TODAY())-Table13[[#This Row],[Installation Year]]))))","v":""}]
[{"$f":"IF('CoF and PoF'!C150=\"--\",\"\",'CoF and PoF'!C150)","v":""},null,null,null,null,null,null,null,null,null,{"$f":"IF(Table13[[#This Row],[I.D. Number ]]=\"\",\"\",IF(Table13[[#This Row],[Installation Year]]=\"\",\"\",('Life Expectancy and Criticality'!$V151+Table13[[#This Row],[Installation Year]])))","v":""},{"$f":"IF(Table13[[#This Row],[I.D. Number ]]=\"\",\"\",(IF('Life Expectancy and Criticality'!$V151-(YEAR(TODAY())-Table13[[#This Row],[Installation Year]])<0,0,'Life Expectancy and Criticality'!$V151-(YEAR(TODAY())-Table13[[#This Row],[Installation Year]]))))","v":""}]
[{"$f":"IF('CoF and PoF'!C151=\"--\",\"\",'CoF and PoF'!C151)","v":""},null,null,null,null,null,null,null,null,null,{"$f":"IF(Table13[[#This Row],[I.D. Number ]]=\"\",\"\",IF(Table13[[#This Row],[Installation Year]]=\"\",\"\",('Life Expectancy and Criticality'!$V152+Table13[[#This Row],[Installation Year]])))","v":""},{"$f":"IF(Table13[[#This Row],[I.D. Number ]]=\"\",\"\",(IF('Life Expectancy and Criticality'!$V152-(YEAR(TODAY())-Table13[[#This Row],[Installation Year]])<0,0,'Life Expectancy and Criticality'!$V152-(YEAR(TODAY())-Table13[[#This Row],[Installation Year]]))))","v":""}]
[{"$f":"IF('CoF and PoF'!C152=\"--\",\"\",'CoF and PoF'!C152)","v":""},null,null,null,null,null,null,null,null,null,{"$f":"IF(Table13[[#This Row],[I.D. Number ]]=\"\",\"\",IF(Table13[[#This Row],[Installation Year]]=\"\",\"\",('Life Expectancy and Criticality'!$V153+Table13[[#This Row],[Installation Year]])))","v":""},{"$f":"IF(Table13[[#This Row],[I.D. Number ]]=\"\",\"\",(IF('Life Expectancy and Criticality'!$V153-(YEAR(TODAY())-Table13[[#This Row],[Installation Year]])<0,0,'Life Expectancy and Criticality'!$V153-(YEAR(TODAY())-Table13[[#This Row],[Installation Year]]))))","v":""}]
[{"$f":"IF('CoF and PoF'!C153=\"--\",\"\",'CoF and PoF'!C153)","v":""},null,null,null,null,null,null,null,null,null,{"$f":"IF(Table13[[#This Row],[I.D. Number ]]=\"\",\"\",IF(Table13[[#This Row],[Installation Year]]=\"\",\"\",('Life Expectancy and Criticality'!$V154+Table13[[#This Row],[Installation Year]])))","v":""},{"$f":"IF(Table13[[#This Row],[I.D. Number ]]=\"\",\"\",(IF('Life Expectancy and Criticality'!$V154-(YEAR(TODAY())-Table13[[#This Row],[Installation Year]])<0,0,'Life Expectancy and Criticality'!$V154-(YEAR(TODAY())-Table13[[#This Row],[Installation Year]]))))","v":""}]
[{"$f":"IF('CoF and PoF'!C154=\"--\",\"\",'CoF and PoF'!C154)","v":""},null,null,null,null,null,null,null,null,null,{"$f":"IF(Table13[[#This Row],[I.D. Number ]]=\"\",\"\",IF(Table13[[#This Row],[Installation Year]]=\"\",\"\",('Life Expectancy and Criticality'!$V155+Table13[[#This Row],[Installation Year]])))","v":""},{"$f":"IF(Table13[[#This Row],[I.D. Number ]]=\"\",\"\",(IF('Life Expectancy and Criticality'!$V155-(YEAR(TODAY())-Table13[[#This Row],[Installation Year]])<0,0,'Life Expectancy and Criticality'!$V155-(YEAR(TODAY())-Table13[[#This Row],[Installation Year]]))))","v":""}]
[{"$f":"IF('CoF and PoF'!C155=\"--\",\"\",'CoF and PoF'!C155)","v":""},null,null,null,null,null,null,null,null,null,{"$f":"IF(Table13[[#This Row],[I.D. Number ]]=\"\",\"\",IF(Table13[[#This Row],[Installation Year]]=\"\",\"\",('Life Expectancy and Criticality'!$V156+Table13[[#This Row],[Installation Year]])))","v":""},{"$f":"IF(Table13[[#This Row],[I.D. Number ]]=\"\",\"\",(IF('Life Expectancy and Criticality'!$V156-(YEAR(TODAY())-Table13[[#This Row],[Installation Year]])<0,0,'Life Expectancy and Criticality'!$V156-(YEAR(TODAY())-Table13[[#This Row],[Installation Year]]))))","v":""}]
[{"$f":"IF('CoF and PoF'!C156=\"--\",\"\",'CoF and PoF'!C156)","v":""},null,null,null,null,null,null,null,null,null,{"$f":"IF(Table13[[#This Row],[I.D. Number ]]=\"\",\"\",IF(Table13[[#This Row],[Installation Year]]=\"\",\"\",('Life Expectancy and Criticality'!$V157+Table13[[#This Row],[Installation Year]])))","v":""},{"$f":"IF(Table13[[#This Row],[I.D. Number ]]=\"\",\"\",(IF('Life Expectancy and Criticality'!$V157-(YEAR(TODAY())-Table13[[#This Row],[Installation Year]])<0,0,'Life Expectancy and Criticality'!$V157-(YEAR(TODAY())-Table13[[#This Row],[Installation Year]]))))","v":""}]
[{"$f":"IF('CoF and PoF'!C157=\"--\",\"\",'CoF and PoF'!C157)","v":""},null,null,null,null,null,null,null,null,null,{"$f":"IF(Table13[[#This Row],[I.D. Number ]]=\"\",\"\",IF(Table13[[#This Row],[Installation Year]]=\"\",\"\",('Life Expectancy and Criticality'!$V158+Table13[[#This Row],[Installation Year]])))","v":""},{"$f":"IF(Table13[[#This Row],[I.D. Number ]]=\"\",\"\",(IF('Life Expectancy and Criticality'!$V158-(YEAR(TODAY())-Table13[[#This Row],[Installation Year]])<0,0,'Life Expectancy and Criticality'!$V158-(YEAR(TODAY())-Table13[[#This Row],[Installation Year]]))))","v":""}]
[{"$f":"IF('CoF and PoF'!C158=\"--\",\"\",'CoF and PoF'!C158)","v":""},null,null,null,null,null,null,null,null,null,{"$f":"IF(Table13[[#This Row],[I.D. Number ]]=\"\",\"\",IF(Table13[[#This Row],[Installation Year]]=\"\",\"\",('Life Expectancy and Criticality'!$V159+Table13[[#This Row],[Installation Year]])))","v":""},{"$f":"IF(Table13[[#This Row],[I.D. Number ]]=\"\",\"\",(IF('Life Expectancy and Criticality'!$V159-(YEAR(TODAY())-Table13[[#This Row],[Installation Year]])<0,0,'Life Expectancy and Criticality'!$V159-(YEAR(TODAY())-Table13[[#This Row],[Installation Year]]))))","v":""}]
[{"$f":"IF('CoF and PoF'!C159=\"--\",\"\",'CoF and PoF'!C159)","v":""},null,null,null,null,null,null,null,null,null,{"$f":"IF(Table13[[#This Row],[I.D. Number ]]=\"\",\"\",IF(Table13[[#This Row],[Installation Year]]=\"\",\"\",('Life Expectancy and Criticality'!$V160+Table13[[#This Row],[Installation Year]])))","v":""},{"$f":"IF(Table13[[#This Row],[I.D. Number ]]=\"\",\"\",(IF('Life Expectancy and Criticality'!$V160-(YEAR(TODAY())-Table13[[#This Row],[Installation Year]])<0,0,'Life Expectancy and Criticality'!$V160-(YEAR(TODAY())-Table13[[#This Row],[Installation Year]]))))","v":""}]
[{"$f":"IF('CoF and PoF'!C160=\"--\",\"\",'CoF and PoF'!C160)","v":""},null,null,null,null,null,null,null,null,null,{"$f":"IF(Table13[[#This Row],[I.D. Number ]]=\"\",\"\",IF(Table13[[#This Row],[Installation Year]]=\"\",\"\",('Life Expectancy and Criticality'!$V161+Table13[[#This Row],[Installation Year]])))","v":""},{"$f":"IF(Table13[[#This Row],[I.D. Number ]]=\"\",\"\",(IF('Life Expectancy and Criticality'!$V161-(YEAR(TODAY())-Table13[[#This Row],[Installation Year]])<0,0,'Life Expectancy and Criticality'!$V161-(YEAR(TODAY())-Table13[[#This Row],[Installation Year]]))))","v":""}]
[{"$f":"IF('CoF and PoF'!C161=\"--\",\"\",'CoF and PoF'!C161)","v":""},null,null,null,null,null,null,null,null,null,{"$f":"IF(Table13[[#This Row],[I.D. Number ]]=\"\",\"\",IF(Table13[[#This Row],[Installation Year]]=\"\",\"\",('Life Expectancy and Criticality'!$V162+Table13[[#This Row],[Installation Year]])))","v":""},{"$f":"IF(Table13[[#This Row],[I.D. Number ]]=\"\",\"\",(IF('Life Expectancy and Criticality'!$V162-(YEAR(TODAY())-Table13[[#This Row],[Installation Year]])<0,0,'Life Expectancy and Criticality'!$V162-(YEAR(TODAY())-Table13[[#This Row],[Installation Year]]))))","v":""}]
[{"$f":"IF('CoF and PoF'!C162=\"--\",\"\",'CoF and PoF'!C162)","v":""},null,null,null,null,null,null,null,null,null,{"$f":"IF(Table13[[#This Row],[I.D. Number ]]=\"\",\"\",IF(Table13[[#This Row],[Installation Year]]=\"\",\"\",('Life Expectancy and Criticality'!$V163+Table13[[#This Row],[Installation Year]])))","v":""},{"$f":"IF(Table13[[#This Row],[I.D. Number ]]=\"\",\"\",(IF('Life Expectancy and Criticality'!$V163-(YEAR(TODAY())-Table13[[#This Row],[Installation Year]])<0,0,'Life Expectancy and Criticality'!$V163-(YEAR(TODAY())-Table13[[#This Row],[Installation Year]]))))","v":""}]
[{"$f":"IF('CoF and PoF'!C163=\"--\",\"\",'CoF and PoF'!C163)","v":""},null,null,null,null,null,null,null,null,null,{"$f":"IF(Table13[[#This Row],[I.D. Number ]]=\"\",\"\",IF(Table13[[#This Row],[Installation Year]]=\"\",\"\",('Life Expectancy and Criticality'!$V164+Table13[[#This Row],[Installation Year]])))","v":""},{"$f":"IF(Table13[[#This Row],[I.D. Number ]]=\"\",\"\",(IF('Life Expectancy and Criticality'!$V164-(YEAR(TODAY())-Table13[[#This Row],[Installation Year]])<0,0,'Life Expectancy and Criticality'!$V164-(YEAR(TODAY())-Table13[[#This Row],[Installation Year]]))))","v":""}]
[{"$f":"IF('CoF and PoF'!C164=\"--\",\"\",'CoF and PoF'!C164)","v":""},null,null,null,null,null,null,null,null,null,{"$f":"IF(Table13[[#This Row],[I.D. Number ]]=\"\",\"\",IF(Table13[[#This Row],[Installation Year]]=\"\",\"\",('Life Expectancy and Criticality'!$V165+Table13[[#This Row],[Installation Year]])))","v":""},{"$f":"IF(Table13[[#This Row],[I.D. Number ]]=\"\",\"\",(IF('Life Expectancy and Criticality'!$V165-(YEAR(TODAY())-Table13[[#This Row],[Installation Year]])<0,0,'Life Expectancy and Criticality'!$V165-(YEAR(TODAY())-Table13[[#This Row],[Installation Year]]))))","v":""}]
[{"$f":"IF('CoF and PoF'!C165=\"--\",\"\",'CoF and PoF'!C165)","v":""},null,null,null,null,null,null,null,null,null,{"$f":"IF(Table13[[#This Row],[I.D. Number ]]=\"\",\"\",IF(Table13[[#This Row],[Installation Year]]=\"\",\"\",('Life Expectancy and Criticality'!$V166+Table13[[#This Row],[Installation Year]])))","v":""},{"$f":"IF(Table13[[#This Row],[I.D. Number ]]=\"\",\"\",(IF('Life Expectancy and Criticality'!$V166-(YEAR(TODAY())-Table13[[#This Row],[Installation Year]])<0,0,'Life Expectancy and Criticality'!$V166-(YEAR(TODAY())-Table13[[#This Row],[Installation Year]]))))","v":""}]
[{"$f":"IF('CoF and PoF'!C166=\"--\",\"\",'CoF and PoF'!C166)","v":""},null,null,null,null,null,null,null,null,null,{"$f":"IF(Table13[[#This Row],[I.D. Number ]]=\"\",\"\",IF(Table13[[#This Row],[Installation Year]]=\"\",\"\",('Life Expectancy and Criticality'!$V167+Table13[[#This Row],[Installation Year]])))","v":""},{"$f":"IF(Table13[[#This Row],[I.D. Number ]]=\"\",\"\",(IF('Life Expectancy and Criticality'!$V167-(YEAR(TODAY())-Table13[[#This Row],[Installation Year]])<0,0,'Life Expectancy and Criticality'!$V167-(YEAR(TODAY())-Table13[[#This Row],[Installation Year]]))))","v":""}]
[{"$f":"IF('CoF and PoF'!C167=\"--\",\"\",'CoF and PoF'!C167)","v":""},null,null,null,null,null,null,null,null,null,{"$f":"IF(Table13[[#This Row],[I.D. Number ]]=\"\",\"\",IF(Table13[[#This Row],[Installation Year]]=\"\",\"\",('Life Expectancy and Criticality'!$V168+Table13[[#This Row],[Installation Year]])))","v":""},{"$f":"IF(Table13[[#This Row],[I.D. Number ]]=\"\",\"\",(IF('Life Expectancy and Criticality'!$V168-(YEAR(TODAY())-Table13[[#This Row],[Installation Year]])<0,0,'Life Expectancy and Criticality'!$V168-(YEAR(TODAY())-Table13[[#This Row],[Installation Year]]))))","v":""}]
[{"$f":"IF('CoF and PoF'!C168=\"--\",\"\",'CoF and PoF'!C168)","v":""},null,null,null,null,null,null,null,null,null,{"$f":"IF(Table13[[#This Row],[I.D. Number ]]=\"\",\"\",IF(Table13[[#This Row],[Installation Year]]=\"\",\"\",('Life Expectancy and Criticality'!$V169+Table13[[#This Row],[Installation Year]])))","v":""},{"$f":"IF(Table13[[#This Row],[I.D. Number ]]=\"\",\"\",(IF('Life Expectancy and Criticality'!$V169-(YEAR(TODAY())-Table13[[#This Row],[Installation Year]])<0,0,'Life Expectancy and Criticality'!$V169-(YEAR(TODAY())-Table13[[#This Row],[Installation Year]]))))","v":""}]
[{"$f":"IF('CoF and PoF'!C169=\"--\",\"\",'CoF and PoF'!C169)","v":""},null,null,null,null,null,null,null,null,null,{"$f":"IF(Table13[[#This Row],[I.D. Number ]]=\"\",\"\",IF(Table13[[#This Row],[Installation Year]]=\"\",\"\",('Life Expectancy and Criticality'!$V170+Table13[[#This Row],[Installation Year]])))","v":""},{"$f":"IF(Table13[[#This Row],[I.D. Number ]]=\"\",\"\",(IF('Life Expectancy and Criticality'!$V170-(YEAR(TODAY())-Table13[[#This Row],[Installation Year]])<0,0,'Life Expectancy and Criticality'!$V170-(YEAR(TODAY())-Table13[[#This Row],[Installation Year]]))))","v":""}]
[{"$f":"IF('CoF and PoF'!C170=\"--\",\"\",'CoF and PoF'!C170)","v":""},null,null,null,null,null,null,null,null,null,{"$f":"IF(Table13[[#This Row],[I.D. Number ]]=\"\",\"\",IF(Table13[[#This Row],[Installation Year]]=\"\",\"\",('Life Expectancy and Criticality'!$V171+Table13[[#This Row],[Installation Year]])))","v":""},{"$f":"IF(Table13[[#This Row],[I.D. Number ]]=\"\",\"\",(IF('Life Expectancy and Criticality'!$V171-(YEAR(TODAY())-Table13[[#This Row],[Installation Year]])<0,0,'Life Expectancy and Criticality'!$V171-(YEAR(TODAY())-Table13[[#This Row],[Installation Year]]))))","v":""}]
[{"$f":"IF('CoF and PoF'!C171=\"--\",\"\",'CoF and PoF'!C171)","v":""},null,null,null,null,null,null,null,null,null,{"$f":"IF(Table13[[#This Row],[I.D. Number ]]=\"\",\"\",IF(Table13[[#This Row],[Installation Year]]=\"\",\"\",('Life Expectancy and Criticality'!$V172+Table13[[#This Row],[Installation Year]])))","v":""},{"$f":"IF(Table13[[#This Row],[I.D. Number ]]=\"\",\"\",(IF('Life Expectancy and Criticality'!$V172-(YEAR(TODAY())-Table13[[#This Row],[Installation Year]])<0,0,'Life Expectancy and Criticality'!$V172-(YEAR(TODAY())-Table13[[#This Row],[Installation Year]]))))","v":""}]
[{"$f":"IF('CoF and PoF'!C172=\"--\",\"\",'CoF and PoF'!C172)","v":""},null,null,null,null,null,null,null,null,null,{"$f":"IF(Table13[[#This Row],[I.D. Number ]]=\"\",\"\",IF(Table13[[#This Row],[Installation Year]]=\"\",\"\",('Life Expectancy and Criticality'!$V173+Table13[[#This Row],[Installation Year]])))","v":""},{"$f":"IF(Table13[[#This Row],[I.D. Number ]]=\"\",\"\",(IF('Life Expectancy and Criticality'!$V173-(YEAR(TODAY())-Table13[[#This Row],[Installation Year]])<0,0,'Life Expectancy and Criticality'!$V173-(YEAR(TODAY())-Table13[[#This Row],[Installation Year]]))))","v":""}]
[{"$f":"IF('CoF and PoF'!C173=\"--\",\"\",'CoF and PoF'!C173)","v":""},null,null,null,null,null,null,null,null,null,{"$f":"IF(Table13[[#This Row],[I.D. Number ]]=\"\",\"\",IF(Table13[[#This Row],[Installation Year]]=\"\",\"\",('Life Expectancy and Criticality'!$V174+Table13[[#This Row],[Installation Year]])))","v":""},{"$f":"IF(Table13[[#This Row],[I.D. Number ]]=\"\",\"\",(IF('Life Expectancy and Criticality'!$V174-(YEAR(TODAY())-Table13[[#This Row],[Installation Year]])<0,0,'Life Expectancy and Criticality'!$V174-(YEAR(TODAY())-Table13[[#This Row],[Installation Year]]))))","v":""}]
[{"$f":"IF('CoF and PoF'!C174=\"--\",\"\",'CoF and PoF'!C174)","v":""},null,null,null,null,null,null,null,null,null,{"$f":"IF(Table13[[#This Row],[I.D. Number ]]=\"\",\"\",IF(Table13[[#This Row],[Installation Year]]=\"\",\"\",('Life Expectancy and Criticality'!$V175+Table13[[#This Row],[Installation Year]])))","v":""},{"$f":"IF(Table13[[#This Row],[I.D. Number ]]=\"\",\"\",(IF('Life Expectancy and Criticality'!$V175-(YEAR(TODAY())-Table13[[#This Row],[Installation Year]])<0,0,'Life Expectancy and Criticality'!$V175-(YEAR(TODAY())-Table13[[#This Row],[Installation Year]]))))","v":""}]
[{"$f":"IF('CoF and PoF'!C175=\"--\",\"\",'CoF and PoF'!C175)","v":""},null,null,null,null,null,null,null,null,null,{"$f":"IF(Table13[[#This Row],[I.D. Number ]]=\"\",\"\",IF(Table13[[#This Row],[Installation Year]]=\"\",\"\",('Life Expectancy and Criticality'!$V176+Table13[[#This Row],[Installation Year]])))","v":""},{"$f":"IF(Table13[[#This Row],[I.D. Number ]]=\"\",\"\",(IF('Life Expectancy and Criticality'!$V176-(YEAR(TODAY())-Table13[[#This Row],[Installation Year]])<0,0,'Life Expectancy and Criticality'!$V176-(YEAR(TODAY())-Table13[[#This Row],[Installation Year]]))))","v":""}]
[{"$f":"IF('CoF and PoF'!C176=\"--\",\"\",'CoF and PoF'!C176)","v":""},null,null,null,null,null,null,null,null,null,{"$f":"IF(Table13[[#This Row],[I.D. Number ]]=\"\",\"\",IF(Table13[[#This Row],[Installation Year]]=\"\",\"\",('Life Expectancy and Criticality'!$V177+Table13[[#This Row],[Installation Year]])))","v":""},{"$f":"IF(Table13[[#This Row],[I.D. Number ]]=\"\",\"\",(IF('Life Expectancy and Criticality'!$V177-(YEAR(TODAY())-Table13[[#This Row],[Installation Year]])<0,0,'Life Expectancy and Criticality'!$V177-(YEAR(TODAY())-Table13[[#This Row],[Installation Year]]))))","v":""}]
[{"$f":"IF('CoF and PoF'!C177=\"--\",\"\",'CoF and PoF'!C177)","v":""},null,null,null,null,null,null,null,null,null,{"$f":"IF(Table13[[#This Row],[I.D. Number ]]=\"\",\"\",IF(Table13[[#This Row],[Installation Year]]=\"\",\"\",('Life Expectancy and Criticality'!$V178+Table13[[#This Row],[Installation Year]])))","v":""},{"$f":"IF(Table13[[#This Row],[I.D. Number ]]=\"\",\"\",(IF('Life Expectancy and Criticality'!$V178-(YEAR(TODAY())-Table13[[#This Row],[Installation Year]])<0,0,'Life Expectancy and Criticality'!$V178-(YEAR(TODAY())-Table13[[#This Row],[Installation Year]]))))","v":""}]
[{"$f":"IF('CoF and PoF'!C178=\"--\",\"\",'CoF and PoF'!C178)","v":""},null,null,null,null,null,null,null,null,null,{"$f":"IF(Table13[[#This Row],[I.D. Number ]]=\"\",\"\",IF(Table13[[#This Row],[Installation Year]]=\"\",\"\",('Life Expectancy and Criticality'!$V179+Table13[[#This Row],[Installation Year]])))","v":""},{"$f":"IF(Table13[[#This Row],[I.D. Number ]]=\"\",\"\",(IF('Life Expectancy and Criticality'!$V179-(YEAR(TODAY())-Table13[[#This Row],[Installation Year]])<0,0,'Life Expectancy and Criticality'!$V179-(YEAR(TODAY())-Table13[[#This Row],[Installation Year]]))))","v":""}]
[{"$f":"IF('CoF and PoF'!C179=\"--\",\"\",'CoF and PoF'!C179)","v":""},null,null,null,null,null,null,null,null,null,{"$f":"IF(Table13[[#This Row],[I.D. Number ]]=\"\",\"\",IF(Table13[[#This Row],[Installation Year]]=\"\",\"\",('Life Expectancy and Criticality'!$V180+Table13[[#This Row],[Installation Year]])))","v":""},{"$f":"IF(Table13[[#This Row],[I.D. Number ]]=\"\",\"\",(IF('Life Expectancy and Criticality'!$V180-(YEAR(TODAY())-Table13[[#This Row],[Installation Year]])<0,0,'Life Expectancy and Criticality'!$V180-(YEAR(TODAY())-Table13[[#This Row],[Installation Year]]))))","v":""}]
[{"$f":"IF('CoF and PoF'!C180=\"--\",\"\",'CoF and PoF'!C180)","v":""},null,null,null,null,null,null,null,null,null,{"$f":"IF(Table13[[#This Row],[I.D. Number ]]=\"\",\"\",IF(Table13[[#This Row],[Installation Year]]=\"\",\"\",('Life Expectancy and Criticality'!$V181+Table13[[#This Row],[Installation Year]])))","v":""},{"$f":"IF(Table13[[#This Row],[I.D. Number ]]=\"\",\"\",(IF('Life Expectancy and Criticality'!$V181-(YEAR(TODAY())-Table13[[#This Row],[Installation Year]])<0,0,'Life Expectancy and Criticality'!$V181-(YEAR(TODAY())-Table13[[#This Row],[Installation Year]]))))","v":""}]
[{"$f":"IF('CoF and PoF'!C181=\"--\",\"\",'CoF and PoF'!C181)","v":""},null,null,null,null,null,null,null,null,null,{"$f":"IF(Table13[[#This Row],[I.D. Number ]]=\"\",\"\",IF(Table13[[#This Row],[Installation Year]]=\"\",\"\",('Life Expectancy and Criticality'!$V182+Table13[[#This Row],[Installation Year]])))","v":""},{"$f":"IF(Table13[[#This Row],[I.D. Number ]]=\"\",\"\",(IF('Life Expectancy and Criticality'!$V182-(YEAR(TODAY())-Table13[[#This Row],[Installation Year]])<0,0,'Life Expectancy and Criticality'!$V182-(YEAR(TODAY())-Table13[[#This Row],[Installation Year]]))))","v":""}]
[{"$f":"IF('CoF and PoF'!C182=\"--\",\"\",'CoF and PoF'!C182)","v":""},null,null,null,null,null,null,null,null,null,{"$f":"IF(Table13[[#This Row],[I.D. Number ]]=\"\",\"\",IF(Table13[[#This Row],[Installation Year]]=\"\",\"\",('Life Expectancy and Criticality'!$V183+Table13[[#This Row],[Installation Year]])))","v":""},{"$f":"IF(Table13[[#This Row],[I.D. Number ]]=\"\",\"\",(IF('Life Expectancy and Criticality'!$V183-(YEAR(TODAY())-Table13[[#This Row],[Installation Year]])<0,0,'Life Expectancy and Criticality'!$V183-(YEAR(TODAY())-Table13[[#This Row],[Installation Year]]))))","v":""}]
[{"$f":"IF('CoF and PoF'!C183=\"--\",\"\",'CoF and PoF'!C183)","v":""},null,null,null,null,null,null,null,null,null,{"$f":"IF(Table13[[#This Row],[I.D. Number ]]=\"\",\"\",IF(Table13[[#This Row],[Installation Year]]=\"\",\"\",('Life Expectancy and Criticality'!$V184+Table13[[#This Row],[Installation Year]])))","v":""},{"$f":"IF(Table13[[#This Row],[I.D. Number ]]=\"\",\"\",(IF('Life Expectancy and Criticality'!$V184-(YEAR(TODAY())-Table13[[#This Row],[Installation Year]])<0,0,'Life Expectancy and Criticality'!$V184-(YEAR(TODAY())-Table13[[#This Row],[Installation Year]]))))","v":""}]
[{"$f":"IF('CoF and PoF'!C184=\"--\",\"\",'CoF and PoF'!C184)","v":""},null,null,null,null,null,null,null,null,null,{"$f":"IF(Table13[[#This Row],[I.D. Number ]]=\"\",\"\",IF(Table13[[#This Row],[Installation Year]]=\"\",\"\",('Life Expectancy and Criticality'!$V185+Table13[[#This Row],[Installation Year]])))","v":""},{"$f":"IF(Table13[[#This Row],[I.D. Number ]]=\"\",\"\",(IF('Life Expectancy and Criticality'!$V185-(YEAR(TODAY())-Table13[[#This Row],[Installation Year]])<0,0,'Life Expectancy and Criticality'!$V185-(YEAR(TODAY())-Table13[[#This Row],[Installation Year]]))))","v":""}]
[{"$f":"IF('CoF and PoF'!C185=\"--\",\"\",'CoF and PoF'!C185)","v":""},null,null,null,null,null,null,null,null,null,{"$f":"IF(Table13[[#This Row],[I.D. Number ]]=\"\",\"\",IF(Table13[[#This Row],[Installation Year]]=\"\",\"\",('Life Expectancy and Criticality'!$V186+Table13[[#This Row],[Installation Year]])))","v":""},{"$f":"IF(Table13[[#This Row],[I.D. Number ]]=\"\",\"\",(IF('Life Expectancy and Criticality'!$V186-(YEAR(TODAY())-Table13[[#This Row],[Installation Year]])<0,0,'Life Expectancy and Criticality'!$V186-(YEAR(TODAY())-Table13[[#This Row],[Installation Year]]))))","v":""}]
[{"$f":"IF('CoF and PoF'!C186=\"--\",\"\",'CoF and PoF'!C186)","v":""},null,null,null,null,null,null,null,null,null,{"$f":"IF(Table13[[#This Row],[I.D. Number ]]=\"\",\"\",IF(Table13[[#This Row],[Installation Year]]=\"\",\"\",('Life Expectancy and Criticality'!$V187+Table13[[#This Row],[Installation Year]])))","v":""},{"$f":"IF(Table13[[#This Row],[I.D. Number ]]=\"\",\"\",(IF('Life Expectancy and Criticality'!$V187-(YEAR(TODAY())-Table13[[#This Row],[Installation Year]])<0,0,'Life Expectancy and Criticality'!$V187-(YEAR(TODAY())-Table13[[#This Row],[Installation Year]]))))","v":""}]
[{"$f":"IF('CoF and PoF'!C187=\"--\",\"\",'CoF and PoF'!C187)","v":""},null,null,null,null,null,null,null,null,null,{"$f":"IF(Table13[[#This Row],[I.D. Number ]]=\"\",\"\",IF(Table13[[#This Row],[Installation Year]]=\"\",\"\",('Life Expectancy and Criticality'!$V188+Table13[[#This Row],[Installation Year]])))","v":""},{"$f":"IF(Table13[[#This Row],[I.D. Number ]]=\"\",\"\",(IF('Life Expectancy and Criticality'!$V188-(YEAR(TODAY())-Table13[[#This Row],[Installation Year]])<0,0,'Life Expectancy and Criticality'!$V188-(YEAR(TODAY())-Table13[[#This Row],[Installation Year]]))))","v":""}]
[{"$f":"IF('CoF and PoF'!C188=\"--\",\"\",'CoF and PoF'!C188)","v":""},null,null,null,null,null,null,null,null,null,{"$f":"IF(Table13[[#This Row],[I.D. Number ]]=\"\",\"\",IF(Table13[[#This Row],[Installation Year]]=\"\",\"\",('Life Expectancy and Criticality'!$V189+Table13[[#This Row],[Installation Year]])))","v":""},{"$f":"IF(Table13[[#This Row],[I.D. Number ]]=\"\",\"\",(IF('Life Expectancy and Criticality'!$V189-(YEAR(TODAY())-Table13[[#This Row],[Installation Year]])<0,0,'Life Expectancy and Criticality'!$V189-(YEAR(TODAY())-Table13[[#This Row],[Installation Year]]))))","v":""}]
[{"$f":"IF('CoF and PoF'!C189=\"--\",\"\",'CoF and PoF'!C189)","v":""},null,null,null,null,null,null,null,null,null,{"$f":"IF(Table13[[#This Row],[I.D. Number ]]=\"\",\"\",IF(Table13[[#This Row],[Installation Year]]=\"\",\"\",('Life Expectancy and Criticality'!$V190+Table13[[#This Row],[Installation Year]])))","v":""},{"$f":"IF(Table13[[#This Row],[I.D. Number ]]=\"\",\"\",(IF('Life Expectancy and Criticality'!$V190-(YEAR(TODAY())-Table13[[#This Row],[Installation Year]])<0,0,'Life Expectancy and Criticality'!$V190-(YEAR(TODAY())-Table13[[#This Row],[Installation Year]]))))","v":""}]
[{"$f":"IF('CoF and PoF'!C190=\"--\",\"\",'CoF and PoF'!C190)","v":""},null,null,null,null,null,null,null,null,null,{"$f":"IF(Table13[[#This Row],[I.D. Number ]]=\"\",\"\",IF(Table13[[#This Row],[Installation Year]]=\"\",\"\",('Life Expectancy and Criticality'!$V191+Table13[[#This Row],[Installation Year]])))","v":""},{"$f":"IF(Table13[[#This Row],[I.D. Number ]]=\"\",\"\",(IF('Life Expectancy and Criticality'!$V191-(YEAR(TODAY())-Table13[[#This Row],[Installation Year]])<0,0,'Life Expectancy and Criticality'!$V191-(YEAR(TODAY())-Table13[[#This Row],[Installation Year]]))))","v":""}]
[{"$f":"IF('CoF and PoF'!C191=\"--\",\"\",'CoF and PoF'!C191)","v":""},null,null,null,null,null,null,null,null,null,{"$f":"IF(Table13[[#This Row],[I.D. Number ]]=\"\",\"\",IF(Table13[[#This Row],[Installation Year]]=\"\",\"\",('Life Expectancy and Criticality'!$V192+Table13[[#This Row],[Installation Year]])))","v":""},{"$f":"IF(Table13[[#This Row],[I.D. Number ]]=\"\",\"\",(IF('Life Expectancy and Criticality'!$V192-(YEAR(TODAY())-Table13[[#This Row],[Installation Year]])<0,0,'Life Expectancy and Criticality'!$V192-(YEAR(TODAY())-Table13[[#This Row],[Installation Year]]))))","v":""}]
[{"$f":"IF('CoF and PoF'!C192=\"--\",\"\",'CoF and PoF'!C192)","v":""},null,null,null,null,null,null,null,null,null,{"$f":"IF(Table13[[#This Row],[I.D. Number ]]=\"\",\"\",IF(Table13[[#This Row],[Installation Year]]=\"\",\"\",('Life Expectancy and Criticality'!$V193+Table13[[#This Row],[Installation Year]])))","v":""},{"$f":"IF(Table13[[#This Row],[I.D. Number ]]=\"\",\"\",(IF('Life Expectancy and Criticality'!$V193-(YEAR(TODAY())-Table13[[#This Row],[Installation Year]])<0,0,'Life Expectancy and Criticality'!$V193-(YEAR(TODAY())-Table13[[#This Row],[Installation Year]]))))","v":""}]
[{"$f":"IF('CoF and PoF'!C193=\"--\",\"\",'CoF and PoF'!C193)","v":""},null,null,null,null,null,null,null,null,null,{"$f":"IF(Table13[[#This Row],[I.D. Number ]]=\"\",\"\",IF(Table13[[#This Row],[Installation Year]]=\"\",\"\",('Life Expectancy and Criticality'!$V194+Table13[[#This Row],[Installation Year]])))","v":""},{"$f":"IF(Table13[[#This Row],[I.D. Number ]]=\"\",\"\",(IF('Life Expectancy and Criticality'!$V194-(YEAR(TODAY())-Table13[[#This Row],[Installation Year]])<0,0,'Life Expectancy and Criticality'!$V194-(YEAR(TODAY())-Table13[[#This Row],[Installation Year]]))))","v":""}]
[{"$f":"IF('CoF and PoF'!C194=\"--\",\"\",'CoF and PoF'!C194)","v":""},null,null,null,null,null,null,null,null,null,{"$f":"IF(Table13[[#This Row],[I.D. Number ]]=\"\",\"\",IF(Table13[[#This Row],[Installation Year]]=\"\",\"\",('Life Expectancy and Criticality'!$V195+Table13[[#This Row],[Installation Year]])))","v":""},{"$f":"IF(Table13[[#This Row],[I.D. Number ]]=\"\",\"\",(IF('Life Expectancy and Criticality'!$V195-(YEAR(TODAY())-Table13[[#This Row],[Installation Year]])<0,0,'Life Expectancy and Criticality'!$V195-(YEAR(TODAY())-Table13[[#This Row],[Installation Year]]))))","v":""}]
[{"$f":"IF('CoF and PoF'!C195=\"--\",\"\",'CoF and PoF'!C195)","v":""},null,null,null,null,null,null,null,null,null,{"$f":"IF(Table13[[#This Row],[I.D. Number ]]=\"\",\"\",IF(Table13[[#This Row],[Installation Year]]=\"\",\"\",('Life Expectancy and Criticality'!$V196+Table13[[#This Row],[Installation Year]])))","v":""},{"$f":"IF(Table13[[#This Row],[I.D. Number ]]=\"\",\"\",(IF('Life Expectancy and Criticality'!$V196-(YEAR(TODAY())-Table13[[#This Row],[Installation Year]])<0,0,'Life Expectancy and Criticality'!$V196-(YEAR(TODAY())-Table13[[#This Row],[Installation Year]]))))","v":""}]
[{"$f":"IF('CoF and PoF'!C196=\"--\",\"\",'CoF and PoF'!C196)","v":""},null,null,null,null,null,null,null,null,null,{"$f":"IF(Table13[[#This Row],[I.D. Number ]]=\"\",\"\",IF(Table13[[#This Row],[Installation Year]]=\"\",\"\",('Life Expectancy and Criticality'!$V197+Table13[[#This Row],[Installation Year]])))","v":""},{"$f":"IF(Table13[[#This Row],[I.D. Number ]]=\"\",\"\",(IF('Life Expectancy and Criticality'!$V197-(YEAR(TODAY())-Table13[[#This Row],[Installation Year]])<0,0,'Life Expectancy and Criticality'!$V197-(YEAR(TODAY())-Table13[[#This Row],[Installation Year]]))))","v":""}]
[{"$f":"IF('CoF and PoF'!C197=\"--\",\"\",'CoF and PoF'!C197)","v":""},null,null,null,null,null,null,null,null,null,{"$f":"IF(Table13[[#This Row],[I.D. Number ]]=\"\",\"\",IF(Table13[[#This Row],[Installation Year]]=\"\",\"\",('Life Expectancy and Criticality'!$V198+Table13[[#This Row],[Installation Year]])))","v":""},{"$f":"IF(Table13[[#This Row],[I.D. Number ]]=\"\",\"\",(IF('Life Expectancy and Criticality'!$V198-(YEAR(TODAY())-Table13[[#This Row],[Installation Year]])<0,0,'Life Expectancy and Criticality'!$V198-(YEAR(TODAY())-Table13[[#This Row],[Installation Year]]))))","v":""}]
[{"$f":"IF('CoF and PoF'!C198=\"--\",\"\",'CoF and PoF'!C198)","v":""},null,null,null,null,null,null,null,null,null,{"$f":"IF(Table13[[#This Row],[I.D. Number ]]=\"\",\"\",IF(Table13[[#This Row],[Installation Year]]=\"\",\"\",('Life Expectancy and Criticality'!$V199+Table13[[#This Row],[Installation Year]])))","v":""},{"$f":"IF(Table13[[#This Row],[I.D. Number ]]=\"\",\"\",(IF('Life Expectancy and Criticality'!$V199-(YEAR(TODAY())-Table13[[#This Row],[Installation Year]])<0,0,'Life Expectancy and Criticality'!$V199-(YEAR(TODAY())-Table13[[#This Row],[Installation Year]]))))","v":""}]
[{"$f":"IF('CoF and PoF'!C199=\"--\",\"\",'CoF and PoF'!C199)","v":""},null,null,null,null,null,null,null,null,null,{"$f":"IF(Table13[[#This Row],[I.D. Number ]]=\"\",\"\",IF(Table13[[#This Row],[Installation Year]]=\"\",\"\",('Life Expectancy and Criticality'!$V200+Table13[[#This Row],[Installation Year]])))","v":""},{"$f":"IF(Table13[[#This Row],[I.D. Number ]]=\"\",\"\",(IF('Life Expectancy and Criticality'!$V200-(YEAR(TODAY())-Table13[[#This Row],[Installation Year]])<0,0,'Life Expectancy and Criticality'!$V200-(YEAR(TODAY())-Table13[[#This Row],[Installation Year]]))))","v":""}]
[{"$f":"IF('CoF and PoF'!C200=\"--\",\"\",'CoF and PoF'!C200)","v":""},null,null,null,null,null,null,null,null,null,{"$f":"IF(Table13[[#This Row],[I.D. Number ]]=\"\",\"\",IF(Table13[[#This Row],[Installation Year]]=\"\",\"\",('Life Expectancy and Criticality'!$V201+Table13[[#This Row],[Installation Year]])))","v":""},{"$f":"IF(Table13[[#This Row],[I.D. Number ]]=\"\",\"\",(IF('Life Expectancy and Criticality'!$V201-(YEAR(TODAY())-Table13[[#This Row],[Installation Year]])<0,0,'Life Expectancy and Criticality'!$V201-(YEAR(TODAY())-Table13[[#This Row],[Installation Year]]))))","v":""}]
[{"$f":"IF('CoF and PoF'!C201=\"--\",\"\",'CoF and PoF'!C201)","v":""},null,null,null,null,null,null,null,null,null,{"$f":"IF(Table13[[#This Row],[I.D. Number ]]=\"\",\"\",IF(Table13[[#This Row],[Installation Year]]=\"\",\"\",('Life Expectancy and Criticality'!$V202+Table13[[#This Row],[Installation Year]])))","v":""},{"$f":"IF(Table13[[#This Row],[I.D. Number ]]=\"\",\"\",(IF('Life Expectancy and Criticality'!$V202-(YEAR(TODAY())-Table13[[#This Row],[Installation Year]])<0,0,'Life Expectancy and Criticality'!$V202-(YEAR(TODAY())-Table13[[#This Row],[Installation Year]]))))","v":""}]
[{"$f":"IF('CoF and PoF'!C202=\"--\",\"\",'CoF and PoF'!C202)","v":""},null,null,null,null,null,null,null,null,null,{"$f":"IF(Table13[[#This Row],[I.D. Number ]]=\"\",\"\",IF(Table13[[#This Row],[Installation Year]]=\"\",\"\",('Life Expectancy and Criticality'!$V203+Table13[[#This Row],[Installation Year]])))","v":""},{"$f":"IF(Table13[[#This Row],[I.D. Number ]]=\"\",\"\",(IF('Life Expectancy and Criticality'!$V203-(YEAR(TODAY())-Table13[[#This Row],[Installation Year]])<0,0,'Life Expectancy and Criticality'!$V203-(YEAR(TODAY())-Table13[[#This Row],[Installation Year]]))))","v":""}]
[{"$f":"IF('CoF and PoF'!C203=\"--\",\"\",'CoF and PoF'!C203)","v":""},null,null,null,null,null,null,null,null,null,{"$f":"IF(Table13[[#This Row],[I.D. Number ]]=\"\",\"\",IF(Table13[[#This Row],[Installation Year]]=\"\",\"\",('Life Expectancy and Criticality'!$V204+Table13[[#This Row],[Installation Year]])))","v":""},{"$f":"IF(Table13[[#This Row],[I.D. Number ]]=\"\",\"\",(IF('Life Expectancy and Criticality'!$V204-(YEAR(TODAY())-Table13[[#This Row],[Installation Year]])<0,0,'Life Expectancy and Criticality'!$V204-(YEAR(TODAY())-Table13[[#This Row],[Installation Year]]))))","v":""}]
[{"$f":"IF('CoF and PoF'!C204=\"--\",\"\",'CoF and PoF'!C204)","v":""},null,null,null,null,null,null,null,null,null,{"$f":"IF(Table13[[#This Row],[I.D. Number ]]=\"\",\"\",IF(Table13[[#This Row],[Installation Year]]=\"\",\"\",('Life Expectancy and Criticality'!$V205+Table13[[#This Row],[Installation Year]])))","v":""},{"$f":"IF(Table13[[#This Row],[I.D. Number ]]=\"\",\"\",(IF('Life Expectancy and Criticality'!$V205-(YEAR(TODAY())-Table13[[#This Row],[Installation Year]])<0,0,'Life Expectancy and Criticality'!$V205-(YEAR(TODAY())-Table13[[#This Row],[Installation Year]]))))","v":""}]
[{"$f":"IF('CoF and PoF'!C205=\"--\",\"\",'CoF and PoF'!C205)","v":""},null,null,null,null,null,null,null,null,null,{"$f":"IF(Table13[[#This Row],[I.D. Number ]]=\"\",\"\",IF(Table13[[#This Row],[Installation Year]]=\"\",\"\",('Life Expectancy and Criticality'!$V206+Table13[[#This Row],[Installation Year]])))","v":""},{"$f":"IF(Table13[[#This Row],[I.D. Number ]]=\"\",\"\",(IF('Life Expectancy and Criticality'!$V206-(YEAR(TODAY())-Table13[[#This Row],[Installation Year]])<0,0,'Life Expectancy and Criticality'!$V206-(YEAR(TODAY())-Table13[[#This Row],[Installation Year]]))))","v":""}]
[{"$f":"IF('CoF and PoF'!C206=\"--\",\"\",'CoF and PoF'!C206)","v":""},null,null,null,null,null,null,null,null,null,{"$f":"IF(Table13[[#This Row],[I.D. Number ]]=\"\",\"\",IF(Table13[[#This Row],[Installation Year]]=\"\",\"\",('Life Expectancy and Criticality'!$V207+Table13[[#This Row],[Installation Year]])))","v":""},{"$f":"IF(Table13[[#This Row],[I.D. Number ]]=\"\",\"\",(IF('Life Expectancy and Criticality'!$V207-(YEAR(TODAY())-Table13[[#This Row],[Installation Year]])<0,0,'Life Expectancy and Criticality'!$V207-(YEAR(TODAY())-Table13[[#This Row],[Installation Year]]))))","v":""}]
[{"$f":"IF('CoF and PoF'!C207=\"--\",\"\",'CoF and PoF'!C207)","v":""},null,null,null,null,null,null,null,null,null,{"$f":"IF(Table13[[#This Row],[I.D. Number ]]=\"\",\"\",IF(Table13[[#This Row],[Installation Year]]=\"\",\"\",('Life Expectancy and Criticality'!$V208+Table13[[#This Row],[Installation Year]])))","v":""},{"$f":"IF(Table13[[#This Row],[I.D. Number ]]=\"\",\"\",(IF('Life Expectancy and Criticality'!$V208-(YEAR(TODAY())-Table13[[#This Row],[Installation Year]])<0,0,'Life Expectancy and Criticality'!$V208-(YEAR(TODAY())-Table13[[#This Row],[Installation Year]]))))","v":""}]
[{"$f":"IF('CoF and PoF'!C208=\"--\",\"\",'CoF and PoF'!C208)","v":""},null,null,null,null,null,null,null,null,null,{"$f":"IF(Table13[[#This Row],[I.D. Number ]]=\"\",\"\",IF(Table13[[#This Row],[Installation Year]]=\"\",\"\",('Life Expectancy and Criticality'!$V209+Table13[[#This Row],[Installation Year]])))","v":""},{"$f":"IF(Table13[[#This Row],[I.D. Number ]]=\"\",\"\",(IF('Life Expectancy and Criticality'!$V209-(YEAR(TODAY())-Table13[[#This Row],[Installation Year]])<0,0,'Life Expectancy and Criticality'!$V209-(YEAR(TODAY())-Table13[[#This Row],[Installation Year]]))))","v":""}]
[{"$f":"IF('CoF and PoF'!C209=\"--\",\"\",'CoF and PoF'!C209)","v":""},null,null,null,null,null,null,null,null,null,{"$f":"IF(Table13[[#This Row],[I.D. Number ]]=\"\",\"\",IF(Table13[[#This Row],[Installation Year]]=\"\",\"\",('Life Expectancy and Criticality'!$V210+Table13[[#This Row],[Installation Year]])))","v":""},{"$f":"IF(Table13[[#This Row],[I.D. Number ]]=\"\",\"\",(IF('Life Expectancy and Criticality'!$V210-(YEAR(TODAY())-Table13[[#This Row],[Installation Year]])<0,0,'Life Expectancy and Criticality'!$V210-(YEAR(TODAY())-Table13[[#This Row],[Installation Year]]))))","v":""}]
[{"$f":"IF('CoF and PoF'!C210=\"--\",\"\",'CoF and PoF'!C210)","v":""},null,null,null,null,null,null,null,null,null,{"$f":"IF(Table13[[#This Row],[I.D. Number ]]=\"\",\"\",IF(Table13[[#This Row],[Installation Year]]=\"\",\"\",('Life Expectancy and Criticality'!$V211+Table13[[#This Row],[Installation Year]])))","v":""},{"$f":"IF(Table13[[#This Row],[I.D. Number ]]=\"\",\"\",(IF('Life Expectancy and Criticality'!$V211-(YEAR(TODAY())-Table13[[#This Row],[Installation Year]])<0,0,'Life Expectancy and Criticality'!$V211-(YEAR(TODAY())-Table13[[#This Row],[Installation Year]]))))","v":""}]
[{"$f":"IF('CoF and PoF'!C211=\"--\",\"\",'CoF and PoF'!C211)","v":""},null,null,null,null,null,null,null,null,null,{"$f":"IF(Table13[[#This Row],[I.D. Number ]]=\"\",\"\",IF(Table13[[#This Row],[Installation Year]]=\"\",\"\",('Life Expectancy and Criticality'!$V212+Table13[[#This Row],[Installation Year]])))","v":""},{"$f":"IF(Table13[[#This Row],[I.D. Number ]]=\"\",\"\",(IF('Life Expectancy and Criticality'!$V212-(YEAR(TODAY())-Table13[[#This Row],[Installation Year]])<0,0,'Life Expectancy and Criticality'!$V212-(YEAR(TODAY())-Table13[[#This Row],[Installation Year]]))))","v":""}]
[{"$f":"IF('CoF and PoF'!C212=\"--\",\"\",'CoF and PoF'!C212)","v":""},null,null,null,null,null,null,null,null,null,{"$f":"IF(Table13[[#This Row],[I.D. Number ]]=\"\",\"\",IF(Table13[[#This Row],[Installation Year]]=\"\",\"\",('Life Expectancy and Criticality'!$V213+Table13[[#This Row],[Installation Year]])))","v":""},{"$f":"IF(Table13[[#This Row],[I.D. Number ]]=\"\",\"\",(IF('Life Expectancy and Criticality'!$V213-(YEAR(TODAY())-Table13[[#This Row],[Installation Year]])<0,0,'Life Expectancy and Criticality'!$V213-(YEAR(TODAY())-Table13[[#This Row],[Installation Year]]))))","v":""}]
[{"$f":"IF('CoF and PoF'!C213=\"--\",\"\",'CoF and PoF'!C213)","v":""},null,null,null,null,null,null,null,null,null,{"$f":"IF(Table13[[#This Row],[I.D. Number ]]=\"\",\"\",IF(Table13[[#This Row],[Installation Year]]=\"\",\"\",('Life Expectancy and Criticality'!$V214+Table13[[#This Row],[Installation Year]])))","v":""},{"$f":"IF(Table13[[#This Row],[I.D. Number ]]=\"\",\"\",(IF('Life Expectancy and Criticality'!$V214-(YEAR(TODAY())-Table13[[#This Row],[Installation Year]])<0,0,'Life Expectancy and Criticality'!$V214-(YEAR(TODAY())-Table13[[#This Row],[Installation Year]]))))","v":""}]
[{"$f":"IF('CoF and PoF'!C214=\"--\",\"\",'CoF and PoF'!C214)","v":""},null,null,null,null,null,null,null,null,null,{"$f":"IF(Table13[[#This Row],[I.D. Number ]]=\"\",\"\",IF(Table13[[#This Row],[Installation Year]]=\"\",\"\",('Life Expectancy and Criticality'!$V215+Table13[[#This Row],[Installation Year]])))","v":""},{"$f":"IF(Table13[[#This Row],[I.D. Number ]]=\"\",\"\",(IF('Life Expectancy and Criticality'!$V215-(YEAR(TODAY())-Table13[[#This Row],[Installation Year]])<0,0,'Life Expectancy and Criticality'!$V215-(YEAR(TODAY())-Table13[[#This Row],[Installation Year]]))))","v":""}]
[{"$f":"IF('CoF and PoF'!C215=\"--\",\"\",'CoF and PoF'!C215)","v":""},null,null,null,null,null,null,null,null,null,{"$f":"IF(Table13[[#This Row],[I.D. Number ]]=\"\",\"\",IF(Table13[[#This Row],[Installation Year]]=\"\",\"\",('Life Expectancy and Criticality'!$V216+Table13[[#This Row],[Installation Year]])))","v":""},{"$f":"IF(Table13[[#This Row],[I.D. Number ]]=\"\",\"\",(IF('Life Expectancy and Criticality'!$V216-(YEAR(TODAY())-Table13[[#This Row],[Installation Year]])<0,0,'Life Expectancy and Criticality'!$V216-(YEAR(TODAY())-Table13[[#This Row],[Installation Year]]))))","v":""}]
[{"$f":"IF('CoF and PoF'!C216=\"--\",\"\",'CoF and PoF'!C216)","v":""},null,null,null,null,null,null,null,null,null,{"$f":"IF(Table13[[#This Row],[I.D. Number ]]=\"\",\"\",IF(Table13[[#This Row],[Installation Year]]=\"\",\"\",('Life Expectancy and Criticality'!$V217+Table13[[#This Row],[Installation Year]])))","v":""},{"$f":"IF(Table13[[#This Row],[I.D. Number ]]=\"\",\"\",(IF('Life Expectancy and Criticality'!$V217-(YEAR(TODAY())-Table13[[#This Row],[Installation Year]])<0,0,'Life Expectancy and Criticality'!$V217-(YEAR(TODAY())-Table13[[#This Row],[Installation Year]]))))","v":""}]
[{"$f":"IF('CoF and PoF'!C217=\"--\",\"\",'CoF and PoF'!C217)","v":""},null,null,null,null,null,null,null,null,null,{"$f":"IF(Table13[[#This Row],[I.D. Number ]]=\"\",\"\",IF(Table13[[#This Row],[Installation Year]]=\"\",\"\",('Life Expectancy and Criticality'!$V218+Table13[[#This Row],[Installation Year]])))","v":""},{"$f":"IF(Table13[[#This Row],[I.D. Number ]]=\"\",\"\",(IF('Life Expectancy and Criticality'!$V218-(YEAR(TODAY())-Table13[[#This Row],[Installation Year]])<0,0,'Life Expectancy and Criticality'!$V218-(YEAR(TODAY())-Table13[[#This Row],[Installation Year]]))))","v":""}]
[{"$f":"IF('CoF and PoF'!C218=\"--\",\"\",'CoF and PoF'!C218)","v":""},null,null,null,null,null,null,null,null,null,{"$f":"IF(Table13[[#This Row],[I.D. Number ]]=\"\",\"\",IF(Table13[[#This Row],[Installation Year]]=\"\",\"\",('Life Expectancy and Criticality'!$V219+Table13[[#This Row],[Installation Year]])))","v":""},{"$f":"IF(Table13[[#This Row],[I.D. Number ]]=\"\",\"\",(IF('Life Expectancy and Criticality'!$V219-(YEAR(TODAY())-Table13[[#This Row],[Installation Year]])<0,0,'Life Expectancy and Criticality'!$V219-(YEAR(TODAY())-Table13[[#This Row],[Installation Year]]))))","v":""}]
[{"$f":"IF('CoF and PoF'!C219=\"--\",\"\",'CoF and PoF'!C219)","v":""},null,null,null,null,null,null,null,null,null,{"$f":"IF(Table13[[#This Row],[I.D. Number ]]=\"\",\"\",IF(Table13[[#This Row],[Installation Year]]=\"\",\"\",('Life Expectancy and Criticality'!$V220+Table13[[#This Row],[Installation Year]])))","v":""},{"$f":"IF(Table13[[#This Row],[I.D. Number ]]=\"\",\"\",(IF('Life Expectancy and Criticality'!$V220-(YEAR(TODAY())-Table13[[#This Row],[Installation Year]])<0,0,'Life Expectancy and Criticality'!$V220-(YEAR(TODAY())-Table13[[#This Row],[Installation Year]]))))","v":""}]
[{"$f":"IF('CoF and PoF'!C220=\"--\",\"\",'CoF and PoF'!C220)","v":""},null,null,null,null,null,null,null,null,null,{"$f":"IF(Table13[[#This Row],[I.D. Number ]]=\"\",\"\",IF(Table13[[#This Row],[Installation Year]]=\"\",\"\",('Life Expectancy and Criticality'!$V221+Table13[[#This Row],[Installation Year]])))","v":""},{"$f":"IF(Table13[[#This Row],[I.D. Number ]]=\"\",\"\",(IF('Life Expectancy and Criticality'!$V221-(YEAR(TODAY())-Table13[[#This Row],[Installation Year]])<0,0,'Life Expectancy and Criticality'!$V221-(YEAR(TODAY())-Table13[[#This Row],[Installation Year]]))))","v":""}]
[{"$f":"IF('CoF and PoF'!C221=\"--\",\"\",'CoF and PoF'!C221)","v":""},null,null,null,null,null,null,null,null,null,{"$f":"IF(Table13[[#This Row],[I.D. Number ]]=\"\",\"\",IF(Table13[[#This Row],[Installation Year]]=\"\",\"\",('Life Expectancy and Criticality'!$V222+Table13[[#This Row],[Installation Year]])))","v":""},{"$f":"IF(Table13[[#This Row],[I.D. Number ]]=\"\",\"\",(IF('Life Expectancy and Criticality'!$V222-(YEAR(TODAY())-Table13[[#This Row],[Installation Year]])<0,0,'Life Expectancy and Criticality'!$V222-(YEAR(TODAY())-Table13[[#This Row],[Installation Year]]))))","v":""}]
[{"$f":"IF('CoF and PoF'!C222=\"--\",\"\",'CoF and PoF'!C222)","v":""},null,null,null,null,null,null,null,null,null,{"$f":"IF(Table13[[#This Row],[I.D. Number ]]=\"\",\"\",IF(Table13[[#This Row],[Installation Year]]=\"\",\"\",('Life Expectancy and Criticality'!$V223+Table13[[#This Row],[Installation Year]])))","v":""},{"$f":"IF(Table13[[#This Row],[I.D. Number ]]=\"\",\"\",(IF('Life Expectancy and Criticality'!$V223-(YEAR(TODAY())-Table13[[#This Row],[Installation Year]])<0,0,'Life Expectancy and Criticality'!$V223-(YEAR(TODAY())-Table13[[#This Row],[Installation Year]]))))","v":""}]
[{"$f":"IF('CoF and PoF'!C223=\"--\",\"\",'CoF and PoF'!C223)","v":""},null,null,null,null,null,null,null,null,null,{"$f":"IF(Table13[[#This Row],[I.D. Number ]]=\"\",\"\",IF(Table13[[#This Row],[Installation Year]]=\"\",\"\",('Life Expectancy and Criticality'!$V224+Table13[[#This Row],[Installation Year]])))","v":""},{"$f":"IF(Table13[[#This Row],[I.D. Number ]]=\"\",\"\",(IF('Life Expectancy and Criticality'!$V224-(YEAR(TODAY())-Table13[[#This Row],[Installation Year]])<0,0,'Life Expectancy and Criticality'!$V224-(YEAR(TODAY())-Table13[[#This Row],[Installation Year]]))))","v":""}]
[{"$f":"IF('CoF and PoF'!C224=\"--\",\"\",'CoF and PoF'!C224)","v":""},null,null,null,null,null,null,null,null,null,{"$f":"IF(Table13[[#This Row],[I.D. Number ]]=\"\",\"\",IF(Table13[[#This Row],[Installation Year]]=\"\",\"\",('Life Expectancy and Criticality'!$V225+Table13[[#This Row],[Installation Year]])))","v":""},{"$f":"IF(Table13[[#This Row],[I.D. Number ]]=\"\",\"\",(IF('Life Expectancy and Criticality'!$V225-(YEAR(TODAY())-Table13[[#This Row],[Installation Year]])<0,0,'Life Expectancy and Criticality'!$V225-(YEAR(TODAY())-Table13[[#This Row],[Installation Year]]))))","v":""}]
[{"$f":"IF('CoF and PoF'!C225=\"--\",\"\",'CoF and PoF'!C225)","v":""},null,null,null,null,null,null,null,null,null,{"$f":"IF(Table13[[#This Row],[I.D. Number ]]=\"\",\"\",IF(Table13[[#This Row],[Installation Year]]=\"\",\"\",('Life Expectancy and Criticality'!$V226+Table13[[#This Row],[Installation Year]])))","v":""},{"$f":"IF(Table13[[#This Row],[I.D. Number ]]=\"\",\"\",(IF('Life Expectancy and Criticality'!$V226-(YEAR(TODAY())-Table13[[#This Row],[Installation Year]])<0,0,'Life Expectancy and Criticality'!$V226-(YEAR(TODAY())-Table13[[#This Row],[Installation Year]]))))","v":""}]
[{"$f":"IF('CoF and PoF'!C226=\"--\",\"\",'CoF and PoF'!C226)","v":""},null,null,null,null,null,null,null,null,null,{"$f":"IF(Table13[[#This Row],[I.D. Number ]]=\"\",\"\",IF(Table13[[#This Row],[Installation Year]]=\"\",\"\",('Life Expectancy and Criticality'!$V227+Table13[[#This Row],[Installation Year]])))","v":""},{"$f":"IF(Table13[[#This Row],[I.D. Number ]]=\"\",\"\",(IF('Life Expectancy and Criticality'!$V227-(YEAR(TODAY())-Table13[[#This Row],[Installation Year]])<0,0,'Life Expectancy and Criticality'!$V227-(YEAR(TODAY())-Table13[[#This Row],[Installation Year]]))))","v":""}]
[{"$f":"IF('CoF and PoF'!C227=\"--\",\"\",'CoF and PoF'!C227)","v":""},null,null,null,null,null,null,null,null,null,{"$f":"IF(Table13[[#This Row],[I.D. Number ]]=\"\",\"\",IF(Table13[[#This Row],[Installation Year]]=\"\",\"\",('Life Expectancy and Criticality'!$V228+Table13[[#This Row],[Installation Year]])))","v":""},{"$f":"IF(Table13[[#This Row],[I.D. Number ]]=\"\",\"\",(IF('Life Expectancy and Criticality'!$V228-(YEAR(TODAY())-Table13[[#This Row],[Installation Year]])<0,0,'Life Expectancy and Criticality'!$V228-(YEAR(TODAY())-Table13[[#This Row],[Installation Year]]))))","v":""}]
[{"$f":"IF('CoF and PoF'!C228=\"--\",\"\",'CoF and PoF'!C228)","v":""},null,null,null,null,null,null,null,null,null,{"$f":"IF(Table13[[#This Row],[I.D. Number ]]=\"\",\"\",IF(Table13[[#This Row],[Installation Year]]=\"\",\"\",('Life Expectancy and Criticality'!$V229+Table13[[#This Row],[Installation Year]])))","v":""},{"$f":"IF(Table13[[#This Row],[I.D. Number ]]=\"\",\"\",(IF('Life Expectancy and Criticality'!$V229-(YEAR(TODAY())-Table13[[#This Row],[Installation Year]])<0,0,'Life Expectancy and Criticality'!$V229-(YEAR(TODAY())-Table13[[#This Row],[Installation Year]]))))","v":""}]
[{"$f":"IF('CoF and PoF'!C229=\"--\",\"\",'CoF and PoF'!C229)","v":""},null,null,null,null,null,null,null,null,null,{"$f":"IF(Table13[[#This Row],[I.D. Number ]]=\"\",\"\",IF(Table13[[#This Row],[Installation Year]]=\"\",\"\",('Life Expectancy and Criticality'!$V230+Table13[[#This Row],[Installation Year]])))","v":""},{"$f":"IF(Table13[[#This Row],[I.D. Number ]]=\"\",\"\",(IF('Life Expectancy and Criticality'!$V230-(YEAR(TODAY())-Table13[[#This Row],[Installation Year]])<0,0,'Life Expectancy and Criticality'!$V230-(YEAR(TODAY())-Table13[[#This Row],[Installation Year]]))))","v":""}]
[{"$f":"IF('CoF and PoF'!C230=\"--\",\"\",'CoF and PoF'!C230)","v":""},null,null,null,null,null,null,null,null,null,{"$f":"IF(Table13[[#This Row],[I.D. Number ]]=\"\",\"\",IF(Table13[[#This Row],[Installation Year]]=\"\",\"\",('Life Expectancy and Criticality'!$V231+Table13[[#This Row],[Installation Year]])))","v":""},{"$f":"IF(Table13[[#This Row],[I.D. Number ]]=\"\",\"\",(IF('Life Expectancy and Criticality'!$V231-(YEAR(TODAY())-Table13[[#This Row],[Installation Year]])<0,0,'Life Expectancy and Criticality'!$V231-(YEAR(TODAY())-Table13[[#This Row],[Installation Year]]))))","v":""}]
[{"$f":"IF('CoF and PoF'!C231=\"--\",\"\",'CoF and PoF'!C231)","v":""},null,null,null,null,null,null,null,null,null,{"$f":"IF(Table13[[#This Row],[I.D. Number ]]=\"\",\"\",IF(Table13[[#This Row],[Installation Year]]=\"\",\"\",('Life Expectancy and Criticality'!$V232+Table13[[#This Row],[Installation Year]])))","v":""},{"$f":"IF(Table13[[#This Row],[I.D. Number ]]=\"\",\"\",(IF('Life Expectancy and Criticality'!$V232-(YEAR(TODAY())-Table13[[#This Row],[Installation Year]])<0,0,'Life Expectancy and Criticality'!$V232-(YEAR(TODAY())-Table13[[#This Row],[Installation Year]]))))","v":""}]
[{"$f":"IF('CoF and PoF'!C232=\"--\",\"\",'CoF and PoF'!C232)","v":""},null,null,null,null,null,null,null,null,null,{"$f":"IF(Table13[[#This Row],[I.D. Number ]]=\"\",\"\",IF(Table13[[#This Row],[Installation Year]]=\"\",\"\",('Life Expectancy and Criticality'!$V233+Table13[[#This Row],[Installation Year]])))","v":""},{"$f":"IF(Table13[[#This Row],[I.D. Number ]]=\"\",\"\",(IF('Life Expectancy and Criticality'!$V233-(YEAR(TODAY())-Table13[[#This Row],[Installation Year]])<0,0,'Life Expectancy and Criticality'!$V233-(YEAR(TODAY())-Table13[[#This Row],[Installation Year]]))))","v":""}]
[{"$f":"IF('CoF and PoF'!C233=\"--\",\"\",'CoF and PoF'!C233)","v":""},null,null,null,null,null,null,null,null,null,{"$f":"IF(Table13[[#This Row],[I.D. Number ]]=\"\",\"\",IF(Table13[[#This Row],[Installation Year]]=\"\",\"\",('Life Expectancy and Criticality'!$V234+Table13[[#This Row],[Installation Year]])))","v":""},{"$f":"IF(Table13[[#This Row],[I.D. Number ]]=\"\",\"\",(IF('Life Expectancy and Criticality'!$V234-(YEAR(TODAY())-Table13[[#This Row],[Installation Year]])<0,0,'Life Expectancy and Criticality'!$V234-(YEAR(TODAY())-Table13[[#This Row],[Installation Year]]))))","v":""}]
[{"$f":"IF('CoF and PoF'!C234=\"--\",\"\",'CoF and PoF'!C234)","v":""},null,null,null,null,null,null,null,null,null,{"$f":"IF(Table13[[#This Row],[I.D. Number ]]=\"\",\"\",IF(Table13[[#This Row],[Installation Year]]=\"\",\"\",('Life Expectancy and Criticality'!$V235+Table13[[#This Row],[Installation Year]])))","v":""},{"$f":"IF(Table13[[#This Row],[I.D. Number ]]=\"\",\"\",(IF('Life Expectancy and Criticality'!$V235-(YEAR(TODAY())-Table13[[#This Row],[Installation Year]])<0,0,'Life Expectancy and Criticality'!$V235-(YEAR(TODAY())-Table13[[#This Row],[Installation Year]]))))","v":""}]
[{"$f":"IF('CoF and PoF'!C235=\"--\",\"\",'CoF and PoF'!C235)","v":""},null,null,null,null,null,null,null,null,null,{"$f":"IF(Table13[[#This Row],[I.D. Number ]]=\"\",\"\",IF(Table13[[#This Row],[Installation Year]]=\"\",\"\",('Life Expectancy and Criticality'!$V236+Table13[[#This Row],[Installation Year]])))","v":""},{"$f":"IF(Table13[[#This Row],[I.D. Number ]]=\"\",\"\",(IF('Life Expectancy and Criticality'!$V236-(YEAR(TODAY())-Table13[[#This Row],[Installation Year]])<0,0,'Life Expectancy and Criticality'!$V236-(YEAR(TODAY())-Table13[[#This Row],[Installation Year]]))))","v":""}]
[{"$f":"IF('CoF and PoF'!C236=\"--\",\"\",'CoF and PoF'!C236)","v":""},null,null,null,null,null,null,null,null,null,{"$f":"IF(Table13[[#This Row],[I.D. Number ]]=\"\",\"\",IF(Table13[[#This Row],[Installation Year]]=\"\",\"\",('Life Expectancy and Criticality'!$V237+Table13[[#This Row],[Installation Year]])))","v":""},{"$f":"IF(Table13[[#This Row],[I.D. Number ]]=\"\",\"\",(IF('Life Expectancy and Criticality'!$V237-(YEAR(TODAY())-Table13[[#This Row],[Installation Year]])<0,0,'Life Expectancy and Criticality'!$V237-(YEAR(TODAY())-Table13[[#This Row],[Installation Year]]))))","v":""}]
[{"$f":"IF('CoF and PoF'!C237=\"--\",\"\",'CoF and PoF'!C237)","v":""},null,null,null,null,null,null,null,null,null,{"$f":"IF(Table13[[#This Row],[I.D. Number ]]=\"\",\"\",IF(Table13[[#This Row],[Installation Year]]=\"\",\"\",('Life Expectancy and Criticality'!$V238+Table13[[#This Row],[Installation Year]])))","v":""},{"$f":"IF(Table13[[#This Row],[I.D. Number ]]=\"\",\"\",(IF('Life Expectancy and Criticality'!$V238-(YEAR(TODAY())-Table13[[#This Row],[Installation Year]])<0,0,'Life Expectancy and Criticality'!$V238-(YEAR(TODAY())-Table13[[#This Row],[Installation Year]]))))","v":""}]
[{"$f":"IF('CoF and PoF'!C238=\"--\",\"\",'CoF and PoF'!C238)","v":""},null,null,null,null,null,null,null,null,null,{"$f":"IF(Table13[[#This Row],[I.D. Number ]]=\"\",\"\",IF(Table13[[#This Row],[Installation Year]]=\"\",\"\",('Life Expectancy and Criticality'!$V239+Table13[[#This Row],[Installation Year]])))","v":""},{"$f":"IF(Table13[[#This Row],[I.D. Number ]]=\"\",\"\",(IF('Life Expectancy and Criticality'!$V239-(YEAR(TODAY())-Table13[[#This Row],[Installation Year]])<0,0,'Life Expectancy and Criticality'!$V239-(YEAR(TODAY())-Table13[[#This Row],[Installation Year]]))))","v":""}]
[{"$f":"IF('CoF and PoF'!C239=\"--\",\"\",'CoF and PoF'!C239)","v":""},null,null,null,null,null,null,null,null,null,{"$f":"IF(Table13[[#This Row],[I.D. Number ]]=\"\",\"\",IF(Table13[[#This Row],[Installation Year]]=\"\",\"\",('Life Expectancy and Criticality'!$V240+Table13[[#This Row],[Installation Year]])))","v":""},{"$f":"IF(Table13[[#This Row],[I.D. Number ]]=\"\",\"\",(IF('Life Expectancy and Criticality'!$V240-(YEAR(TODAY())-Table13[[#This Row],[Installation Year]])<0,0,'Life Expectancy and Criticality'!$V240-(YEAR(TODAY())-Table13[[#This Row],[Installation Year]]))))","v":""}]
[{"$f":"IF('CoF and PoF'!C240=\"--\",\"\",'CoF and PoF'!C240)","v":""},null,null,null,null,null,null,null,null,null,{"$f":"IF(Table13[[#This Row],[I.D. Number ]]=\"\",\"\",IF(Table13[[#This Row],[Installation Year]]=\"\",\"\",('Life Expectancy and Criticality'!$V241+Table13[[#This Row],[Installation Year]])))","v":""},{"$f":"IF(Table13[[#This Row],[I.D. Number ]]=\"\",\"\",(IF('Life Expectancy and Criticality'!$V241-(YEAR(TODAY())-Table13[[#This Row],[Installation Year]])<0,0,'Life Expectancy and Criticality'!$V241-(YEAR(TODAY())-Table13[[#This Row],[Installation Year]]))))","v":""}]
[{"$f":"IF('CoF and PoF'!C241=\"--\",\"\",'CoF and PoF'!C241)","v":""},null,null,null,null,null,null,null,null,null,{"$f":"IF(Table13[[#This Row],[I.D. Number ]]=\"\",\"\",IF(Table13[[#This Row],[Installation Year]]=\"\",\"\",('Life Expectancy and Criticality'!$V242+Table13[[#This Row],[Installation Year]])))","v":""},{"$f":"IF(Table13[[#This Row],[I.D. Number ]]=\"\",\"\",(IF('Life Expectancy and Criticality'!$V242-(YEAR(TODAY())-Table13[[#This Row],[Installation Year]])<0,0,'Life Expectancy and Criticality'!$V242-(YEAR(TODAY())-Table13[[#This Row],[Installation Year]]))))","v":""}]
[{"$f":"IF('CoF and PoF'!C242=\"--\",\"\",'CoF and PoF'!C242)","v":""},null,null,null,null,null,null,null,null,null,{"$f":"IF(Table13[[#This Row],[I.D. Number ]]=\"\",\"\",IF(Table13[[#This Row],[Installation Year]]=\"\",\"\",('Life Expectancy and Criticality'!$V243+Table13[[#This Row],[Installation Year]])))","v":""},{"$f":"IF(Table13[[#This Row],[I.D. Number ]]=\"\",\"\",(IF('Life Expectancy and Criticality'!$V243-(YEAR(TODAY())-Table13[[#This Row],[Installation Year]])<0,0,'Life Expectancy and Criticality'!$V243-(YEAR(TODAY())-Table13[[#This Row],[Installation Year]]))))","v":""},null,false]

{"sheet":"Cost Data","index":4,"n_rows":245,"n_cols":13,"rows_kept":245,"cut":false,"hidden":false,"merged":[]}
[]
[]
[null,null,null,null,null,null,null,null,"Cost Data and Long-term Funding "]
[]
["I.D. Number ","Category","Type","Description","Initial Price","Initial Price Estimated?","Year of Initial Price","Current Predicted Cost (to purchase in 2024)","Future Projected Cost\n(To purchase year of estimated failure)","Year of Failure","Long-Term Funding Source"]
[{"$f":"Table13[[#This Row],[I.D. Number ]]","v":"TaEl-1994-1"},{"$f":"Table13[[#This Row],[Category]]","v":"Tank"},{"$f":"Table13[[#This Row],[Type]]","v":"Elevated Storage Tank"},{"$f":"Table13[[#This Row],[Description]]","v":"Tank"},142320,null,{"$f":"Table13[[#This Row],[Installation Year]]","v":1994},{"$f":"IF($G6= YEAR(TODAY()),$E6,(IF($G6=0,\"\",IF(Table13[[#This Row],[Life Expectancy]]=0,((0.056*(YEAR(TODAY())-Table1468[[#This Row],[Year of Initial Price]])*Table1468[[#This Row],[Initial Price]])+Table1468[[#This Row],[Initial Price]]),((VLOOKUP(YEAR(TODAY()),'Inflation Data'!$A:$C,3,TRUE)-VLOOKUP(Table1468[[#This Row],[Year of Initial Price]],'Inflation Data'!$A:$C,3,TRUE))/(VLOOKUP(Table1468[[#This Row],[Year of Initial Price]],'Inflation Data'!$A:$C,3,TRUE))*Table1468[[#This Row],[Initial Price]])+Table1468[[#This Row],[Initial Price]]))))","v":381417.6},{"$f":"IF($G6=YEAR(TODAY()),$E6,(IF($G6=0,\"\",IF(Table13[[#This Row],[Life Expectancy]]=0,H6, ((0.056*(Table1468[[#This Row],[Year of Failure]]-YEAR(TODAY()))*Table1468[[#This Row],[Current Predicted Cost (to purchase in 2024)]])+Table1468[[#This Row],[Current Predicted Cost (to purchase in 2024)]])))))","v":381417.6},{"$f":"Table13[[#This Row],[Estimated Year of Failure]]","v":2019},null,null,false]
[{"$f":"Table13[[#This Row],[I.D. Number ]]","v":"TaEl-1994-2"},{"$f":"Table13[[#This Row],[Category]]","v":"Tank"},{"$f":"Table13[[#This Row],[Type]]","v":"Elevated Storage Tank"},{"$f":"Table13[[#This Row],[Description]]","v":"Tank"},142320,null,{"$f":"Table13[[#This Row],[Installation Year]]","v":1994},{"$f":"IF($G7= YEAR(TODAY()),$E7,(IF($G7=0,\"\",IF(Table13[[#This Row],[Life Expectancy]]=0,((0.056*(YEAR(TODAY())-Table1468[[#This Row],[Year of Initial Price]])*Table1468[[#This Row],[Initial Price]])+Table1468[[#This Row],[Initial Price]]),((VLOOKUP(YEAR(TODAY()),'Inflation Data'!$A:$C,3,TRUE)-VLOOKUP(Table1468[[#This Row],[Year of Initial Price]],'Inflation Data'!$A:$C,3,TRUE))/(VLOOKUP(Table1468[[#This Row],[Year of Initial Price]],'Inflation Data'!$A:$C,3,TRUE))*Table1468[[#This Row],[Initial Price]])+Table1468[[#This Row],[Initial Price]]))))","v":381417.6},{"$f":"IF($G7=YEAR(TODAY()),$E7,(IF($G7=0,\"\",IF(Table13[[#This Row],[Life Expectancy]]=0,H7, ((0.056*(Table1468[[#This Row],[Year of Failure]]-YEAR(TODAY()))*Table1468[[#This Row],[Current Predicted Cost (to purchase in 2024)]])+Table1468[[#This Row],[Current Predicted Cost (to purchase in 2024)]])))))","v":381417.6},{"$f":"Table13[[#This Row],[Estimated Year of Failure]]","v":2019},null,null,false]
[{"$f":"Table13[[#This Row],[I.D. Number ]]","v":"PiPV-1970-1"},{"$f":"Table13[[#This Row],[Category]]","v":"Pipe"},{"$f":"Table13[[#This Row],[Type]]","v":"PVC"},{"$f":"Table13[[#This Row],[Description]]","v":"68662 linear feet"},2.5,null,{"$f":"Table13[[#This Row],[Installation Year]]","v":1970},{"$f":"IF($G8= YEAR(TODAY()),$E8,(IF($G8=0,\"\",IF(Table13[[#This Row],[Life Expectancy]]=0,((0.056*(YEAR(TODAY())-Table1468[[#This Row],[Year of Initial Price]])*Table1468[[#This Row],[Initial Price]])+Table1468[[#This Row],[Initial Price]]),((VLOOKUP(YEAR(TODAY()),'Inflation Data'!$A:$C,3,TRUE)-VLOOKUP(Table1468[[#This Row],[Year of Initial Price]],'Inflation Data'!$A:$C,3,TRUE))/(VLOOKUP(Table1468[[#This Row],[Year of Initial Price]],'Inflation Data'!$A:$C,3,TRUE))*Table1468[[#This Row],[Initial Price]])+Table1468[[#This Row],[Initial Price]]))))","v":10.06},{"$f":"IF($G8=YEAR(TODAY()),$E8,(IF($G8=0,\"\",IF(Table13[[#This Row],[Life Expectancy]]=0,H8, ((0.056*(Table1468[[#This Row],[Year of Failure]]-YEAR(TODAY()))*Table1468[[#This Row],[Current Predicted Cost (to purchase in 2024)]])+Table1468[[#This Row],[Current Predicted Cost (to purchase in 2024)]])))))","v":10.06},{"$f":"Table13[[#This Row],[Estimated Year of Failure]]","v":2010},null,null,true]
[{"$f":"Table13[[#This Row],[I.D. Number ]]","v":"PiPV-1970-2"},{"$f":"Table13[[#This Row],[Category]]","v":"Pipe"},{"$f":"Table13[[#This Row],[Type]]","v":"PVC"},{"$f":"Table13[[#This Row],[Description]]","v":"39651 linear feet"},3.5,null,{"$f":"Table13[[#This Row],[Installation Year]]","v":1970},{"$f":"IF($G9= YEAR(TODAY()),$E9,(IF($G9=0,\"\",IF(Table13[[#This Row],[Life Expectancy]]=0,((0.056*(YEAR(TODAY())-Table1468[[#This Row],[Year of Initial Price]])*Table1468[[#This Row],[Initial Price]])+Table1468[[#This Row],[Initial Price]]),((VLOOKUP(YEAR(TODAY()),'Inflation Data'!$A:$C,3,TRUE)-VLOOKUP(Table1468[[#This Row],[Year of Initial Price]],'Inflation Data'!$A:$C,3,TRUE))/(VLOOKUP(Table1468[[#This Row],[Year of Initial Price]],'Inflation Data'!$A:$C,3,TRUE))*Table1468[[#This Row],[Initial Price]])+Table1468[[#This Row],[Initial Price]]))))","v":14.084},{"$f":"IF($G9=YEAR(TODAY()),$E9,(IF($G9=0,\"\",IF(Table13[[#This Row],[Life Expectancy]]=0,H9, ((0.056*(Table1468[[#This Row],[Year of Failure]]-YEAR(TODAY()))*Table1468[[#This Row],[Current Predicted Cost (to purchase in 2024)]])+Table1468[[#This Row],[Current Predicted Cost (to purchase in 2024)]])))))","v":14.084},{"$f":"Table13[[#This Row],[Estimated Year of Failure]]","v":2010},null,null,true]
[{"$f":"Table13[[#This Row],[I.D. Number ]]","v":"PiPV-2011-1"},{"$f":"Table13[[#This Row],[Category]]","v":"Pipe"},{"$f":"Table13[[#This Row],[Type]]","v":"PVC"},{"$f":"Table13[[#This Row],[Description]]","v":"36,960 linear feet"},5,null,{"$f":"Table13[[#This Row],[Installation Year]]","v":2011},{"$f":"IF($G10= YEAR(TODAY()),$E10,(IF($G10=0,\"\",IF(Table13[[#This Row],[Life Expectancy]]=0,((0.056*(YEAR(TODAY())-Table1468[[#This Row],[Year of Initial Price]])*Table1468[[#This Row],[Initial Price]])+Table1468[[#This Row],[Initial Price]]),((VLOOKUP(YEAR(TODAY()),'Inflation Data'!$A:$C,3,TRUE)-VLOOKUP(Table1468[[#This Row],[Year of Initial Price]],'Inflation Data'!$A:$C,3,TRUE))/(VLOOKUP(Table1468[[#This Row],[Year of Initial Price]],'Inflation Data'!$A:$C,3,TRUE))*Table1468[[#This Row],[Initial Price]])+Table1468[[#This Row],[Initial Price]]))))","v":6.8032787146705029},{"$f":"IF($G10=YEAR(TODAY()),$E10,(IF($G10=0,\"\",IF(Table13[[#This Row],[Life Expectancy]]=0,H10, ((0.056*(Table1468[[#This Row],[Year of Failure]]-YEAR(TODAY()))*Table1468[[#This Row],[Current Predicted Cost (to purchase in 2024)]])+Table1468[[#This Row],[Current Predicted Cost (to purchase in 2024)]])))))","v":17.089836131252305},{"$f":"Table13[[#This Row],[Estimated Year of Failure]]","v":2051},null,null,true]
[{"$f":"Table13[[#This Row],[I.D. Number ]]","v":"PiPV-1970-3"},{"$f":"Table13[[#This Row],[Category]]","v":"Pipe"},{"$f":"Table13[[#This Row],[Type]]","v":"PVC"},{"$f":"Table13[[#This Row],[Description]]","v":"24,923 linear feet"},6,null,{"$f":"Table13[[#This Row],[Installation Year]]","v":1970},{"$f":"IF($G11= YEAR(TODAY()),$E11,(IF($G11=0,\"\",IF(Table13[[#This Row],[Life Expectancy]]=0,((0.056*(YEAR(TODAY())-Table1468[[#This Row],[Year of Initial Price]])*Table1468[[#This Row],[Initial Price]])+Table1468[[#This Row],[Initial Price]]),((VLOOKUP(YEAR(TODAY()),'Inflation Data'!$A:$C,3,TRUE)-VLOOKUP(Table1468[[#This Row],[Year of Initial Price]],'Inflation Data'!$A:$C,3,TRUE))/(VLOOKUP(Table1468[[#This Row],[Year of Initial Price]],'Inflation Data'!$A:$C,3,TRUE))*Table1468[[#This Row],[Initial Price]])+Table1468[[#This Row],[Initial Price]]))))","v":24.143999999999998},{"$f":"IF($G11=YEAR(TODAY()),$E11,(IF($G11=0,\"\",IF(Table13[[#This Row],[Life Expectancy]]=0,H11, ((0.056*(Table1468[[#This Row],[Year of Failure]]-YEAR(TODAY()))*Table1468[[#This Row],[Current Predicted Cost (to purchase in 2024)]])+Table1468[[#This Row],[Current Predicted Cost (to purchase in 2024)]])))))","v":24.143999999999998},{"$f":"Table13[[#This Row],[Estimated Year of Failure]]","v":2010},null,null,true]
[{"$f":"Table13[[#This Row],[I.D. Number ]]","v":"PiPV-1970-4"},{"$f":"Table13[[#This Row],[Category]]","v":"Pipe"},{"$f":"Table13[[#This Row],[Type]]","v":"PVC"},{"$f":"Table13[[#This Row],[Description]]","v":"2,292 linear feet"},7,null,{"$f":"Table13[[#This Row],[Installation Year]]","v":1970},{"$f":"IF($G12= YEAR(TODAY()),$E12,(IF($G12=0,\"\",IF(Table13[[#This Row],[Life Expectancy]]=0,((0.056*(YEAR(TODAY())-Table1468[[#This Row],[Year of Initial Price]])*Table1468[[#This Row],[Initial Price]])+Table1468[[#This Row],[Initial Price]]),((VLOOKUP(YEAR(TODAY()),'Inflation Data'!$A:$C,3,TRUE)-VLOOKUP(Table1468[[#This Row],[Year of Initial Price]],'Inflation Data'!$A:$C,3,TRUE))/(VLOOKUP(Table1468[[#This Row],[Year of Initial Price]],'Inflation Data'!$A:$C,3,TRUE))*Table1468[[#This Row],[Initial Price]])+Table1468[[#This Row],[Initial Price]]))))","v":28.167999999999999},{"$f":"IF($G12=YEAR(TODAY()),$E12,(IF($G12=0,\"\",IF(Table13[[#This Row],[Life Expectancy]]=0,H12, ((0.056*(Table1468[[#This Row],[Year of Failure]]-YEAR(TODAY()))*Table1468[[#This Row],[Current Predicted Cost (to purchase in 2024)]])+Table1468[[#This Row],[Current Predicted Cost (to purchase in 2024)]])))))","v":28.167999999999999},{"$f":"Table13[[#This Row],[Estimated Year of Failure]]","v":2010},null,null,true]
[{"$f":"Table13[[#This Row],[I.D. Number ]]","v":"PiPV-1994-1"},{"$f":"Table13[[#This Row],[Category]]","v":"Pipe"},{"$f":"Table13[[#This Row],[Type]]","v":"PVC"},{"$f":"Table13[[#This Row],[Description]]","v":"31500 linrar feet"},1.5,null,{"$f":"Table13[[#This Row],[Installation Year]]","v":1994},{"$f":"IF($G13= YEAR(TODAY()),$E13,(IF($G13=0,\"\",IF(Table13[[#This Row],[Life Expectancy]]=0,((0.056*(YEAR(TODAY())-Table1468[[#This Row],[Year of Initial Price]])*Table1468[[#This Row],[Initial Price]])+Table1468[[#This Row],[Initial Price]]),((VLOOKUP(YEAR(TODAY()),'Inflation Data'!$A:$C,3,TRUE)-VLOOKUP(Table1468[[#This Row],[Year of Initial Price]],'Inflation Data'!$A:$C,3,TRUE))/(VLOOKUP(Table1468[[#This Row],[Year of Initial Price]],'Inflation Data'!$A:$C,3,TRUE))*Table1468[[#This Row],[Initial Price]])+Table1468[[#This Row],[Initial Price]]))))","v":3.0792180227531123},{"$f":"IF($G13=YEAR(TODAY()),$E13,(IF($G13=0,\"\",IF(Table13[[#This Row],[Life Expectancy]]=0,H13, ((0.056*(Table1468[[#This Row],[Year of Failure]]-YEAR(TODAY()))*Table1468[[#This Row],[Current Predicted Cost (to purchase in 2024)]])+Table1468[[#This Row],[Current Predicted Cost (to purchase in 2024)]])))))","v":4.8035801154948556},{"$f":"Table13[[#This Row],[Estimated Year of Failure]]","v":2034},null,null,true]
[{"$f":"Table13[[#This Row],[I.D. Number ]]","v":"PiPV-1994-2"},{"$f":"Table13[[#This Row],[Category]]","v":"Pipe"},{"$f":"Table13[[#This Row],[Type]]","v":"PVC"},{"$f":"Table13[[#This Row],[Description]]","v":"74550 linear feet"},2.5,null,{"$f":"Table13[[#This Row],[Installation Year]]","v":1994},{"$f":"IF($G14= YEAR(TODAY()),$E14,(IF($G14=0,\"\",IF(Table13[[#This Row],[Life Expectancy]]=0,((0.056*(YEAR(TODAY())-Table1468[[#This Row],[Year of Initial Price]])*Table1468[[#This Row],[Initial Price]])+Table1468[[#This Row],[Initial Price]]),((VLOOKUP(YEAR(TODAY()),'Inflation Data'!$A:$C,3,TRUE)-VLOOKUP(Table1468[[#This Row],[Year of Initial Price]],'Inflation Data'!$A:$C,3,TRUE))/(VLOOKUP(Table1468[[#This Row],[Year of Initial Price]],'Inflation Data'!$A:$C,3,TRUE))*Table1468[[#This Row],[Initial Price]])+Table1468[[#This Row],[Initial Price]]))))","v":5.1320300379218535},{"$f":"IF($G14=YEAR(TODAY()),$E14,(IF($G14=0,\"\",IF(Table13[[#This Row],[Life Expectancy]]=0,H14, ((0.056*(Table1468[[#This Row],[Year of Failure]]-YEAR(TODAY()))*Table1468[[#This Row],[Current Predicted Cost (to purchase in 2024)]])+Table1468[[#This Row],[Current Predicted Cost (to purchase in 2024)]])))))","v":8.0059668591580913},{"$f":"Table13[[#This Row],[Estimated Year of Failure]]","v":2034},null,null,true]
[{"$f":"Table13[[#This Row],[I.D. Number ]]","v":"PiPV-1994-3"},{"$f":"Table13[[#This Row],[Category]]","v":"Pipe"},{"$f":"Table13[[#This Row],[Type]]","v":"PVC"},{"$f":"Table13[[#This Row],[Description]]","v":"29,399 linear feet"},3,null,{"$f":"Table13[[#This Row],[Installation Year]]","v":1994},{"$f":"IF($G15= YEAR(TODAY()),$E15,(IF($G15=0,\"\",IF(Table13[[#This Row],[Life Expectancy]]=0,((0.056*(YEAR(TODAY())-Table1468[[#This Row],[Year of Initial Price]])*Table1468[[#This Row],[Initial Price]])+Table1468[[#This Row],[Initial Price]]),((VLOOKUP(YEAR(TODAY()),'Inflation Data'!$A:$C,3,TRUE)-VLOOKUP(Table1468[[#This Row],[Year of Initial Price]],'Inflation Data'!$A:$C,3,TRUE))/(VLOOKUP(Table1468[[#This Row],[Year of Initial Price]],'Inflation Data'!$A:$C,3,TRUE))*Table1468[[#This Row],[Initial Price]])+Table1468[[#This Row],[Initial Price]]))))","v":6.1584360455062246},{"$f":"IF($G15=YEAR(TODAY()),$E15,(IF($G15=0,\"\",IF(Table13[[#This Row],[Life Expectancy]]=0,H15, ((0.056*(Table1468[[#This Row],[Year of Failure]]-YEAR(TODAY()))*Table1468[[#This Row],[Current Predicted Cost (to purchase in 2024)]])+Table1468[[#This Row],[Current Predicted Cost (to purchase in 2024)]])))))","v":9.6071602309897113},{"$f":"Table13[[#This Row],[Estimated Year of Failure]]","v":2034},null,null,true]
[{"$f":"Table13[[#This Row],[I.D. Number ]]","v":"PiPV-1994-4"},{"$f":"Table13[[#This Row],[Category]]","v":"Pipe"},{"$f":"Table13[[#This Row],[Type]]","v":"PVC"},{"$f":"Table13[[#This Row],[Description]]","v":"5,713 linear feet"},5,null,{"$f":"Table13[[#This Row],[Installation Year]]","v":1994},{"$f":"IF($G16= YEAR(TODAY()),$E16,(IF($G16=0,\"\",IF(Table13[[#This Row],[Life Expectancy]]=0,((0.056*(YEAR(TODAY())-Table1468[[#This Row],[Year of Initial Price]])*Table1468[[#This Row],[Initial Price]])+Table1468[[#This Row],[Initial Price]]),((VLOOKUP(YEAR(TODAY()),'Inflation Data'!$A:$C,3,TRUE)-VLOOKUP(Table1468[[#This Row],[Year of Initial Price]],'Inflation Data'!$A:$C,3,TRUE))/(VLOOKUP(Table1468[[#This Row],[Year of Initial Price]],'Inflation Data'!$A:$C,3,TRUE))*Table1468[[#This Row],[Initial Price]])+Table1468[[#This Row],[Initial Price]]))))","v":10.264060075843707},{"$f":"IF($G16=YEAR(TODAY()),$E16,(IF($G16=0,\"\",IF(Table13[[#This Row],[Life Expectancy]]=0,H16, ((0.056*(Table1468[[#This Row],[Year of Failure]]-YEAR(TODAY()))*Table1468[[#This Row],[Current Predicted Cost (to purchase in 2024)]])+Table1468[[#This Row],[Current Predicted Cost (to purchase in 2024)]])))))","v":16.011933718316183},{"$f":"Table13[[#This Row],[Estimated Year of Failure]]","v":2034},null,null,true]
[{"$f":"Table13[[#This Row],[I.D. Number ]]","v":"PiPV-1994-5"},{"$f":"Table13[[#This Row],[Category]]","v":"Pipe"},{"$f":"Table13[[#This Row],[Type]]","v":"PVC"},{"$f":"Table13[[#This Row],[Description]]","v":"40,940 linear feet"},10,null,{"$f":"Table13[[#This Row],[Installation Year]]","v":1994},{"$f":"IF($G17= YEAR(TODAY()),$E17,(IF($G17=0,\"\",IF(Table13[[#This Row],[Life Expectancy]]=0,((0.056*(YEAR(TODAY())-Table1468[[#This Row],[Year of Initial Price]])*Table1468[[#This Row],[Initial Price]])+Table1468[[#This Row],[Initial Price]]),((VLOOKUP(YEAR(TODAY()),'Inflation Data'!$A:$C,3,TRUE)-VLOOKUP(Table1468[[#This Row],[Year of Initial Price]],'Inflation Data'!$A:$C,3,TRUE))/(VLOOKUP(Table1468[[#This Row],[Year of Initial Price]],'Inflation Data'!$A:$C,3,TRUE))*Table1468[[#This Row],[Initial Price]])+Table1468[[#This Row],[Initial Price]]))))","v":20.528120151687414},{"$f":"IF($G17=YEAR(TODAY()),$E17,(IF($G17=0,\"\",IF(Table13[[#This Row],[Life Expectancy]]=0,H17, ((0.056*(Table1468[[#This Row],[Year of Failure]]-YEAR(TODAY()))*Table1468[[#This Row],[Current Predicted Cost (to purchase in 2024)]])+Table1468[[#This Row],[Current Predicted Cost (to purchase in 2024)]])))))","v":32.023867436632365},{"$f":"Table13[[#This Row],[Estimated Year of Failure]]","v":2034},null,null,true]
[{"$f":"Table13[[#This Row],[I.D. Number ]]","v":"HyFi-1994-1"},{"$f":"Table13[[#This Row],[Category]]","v":"Hydrant"},{"$f":"Table13[[#This Row],[Type]]","v":"Fire "},{"$f":"Table13[[#This Row],[Description]]","v":"24 each"},12,null,{"$f":"Table13[[#This Row],[Installation Year]]","v":1994},{"$f":"IF($G18= YEAR(TODAY()),$E18,(IF($G18=0,\"\",IF(Table13[[#This Row],[Life Expectancy]]=0,((0.056*(YEAR(TODAY())-Table1468[[#This Row],[Year of Initial Price]])*Table1468[[#This Row],[Initial Price]])+Table1468[[#This Row],[Initial Price]]),((VLOOKUP(YEAR(TODAY()),'Inflation Data'!$A:$C,3,TRUE)-VLOOKUP(Table1468[[#This Row],[Year of Initial Price]],'Inflation Data'!$A:$C,3,TRUE))/(VLOOKUP(Table1468[[#This Row],[Year of Initial Price]],'Inflation Data'!$A:$C,3,TRUE))*Table1468[[#This Row],[Initial Price]])+Table1468[[#This Row],[Initial Price]]))))","v":24.633744182024898},{"$f":"IF($G18=YEAR(TODAY()),$E18,(IF($G18=0,\"\",IF(Table13[[#This Row],[Life Expectancy]]=0,H18, ((0.056*(Table1468[[#This Row],[Year of Failure]]-YEAR(TODAY()))*Table1468[[#This Row],[Current Predicted Cost (to purchase in 2024)]])+Table1468[[#This Row],[Current Predicted Cost (to purchase in 2024)]])))))","v":38.428640923958845},{"$f":"Table13[[#This Row],[Estimated Year of Failure]]","v":2034},null,null,true]
[{"$f":"Table13[[#This Row],[I.D. Number ]]","v":"SoWe-2021-1"},{"$f":"Table13[[#This Row],[Category]]","v":"Source"},{"$f":"Table13[[#This Row],[Type]]","v":"Well"},{"$f":"Table13[[#This Row],[Description]]","v":"Well 1"},350000,null,{"$f":"Table13[[#This Row],[Installation Year]]","v":2021},{"$f":"IF($G19= YEAR(TODAY()),$E19,(IF($G19=0,\"\",IF(Table13[[#This Row],[Life Expectancy]]=0,((0.056*(YEAR(TODAY())-Table1468[[#This Row],[Year of Initial Price]])*Table1468[[#This Row],[Initial Price]])+Table1468[[#This Row],[Initial Price]]),((VLOOKUP(YEAR(TODAY()),'Inflation Data'!$A:$C,3,TRUE)-VLOOKUP(Table1468[[#This Row],[Year of Initial Price]],'Inflation Data'!$A:$C,3,TRUE))/(VLOOKUP(Table1468[[#This Row],[Year of Initial Price]],'Inflation Data'!$A:$C,3,TRUE))*Table1468[[#This Row],[Initial Price]])+Table1468[[#This Row],[Initial Price]]))))","v":385492.8},{"$f":"IF($G19=YEAR(TODAY()),$E19,(IF($G19=0,\"\",IF(Table13[[#This Row],[Life Expectancy]]=0,H19, ((0.056*(Table1468[[#This Row],[Year of Failure]]-YEAR(TODAY()))*Table1468[[#This Row],[Current Predicted Cost (to purchase in 2024)]])+Table1468[[#This Row],[Current Predicted Cost (to purchase in 2024)]])))))","v":1400109.8496000001},{"$f":"Table13[[#This Row],[Estimated Year of Failure]]","v":2071},null,null,false]
[{"$f":"Table13[[#This Row],[I.D. Number ]]","v":"SoWe-2021-2"},{"$f":"Table13[[#This Row],[Category]]","v":"Source"},{"$f":"Table13[[#This Row],[Type]]","v":"Well"},{"$f":"Table13[[#This Row],[Description]]","v":"Well 2"},350000,null,{"$f":"Table13[[#This Row],[Installation Year]]","v":2021},{"$f":"IF($G20= YEAR(TODAY()),$E20,(IF($G20=0,\"\",IF(Table13[[#This Row],[Life Expectancy]]=0,((0.056*(YEAR(TODAY())-Table1468[[#This Row],[Year of Initial Price]])*Table1468[[#This Row],[Initial Price]])+Table1468[[#This Row],[Initial Price]]),((VLOOKUP(YEAR(TODAY()),'Inflation Data'!$A:$C,3,TRUE)-VLOOKUP(Table1468[[#This Row],[Year of Initial Price]],'Inflation Data'!$A:$C,3,TRUE))/(VLOOKUP(Table1468[[#This Row],[Year of Initial Price]],'Inflation Data'!$A:$C,3,TRUE))*Table1468[[#This Row],[Initial Price]])+Table1468[[#This Row],[Initial Price]]))))","v":385492.8},{"$f":"IF($G20=YEAR(TODAY()),$E20,(IF($G20=0,\"\",IF(Table13[[#This Row],[Life Expectancy]]=0,H20, ((0.056*(Table1468[[#This Row],[Year of Failure]]-YEAR(TODAY()))*Table1468[[#This Row],[Current Predicted Cost (to purchase in 2024)]])+Table1468[[#This Row],[Current Predicted Cost (to purchase in 2024)]])))))","v":1400109.8496000001},{"$f":"Table13[[#This Row],[Estimated Year of Failure]]","v":2071}]
[{"$f":"Table13[[#This Row],[I.D. Number ]]","v":"PuTr-2021-1"},{"$f":"Table13[[#This Row],[Category]]","v":"Pump"},{"$f":"Table13[[#This Row],[Type]]","v":"Transfer "},{"$f":"Table13[[#This Row],[Description]]","v":"Well 1 Pump"},85000,null,{"$f":"Table13[[#This Row],[Installation Year]]","v":2021},{"$f":"IF($G21= YEAR(TODAY()),$E21,(IF($G21=0,\"\",IF(Table13[[#This Row],[Life Expectancy]]=0,((0.056*(YEAR(TODAY())-Table1468[[#This Row],[Year of Initial Price]])*Table1468[[#This Row],[Initial Price]])+Table1468[[#This Row],[Initial Price]]),((VLOOKUP(YEAR(TODAY()),'Inflation Data'!$A:$C,3,TRUE)-VLOOKUP(Table1468[[#This Row],[Year of Initial Price]],'Inflation Data'!$A:$C,3,TRUE))/(VLOOKUP(Table1468[[#This Row],[Year of Initial Price]],'Inflation Data'!$A:$C,3,TRUE))*Table1468[[#This Row],[Initial Price]])+Table1468[[#This Row],[Initial Price]]))))","v":93619.68},{"$f":"IF($G21=YEAR(TODAY()),$E21,(IF($G21=0,\"\",IF(Table13[[#This Row],[Life Expectancy]]=0,H21, ((0.056*(Table1468[[#This Row],[Year of Failure]]-YEAR(TODAY()))*Table1468[[#This Row],[Current Predicted Cost (to purchase in 2024)]])+Table1468[[#This Row],[Current Predicted Cost (to purchase in 2024)]])))))","v":156532.10496},{"$f":"Table13[[#This Row],[Estimated Year of Failure]]","v":2036}]
[{"$f":"Table13[[#This Row],[I.D. Number ]]","v":"PuTr-2021-2"},{"$f":"Table13[[#This Row],[Category]]","v":"Pump"},{"$f":"Table13[[#This Row],[Type]]","v":"Transfer "},{"$f":"Table13[[#This Row],[Description]]","v":"Well 2 Pump"},85000,null,{"$f":"Table13[[#This Row],[Installation Year]]","v":2021},{"$f":"IF($G22= YEAR(TODAY()),$E22,(IF($G22=0,\"\",IF(Table13[[#This Row],[Life Expectancy]]=0,((0.056*(YEAR(TODAY())-Table1468[[#This Row],[Year of Initial Price]])*Table1468[[#This Row],[Initial Price]])+Table1468[[#This Row],[Initial Price]]),((VLOOKUP(YEAR(TODAY()),'Inflation Data'!$A:$C,3,TRUE)-VLOOKUP(Table1468[[#This Row],[Year of Initial Price]],'Inflation Data'!$A:$C,3,TRUE))/(VLOOKUP(Table1468[[#This Row],[Year of Initial Price]],'Inflation Data'!$A:$C,3,TRUE))*Table1468[[#This Row],[Initial Price]])+Table1468[[#This Row],[Initial Price]]))))","v":93619.68},{"$f":"IF($G22=YEAR(TODAY()),$E22,(IF($G22=0,\"\",IF(Table13[[#This Row],[Life Expectancy]]=0,H22, ((0.056*(Table1468[[#This Row],[Year of Failure]]-YEAR(TODAY()))*Table1468[[#This Row],[Current Predicted Cost (to purchase in 2024)]])+Table1468[[#This Row],[Current Predicted Cost (to purchase in 2024)]])))))","v":156532.10496},{"$f":"Table13[[#This Row],[Estimated Year of Failure]]","v":2036},null,null,false]
[{"$f":"Table13[[#This Row],[I.D. Number ]]","v":"MeWe-2021-1"},{"$f":"Table13[[#This Row],[Category]]","v":"Meter"},{"$f":"Table13[[#This Row],[Type]]","v":"Well "},{"$f":"Table13[[#This Row],[Description]]","v":"Master Meter, Well 1"},5000,null,{"$f":"Table13[[#This Row],[Installation Year]]","v":2021},{"$f":"IF($G23= YEAR(TODAY()),$E23,(IF($G23=0,\"\",IF(Table13[[#This Row],[Life Expectancy]]=0,((0.056*(YEAR(TODAY())-Table1468[[#This Row],[Year of Initial Price]])*Table1468[[#This Row],[Initial Price]])+Table1468[[#This Row],[Initial Price]]),((VLOOKUP(YEAR(TODAY()),'Inflation Data'!$A:$C,3,TRUE)-VLOOKUP(Table1468[[#This Row],[Year of Initial Price]],'Inflation Data'!$A:$C,3,TRUE))/(VLOOKUP(Table1468[[#This Row],[Year of Initial Price]],'Inflation Data'!$A:$C,3,TRUE))*Table1468[[#This Row],[Initial Price]])+Table1468[[#This Row],[Initial Price]]))))","v":5507.04},{"$f":"IF($G23=YEAR(TODAY()),$E23,(IF($G23=0,\"\",IF(Table13[[#This Row],[Life Expectancy]]=0,H23, ((0.056*(Table1468[[#This Row],[Year of Failure]]-YEAR(TODAY()))*Table1468[[#This Row],[Current Predicted Cost (to purchase in 2024)]])+Table1468[[#This Row],[Current Predicted Cost (to purchase in 2024)]])))))","v":9207.77088},{"$f":"Table13[[#This Row],[Estimated Year of Failure]]","v":2036}]
[{"$f":"Table13[[#This Row],[I.D. Number ]]","v":"MeWe-2021-2"},{"$f":"Table13[[#This Row],[Category]]","v":"Meter"},{"$f":"Table13[[#This Row],[Type]]","v":"Well "},{"$f":"Table13[[#This Row],[Description]]","v":"Master Meter, Well 2"},5000,null,{"$f":"Table13[[#This Row],[Installation Year]]","v":2021},{"$f":"IF($G24= YEAR(TODAY()),$E24,(IF($G24=0,\"\",IF(Table13[[#This Row],[Life Expectancy]]=0,((0.056*(YEAR(TODAY())-Table1468[[#This Row],[Year of Initial Price]])*Table1468[[#This Row],[Initial Price]])+Table1468[[#This Row],[Initial Price]]),((VLOOKUP(YEAR(TODAY()),'Inflation Data'!$A:$C,3,TRUE)-VLOOKUP(Table1468[[#This Row],[Year of Initial Price]],'Inflation Data'!$A:$C,3,TRUE))/(VLOOKUP(Table1468[[#This Row],[Year of Initial Price]],'Inflation Data'!$A:$C,3,TRUE))*Table1468[[#This Row],[Initial Price]])+Table1468[[#This Row],[Initial Price]]))))","v":5507.04},{"$f":"IF($G24=YEAR(TODAY()),$E24,(IF($G24=0,\"\",IF(Table13[[#This Row],[Life Expectancy]]=0,H24, ((0.056*(Table1468[[#This Row],[Year of Failure]]-YEAR(TODAY()))*Table1468[[#This Row],[Current Predicted Cost (to purchase in 2024)]])+Table1468[[#This Row],[Current Predicted Cost (to purchase in 2024)]])))))","v":9207.77088},{"$f":"Table13[[#This Row],[Estimated Year of Failure]]","v":2036}]
[{"$f":"Table13[[#This Row],[I.D. Number ]]","v":"WTP-2022-1"},{"$f":"Table13[[#This Row],[Category]]","v":"Building"},{"$f":"Table13[[#This Row],[Type]]","v":"Treatment Plant"},{"$f":"Table13[[#This Row],[Description]]","v":"400 Sq Ft Treatment Plant Room"},85000,null,{"$f":"Table13[[#This Row],[Installation Year]]","v":2022},{"$f":"IF($G25= YEAR(TODAY()),$E25,(IF($G25=0,\"\",IF(Table13[[#This Row],[Life Expectancy]]=0,((0.056*(YEAR(TODAY())-Table1468[[#This Row],[Year of Initial Price]])*Table1468[[#This Row],[Initial Price]])+Table1468[[#This Row],[Initial Price]]),((VLOOKUP(YEAR(TODAY()),'Inflation Data'!$A:$C,3,TRUE)-VLOOKUP(Table1468[[#This Row],[Year of Initial Price]],'Inflation Data'!$A:$C,3,TRUE))/(VLOOKUP(Table1468[[#This Row],[Year of Initial Price]],'Inflation Data'!$A:$C,3,TRUE))*Table1468[[#This Row],[Initial Price]])+Table1468[[#This Row],[Initial Price]]))))","v":89760},{"$f":"IF($G25=YEAR(TODAY()),$E25,(IF($G25=0,\"\",IF(Table13[[#This Row],[Life Expectancy]]=0,H25, ((0.056*(Table1468[[#This Row],[Year of Failure]]-YEAR(TODAY()))*Table1468[[#This Row],[Current Predicted Cost (to purchase in 2024)]])+Table1468[[#This Row],[Current Predicted Cost (to purchase in 2024)]])))))","v":331034.88},{"$f":"Table13[[#This Row],[Estimated Year of Failure]]","v":2072}]
[{"$f":"Table13[[#This Row],[I.D. Number ]]","v":"TaCl-2022-1"},{"$f":"Table13[[#This Row],[Category]]","v":"Tank"},{"$f":"Table13[[#This Row],[Type]]","v":"Clear Well"},{"$f":"Table13[[#This Row],[Description]]","v":"Water Treatment Clear well"},750000,null,{"$f":"Table13[[#This Row],[Installation Year]]","v":2022},{"$f":"IF($G26= YEAR(TODAY()),$E26,(IF($G26=0,\"\",IF(Table13[[#This Row],[Life Expectancy]]=0,((0.056*(YEAR(TODAY())-Table1468[[#This Row],[Year of Initial Price]])*Table1468[[#This Row],[Initial Price]])+Table1468[[#This Row],[Initial Price]]),((VLOOKUP(YEAR(TODAY()),'Inflation Data'!$A:$C,3,TRUE)-VLOOKUP(Table1468[[#This Row],[Year of Initial Price]],'Inflation Data'!$A:$C,3,TRUE))/(VLOOKUP(Table1468[[#This Row],[Year of Initial Price]],'Inflation Data'!$A:$C,3,TRUE))*Table1468[[#This Row],[Initial Price]])+Table1468[[#This Row],[Initial Price]]))))","v":792000},{"$f":"IF($G26=YEAR(TODAY()),$E26,(IF($G26=0,\"\",IF(Table13[[#This Row],[Life Expectancy]]=0,H26, ((0.056*(Table1468[[#This Row],[Year of Failure]]-YEAR(TODAY()))*Table1468[[#This Row],[Current Predicted Cost (to purchase in 2024)]])+Table1468[[#This Row],[Current Predicted Cost (to purchase in 2024)]])))))","v":2920896},{"$f":"Table13[[#This Row],[Estimated Year of Failure]]","v":2072}]
[{"$f":"Table13[[#This Row],[I.D. Number ]]","v":"PuHi-2022-1"},{"$f":"Table13[[#This Row],[Category]]","v":"Pump"},{"$f":"Table13[[#This Row],[Type]]","v":"High Service "},{"$f":"Table13[[#This Row],[Description]]","v":"Vertical Turbine"},75000,null,{"$f":"Table13[[#This Row],[Installation Year]]","v":2022},{"$f":"IF($G27= YEAR(TODAY()),$E27,(IF($G27=0,\"\",IF(Table13[[#This Row],[Life Expectancy]]=0,((0.056*(YEAR(TODAY())-Table1468[[#This Row],[Year of Initial Price]])*Table1468[[#This Row],[Initial Price]])+Table1468[[#This Row],[Initial Price]]),((VLOOKUP(YEAR(TODAY()),'Inflation Data'!$A:$C,3,TRUE)-VLOOKUP(Table1468[[#This Row],[Year of Initial Price]],'Inflation Data'!$A:$C,3,TRUE))/(VLOOKUP(Table1468[[#This Row],[Year of Initial Price]],'Inflation Data'!$A:$C,3,TRUE))*Table1468[[#This Row],[Initial Price]])+Table1468[[#This Row],[Initial Price]]))))","v":79200},{"$f":"IF($G27=YEAR(TODAY()),$E27,(IF($G27=0,\"\",IF(Table13[[#This Row],[Life Expectancy]]=0,H27, ((0.056*(Table1468[[#This Row],[Year of Failure]]-YEAR(TODAY()))*Table1468[[#This Row],[Current Predicted Cost (to purchase in 2024)]])+Table1468[[#This Row],[Current Predicted Cost (to purchase in 2024)]])))))","v":136857.60000000001},{"$f":"Table13[[#This Row],[Estimated Year of Failure]]","v":2037},null,null,false]
[{"$f":"Table13[[#This Row],[I.D. Number ]]","v":"PuHi-2022-2"},{"$f":"Table13[[#This Row],[Category]]","v":"Pump"},{"$f":"Table13[[#This Row],[Type]]","v":"High Service "},{"$f":"Table13[[#This Row],[Description]]","v":"Vertical Turbine"},75000,null,{"$f":"Table13[[#This Row],[Installation Year]]","v":2022},{"$f":"IF($G28= YEAR(TODAY()),$E28,(IF($G28=0,\"\",IF(Table13[[#This Row],[Life Expectancy]]=0,((0.056*(YEAR(TODAY())-Table1468[[#This Row],[Year of Initial Price]])*Table1468[[#This Row],[Initial Price]])+Table1468[[#This Row],[Initial Price]]),((VLOOKUP(YEAR(TODAY()),'Inflation Data'!$A:$C,3,TRUE)-VLOOKUP(Table1468[[#This Row],[Year of Initial Price]],'Inflation Data'!$A:$C,3,TRUE))/(VLOOKUP(Table1468[[#This Row],[Year of Initial Price]],'Inflation Data'!$A:$C,3,TRUE))*Table1468[[#This Row],[Initial Price]])+Table1468[[#This Row],[Initial Price]]))))","v":79200},{"$f":"IF($G28=YEAR(TODAY()),$E28,(IF($G28=0,\"\",IF(Table13[[#This Row],[Life Expectancy]]=0,H28, ((0.056*(Table1468[[#This Row],[Year of Failure]]-YEAR(TODAY()))*Table1468[[#This Row],[Current Predicted Cost (to purchase in 2024)]])+Table1468[[#This Row],[Current Predicted Cost (to purchase in 2024)]])))))","v":136857.60000000001},{"$f":"Table13[[#This Row],[Estimated Year of Failure]]","v":2037},null,null,false]
[{"$f":"Table13[[#This Row],[I.D. Number ]]","v":"CoTe-2022-1"},{"$f":"Table13[[#This Row],[Category]]","v":"Control"},{"$f":"Table13[[#This Row],[Type]]","v":"Telemetry "},{"$f":"Table13[[#This Row],[Description]]","v":"Plant Control Panel"},65000,null,{"$f":"Table13[[#This Row],[Installation Year]]","v":2022},{"$f":"IF($G29= YEAR(TODAY()),$E29,(IF($G29=0,\"\",IF(Table13[[#This Row],[Life Expectancy]]=0,((0.056*(YEAR(TODAY())-Table1468[[#This Row],[Year of Initial Price]])*Table1468[[#This Row],[Initial Price]])+Table1468[[#This Row],[Initial Price]]),((VLOOKUP(YEAR(TODAY()),'Inflation Data'!$A:$C,3,TRUE)-VLOOKUP(Table1468[[#This Row],[Year of Initial Price]],'Inflation Data'!$A:$C,3,TRUE))/(VLOOKUP(Table1468[[#This Row],[Year of Initial Price]],'Inflation Data'!$A:$C,3,TRUE))*Table1468[[#This Row],[Initial Price]])+Table1468[[#This Row],[Initial Price]]))))","v":68640},{"$f":"IF($G29=YEAR(TODAY()),$E29,(IF($G29=0,\"\",IF(Table13[[#This Row],[Life Expectancy]]=0,H29, ((0.056*(Table1468[[#This Row],[Year of Failure]]-YEAR(TODAY()))*Table1468[[#This Row],[Current Predicted Cost (to purchase in 2024)]])+Table1468[[#This Row],[Current Predicted Cost (to purchase in 2024)]])))))","v":118609.92},{"$f":"Table13[[#This Row],[Estimated Year of Failure]]","v":2037},null,null,false]
[{"$f":"Table13[[#This Row],[I.D. Number ]]","v":"CoTe-2022-2"},{"$f":"Table13[[#This Row],[Category]]","v":"Control"},{"$f":"Table13[[#This Row],[Type]]","v":"Telemetry "},{"$f":"Table13[[#This Row],[Description]]","v":"Electrical Control Panel"},35000,null,{"$f":"Table13[[#This Row],[Installation Year]]","v":2022},{"$f":"IF($G30= YEAR(TODAY()),$E30,(IF($G30=0,\"\",IF(Table13[[#This Row],[Life Expectancy]]=0,((0.056*(YEAR(TODAY())-Table1468[[#This Row],[Year of Initial Price]])*Table1468[[#This Row],[Initial Price]])+Table1468[[#This Row],[Initial Price]]),((VLOOKUP(YEAR(TODAY()),'Inflation Data'!$A:$C,3,TRUE)-VLOOKUP(Table1468[[#This Row],[Year of Initial Price]],'Inflation Data'!$A:$C,3,TRUE))/(VLOOKUP(Table1468[[#This Row],[Year of Initial Price]],'Inflation Data'!$A:$C,3,TRUE))*Table1468[[#This Row],[Initial Price]])+Table1468[[#This Row],[Initial Price]]))))","v":36960},{"$f":"IF($G30=YEAR(TODAY()),$E30,(IF($G30=0,\"\",IF(Table13[[#This Row],[Life Expectancy]]=0,H30, ((0.056*(Table1468[[#This Row],[Year of Failure]]-YEAR(TODAY()))*Table1468[[#This Row],[Current Predicted Cost (to purchase in 2024)]])+Table1468[[#This Row],[Current Predicted Cost (to purchase in 2024)]])))))","v":63866.880000000005},{"$f":"Table13[[#This Row],[Estimated Year of Failure]]","v":2037},null,null,false]
[{"$f":"Table13[[#This Row],[I.D. Number ]]","v":"TrSe-2022-1"},{"$f":"Table13[[#This Row],[Category]]","v":"Treatment"},{"$f":"Table13[[#This Row],[Type]]","v":"Sedimentation "},{"$f":"Table13[[#This Row],[Description]]","v":"Sediment Pond"},35000,null,{"$f":"Table13[[#This Row],[Installation Year]]","v":2022},{"$f":"IF($G31= YEAR(TODAY()),$E31,(IF($G31=0,\"\",IF(Table13[[#This Row],[Life Expectancy]]=0,((0.056*(YEAR(TODAY())-Table1468[[#This Row],[Year of Initial Price]])*Table1468[[#This Row],[Initial Price]])+Table1468[[#This Row],[Initial Price]]),((VLOOKUP(YEAR(TODAY()),'Inflation Data'!$A:$C,3,TRUE)-VLOOKUP(Table1468[[#This Row],[Year of Initial Price]],'Inflation Data'!$A:$C,3,TRUE))/(VLOOKUP(Table1468[[#This Row],[Year of Initial Price]],'Inflation Data'!$A:$C,3,TRUE))*Table1468[[#This Row],[Initial Price]])+Table1468[[#This Row],[Initial Price]]))))","v":36960},{"$f":"IF($G31=YEAR(TODAY()),$E31,(IF($G31=0,\"\",IF(Table13[[#This Row],[Life Expectancy]]=0,H31, ((0.056*(Table1468[[#This Row],[Year of Failure]]-YEAR(TODAY()))*Table1468[[#This Row],[Current Predicted Cost (to purchase in 2024)]])+Table1468[[#This Row],[Current Predicted Cost (to purchase in 2024)]])))))","v":74215.679999999993},{"$f":"Table13[[#This Row],[Estimated Year of Failure]]","v":2042},null,null,false]
[{"$f":"Table13[[#This Row],[I.D. Number ]]","v":"SaFe-2022-1"},{"$f":"Table13[[#This Row],[Category]]","v":"Safety"},{"$f":"Table13[[#This Row],[Type]]","v":"Fencing"},{"$f":"Table13[[#This Row],[Description]]","v":"Chain Link Fencing"},35000,null,{"$f":"Table13[[#This Row],[Installation Year]]","v":2022},{"$f":"IF($G32= YEAR(TODAY()),$E32,(IF($G32=0,\"\",IF(Table13[[#This Row],[Life Expectancy]]=0,((0.056*(YEAR(TODAY())-Table1468[[#This Row],[Year of Initial Price]])*Table1468[[#This Row],[Initial Price]])+Table1468[[#This Row],[Initial Price]]),((VLOOKUP(YEAR(TODAY()),'Inflation Data'!$A:$C,3,TRUE)-VLOOKUP(Table1468[[#This Row],[Year of Initial Price]],'Inflation Data'!$A:$C,3,TRUE))/(VLOOKUP(Table1468[[#This Row],[Year of Initial Price]],'Inflation Data'!$A:$C,3,TRUE))*Table1468[[#This Row],[Initial Price]])+Table1468[[#This Row],[Initial Price]]))))","v":36960},{"$f":"IF($G32=YEAR(TODAY()),$E32,(IF($G32=0,\"\",IF(Table13[[#This Row],[Life Expectancy]]=0,H32, ((0.056*(Table1468[[#This Row],[Year of Failure]]-YEAR(TODAY()))*Table1468[[#This Row],[Current Predicted Cost (to purchase in 2024)]])+Table1468[[#This Row],[Current Predicted Cost (to purchase in 2024)]])))))","v":53518.080000000002},{"$f":"Table13[[#This Row],[Estimated Year of Failure]]","v":2032},null,null,false]
[{"$f":"Table13[[#This Row],[I.D. Number ]]","v":"TrCh-2022-1"},{"$f":"Table13[[#This Row],[Category]]","v":"Treatment"},{"$f":"Table13[[#This Row],[Type]]","v":"Chlorination "},{"$f":"Table13[[#This Row],[Description]]","v":"Chlorination System"},1500,null,{"$f":"Table13[[#This Row],[Installation Year]]","v":2022},{"$f":"IF($G33= YEAR(TODAY()),$E33,(IF($G33=0,\"\",IF(Table13[[#This Row],[Life Expectancy]]=0,((0.056*(YEAR(TODAY())-Table1468[[#This Row],[Year of Initial Price]])*Table1468[[#This Row],[Initial Price]])+Table1468[[#This Row],[Initial Price]]),((VLOOKUP(YEAR(TODAY()),'Inflation Data'!$A:$C,3,TRUE)-VLOOKUP(Table1468[[#This Row],[Year of Initial Price]],'Inflation Data'!$A:$C,3,TRUE))/(VLOOKUP(Table1468[[#This Row],[Year of Initial Price]],'Inflation Data'!$A:$C,3,TRUE))*Table1468[[#This Row],[Initial Price]])+Table1468[[#This Row],[Initial Price]]))))","v":1584},{"$f":"IF($G33=YEAR(TODAY()),$E33,(IF($G33=0,\"\",IF(Table13[[#This Row],[Life Expectancy]]=0,H33, ((0.056*(Table1468[[#This Row],[Year of Failure]]-YEAR(TODAY()))*Table1468[[#This Row],[Current Predicted Cost (to purchase in 2024)]])+Table1468[[#This Row],[Current Predicted Cost (to purchase in 2024)]])))))","v":3180.672},{"$f":"Table13[[#This Row],[Estimated Year of Failure]]","v":2042},null,null,false]
[{"$f":"Table13[[#This Row],[I.D. Number ]]","v":"TrFi-2022-1"},{"$f":"Table13[[#This Row],[Category]]","v":"Treatment"},{"$f":"Table13[[#This Row],[Type]]","v":"Filtration"},{"$f":"Table13[[#This Row],[Description]]","v":"Qty 3 Pressure Filter"},110000,null,{"$f":"Table13[[#This Row],[Installation Year]]","v":2022},{"$f":"IF($G34= YEAR(TODAY()),$E34,(IF($G34=0,\"\",IF(Table13[[#This Row],[Life Expectancy]]=0,((0.056*(YEAR(TODAY())-Table1468[[#This Row],[Year of Initial Price]])*Table1468[[#This Row],[Initial Price]])+Table1468[[#This Row],[Initial Price]]),((VLOOKUP(YEAR(TODAY()),'Inflation Data'!$A:$C,3,TRUE)-VLOOKUP(Table1468[[#This Row],[Year of Initial Price]],'Inflation Data'!$A:$C,3,TRUE))/(VLOOKUP(Table1468[[#This Row],[Year of Initial Price]],'Inflation Data'!$A:$C,3,TRUE))*Table1468[[#This Row],[Initial Price]])+Table1468[[#This Row],[Initial Price]]))))","v":116160},{"$f":"IF($G34=YEAR(TODAY()),$E34,(IF($G34=0,\"\",IF(Table13[[#This Row],[Life Expectancy]]=0,H34, ((0.056*(Table1468[[#This Row],[Year of Failure]]-YEAR(TODAY()))*Table1468[[#This Row],[Current Predicted Cost (to purchase in 2024)]])+Table1468[[#This Row],[Current Predicted Cost (to purchase in 2024)]])))))","v":233249.28},{"$f":"Table13[[#This Row],[Estimated Year of Failure]]","v":2042},null,null,false]
[{"$f":"Table13[[#This Row],[I.D. Number ]]","v":"TrFi-2022-2"},{"$f":"Table13[[#This Row],[Category]]","v":"Treatment"},{"$f":"Table13[[#This Row],[Type]]","v":"Filtration"},{"$f":"Table13[[#This Row],[Description]]","v":"Cascade Aerator"},79000,null,{"$f":"Table13[[#This Row],[Installation Year]]","v":2022},{"$f":"IF($G35= YEAR(TODAY()),$E35,(IF($G35=0,\"\",IF(Table13[[#This Row],[Life Expectancy]]=0,((0.056*(YEAR(TODAY())-Table1468[[#This Row],[Year of Initial Price]])*Table1468[[#This Row],[Initial Price]])+Table1468[[#This Row],[Initial Price]]),((VLOOKUP(YEAR(TODAY()),'Inflation Data'!$A:$C,3,TRUE)-VLOOKUP(Table1468[[#This Row],[Year of Initial Price]],'Inflation Data'!$A:$C,3,TRUE))/(VLOOKUP(Table1468[[#This Row],[Year of Initial Price]],'Inflation Data'!$A:$C,3,TRUE))*Table1468[[#This Row],[Initial Price]])+Table1468[[#This Row],[Initial Price]]))))","v":83424},{"$f":"IF($G35=YEAR(TODAY()),$E35,(IF($G35=0,\"\",IF(Table13[[#This Row],[Life Expectancy]]=0,H35, ((0.056*(Table1468[[#This Row],[Year of Failure]]-YEAR(TODAY()))*Table1468[[#This Row],[Current Predicted Cost (to purchase in 2024)]])+Table1468[[#This Row],[Current Predicted Cost (to purchase in 2024)]])))))","v":167515.39199999999},{"$f":"Table13[[#This Row],[Estimated Year of Failure]]","v":2042},null,null,false]
[{"$f":"Table13[[#This Row],[I.D. Number ]]","v":"PuMe-2022-1"},{"$f":"Table13[[#This Row],[Category]]","v":"Pump"},{"$f":"Table13[[#This Row],[Type]]","v":"Metering "},{"$f":"Table13[[#This Row],[Description]]","v":"Phosphate Feed Pump"},1500,null,{"$f":"Table13[[#This Row],[Installation Year]]","v":2022},{"$f":"IF($G36= YEAR(TODAY()),$E36,(IF($G36=0,\"\",IF(Table13[[#This Row],[Life Expectancy]]=0,((0.056*(YEAR(TODAY())-Table1468[[#This Row],[Year of Initial Price]])*Table1468[[#This Row],[Initial Price]])+Table1468[[#This Row],[Initial Price]]),((VLOOKUP(YEAR(TODAY()),'Inflation Data'!$A:$C,3,TRUE)-VLOOKUP(Table1468[[#This Row],[Year of Initial Price]],'Inflation Data'!$A:$C,3,TRUE))/(VLOOKUP(Table1468[[#This Row],[Year of Initial Price]],'Inflation Data'!$A:$C,3,TRUE))*Table1468[[#This Row],[Initial Price]])+Table1468[[#This Row],[Initial Price]]))))","v":1584},{"$f":"IF($G36=YEAR(TODAY()),$E36,(IF($G36=0,\"\",IF(Table13[[#This Row],[Life Expectancy]]=0,H36, ((0.056*(Table1468[[#This Row],[Year of Failure]]-YEAR(TODAY()))*Table1468[[#This Row],[Current Predicted Cost (to purchase in 2024)]])+Table1468[[#This Row],[Current Predicted Cost (to purchase in 2024)]])))))","v":2737.152},{"$f":"Table13[[#This Row],[Estimated Year of Failure]]","v":2037}]
[{"$f":"Table13[[#This Row],[I.D. Number ]]","v":"PuMe-2022-2"},{"$f":"Table13[[#This Row],[Category]]","v":"Pump"},{"$f":"Table13[[#This Row],[Type]]","v":"Metering "},{"$f":"Table13[[#This Row],[Description]]","v":"Caustic Feed Pump"},1500,null,{"$f":"Table13[[#This Row],[Installation Year]]","v":2022},{"$f":"IF($G37= YEAR(TODAY()),$E37,(IF($G37=0,\"\",IF(Table13[[#This Row],[Life Expectancy]]=0,((0.056*(YEAR(TODAY())-Table1468[[#This Row],[Year of Initial Price]])*Table1468[[#This Row],[Initial Price]])+Table1468[[#This Row],[Initial Price]]),((VLOOKUP(YEAR(TODAY()),'Inflation Data'!$A:$C,3,TRUE)-VLOOKUP(Table1468[[#This Row],[Year of Initial Price]],'Inflation Data'!$A:$C,3,TRUE))/(VLOOKUP(Table1468[[#This Row],[Year of Initial Price]],'Inflation Data'!$A:$C,3,TRUE))*Table1468[[#This Row],[Initial Price]])+Table1468[[#This Row],[Initial Price]]))))","v":1584},{"$f":"IF($G37=YEAR(TODAY()),$E37,(IF($G37=0,\"\",IF(Table13[[#This Row],[Life Expectancy]]=0,H37, ((0.056*(Table1468[[#This Row],[Year of Failure]]-YEAR(TODAY()))*Table1468[[#This Row],[Current Predicted Cost (to purchase in 2024)]])+Table1468[[#This Row],[Current Predicted Cost (to purchase in 2024)]])))))","v":2737.152},{"$f":"Table13[[#This Row],[Estimated Year of Failure]]","v":2037}]
[{"$f":"Table13[[#This Row],[I.D. Number ]]","v":"PuMe-2022-3"},{"$f":"Table13[[#This Row],[Category]]","v":"Pump"},{"$f":"Table13[[#This Row],[Type]]","v":"Metering "},{"$f":"Table13[[#This Row],[Description]]","v":"Pot Perm Feed Pump"},1500,null,{"$f":"Table13[[#This Row],[Installation Year]]","v":2022},{"$f":"IF($G38= YEAR(TODAY()),$E38,(IF($G38=0,\"\",IF(Table13[[#This Row],[Life Expectancy]]=0,((0.056*(YEAR(TODAY())-Table1468[[#This Row],[Year of Initial Price]])*Table1468[[#This Row],[Initial Price]])+Table1468[[#This Row],[Initial Price]]),((VLOOKUP(YEAR(TODAY()),'Inflation Data'!$A:$C,3,TRUE)-VLOOKUP(Table1468[[#This Row],[Year of Initial Price]],'Inflation Data'!$A:$C,3,TRUE))/(VLOOKUP(Table1468[[#This Row],[Year of Initial Price]],'Inflation Data'!$A:$C,3,TRUE))*Table1468[[#This Row],[Initial Price]])+Table1468[[#This Row],[Initial Price]]))))","v":1584},{"$f":"IF($G38=YEAR(TODAY()),$E38,(IF($G38=0,\"\",IF(Table13[[#This Row],[Life Expectancy]]=0,H38, ((0.056*(Table1468[[#This Row],[Year of Failure]]-YEAR(TODAY()))*Table1468[[#This Row],[Current Predicted Cost (to purchase in 2024)]])+Table1468[[#This Row],[Current Predicted Cost (to purchase in 2024)]])))))","v":2737.152},{"$f":"Table13[[#This Row],[Estimated Year of Failure]]","v":2037}]
[{"$f":"Table13[[#This Row],[I.D. Number ]]","v":"MeSo-2022-1"},{"$f":"Table13[[#This Row],[Category]]","v":"Meter"},{"$f":"Table13[[#This Row],[Type]]","v":"Source "},{"$f":"Table13[[#This Row],[Description]]","v":"Tank Meter Controller"},1200,null,{"$f":"Table13[[#This Row],[Installation Year]]","v":2022},{"$f":"IF($G39= YEAR(TODAY()),$E39,(IF($G39=0,\"\",IF(Table13[[#This Row],[Life Expectancy]]=0,((0.056*(YEAR(TODAY())-Table1468[[#This Row],[Year of Initial Price]])*Table1468[[#This Row],[Initial Price]])+Table1468[[#This Row],[Initial Price]]),((VLOOKUP(YEAR(TODAY()),'Inflation Data'!$A:$C,3,TRUE)-VLOOKUP(Table1468[[#This Row],[Year of Initial Price]],'Inflation Data'!$A:$C,3,TRUE))/(VLOOKUP(Table1468[[#This Row],[Year of Initial Price]],'Inflation Data'!$A:$C,3,TRUE))*Table1468[[#This Row],[Initial Price]])+Table1468[[#This Row],[Initial Price]]))))","v":1267.2},{"$f":"IF($G39=YEAR(TODAY()),$E39,(IF($G39=0,\"\",IF(Table13[[#This Row],[Life Expectancy]]=0,H39, ((0.056*(Table1468[[#This Row],[Year of Failure]]-YEAR(TODAY()))*Table1468[[#This Row],[Current Predicted Cost (to purchase in 2024)]])+Table1468[[#This Row],[Current Predicted Cost (to purchase in 2024)]])))))","v":1976.8320000000001},{"$f":"Table13[[#This Row],[Estimated Year of Failure]]","v":2034}]
[{"$f":"Table13[[#This Row],[I.D. Number ]]","v":"HyFi-2022-1"},{"$f":"Table13[[#This Row],[Category]]","v":"Hydrant"},{"$f":"Table13[[#This Row],[Type]]","v":"Fire "},{"$f":"Table13[[#This Row],[Description]]","v":"Fire Hydrant"},3000,null,{"$f":"Table13[[#This Row],[Installation Year]]","v":2022},{"$f":"IF($G40= YEAR(TODAY()),$E40,(IF($G40=0,\"\",IF(Table13[[#This Row],[Life Expectancy]]=0,((0.056*(YEAR(TODAY())-Table1468[[#This Row],[Year of Initial Price]])*Table1468[[#This Row],[Initial Price]])+Table1468[[#This Row],[Initial Price]]),((VLOOKUP(YEAR(TODAY()),'Inflation Data'!$A:$C,3,TRUE)-VLOOKUP(Table1468[[#This Row],[Year of Initial Price]],'Inflation Data'!$A:$C,3,TRUE))/(VLOOKUP(Table1468[[#This Row],[Year of Initial Price]],'Inflation Data'!$A:$C,3,TRUE))*Table1468[[#This Row],[Initial Price]])+Table1468[[#This Row],[Initial Price]]))))","v":3168},{"$f":"IF($G40=YEAR(TODAY()),$E40,(IF($G40=0,\"\",IF(Table13[[#This Row],[Life Expectancy]]=0,H40, ((0.056*(Table1468[[#This Row],[Year of Failure]]-YEAR(TODAY()))*Table1468[[#This Row],[Current Predicted Cost (to purchase in 2024)]])+Table1468[[#This Row],[Current Predicted Cost (to purchase in 2024)]])))))","v":11683.584000000001},{"$f":"Table13[[#This Row],[Estimated Year of Failure]]","v":2072}]
[{"$f":"Table13[[#This Row],[I.D. Number ]]","v":"PiPV-2024-1"},{"$f":"Table13[[#This Row],[Category]]","v":"Pipe"},{"$f":"Table13[[#This Row],[Type]]","v":"PVC"},{"$f":"Table13[[#This Row],[Description]]","v":"HDPE, DR11, 200 psi, 4545 linear feet"},31.87,null,{"$f":"Table13[[#This Row],[Installation Year]]","v":2024},{"$f":"IF($G41= YEAR(TODAY()),$E41,(IF($G41=0,\"\",IF(Table13[[#This Row],[Life Expectancy]]=0,((0.056*(YEAR(TODAY())-Table1468[[#This Row],[Year of Initial Price]])*Table1468[[#This Row],[Initial Price]])+Table1468[[#This Row],[Initial Price]]),((VLOOKUP(YEAR(TODAY()),'Inflation Data'!$A:$C,3,TRUE)-VLOOKUP(Table1468[[#This Row],[Year of Initial Price]],'Inflation Data'!$A:$C,3,TRUE))/(VLOOKUP(Table1468[[#This Row],[Year of Initial Price]],'Inflation Data'!$A:$C,3,TRUE))*Table1468[[#This Row],[Initial Price]])+Table1468[[#This Row],[Initial Price]]))))","v":31.87},{"$f":"IF($G41=YEAR(TODAY()),$E41,(IF($G41=0,\"\",IF(Table13[[#This Row],[Life Expectancy]]=0,H41, ((0.056*(Table1468[[#This Row],[Year of Failure]]-YEAR(TODAY()))*Table1468[[#This Row],[Current Predicted Cost (to purchase in 2024)]])+Table1468[[#This Row],[Current Predicted Cost (to purchase in 2024)]])))))","v":31.87},{"$f":"Table13[[#This Row],[Estimated Year of Failure]]","v":2104}]
[{"$f":"Table13[[#This Row],[I.D. Number ]]","v":"PiPV-2024-2"},{"$f":"Table13[[#This Row],[Category]]","v":"Pipe"},{"$f":"Table13[[#This Row],[Type]]","v":"PVC"},{"$f":"Table13[[#This Row],[Description]]","v":"HDPE, DR11, 200 psi, 4820 linear feet"},21.99,null,{"$f":"Table13[[#This Row],[Installation Year]]","v":2024},{"$f":"IF($G42= YEAR(TODAY()),$E42,(IF($G42=0,\"\",IF(Table13[[#This Row],[Life Expectancy]]=0,((0.056*(YEAR(TODAY())-Table1468[[#This Row],[Year of Initial Price]])*Table1468[[#This Row],[Initial Price]])+Table1468[[#This Row],[Initial Price]]),((VLOOKUP(YEAR(TODAY()),'Inflation Data'!$A:$C,3,TRUE)-VLOOKUP(Table1468[[#This Row],[Year of Initial Price]],'Inflation Data'!$A:$C,3,TRUE))/(VLOOKUP(Table1468[[#This Row],[Year of Initial Price]],'Inflation Data'!$A:$C,3,TRUE))*Table1468[[#This Row],[Initial Price]])+Table1468[[#This Row],[Initial Price]]))))","v":21.99},{"$f":"IF($G42=YEAR(TODAY()),$E42,(IF($G42=0,\"\",IF(Table13[[#This Row],[Life Expectancy]]=0,H42, ((0.056*(Table1468[[#This Row],[Year of Failure]]-YEAR(TODAY()))*Table1468[[#This Row],[Current Predicted Cost (to purchase in 2024)]])+Table1468[[#This Row],[Current Predicted Cost (to purchase in 2024)]])))))","v":21.99},{"$f":"Table13[[#This Row],[Estimated Year of Failure]]","v":2104}]
[{"$f":"Table13[[#This Row],[I.D. Number ]]","v":"PiPV-2024-3"},{"$f":"Table13[[#This Row],[Category]]","v":"Pipe"},{"$f":"Table13[[#This Row],[Type]]","v":"PVC"},{"$f":"Table13[[#This Row],[Description]]","v":"HDPE, DR11, 200 psi, 10,400 linear feet"},41.75,null,{"$f":"Table13[[#This Row],[Installation Year]]","v":2024},{"$f":"IF($G43= YEAR(TODAY()),$E43,(IF($G43=0,\"\",IF(Table13[[#This Row],[Life Expectancy]]=0,((0.056*(YEAR(TODAY())-Table1468[[#This Row],[Year of Initial Price]])*Table1468[[#This Row],[Initial Price]])+Table1468[[#This Row],[Initial Price]]),((VLOOKUP(YEAR(TODAY()),'Inflation Data'!$A:$C,3,TRUE)-VLOOKUP(Table1468[[#This Row],[Year of Initial Price]],'Inflation Data'!$A:$C,3,TRUE))/(VLOOKUP(Table1468[[#This Row],[Year of Initial Price]],'Inflation Data'!$A:$C,3,TRUE))*Table1468[[#This Row],[Initial Price]])+Table1468[[#This Row],[Initial Price]]))))","v":41.75},{"$f":"IF($G43=YEAR(TODAY()),$E43,(IF($G43=0,\"\",IF(Table13[[#This Row],[Life Expectancy]]=0,H43, ((0.056*(Table1468[[#This Row],[Year of Failure]]-YEAR(TODAY()))*Table1468[[#This Row],[Current Predicted Cost (to purchase in 2024)]])+Table1468[[#This Row],[Current Predicted Cost (to purchase in 2024)]])))))","v":41.75},{"$f":"Table13[[#This Row],[Estimated Year of Failure]]","v":2104}]
[{"$f":"Table13[[#This Row],[I.D. Number ]]","v":"HyFi-2024-1"},{"$f":"Table13[[#This Row],[Category]]","v":"Hydrant"},{"$f":"Table13[[#This Row],[Type]]","v":"Fire "},{"$f":"Table13[[#This Row],[Description]]","v":"Qty 5 Fire Hydrants"},3000,null,{"$f":"Table13[[#This Row],[Installation Year]]","v":2024},{"$f":"IF($G44= YEAR(TODAY()),$E44,(IF($G44=0,\"\",IF(Table13[[#This Row],[Life Expectancy]]=0,((0.056*(YEAR(TODAY())-Table1468[[#This Row],[Year of Initial Price]])*Table1468[[#This Row],[Initial Price]])+Table1468[[#This Row],[Initial Price]]),((VLOOKUP(YEAR(TODAY()),'Inflation Data'!$A:$C,3,TRUE)-VLOOKUP(Table1468[[#This Row],[Year of Initial Price]],'Inflation Data'!$A:$C,3,TRUE))/(VLOOKUP(Table1468[[#This Row],[Year of Initial Price]],'Inflation Data'!$A:$C,3,TRUE))*Table1468[[#This Row],[Initial Price]])+Table1468[[#This Row],[Initial Price]]))))","v":3000},{"$f":"IF($G44=YEAR(TODAY()),$E44,(IF($G44=0,\"\",IF(Table13[[#This Row],[Life Expectancy]]=0,H44, ((0.056*(Table1468[[#This Row],[Year of Failure]]-YEAR(TODAY()))*Table1468[[#This Row],[Current Predicted Cost (to purchase in 2024)]])+Table1468[[#This Row],[Current Predicted Cost (to purchase in 2024)]])))))","v":3000},{"$f":"Table13[[#This Row],[Estimated Year of Failure]]","v":2074}]
[{"$f":"Table13[[#This Row],[I.D. Number ]]","v":"MeMa-2024-1"},{"$f":"Table13[[#This Row],[Category]]","v":"Meter"},{"$f":"Table13[[#This Row],[Type]]","v":"Master "},{"$f":"Table13[[#This Row],[Description]]","v":"Assembly 1, 2, 9 and 10 - Qty 4"},21000,null,{"$f":"Table13[[#This Row],[Installation Year]]","v":2024},{"$f":"IF($G45= YEAR(TODAY()),$E45,(IF($G45=0,\"\",IF(Table13[[#This Row],[Life Expectancy]]=0,((0.056*(YEAR(TODAY())-Table1468[[#This Row],[Year of Initial Price]])*Table1468[[#This Row],[Initial Price]])+Table1468[[#This Row],[Initial Price]]),((VLOOKUP(YEAR(TODAY()),'Inflation Data'!$A:$C,3,TRUE)-VLOOKUP(Table1468[[#This Row],[Year of Initial Price]],'Inflation Data'!$A:$C,3,TRUE))/(VLOOKUP(Table1468[[#This Row],[Year of Initial Price]],'Inflation Data'!$A:$C,3,TRUE))*Table1468[[#This Row],[Initial Price]])+Table1468[[#This Row],[Initial Price]]))))","v":21000},{"$f":"IF($G45=YEAR(TODAY()),$E45,(IF($G45=0,\"\",IF(Table13[[#This Row],[Life Expectancy]]=0,H45, ((0.056*(Table1468[[#This Row],[Year of Failure]]-YEAR(TODAY()))*Table1468[[#This Row],[Current Predicted Cost (to purchase in 2024)]])+Table1468[[#This Row],[Current Predicted Cost (to purchase in 2024)]])))))","v":21000},{"$f":"Table13[[#This Row],[Estimated Year of Failure]]","v":2039}]
[{"$f":"Table13[[#This Row],[I.D. Number ]]","v":"MeMa-2024-2"},{"$f":"Table13[[#This Row],[Category]]","v":"Meter"},{"$f":"Table13[[#This Row],[Type]]","v":"Master "},{"$f":"Table13[[#This Row],[Description]]","v":"Assembly 3 - Qty 1"},18000,null,{"$f":"Table13[[#This Row],[Installation Year]]","v":2024},{"$f":"IF($G46= YEAR(TODAY()),$E46,(IF($G46=0,\"\",IF(Table13[[#This Row],[Life Expectancy]]=0,((0.056*(YEAR(TODAY())-Table1468[[#This Row],[Year of Initial Price]])*Table1468[[#This Row],[Initial Price]])+Table1468[[#This Row],[Initial Price]]),((VLOOKUP(YEAR(TODAY()),'Inflation Data'!$A:$C,3,TRUE)-VLOOKUP(Table1468[[#This Row],[Year of Initial Price]],'Inflation Data'!$A:$C,3,TRUE))/(VLOOKUP(Table1468[[#This Row],[Year of Initial Price]],'Inflation Data'!$A:$C,3,TRUE))*Table1468[[#This Row],[Initial Price]])+Table1468[[#This Row],[Initial Price]]))))","v":18000},{"$f":"IF($G46=YEAR(TODAY()),$E46,(IF($G46=0,\"\",IF(Table13[[#This Row],[Life Expectancy]]=0,H46, ((0.056*(Table1468[[#This Row],[Year of Failure]]-YEAR(TODAY()))*Table1468[[#This Row],[Current Predicted Cost (to purchase in 2024)]])+Table1468[[#This Row],[Current Predicted Cost (to purchase in 2024)]])))))","v":18000},{"$f":"Table13[[#This Row],[Estimated Year of Failure]]","v":2039}]
[{"$f":"Table13[[#This Row],[I.D. Number ]]","v":"MeMa-2024-3"},{"$f":"Table13[[#This Row],[Category]]","v":"Meter"},{"$f":"Table13[[#This Row],[Type]]","v":"Master "},{"$f":"Table13[[#This Row],[Description]]","v":"Assembly 4 & 6 - Qty 2"},20766.439999999999,null,{"$f":"Table13[[#This Row],[Installation Year]]","v":2024},{"$f":"IF($G47= YEAR(TODAY()),$E47,(IF($G47=0,\"\",IF(Table13[[#This Row],[Life Expectancy]]=0,((0.056*(YEAR(TODAY())-Table1468[[#This Row],[Year of Initial Price]])*Table1468[[#This Row],[Initial Price]])+Table1468[[#This Row],[Initial Price]]),((VLOOKUP(YEAR(TODAY()),'Inflation Data'!$A:$C,3,TRUE)-VLOOKUP(Table1468[[#This Row],[Year of Initial Price]],'Inflation Data'!$A:$C,3,TRUE))/(VLOOKUP(Table1468[[#This Row],[Year of Initial Price]],'Inflation Data'!$A:$C,3,TRUE))*Table1468[[#This Row],[Initial Price]])+Table1468[[#This Row],[Initial Price]]))))","v":20766.439999999999},{"$f":"IF($G47=YEAR(TODAY()),$E47,(IF($G47=0,\"\",IF(Table13[[#This Row],[Life Expectancy]]=0,H47, ((0.056*(Table1468[[#This Row],[Year of Failure]]-YEAR(TODAY()))*Table1468[[#This Row],[Current Predicted Cost (to purchase in 2024)]])+Table1468[[#This Row],[Current Predicted Cost (to purchase in 2024)]])))))","v":20766.439999999999},{"$f":"Table13[[#This Row],[Estimated Year of Failure]]","v":2039}]
[{"$f":"Table13[[#This Row],[I.D. Number ]]","v":"MeMa-2024-4"},{"$f":"Table13[[#This Row],[Category]]","v":"Meter"},{"$f":"Table13[[#This Row],[Type]]","v":"Master "},{"$f":"Table13[[#This Row],[Description]]","v":"Assembly 5 & 19 - Qty 2"},20006.03,null,{"$f":"Table13[[#This Row],[Installation Year]]","v":2024},{"$f":"IF($G48= YEAR(TODAY()),$E48,(IF($G48=0,\"\",IF(Table13[[#This Row],[Life Expectancy]]=0,((0.056*(YEAR(TODAY())-Table1468[[#This Row],[Year of Initial Price]])*Table1468[[#This Row],[Initial Price]])+Table1468[[#This Row],[Initial Price]]),((VLOOKUP(YEAR(TODAY()),'Inflation Data'!$A:$C,3,TRUE)-VLOOKUP(Table1468[[#This Row],[Year of Initial Price]],'Inflation Data'!$A:$C,3,TRUE))/(VLOOKUP(Table1468[[#This Row],[Year of Initial Price]],'Inflation Data'!$A:$C,3,TRUE))*Table1468[[#This Row],[Initial Price]])+Table1468[[#This Row],[Initial Price]]))))","v":20006.03},{"$f":"IF($G48=YEAR(TODAY()),$E48,(IF($G48=0,\"\",IF(Table13[[#This Row],[Life Expectancy]]=0,H48, ((0.056*(Table1468[[#This Row],[Year of Failure]]-YEAR(TODAY()))*Table1468[[#This Row],[Current Predicted Cost (to purchase in 2024)]])+Table1468[[#This Row],[Current Predicted Cost (to purchase in 2024)]])))))","v":20006.03},{"$f":"Table13[[#This Row],[Estimated Year of Failure]]","v":2039}]
[{"$f":"Table13[[#This Row],[I.D. Number ]]","v":"MeMa-2024-5"},{"$f":"Table13[[#This Row],[Category]]","v":"Meter"},{"$f":"Table13[[#This Row],[Type]]","v":"Master "},{"$f":"Table13[[#This Row],[Description]]","v":"Assembly 7 - Qty 1"},17441.509999999998,null,{"$f":"Table13[[#This Row],[Installation Year]]","v":2024},{"$f":"IF($G49= YEAR(TODAY()),$E49,(IF($G49=0,\"\",IF(Table13[[#This Row],[Life Expectancy]]=0,((0.056*(YEAR(TODAY())-Table1468[[#This Row],[Year of Initial Price]])*Table1468[[#This Row],[Initial Price]])+Table1468[[#This Row],[Initial Price]]),((VLOOKUP(YEAR(TODAY()),'Inflation Data'!$A:$C,3,TRUE)-VLOOKUP(Table1468[[#This Row],[Year of Initial Price]],'Inflation Data'!$A:$C,3,TRUE))/(VLOOKUP(Table1468[[#This Row],[Year of Initial Price]],'Inflation Data'!$A:$C,3,TRUE))*Table1468[[#This Row],[Initial Price]])+Table1468[[#This Row],[Initial Price]]))))","v":17441.509999999998},{"$f":"IF($G49=YEAR(TODAY()),$E49,(IF($G49=0,\"\",IF(Table13[[#This Row],[Life Expectancy]]=0,H49, ((0.056*(Table1468[[#This Row],[Year of Failure]]-YEAR(TODAY()))*Table1468[[#This Row],[Current Predicted Cost (to purchase in 2024)]])+Table1468[[#This Row],[Current Predicted Cost (to purchase in 2024)]])))))","v":17441.509999999998},{"$f":"Table13[[#This Row],[Estimated Year of Failure]]","v":2039}]
[{"$f":"Table13[[#This Row],[I.D. Number ]]","v":"MeMa-2024-6"},{"$f":"Table13[[#This Row],[Category]]","v":"Meter"},{"$f":"Table13[[#This Row],[Type]]","v":"Master "},{"$f":"Table13[[#This Row],[Description]]","v":"Assembly 8 - Qty 1"},18867.54,null,{"$f":"Table13[[#This Row],[Installation Year]]","v":2024},{"$f":"IF($G50= YEAR(TODAY()),$E50,(IF($G50=0,\"\",IF(Table13[[#This Row],[Life Expectancy]]=0,((0.056*(YEAR(TODAY())-Table1468[[#This Row],[Year of Initial Price]])*Table1468[[#This Row],[Initial Price]])+Table1468[[#This Row],[Initial Price]]),((VLOOKUP(YEAR(TODAY()),'Inflation Data'!$A:$C,3,TRUE)-VLOOKUP(Table1468[[#This Row],[Year of Initial Price]],'Inflation Data'!$A:$C,3,TRUE))/(VLOOKUP(Table1468[[#This Row],[Year of Initial Price]],'Inflation Data'!$A:$C,3,TRUE))*Table1468[[#This Row],[Initial Price]])+Table1468[[#This Row],[Initial Price]]))))","v":18867.54},{"$f":"IF($G50=YEAR(TODAY()),$E50,(IF($G50=0,\"\",IF(Table13[[#This Row],[Life Expectancy]]=0,H50, ((0.056*(Table1468[[#This Row],[Year of Failure]]-YEAR(TODAY()))*Table1468[[#This Row],[Current Predicted Cost (to purchase in 2024)]])+Table1468[[#This Row],[Current Predicted Cost (to purchase in 2024)]])))))","v":18867.54},{"$f":"Table13[[#This Row],[Estimated Year of Failure]]","v":2039}]
[{"$f":"Table13[[#This Row],[I.D. Number ]]","v":"MeMa-2024-7"},{"$f":"Table13[[#This Row],[Category]]","v":"Meter"},{"$f":"Table13[[#This Row],[Type]]","v":"Master "},{"$f":"Table13[[#This Row],[Description]]","v":"Assembly 11 - Qty 1"},23669.63,null,{"$f":"Table13[[#This Row],[Installation Year]]","v":2024},{"$f":"IF($G51= YEAR(TODAY()),$E51,(IF($G51=0,\"\",IF(Table13[[#This Row],[Life Expectancy]]=0,((0.056*(YEAR(TODAY())-Table1468[[#This Row],[Year of Initial Price]])*Table1468[[#This Row],[Initial Price]])+Table1468[[#This Row],[Initial Price]]),((VLOOKUP(YEAR(TODAY()),'Inflation Data'!$A:$C,3,TRUE)-VLOOKUP(Table1468[[#This Row],[Year of Initial Price]],'Inflation Data'!$A:$C,3,TRUE))/(VLOOKUP(Table1468[[#This Row],[Year of Initial Price]],'Inflation Data'!$A:$C,3,TRUE))*Table1468[[#This Row],[Initial Price]])+Table1468[[#This Row],[Initial Price]]))))","v":23669.63},{"$f":"IF($G51=YEAR(TODAY()),$E51,(IF($G51=0,\"\",IF(Table13[[#This Row],[Life Expectancy]]=0,H51, ((0.056*(Table1468[[#This Row],[Year of Failure]]-YEAR(TODAY()))*Table1468[[#This Row],[Current Predicted Cost (to purchase in 2024)]])+Table1468[[#This Row],[Current Predicted Cost (to purchase in 2024)]])))))","v":23669.63},{"$f":"Table13[[#This Row],[Estimated Year of Failure]]","v":2039}]
[{"$f":"Table13[[#This Row],[I.D. Number ]]","v":"MeMa-2024-8"},{"$f":"Table13[[#This Row],[Category]]","v":"Meter"},{"$f":"Table13[[#This Row],[Type]]","v":"Master "},{"$f":"Table13[[#This Row],[Description]]","v":"Assembly 12 - Qty 1"},20736.62,null,{"$f":"Table13[[#This Row],[Installation Year]]","v":2024},{"$f":"IF($G52= YEAR(TODAY()),$E52,(IF($G52=0,\"\",IF(Table13[[#This Row],[Life Expectancy]]=0,((0.056*(YEAR(TODAY())-Table1468[[#This Row],[Year of Initial Price]])*Table1468[[#This Row],[Initial Price]])+Table1468[[#This Row],[Initial Price]]),((VLOOKUP(YEAR(TODAY()),'Inflation Data'!$A:$C,3,TRUE)-VLOOKUP(Table1468[[#This Row],[Year of Initial Price]],'Inflation Data'!$A:$C,3,TRUE))/(VLOOKUP(Table1468[[#This Row],[Year of Initial Price]],'Inflation Data'!$A:$C,3,TRUE))*Table1468[[#This Row],[Initial Price]])+Table1468[[#This Row],[Initial Price]]))))","v":20736.62},{"$f":"IF($G52=YEAR(TODAY()),$E52,(IF($G52=0,\"\",IF(Table13[[#This Row],[Life Expectancy]]=0,H52, ((0.056*(Table1468[[#This Row],[Year of Failure]]-YEAR(TODAY()))*Table1468[[#This Row],[Current Predicted Cost (to purchase in 2024)]])+Table1468[[#This Row],[Current Predicted Cost (to purchase in 2024)]])))))","v":20736.62},{"$f":"Table13[[#This Row],[Estimated Year of Failure]]","v":2039}]
[{"$f":"Table13[[#This Row],[I.D. Number ]]","v":"MeMa-2024-9"},{"$f":"Table13[[#This Row],[Category]]","v":"Meter"},{"$f":"Table13[[#This Row],[Type]]","v":"Master "},{"$f":"Table13[[#This Row],[Description]]","v":"Assembly 13 - Qty 1"},19896.330000000002,null,{"$f":"Table13[[#This Row],[Installation Year]]","v":2024},{"$f":"IF($G53= YEAR(TODAY()),$E53,(IF($G53=0,\"\",IF(Table13[[#This Row],[Life Expectancy]]=0,((0.056*(YEAR(TODAY())-Table1468[[#This Row],[Year of Initial Price]])*Table1468[[#This Row],[Initial Price]])+Table1468[[#This Row],[Initial Price]]),((VLOOKUP(YEAR(TODAY()),'Inflation Data'!$A:$C,3,TRUE)-VLOOKUP(Table1468[[#This Row],[Year of Initial Price]],'Inflation Data'!$A:$C,3,TRUE))/(VLOOKUP(Table1468[[#This Row],[Year of Initial Price]],'Inflation Data'!$A:$C,3,TRUE))*Table1468[[#This Row],[Initial Price]])+Table1468[[#This Row],[Initial Price]]))))","v":19896.330000000002},{"$f":"IF($G53=YEAR(TODAY()),$E53,(IF($G53=0,\"\",IF(Table13[[#This Row],[Life Expectancy]]=0,H53, ((0.056*(Table1468[[#This Row],[Year of Failure]]-YEAR(TODAY()))*Table1468[[#This Row],[Current Predicted Cost (to purchase in 2024)]])+Table1468[[#This Row],[Current Predicted Cost (to purchase in 2024)]])))))","v":19896.330000000002},{"$f":"Table13[[#This Row],[Estimated Year of Failure]]","v":2039}]
[{"$f":"Table13[[#This Row],[I.D. Number ]]","v":"MeMa-2024-10"},{"$f":"Table13[[#This Row],[Category]]","v":"Meter"},{"$f":"Table13[[#This Row],[Type]]","v":"Master "},{"$f":"Table13[[#This Row],[Description]]","v":"Assembly 14 - Qty 1"},17441.509999999998,null,{"$f":"Table13[[#This Row],[Installation Year]]","v":2024},{"$f":"IF($G54= YEAR(TODAY()),$E54,(IF($G54=0,\"\",IF(Table13[[#This Row],[Life Expectancy]]=0,((0.056*(YEAR(TODAY())-Table1468[[#This Row],[Year of Initial Price]])*Table1468[[#This Row],[Initial Price]])+Table1468[[#This Row],[Initial Price]]),((VLOOKUP(YEAR(TODAY()),'Inflation Data'!$A:$C,3,TRUE)-VLOOKUP(Table1468[[#This Row],[Year of Initial Price]],'Inflation Data'!$A:$C,3,TRUE))/(VLOOKUP(Table1468[[#This Row],[Year of Initial Price]],'Inflation Data'!$A:$C,3,TRUE))*Table1468[[#This Row],[Initial Price]])+Table1468[[#This Row],[Initial Price]]))))","v":17441.509999999998},{"$f":"IF($G54=YEAR(TODAY()),$E54,(IF($G54=0,\"\",IF(Table13[[#This Row],[Life Expectancy]]=0,H54, ((0.056*(Table1468[[#This Row],[Year of Failure]]-YEAR(TODAY()))*Table1468[[#This Row],[Current Predicted Cost (to purchase in 2024)]])+Table1468[[#This Row],[Current Predicted Cost (to purchase in 2024)]])))))","v":17441.509999999998},{"$f":"Table13[[#This Row],[Estimated Year of Failure]]","v":2039}]
[{"$f":"Table13[[#This Row],[I.D. Number ]]","v":"MeMa-2024-11"},{"$f":"Table13[[#This Row],[Category]]","v":"Meter"},{"$f":"Table13[[#This Row],[Type]]","v":"Master "},{"$f":"Table13[[#This Row],[Description]]","v":"Assembly 15, 16, 17, 18 - Qty 4"},19986.86,null,{"$f":"Table13[[#This Row],[Installation Year]]","v":2024},{"$f":"IF($G55= YEAR(TODAY()),$E55,(IF($G55=0,\"\",IF(Table13[[#This Row],[Life Expectancy]]=0,((0.056*(YEAR(TODAY())-Table1468[[#This Row],[Year of Initial Price]])*Table1468[[#This Row],[Initial Price]])+Table1468[[#This Row],[Initial Price]]),((VLOOKUP(YEAR(TODAY()),'Inflation Data'!$A:$C,3,TRUE)-VLOOKUP(Table1468[[#This Row],[Year of Initial Price]],'Inflation Data'!$A:$C,3,TRUE))/(VLOOKUP(Table1468[[#This Row],[Year of Initial Price]],'Inflation Data'!$A:$C,3,TRUE))*Table1468[[#This Row],[Initial Price]])+Table1468[[#This Row],[Initial Price]]))))","v":19986.86},{"$f":"IF($G55=YEAR(TODAY()),$E55,(IF($G55=0,\"\",IF(Table13[[#This Row],[Life Expectancy]]=0,H55, ((0.056*(Table1468[[#This Row],[Year of Failure]]-YEAR(TODAY()))*Table1468[[#This Row],[Current Predicted Cost (to purchase in 2024)]])+Table1468[[#This Row],[Current Predicted Cost (to purchase in 2024)]])))))","v":19986.86},{"$f":"Table13[[#This Row],[Estimated Year of Failure]]","v":2039}]
[{"$f":"Table13[[#This Row],[I.D. Number ]]","v":"MeMa-2024-12"},{"$f":"Table13[[#This Row],[Category]]","v":"Meter"},{"$f":"Table13[[#This Row],[Type]]","v":"Master "},{"$f":"Table13[[#This Row],[Description]]","v":"Assembly 20 - Qty 1"},8719.16,null,{"$f":"Table13[[#This Row],[Installation Year]]","v":2024},{"$f":"IF($G56= YEAR(TODAY()),$E56,(IF($G56=0,\"\",IF(Table13[[#This Row],[Life Expectancy]]=0,((0.056*(YEAR(TODAY())-Table1468[[#This Row],[Year of Initial Price]])*Table1468[[#This Row],[Initial Price]])+Table1468[[#This Row],[Initial Price]]),((VLOOKUP(YEAR(TODAY()),'Inflation Data'!$A:$C,3,TRUE)-VLOOKUP(Table1468[[#This Row],[Year of Initial Price]],'Inflation Data'!$A:$C,3,TRUE))/(VLOOKUP(Table1468[[#This Row],[Year of Initial Price]],'Inflation Data'!$A:$C,3,TRUE))*Table1468[[#This Row],[Initial Price]])+Table1468[[#This Row],[Initial Price]]))))","v":8719.16},{"$f":"IF($G56=YEAR(TODAY()),$E56,(IF($G56=0,\"\",IF(Table13[[#This Row],[Life Expectancy]]=0,H56, ((0.056*(Table1468[[#This Row],[Year of Failure]]-YEAR(TODAY()))*Table1468[[#This Row],[Current Predicted Cost (to purchase in 2024)]])+Table1468[[#This Row],[Current Predicted Cost (to purchase in 2024)]])))))","v":8719.16},{"$f":"Table13[[#This Row],[Estimated Year of Failure]]","v":2039}]
[{"$f":"Table13[[#This Row],[I.D. Number ]]","v":"VaGa-2024-1"},{"$f":"Table13[[#This Row],[Category]]","v":"Valve"},{"$f":"Table13[[#This Row],[Type]]","v":"Gate "},{"$f":"Table13[[#This Row],[Description]]","v":"Qty 3"},4700,null,{"$f":"Table13[[#This Row],[Installation Year]]","v":2024},{"$f":"IF($G57= YEAR(TODAY()),$E57,(IF($G57=0,\"\",IF(Table13[[#This Row],[Life Expectancy]]=0,((0.056*(YEAR(TODAY())-Table1468[[#This Row],[Year of Initial Price]])*Table1468[[#This Row],[Initial Price]])+Table1468[[#This Row],[Initial Price]]),((VLOOKUP(YEAR(TODAY()),'Inflation Data'!$A:$C,3,TRUE)-VLOOKUP(Table1468[[#This Row],[Year of Initial Price]],'Inflation Data'!$A:$C,3,TRUE))/(VLOOKUP(Table1468[[#This Row],[Year of Initial Price]],'Inflation Data'!$A:$C,3,TRUE))*Table1468[[#This Row],[Initial Price]])+Table1468[[#This Row],[Initial Price]]))))","v":4700},{"$f":"IF($G57=YEAR(TODAY()),$E57,(IF($G57=0,\"\",IF(Table13[[#This Row],[Life Expectancy]]=0,H57, ((0.056*(Table1468[[#This Row],[Year of Failure]]-YEAR(TODAY()))*Table1468[[#This Row],[Current Predicted Cost (to purchase in 2024)]])+Table1468[[#This Row],[Current Predicted Cost (to purchase in 2024)]])))))","v":4700},{"$f":"Table13[[#This Row],[Estimated Year of Failure]]","v":2044}]
[{"$f":"Table13[[#This Row],[I.D. Number ]]","v":"VaGa-2024-2"},{"$f":"Table13[[#This Row],[Category]]","v":"Valve"},{"$f":"Table13[[#This Row],[Type]]","v":"Gate "},{"$f":"Table13[[#This Row],[Description]]","v":"Qty 1"},4700,null,{"$f":"Table13[[#This Row],[Installation Year]]","v":2024},{"$f":"IF($G58= YEAR(TODAY()),$E58,(IF($G58=0,\"\",IF(Table13[[#This Row],[Life Expectancy]]=0,((0.056*(YEAR(TODAY())-Table1468[[#This Row],[Year of Initial Price]])*Table1468[[#This Row],[Initial Price]])+Table1468[[#This Row],[Initial Price]]),((VLOOKUP(YEAR(TODAY()),'Inflation Data'!$A:$C,3,TRUE)-VLOOKUP(Table1468[[#This Row],[Year of Initial Price]],'Inflation Data'!$A:$C,3,TRUE))/(VLOOKUP(Table1468[[#This Row],[Year of Initial Price]],'Inflation Data'!$A:$C,3,TRUE))*Table1468[[#This Row],[Initial Price]])+Table1468[[#This Row],[Initial Price]]))))","v":4700},{"$f":"IF($G58=YEAR(TODAY()),$E58,(IF($G58=0,\"\",IF(Table13[[#This Row],[Life Expectancy]]=0,H58, ((0.056*(Table1468[[#This Row],[Year of Failure]]-YEAR(TODAY()))*Table1468[[#This Row],[Current Predicted Cost (to purchase in 2024)]])+Table1468[[#This Row],[Current Predicted Cost (to purchase in 2024)]])))))","v":4700},{"$f":"Table13[[#This Row],[Estimated Year of Failure]]","v":2044}]
[{"$f":"Table13[[#This Row],[I.D. Number ]]","v":"VaGa-2024-3"},{"$f":"Table13[[#This Row],[Category]]","v":"Valve"},{"$f":"Table13[[#This Row],[Type]]","v":"Gate "},{"$f":"Table13[[#This Row],[Description]]","v":"Qty 2"},4704.1099999999997,null,{"$f":"Table13[[#This Row],[Installation Year]]","v":2024},{"$f":"IF($G59= YEAR(TODAY()),$E59,(IF($G59=0,\"\",IF(Table13[[#This Row],[Life Expectancy]]=0,((0.056*(YEAR(TODAY())-Table1468[[#This Row],[Year of Initial Price]])*Table1468[[#This Row],[Initial Price]])+Table1468[[#This Row],[Initial Price]]),((VLOOKUP(YEAR(TODAY()),'Inflation Data'!$A:$C,3,TRUE)-VLOOKUP(Table1468[[#This Row],[Year of Initial Price]],'Inflation Data'!$A:$C,3,TRUE))/(VLOOKUP(Table1468[[#This Row],[Year of Initial Price]],'Inflation Data'!$A:$C,3,TRUE))*Table1468[[#This Row],[Initial Price]])+Table1468[[#This Row],[Initial Price]]))))","v":4704.1099999999997},{"$f":"IF($G59=YEAR(TODAY()),$E59,(IF($G59=0,\"\",IF(Table13[[#This Row],[Life Expectancy]]=0,H59, ((0.056*(Table1468[[#This Row],[Year of Failure]]-YEAR(TODAY()))*Table1468[[#This Row],[Current Predicted Cost (to purchase in 2024)]])+Table1468[[#This Row],[Current Predicted Cost (to purchase in 2024)]])))))","v":4704.1099999999997},{"$f":"Table13[[#This Row],[Estimated Year of Failure]]","v":2044}]
[{"$f":"Table13[[#This Row],[I.D. Number ]]","v":"VaGa-2024-4"},{"$f":"Table13[[#This Row],[Category]]","v":"Valve"},{"$f":"Table13[[#This Row],[Type]]","v":"Gate "},{"$f":"Table13[[#This Row],[Description]]","v":"Qty 3"},3182.22,null,{"$f":"Table13[[#This Row],[Installation Year]]","v":2024},{"$f":"IF($G60= YEAR(TODAY()),$E60,(IF($G60=0,\"\",IF(Table13[[#This Row],[Life Expectancy]]=0,((0.056*(YEAR(TODAY())-Table1468[[#This Row],[Year of Initial Price]])*Table1468[[#This Row],[Initial Price]])+Table1468[[#This Row],[Initial Price]]),((VLOOKUP(YEAR(TODAY()),'Inflation Data'!$A:$C,3,TRUE)-VLOOKUP(Table1468[[#This Row],[Year of Initial Price]],'Inflation Data'!$A:$C,3,TRUE))/(VLOOKUP(Table1468[[#This Row],[Year of Initial Price]],'Inflation Data'!$A:$C,3,TRUE))*Table1468[[#This Row],[Initial Price]])+Table1468[[#This Row],[Initial Price]]))))","v":3182.22},{"$f":"IF($G60=YEAR(TODAY()),$E60,(IF($G60=0,\"\",IF(Table13[[#This Row],[Life Expectancy]]=0,H60, ((0.056*(Table1468[[#This Row],[Year of Failure]]-YEAR(TODAY()))*Table1468[[#This Row],[Current Predicted Cost (to purchase in 2024)]])+Table1468[[#This Row],[Current Predicted Cost (to purchase in 2024)]])))))","v":3182.22},{"$f":"Table13[[#This Row],[Estimated Year of Failure]]","v":2044}]
[{"$f":"Table13[[#This Row],[I.D. Number ]]","v":"VaPr-2024-1"},{"$f":"Table13[[#This Row],[Category]]","v":"Valve"},{"$f":"Table13[[#This Row],[Type]]","v":"Pressure Relief (PRV)"},{"$f":"Table13[[#This Row],[Description]]","v":"PRV-8"},7500,null,{"$f":"Table13[[#This Row],[Installation Year]]","v":2024},{"$f":"IF($G61= YEAR(TODAY()),$E61,(IF($G61=0,\"\",IF(Table13[[#This Row],[Life Expectancy]]=0,((0.056*(YEAR(TODAY())-Table1468[[#This Row],[Year of Initial Price]])*Table1468[[#This Row],[Initial Price]])+Table1468[[#This Row],[Initial Price]]),((VLOOKUP(YEAR(TODAY()),'Inflation Data'!$A:$C,3,TRUE)-VLOOKUP(Table1468[[#This Row],[Year of Initial Price]],'Inflation Data'!$A:$C,3,TRUE))/(VLOOKUP(Table1468[[#This Row],[Year of Initial Price]],'Inflation Data'!$A:$C,3,TRUE))*Table1468[[#This Row],[Initial Price]])+Table1468[[#This Row],[Initial Price]]))))","v":7500},{"$f":"IF($G61=YEAR(TODAY()),$E61,(IF($G61=0,\"\",IF(Table13[[#This Row],[Life Expectancy]]=0,H61, ((0.056*(Table1468[[#This Row],[Year of Failure]]-YEAR(TODAY()))*Table1468[[#This Row],[Current Predicted Cost (to purchase in 2024)]])+Table1468[[#This Row],[Current Predicted Cost (to purchase in 2024)]])))))","v":7500},{"$f":"Table13[[#This Row],[Estimated Year of Failure]]","v":2044}]
[{"$f":"Table13[[#This Row],[I.D. Number ]]","v":"VaPr-2024-2"},{"$f":"Table13[[#This Row],[Category]]","v":"Valve"},{"$f":"Table13[[#This Row],[Type]]","v":"Pressure Relief (PRV)"},{"$f":"Table13[[#This Row],[Description]]","v":"Residential - Qty 4"},85,null,{"$f":"Table13[[#This Row],[Installation Year]]","v":2024},{"$f":"IF($G62= YEAR(TODAY()),$E62,(IF($G62=0,\"\",IF(Table13[[#This Row],[Life Expectancy]]=0,((0.056*(YEAR(TODAY())-Table1468[[#This Row],[Year of Initial Price]])*Table1468[[#This Row],[Initial Price]])+Table1468[[#This Row],[Initial Price]]),((VLOOKUP(YEAR(TODAY()),'Inflation Data'!$A:$C,3,TRUE)-VLOOKUP(Table1468[[#This Row],[Year of Initial Price]],'Inflation Data'!$A:$C,3,TRUE))/(VLOOKUP(Table1468[[#This Row],[Year of Initial Price]],'Inflation Data'!$A:$C,3,TRUE))*Table1468[[#This Row],[Initial Price]])+Table1468[[#This Row],[Initial Price]]))))","v":85},{"$f":"IF($G62=YEAR(TODAY()),$E62,(IF($G62=0,\"\",IF(Table13[[#This Row],[Life Expectancy]]=0,H62, ((0.056*(Table1468[[#This Row],[Year of Failure]]-YEAR(TODAY()))*Table1468[[#This Row],[Current Predicted Cost (to purchase in 2024)]])+Table1468[[#This Row],[Current Predicted Cost (to purchase in 2024)]])))))","v":85},{"$f":"Table13[[#This Row],[Estimated Year of Failure]]","v":2044}]
[{"$f":"Table13[[#This Row],[I.D. Number ]]","v":"VaGa-2024-5"},{"$f":"Table13[[#This Row],[Category]]","v":"Valve"},{"$f":"Table13[[#This Row],[Type]]","v":"Gate "},{"$f":"Table13[[#This Row],[Description]]","v":"Flush Valve"},5100,null,{"$f":"Table13[[#This Row],[Installation Year]]","v":2024},{"$f":"IF($G63= YEAR(TODAY()),$E63,(IF($G63=0,\"\",IF(Table13[[#This Row],[Life Expectancy]]=0,((0.056*(YEAR(TODAY())-Table1468[[#This Row],[Year of Initial Price]])*Table1468[[#This Row],[Initial Price]])+Table1468[[#This Row],[Initial Price]]),((VLOOKUP(YEAR(TODAY()),'Inflation Data'!$A:$C,3,TRUE)-VLOOKUP(Table1468[[#This Row],[Year of Initial Price]],'Inflation Data'!$A:$C,3,TRUE))/(VLOOKUP(Table1468[[#This Row],[Year of Initial Price]],'Inflation Data'!$A:$C,3,TRUE))*Table1468[[#This Row],[Initial Price]])+Table1468[[#This Row],[Initial Price]]))))","v":5100},{"$f":"IF($G63=YEAR(TODAY()),$E63,(IF($G63=0,\"\",IF(Table13[[#This Row],[Life Expectancy]]=0,H63, ((0.056*(Table1468[[#This Row],[Year of Failure]]-YEAR(TODAY()))*Table1468[[#This Row],[Current Predicted Cost (to purchase in 2024)]])+Table1468[[#This Row],[Current Predicted Cost (to purchase in 2024)]])))))","v":5100},{"$f":"Table13[[#This Row],[Estimated Year of Failure]]","v":2044}]
[{"$f":"Table13[[#This Row],[I.D. Number ]]","v":"CoSC-2024-1"},{"$f":"Table13[[#This Row],[Category]]","v":"Control"},{"$f":"Table13[[#This Row],[Type]]","v":"SCADA "},{"$f":"Table13[[#This Row],[Description]]","v":"Automated Meter Reading System"},15000,null,{"$f":"Table13[[#This Row],[Installation Year]]","v":2024},{"$f":"IF($G64= YEAR(TODAY()),$E64,(IF($G64=0,\"\",IF(Table13[[#This Row],[Life Expectancy]]=0,((0.056*(YEAR(TODAY())-Table1468[[#This Row],[Year of Initial Price]])*Table1468[[#This Row],[Initial Price]])+Table1468[[#This Row],[Initial Price]]),((VLOOKUP(YEAR(TODAY()),'Inflation Data'!$A:$C,3,TRUE)-VLOOKUP(Table1468[[#This Row],[Year of Initial Price]],'Inflation Data'!$A:$C,3,TRUE))/(VLOOKUP(Table1468[[#This Row],[Year of Initial Price]],'Inflation Data'!$A:$C,3,TRUE))*Table1468[[#This Row],[Initial Price]])+Table1468[[#This Row],[Initial Price]]))))","v":15000},{"$f":"IF($G64=YEAR(TODAY()),$E64,(IF($G64=0,\"\",IF(Table13[[#This Row],[Life Expectancy]]=0,H64, ((0.056*(Table1468[[#This Row],[Year of Failure]]-YEAR(TODAY()))*Table1468[[#This Row],[Current Predicted Cost (to purchase in 2024)]])+Table1468[[#This Row],[Current Predicted Cost (to purchase in 2024)]])))))","v":15000},{"$f":"Table13[[#This Row],[Estimated Year of Failure]]","v":2039}]
[{"$f":"Table13[[#This Row],[I.D. Number ]]","v":"MeRe-2024-1"},{"$f":"Table13[[#This Row],[Category]]","v":"Meter"},{"$f":"Table13[[#This Row],[Type]]","v":"Residential "},{"$f":"Table13[[#This Row],[Description]]","v":"5/8\" x 3/4\" Meters - Qty 932"},325,null,{"$f":"Table13[[#This Row],[Installation Year]]","v":2024},{"$f":"IF($G65= YEAR(TODAY()),$E65,(IF($G65=0,\"\",IF(Table13[[#This Row],[Life Expectancy]]=0,((0.056*(YEAR(TODAY())-Table1468[[#This Row],[Year of Initial Price]])*Table1468[[#This Row],[Initial Price]])+Table1468[[#This Row],[Initial Price]]),((VLOOKUP(YEAR(TODAY()),'Inflation Data'!$A:$C,3,TRUE)-VLOOKUP(Table1468[[#This Row],[Year of Initial Price]],'Inflation Data'!$A:$C,3,TRUE))/(VLOOKUP(Table1468[[#This Row],[Year of Initial Price]],'Inflation Data'!$A:$C,3,TRUE))*Table1468[[#This Row],[Initial Price]])+Table1468[[#This Row],[Initial Price]]))))","v":325},{"$f":"IF($G65=YEAR(TODAY()),$E65,(IF($G65=0,\"\",IF(Table13[[#This Row],[Life Expectancy]]=0,H65, ((0.056*(Table1468[[#This Row],[Year of Failure]]-YEAR(TODAY()))*Table1468[[#This Row],[Current Predicted Cost (to purchase in 2024)]])+Table1468[[#This Row],[Current Predicted Cost (to purchase in 2024)]])))))","v":325},{"$f":"Table13[[#This Row],[Estimated Year of Failure]]","v":2039}]
[{"$f":"Table13[[#This Row],[I.D. Number ]]","v":"MeCu-2024-1"},{"$f":"Table13[[#This Row],[Category]]","v":"Meter"},{"$f":"Table13[[#This Row],[Type]]","v":"Customer "},{"$f":"Table13[[#This Row],[Description]]","v":"Meters - Qty 8"},425,null,{"$f":"Table13[[#This Row],[Installation Year]]","v":2024},{"$f":"IF($G66= YEAR(TODAY()),$E66,(IF($G66=0,\"\",IF(Table13[[#This Row],[Life Expectancy]]=0,((0.056*(YEAR(TODAY())-Table1468[[#This Row],[Year of Initial Price]])*Table1468[[#This Row],[Initial Price]])+Table1468[[#This Row],[Initial Price]]),((VLOOKUP(YEAR(TODAY()),'Inflation Data'!$A:$C,3,TRUE)-VLOOKUP(Table1468[[#This Row],[Year of Initial Price]],'Inflation Data'!$A:$C,3,TRUE))/(VLOOKUP(Table1468[[#This Row],[Year of Initial Price]],'Inflation Data'!$A:$C,3,TRUE))*Table1468[[#This Row],[Initial Price]])+Table1468[[#This Row],[Initial Price]]))))","v":425},{"$f":"IF($G66=YEAR(TODAY()),$E66,(IF($G66=0,\"\",IF(Table13[[#This Row],[Life Expectancy]]=0,H66, ((0.056*(Table1468[[#This Row],[Year of Failure]]-YEAR(TODAY()))*Table1468[[#This Row],[Current Predicted Cost (to purchase in 2024)]])+Table1468[[#This Row],[Current Predicted Cost (to purchase in 2024)]])))))","v":425},{"$f":"Table13[[#This Row],[Estimated Year of Failure]]","v":2039}]
[{"$f":"Table13[[#This Row],[I.D. Number ]]","v":"VaPr-2024-3"},{"$f":"Table13[[#This Row],[Category]]","v":"Valve"},{"$f":"Table13[[#This Row],[Type]]","v":"Pressure Relief (PRV)"},{"$f":"Table13[[#This Row],[Description]]","v":"PRV-7"},7500,null,{"$f":"Table13[[#This Row],[Installation Year]]","v":2024},{"$f":"IF($G67= YEAR(TODAY()),$E67,(IF($G67=0,\"\",IF(Table13[[#This Row],[Life Expectancy]]=0,((0.056*(YEAR(TODAY())-Table1468[[#This Row],[Year of Initial Price]])*Table1468[[#This Row],[Initial Price]])+Table1468[[#This Row],[Initial Price]]),((VLOOKUP(YEAR(TODAY()),'Inflation Data'!$A:$C,3,TRUE)-VLOOKUP(Table1468[[#This Row],[Year of Initial Price]],'Inflation Data'!$A:$C,3,TRUE))/(VLOOKUP(Table1468[[#This Row],[Year of Initial Price]],'Inflation Data'!$A:$C,3,TRUE))*Table1468[[#This Row],[Initial Price]])+Table1468[[#This Row],[Initial Price]]))))","v":7500},{"$f":"IF($G67=YEAR(TODAY()),$E67,(IF($G67=0,\"\",IF(Table13[[#This Row],[Life Expectancy]]=0,H67, ((0.056*(Table1468[[#This Row],[Year of Failure]]-YEAR(TODAY()))*Table1468[[#This Row],[Current Predicted Cost (to purchase in 2024)]])+Table1468[[#This Row],[Current Predicted Cost (to purchase in 2024)]])))))","v":7500},{"$f":"Table13[[#This Row],[Estimated Year of Failure]]","v":2044}]
[{"$f":"Table13[[#This Row],[I.D. Number ]]","v":"VaGa-2024-6"},{"$f":"Table13[[#This Row],[Category]]","v":"Valve"},{"$f":"Table13[[#This Row],[Type]]","v":"Gate "},{"$f":"Table13[[#This Row],[Description]]","v":"Qty - 2"},4500,null,{"$f":"Table13[[#This Row],[Installation Year]]","v":2024},{"$f":"IF($G68= YEAR(TODAY()),$E68,(IF($G68=0,\"\",IF(Table13[[#This Row],[Life Expectancy]]=0,((0.056*(YEAR(TODAY())-Table1468[[#This Row],[Year of Initial Price]])*Table1468[[#This Row],[Initial Price]])+Table1468[[#This Row],[Initial Price]]),((VLOOKUP(YEAR(TODAY()),'Inflation Data'!$A:$C,3,TRUE)-VLOOKUP(Table1468[[#This Row],[Year of Initial Price]],'Inflation Data'!$A:$C,3,TRUE))/(VLOOKUP(Table1468[[#This Row],[Year of Initial Price]],'Inflation Data'!$A:$C,3,TRUE))*Table1468[[#This Row],[Initial Price]])+Table1468[[#This Row],[Initial Price]]))))","v":4500},{"$f":"IF($G68=YEAR(TODAY()),$E68,(IF($G68=0,\"\",IF(Table13[[#This Row],[Life Expectancy]]=0,H68, ((0.056*(Table1468[[#This Row],[Year of Failure]]-YEAR(TODAY()))*Table1468[[#This Row],[Current Predicted Cost (to purchase in 2024)]])+Table1468[[#This Row],[Current Predicted Cost (to purchase in 2024)]])))))","v":4500},{"$f":"Table13[[#This Row],[Estimated Year of Failure]]","v":2044},null,null,true]
[{"$f":"Table13[[#This Row],[I.D. Number ]]","v":"PiPV-2024-4"},{"$f":"Table13[[#This Row],[Category]]","v":"Pipe"},{"$f":"Table13[[#This Row],[Type]]","v":"PVC"},{"$f":"Table13[[#This Row],[Description]]","v":"HDPE, DR11, 200psi - 4195 linear ft"},39,null,{"$f":"Table13[[#This Row],[Installation Year]]","v":2024},{"$f":"IF($G69= YEAR(TODAY()),$E69,(IF($G69=0,\"\",IF(Table13[[#This Row],[Life Expectancy]]=0,((0.056*(YEAR(TODAY())-Table1468[[#This Row],[Year of Initial Price]])*Table1468[[#This Row],[Initial Price]])+Table1468[[#This Row],[Initial Price]]),((VLOOKUP(YEAR(TODAY()),'Inflation Data'!$A:$C,3,TRUE)-VLOOKUP(Table1468[[#This Row],[Year of Initial Price]],'Inflation Data'!$A:$C,3,TRUE))/(VLOOKUP(Table1468[[#This Row],[Year of Initial Price]],'Inflation Data'!$A:$C,3,TRUE))*Table1468[[#This Row],[Initial Price]])+Table1468[[#This Row],[Initial Price]]))))","v":39},{"$f":"IF($G69=YEAR(TODAY()),$E69,(IF($G69=0,\"\",IF(Table13[[#This Row],[Life Expectancy]]=0,H69, ((0.056*(Table1468[[#This Row],[Year of Failure]]-YEAR(TODAY()))*Table1468[[#This Row],[Current Predicted Cost (to purchase in 2024)]])+Table1468[[#This Row],[Current Predicted Cost (to purchase in 2024)]])))))","v":39},{"$f":"Table13[[#This Row],[Estimated Year of Failure]]","v":2104}]
[{"$f":"Table13[[#This Row],[I.D. Number ]]","v":"VaGa-2024-7"},{"$f":"Table13[[#This Row],[Category]]","v":"Valve"},{"$f":"Table13[[#This Row],[Type]]","v":"Gate "},{"$f":"Table13[[#This Row],[Description]]","v":0},4500,null,{"$f":"Table13[[#This Row],[Installation Year]]","v":2024},{"$f":"IF($G70= YEAR(TODAY()),$E70,(IF($G70=0,\"\",IF(Table13[[#This Row],[Life Expectancy]]=0,((0.056*(YEAR(TODAY())-Table1468[[#This Row],[Year of Initial Price]])*Table1468[[#This Row],[Initial Price]])+Table1468[[#This Row],[Initial Price]]),((VLOOKUP(YEAR(TODAY()),'Inflation Data'!$A:$C,3,TRUE)-VLOOKUP(Table1468[[#This Row],[Year of Initial Price]],'Inflation Data'!$A:$C,3,TRUE))/(VLOOKUP(Table1468[[#This Row],[Year of Initial Price]],'Inflation Data'!$A:$C,3,TRUE))*Table1468[[#This Row],[Initial Price]])+Table1468[[#This Row],[Initial Price]]))))","v":4500},{"$f":"IF($G70=YEAR(TODAY()),$E70,(IF($G70=0,\"\",IF(Table13[[#This Row],[Life Expectancy]]=0,H70, ((0.056*(Table1468[[#This Row],[Year of Failure]]-YEAR(TODAY()))*Table1468[[#This Row],[Current Predicted Cost (to purchase in 2024)]])+Table1468[[#This Row],[Current Predicted Cost (to purchase in 2024)]])))))","v":4500},{"$f":"Table13[[#This Row],[Estimated Year of Failure]]","v":2044}]
[{"$f":"Table13[[#This Row],[I.D. Number ]]","v":"VaPr-2024-4"},{"$f":"Table13[[#This Row],[Category]]","v":"Valve"},{"$f":"Table13[[#This Row],[Type]]","v":"Pressure Relief (PRV)"},{"$f":"Table13[[#This Row],[Description]]","v":"PRV-1 thru PRV-6 + PRV-9 - Qty 7"},7500,null,{"$f":"Table13[[#This Row],[Installation Year]]","v":2024},{"$f":"IF($G71= YEAR(TODAY()),$E71,(IF($G71=0,\"\",IF(Table13[[#This Row],[Life Expectancy]]=0,((0.056*(YEAR(TODAY())-Table1468[[#This Row],[Year of Initial Price]])*Table1468[[#This Row],[Initial Price]])+Table1468[[#This Row],[Initial Price]]),((VLOOKUP(YEAR(TODAY()),'Inflation Data'!$A:$C,3,TRUE)-VLOOKUP(Table1468[[#This Row],[Year of Initial Price]],'Inflation Data'!$A:$C,3,TRUE))/(VLOOKUP(Table1468[[#This Row],[Year of Initial Price]],'Inflation Data'!$A:$C,3,TRUE))*Table1468[[#This Row],[Initial Price]])+Table1468[[#This Row],[Initial Price]]))))","v":7500},{"$f":"IF($G71=YEAR(TODAY()),$E71,(IF($G71=0,\"\",IF(Table13[[#This Row],[Life Expectancy]]=0,H71, ((0.056*(Table1468[[#This Row],[Year of Failure]]-YEAR(TODAY()))*Table1468[[#This Row],[Current Predicted Cost (to purchase in 2024)]])+Table1468[[#This Row],[Current Predicted Cost (to purchase in 2024)]])))))","v":7500},{"$f":"Table13[[#This Row],[Estimated Year of Failure]]","v":2044}]
[{"$f":"Table13[[#This Row],[I.D. Number ]]","v":"VaGa-2024-8"},{"$f":"Table13[[#This Row],[Category]]","v":"Valve"},{"$f":"Table13[[#This Row],[Type]]","v":"Gate "},{"$f":"Table13[[#This Row],[Description]]","v":"Gate Valve System"},4500,null,{"$f":"Table13[[#This Row],[Installation Year]]","v":2024},{"$f":"IF($G72= YEAR(TODAY()),$E72,(IF($G72=0,\"\",IF(Table13[[#This Row],[Life Expectancy]]=0,((0.056*(YEAR(TODAY())-Table1468[[#This Row],[Year of Initial Price]])*Table1468[[#This Row],[Initial Price]])+Table1468[[#This Row],[Initial Price]]),((VLOOKUP(YEAR(TODAY()),'Inflation Data'!$A:$C,3,TRUE)-VLOOKUP(Table1468[[#This Row],[Year of Initial Price]],'Inflation Data'!$A:$C,3,TRUE))/(VLOOKUP(Table1468[[#This Row],[Year of Initial Price]],'Inflation Data'!$A:$C,3,TRUE))*Table1468[[#This Row],[Initial Price]])+Table1468[[#This Row],[Initial Price]]))))","v":4500},{"$f":"IF($G72=YEAR(TODAY()),$E72,(IF($G72=0,\"\",IF(Table13[[#This Row],[Life Expectancy]]=0,H72, ((0.056*(Table1468[[#This Row],[Year of Failure]]-YEAR(TODAY()))*Table1468[[#This Row],[Current Predicted Cost (to purchase in 2024)]])+Table1468[[#This Row],[Current Predicted Cost (to purchase in 2024)]])))))","v":4500},{"$f":"Table13[[#This Row],[Estimated Year of Failure]]","v":2044}]
[{"$f":"Table13[[#This Row],[I.D. Number ]]","v":""},{"$f":"Table13[[#This Row],[Category]]","v":0},{"$f":"Table13[[#This Row],[Type]]","v":0},{"$f":"Table13[[#This Row],[Description]]","v":0},null,null,{"$f":"Table13[[#This Row],[Installation Year]]","v":0},{"$f":"IF($G73= YEAR(TODAY()),$E73,(IF($G73=0,\"\",IF(Table13[[#This Row],[Life Expectancy]]=0,((0.056*(YEAR(TODAY())-Table1468[[#This Row],[Year of Initial Price]])*Table1468[[#This Row],[Initial Price]])+Table1468[[#This Row],[Initial Price]]),((VLOOKUP(YEAR(TODAY()),'Inflation Data'!$A:$C,3,TRUE)-VLOOKUP(Table1468[[#This Row],[Year of Initial Price]],'Inflation Data'!$A:$C,3,TRUE))/(VLOOKUP(Table1468[[#This Row],[Year of Initial Price]],'Inflation Data'!$A:$C,3,TRUE))*Table1468[[#This Row],[Initial Price]])+Table1468[[#This Row],[Initial Price]]))))","v":""},{"$f":"IF($G73=YEAR(TODAY()),$E73,(IF($G73=0,\"\",IF(Table13[[#This Row],[Life Expectancy]]=0,H73, ((0.056*(Table1468[[#This Row],[Year of Failure]]-YEAR(TODAY()))*Table1468[[#This Row],[Current Predicted Cost (to purchase in 2024)]])+Table1468[[#This Row],[Current Predicted Cost (to purchase in 2024)]])))))","v":""},{"$f":"Table13[[#This Row],[Estimated Year of Failure]]","v":""}]
[{"$f":"Table13[[#This Row],[I.D. Number ]]","v":""},{"$f":"Table13[[#This Row],[Category]]","v":0},{"$f":"Table13[[#This Row],[Type]]","v":0},{"$f":"Table13[[#This Row],[Description]]","v":0},null,null,{"$f":"Table13[[#This Row],[Installation Year]]","v":0},{"$f":"IF($G74= YEAR(TODAY()),$E74,(IF($G74=0,\"\",IF(Table13[[#This Row],[Life Expectancy]]=0,((0.056*(YEAR(TODAY())-Table1468[[#This Row],[Year of Initial Price]])*Table1468[[#This Row],[Initial Price]])+Table1468[[#This Row],[Initial Price]]),((VLOOKUP(YEAR(TODAY()),'Inflation Data'!$A:$C,3,TRUE)-VLOOKUP(Table1468[[#This Row],[Year of Initial Price]],'Inflation Data'!$A:$C,3,TRUE))/(VLOOKUP(Table1468[[#This Row],[Year of Initial Price]],'Inflation Data'!$A:$C,3,TRUE))*Table1468[[#This Row],[Initial Price]])+Table1468[[#This Row],[Initial Price]]))))","v":""},{"$f":"IF($G74=YEAR(TODAY()),$E74,(IF($G74=0,\"\",IF(Table13[[#This Row],[Life Expectancy]]=0,H74, ((0.056*(Table1468[[#This Row],[Year of Failure]]-YEAR(TODAY()))*Table1468[[#This Row],[Current Predicted Cost (to purchase in 2024)]])+Table1468[[#This Row],[Current Predicted Cost (to purchase in 2024)]])))))","v":""},{"$f":"Table13[[#This Row],[Estimated Year of Failure]]","v":""}]
[{"$f":"Table13[[#This Row],[I.D. Number ]]","v":""},{"$f":"Table13[[#This Row],[Category]]","v":0},{"$f":"Table13[[#This Row],[Type]]","v":0},{"$f":"Table13[[#This Row],[Description]]","v":0},null,null,{"$f":"Table13[[#This Row],[Installation Year]]","v":0},{"$f":"IF($G75= YEAR(TODAY()),$E75,(IF($G75=0,\"\",IF(Table13[[#This Row],[Life Expectancy]]=0,((0.056*(YEAR(TODAY())-Table1468[[#This Row],[Year of Initial Price]])*Table1468[[#This Row],[Initial Price]])+Table1468[[#This Row],[Initial Price]]),((VLOOKUP(YEAR(TODAY()),'Inflation Data'!$A:$C,3,TRUE)-VLOOKUP(Table1468[[#This Row],[Year of Initial Price]],'Inflation Data'!$A:$C,3,TRUE))/(VLOOKUP(Table1468[[#This Row],[Year of Initial Price]],'Inflation Data'!$A:$C,3,TRUE))*Table1468[[#This Row],[Initial Price]])+Table1468[[#This Row],[Initial Price]]))))","v":""},{"$f":"IF($G75=YEAR(TODAY()),$E75,(IF($G75=0,\"\",IF(Table13[[#This Row],[Life Expectancy]]=0,H75, ((0.056*(Table1468[[#This Row],[Year of Failure]]-YEAR(TODAY()))*Table1468[[#This Row],[Current Predicted Cost (to purchase in 2024)]])+Table1468[[#This Row],[Current Predicted Cost (to purchase in 2024)]])))))","v":""},{"$f":"Table13[[#This Row],[Estimated Year of Failure]]","v":""}]
[{"$f":"Table13[[#This Row],[I.D. Number ]]","v":""},{"$f":"Table13[[#This Row],[Category]]","v":0},{"$f":"Table13[[#This Row],[Type]]","v":0},{"$f":"Table13[[#This Row],[Description]]","v":0},null,null,{"$f":"Table13[[#This Row],[Installation Year]]","v":0},{"$f":"IF($G76= YEAR(TODAY()),$E76,(IF($G76=0,\"\",IF(Table13[[#This Row],[Life Expectancy]]=0,((0.056*(YEAR(TODAY())-Table1468[[#This Row],[Year of Initial Price]])*Table1468[[#This Row],[Initial Price]])+Table1468[[#This Row],[Initial Price]]),((VLOOKUP(YEAR(TODAY()),'Inflation Data'!$A:$C,3,TRUE)-VLOOKUP(Table1468[[#This Row],[Year of Initial Price]],'Inflation Data'!$A:$C,3,TRUE))/(VLOOKUP(Table1468[[#This Row],[Year of Initial Price]],'Inflation Data'!$A:$C,3,TRUE))*Table1468[[#This Row],[Initial Price]])+Table1468[[#This Row],[Initial Price]]))))","v":""},{"$f":"IF($G76=YEAR(TODAY()),$E76,(IF($G76=0,\"\",IF(Table13[[#This Row],[Life Expectancy]]=0,H76, ((0.056*(Table1468[[#This Row],[Year of Failure]]-YEAR(TODAY()))*Table1468[[#This Row],[Current Predicted Cost (to purchase in 2024)]])+Table1468[[#This Row],[Current Predicted Cost (to purchase in 2024)]])))))","v":""},{"$f":"Table13[[#This Row],[Estimated Year of Failure]]","v":""}]
[{"$f":"Table13[[#This Row],[I.D. Number ]]","v":""},{"$f":"Table13[[#This Row],[Category]]","v":0},{"$f":"Table13[[#This Row],[Type]]","v":0},{"$f":"Table13[[#This Row],[Description]]","v":0},null,null,{"$f":"Table13[[#This Row],[Installation Year]]","v":0},{"$f":"IF($G77= YEAR(TODAY()),$E77,(IF($G77=0,\"\",IF(Table13[[#This Row],[Life Expectancy]]=0,((0.056*(YEAR(TODAY())-Table1468[[#This Row],[Year of Initial Price]])*Table1468[[#This Row],[Initial Price]])+Table1468[[#This Row],[Initial Price]]),((VLOOKUP(YEAR(TODAY()),'Inflation Data'!$A:$C,3,TRUE)-VLOOKUP(Table1468[[#This Row],[Year of Initial Price]],'Inflation Data'!$A:$C,3,TRUE))/(VLOOKUP(Table1468[[#This Row],[Year of Initial Price]],'Inflation Data'!$A:$C,3,TRUE))*Table1468[[#This Row],[Initial Price]])+Table1468[[#This Row],[Initial Price]]))))","v":""},{"$f":"IF($G77=YEAR(TODAY()),$E77,(IF($G77=0,\"\",IF(Table13[[#This Row],[Life Expectancy]]=0,H77, ((0.056*(Table1468[[#This Row],[Year of Failure]]-YEAR(TODAY()))*Table1468[[#This Row],[Current Predicted Cost (to purchase in 2024)]])+Table1468[[#This Row],[Current Predicted Cost (to purchase in 2024)]])))))","v":""},{"$f":"Table13[[#This Row],[Estimated Year of Failure]]","v":""}]
[{"$f":"Table13[[#This Row],[I.D. Number ]]","v":""},{"$f":"Table13[[#This Row],[Category]]","v":0},{"$f":"Table13[[#This Row],[Type]]","v":0},{"$f":"Table13[[#This Row],[Description]]","v":0},null,null,{"$f":"Table13[[#This Row],[Installation Year]]","v":0},{"$f":"IF($G78= YEAR(TODAY()),$E78,(IF($G78=0,\"\",IF(Table13[[#This Row],[Life Expectancy]]=0,((0.056*(YEAR(TODAY())-Table1468[[#This Row],[Year of Initial Price]])*Table1468[[#This Row],[Initial Price]])+Table1468[[#This Row],[Initial Price]]),((VLOOKUP(YEAR(TODAY()),'Inflation Data'!$A:$C,3,TRUE)-VLOOKUP(Table1468[[#This Row],[Year of Initial Price]],'Inflation Data'!$A:$C,3,TRUE))/(VLOOKUP(Table1468[[#This Row],[Year of Initial Price]],'Inflation Data'!$A:$C,3,TRUE))*Table1468[[#This Row],[Initial Price]])+Table1468[[#This Row],[Initial Price]]))))","v":""},{"$f":"IF($G78=YEAR(TODAY()),$E78,(IF($G78=0,\"\",IF(Table13[[#This Row],[Life Expectancy]]=0,H78, ((0.056*(Table1468[[#This Row],[Year of Failure]]-YEAR(TODAY()))*Table1468[[#This Row],[Current Predicted Cost (to purchase in 2024)]])+Table1468[[#This Row],[Current Predicted Cost (to purchase in 2024)]])))))","v":""},{"$f":"Table13[[#This Row],[Estimated Year of Failure]]","v":""}]
[{"$f":"Table13[[#This Row],[I.D. Number ]]","v":""},{"$f":"Table13[[#This Row],[Category]]","v":0},{"$f":"Table13[[#This Row],[Type]]","v":0},{"$f":"Table13[[#This Row],[Description]]","v":0},null,null,{"$f":"Table13[[#This Row],[Installation Year]]","v":0},{"$f":"IF($G79= YEAR(TODAY()),$E79,(IF($G79=0,\"\",IF(Table13[[#This Row],[Life Expectancy]]=0,((0.056*(YEAR(TODAY())-Table1468[[#This Row],[Year of Initial Price]])*Table1468[[#This Row],[Initial Price]])+Table1468[[#This Row],[Initial Price]]),((VLOOKUP(YEAR(TODAY()),'Inflation Data'!$A:$C,3,TRUE)-VLOOKUP(Table1468[[#This Row],[Year of Initial Price]],'Inflation Data'!$A:$C,3,TRUE))/(VLOOKUP(Table1468[[#This Row],[Year of Initial Price]],'Inflation Data'!$A:$C,3,TRUE))*Table1468[[#This Row],[Initial Price]])+Table1468[[#This Row],[Initial Price]]))))","v":""},{"$f":"IF($G79=YEAR(TODAY()),$E79,(IF($G79=0,\"\",IF(Table13[[#This Row],[Life Expectancy]]=0,H79, ((0.056*(Table1468[[#This Row],[Year of Failure]]-YEAR(TODAY()))*Table1468[[#This Row],[Current Predicted Cost (to purchase in 2024)]])+Table1468[[#This Row],[Current Predicted Cost (to purchase in 2024)]])))))","v":""},{"$f":"Table13[[#This Row],[Estimated Year of Failure]]","v":""}]
[{"$f":"Table13[[#This Row],[I.D. Number ]]","v":""},{"$f":"Table13[[#This Row],[Category]]","v":0},{"$f":"Table13[[#This Row],[Type]]","v":0},{"$f":"Table13[[#This Row],[Description]]","v":0},null,null,{"$f":"Table13[[#This Row],[Installation Year]]","v":0},{"$f":"IF($G80= YEAR(TODAY()),$E80,(IF($G80=0,\"\",IF(Table13[[#This Row],[Life Expectancy]]=0,((0.056*(YEAR(TODAY())-Table1468[[#This Row],[Year of Initial Price]])*Table1468[[#This Row],[Initial Price]])+Table1468[[#This Row],[Initial Price]]),((VLOOKUP(YEAR(TODAY()),'Inflation Data'!$A:$C,3,TRUE)-VLOOKUP(Table1468[[#This Row],[Year of Initial Price]],'Inflation Data'!$A:$C,3,TRUE))/(VLOOKUP(Table1468[[#This Row],[Year of Initial Price]],'Inflation Data'!$A:$C,3,TRUE))*Table1468[[#This Row],[Initial Price]])+Table1468[[#This Row],[Initial Price]]))))","v":""},{"$f":"IF($G80=YEAR(TODAY()),$E80,(IF($G80=0,\"\",IF(Table13[[#This Row],[Life Expectancy]]=0,H80, ((0.056*(Table1468[[#This Row],[Year of Failure]]-YEAR(TODAY()))*Table1468[[#This Row],[Current Predicted Cost (to purchase in 2024)]])+Table1468[[#This Row],[Current Predicted Cost (to purchase in 2024)]])))))","v":""},{"$f":"Table13[[#This Row],[Estimated Year of Failure]]","v":""}]
[{"$f":"Table13[[#This Row],[I.D. Number ]]","v":""},{"$f":"Table13[[#This Row],[Category]]","v":0},{"$f":"Table13[[#This Row],[Type]]","v":0},{"$f":"Table13[[#This Row],[Description]]","v":0},null,null,{"$f":"Table13[[#This Row],[Installation Year]]","v":0},{"$f":"IF($G81= YEAR(TODAY()),$E81,(IF($G81=0,\"\",IF(Table13[[#This Row],[Life Expectancy]]=0,((0.056*(YEAR(TODAY())-Table1468[[#This Row],[Year of Initial Price]])*Table1468[[#This Row],[Initial Price]])+Table1468[[#This Row],[Initial Price]]),((VLOOKUP(YEAR(TODAY()),'Inflation Data'!$A:$C,3,TRUE)-VLOOKUP(Table1468[[#This Row],[Year of Initial Price]],'Inflation Data'!$A:$C,3,TRUE))/(VLOOKUP(Table1468[[#This Row],[Year of Initial Price]],'Inflation Data'!$A:$C,3,TRUE))*Table1468[[#This Row],[Initial Price]])+Table1468[[#This Row],[Initial Price]]))))","v":""},{"$f":"IF($G81=YEAR(TODAY()),$E81,(IF($G81=0,\"\",IF(Table13[[#This Row],[Life Expectancy]]=0,H81, ((0.056*(Table1468[[#This Row],[Year of Failure]]-YEAR(TODAY()))*Table1468[[#This Row],[Current Predicted Cost (to purchase in 2024)]])+Table1468[[#This Row],[Current Predicted Cost (to purchase in 2024)]])))))","v":""},{"$f":"Table13[[#This Row],[Estimated Year of Failure]]","v":""}]
[{"$f":"Table13[[#This Row],[I.D. Number ]]","v":""},{"$f":"Table13[[#This Row],[Category]]","v":0},{"$f":"Table13[[#This Row],[Type]]","v":0},{"$f":"Table13[[#This Row],[Description]]","v":0},null,null,{"$f":"Table13[[#This Row],[Installation Year]]","v":0},{"$f":"IF($G82= YEAR(TODAY()),$E82,(IF($G82=0,\"\",IF(Table13[[#This Row],[Life Expectancy]]=0,((0.056*(YEAR(TODAY())-Table1468[[#This Row],[Year of Initial Price]])*Table1468[[#This Row],[Initial Price]])+Table1468[[#This Row],[Initial Price]]),((VLOOKUP(YEAR(TODAY()),'Inflation Data'!$A:$C,3,TRUE)-VLOOKUP(Table1468[[#This Row],[Year of Initial Price]],'Inflation Data'!$A:$C,3,TRUE))/(VLOOKUP(Table1468[[#This Row],[Year of Initial Price]],'Inflation Data'!$A:$C,3,TRUE))*Table1468[[#This Row],[Initial Price]])+Table1468[[#This Row],[Initial Price]]))))","v":""},{"$f":"IF($G82=YEAR(TODAY()),$E82,(IF($G82=0,\"\",IF(Table13[[#This Row],[Life Expectancy]]=0,H82, ((0.056*(Table1468[[#This Row],[Year of Failure]]-YEAR(TODAY()))*Table1468[[#This Row],[Current Predicted Cost (to purchase in 2024)]])+Table1468[[#This Row],[Current Predicted Cost (to purchase in 2024)]])))))","v":""},{"$f":"Table13[[#This Row],[Estimated Year of Failure]]","v":""}]
[{"$f":"Table13[[#This Row],[I.D. Number ]]","v":""},{"$f":"Table13[[#This Row],[Category]]","v":0},{"$f":"Table13[[#This Row],[Type]]","v":0},{"$f":"Table13[[#This Row],[Description]]","v":0},null,null,{"$f":"Table13[[#This Row],[Installation Year]]","v":0},{"$f":"IF($G83= YEAR(TODAY()),$E83,(IF($G83=0,\"\",IF(Table13[[#This Row],[Life Expectancy]]=0,((0.056*(YEAR(TODAY())-Table1468[[#This Row],[Year of Initial Price]])*Table1468[[#This Row],[Initial Price]])+Table1468[[#This Row],[Initial Price]]),((VLOOKUP(YEAR(TODAY()),'Inflation Data'!$A:$C,3,TRUE)-VLOOKUP(Table1468[[#This Row],[Year of Initial Price]],'Inflation Data'!$A:$C,3,TRUE))/(VLOOKUP(Table1468[[#This Row],[Year of Initial Price]],'Inflation Data'!$A:$C,3,TRUE))*Table1468[[#This Row],[Initial Price]])+Table1468[[#This Row],[Initial Price]]))))","v":""},{"$f":"IF($G83=YEAR(TODAY()),$E83,(IF($G83=0,\"\",IF(Table13[[#This Row],[Life Expectancy]]=0,H83, ((0.056*(Table1468[[#This Row],[Year of Failure]]-YEAR(TODAY()))*Table1468[[#This Row],[Current Predicted Cost (to purchase in 2024)]])+Table1468[[#This Row],[Current Predicted Cost (to purchase in 2024)]])))))","v":""},{"$f":"Table13[[#This Row],[Estimated Year of Failure]]","v":""}]
[{"$f":"Table13[[#This Row],[I.D. Number ]]","v":""},{"$f":"Table13[[#This Row],[Category]]","v":0},{"$f":"Table13[[#This Row],[Type]]","v":0},{"$f":"Table13[[#This Row],[Description]]","v":0},null,null,{"$f":"Table13[[#This Row],[Installation Year]]","v":0},{"$f":"IF($G84= YEAR(TODAY()),$E84,(IF($G84=0,\"\",IF(Table13[[#This Row],[Life Expectancy]]=0,((0.056*(YEAR(TODAY())-Table1468[[#This Row],[Year of Initial Price]])*Table1468[[#This Row],[Initial Price]])+Table1468[[#This Row],[Initial Price]]),((VLOOKUP(YEAR(TODAY()),'Inflation Data'!$A:$C,3,TRUE)-VLOOKUP(Table1468[[#This Row],[Year of Initial Price]],'Inflation Data'!$A:$C,3,TRUE))/(VLOOKUP(Table1468[[#This Row],[Year of Initial Price]],'Inflation Data'!$A:$C,3,TRUE))*Table1468[[#This Row],[Initial Price]])+Table1468[[#This Row],[Initial Price]]))))","v":""},{"$f":"IF($G84=YEAR(TODAY()),$E84,(IF($G84=0,\"\",IF(Table13[[#This Row],[Life Expectancy]]=0,H84, ((0.056*(Table1468[[#This Row],[Year of Failure]]-YEAR(TODAY()))*Table1468[[#This Row],[Current Predicted Cost (to purchase in 2024)]])+Table1468[[#This Row],[Current Predicted Cost (to purchase in 2024)]])))))","v":""},{"$f":"Table13[[#This Row],[Estimated Year of Failure]]","v":""}]
[{"$f":"Table13[[#This Row],[I.D. Number ]]","v":""},{"$f":"Table13[[#This Row],[Category]]","v":0},{"$f":"Table13[[#This Row],[Type]]","v":0},{"$f":"Table13[[#This Row],[Description]]","v":0},null,null,{"$f":"Table13[[#This Row],[Installation Year]]","v":0},{"$f":"IF($G85= YEAR(TODAY()),$E85,(IF($G85=0,\"\",IF(Table13[[#This Row],[Life Expectancy]]=0,((0.056*(YEAR(TODAY())-Table1468[[#This Row],[Year of Initial Price]])*Table1468[[#This Row],[Initial Price]])+Table1468[[#This Row],[Initial Price]]),((VLOOKUP(YEAR(TODAY()),'Inflation Data'!$A:$C,3,TRUE)-VLOOKUP(Table1468[[#This Row],[Year of Initial Price]],'Inflation Data'!$A:$C,3,TRUE))/(VLOOKUP(Table1468[[#This Row],[Year of Initial Price]],'Inflation Data'!$A:$C,3,TRUE))*Table1468[[#This Row],[Initial Price]])+Table1468[[#This Row],[Initial Price]]))))","v":""},{"$f":"IF($G85=YEAR(TODAY()),$E85,(IF($G85=0,\"\",IF(Table13[[#This Row],[Life Expectancy]]=0,H85, ((0.056*(Table1468[[#This Row],[Year of Failure]]-YEAR(TODAY()))*Table1468[[#This Row],[Current Predicted Cost (to purchase in 2024)]])+Table1468[[#This Row],[Current Predicted Cost (to purchase in 2024)]])))))","v":""},{"$f":"Table13[[#This Row],[Estimated Year of Failure]]","v":""}]
[{"$f":"Table13[[#This Row],[I.D. Number ]]","v":""},{"$f":"Table13[[#This Row],[Category]]","v":0},{"$f":"Table13[[#This Row],[Type]]","v":0},{"$f":"Table13[[#This Row],[Description]]","v":0},null,null,{"$f":"Table13[[#This Row],[Installation Year]]","v":0},{"$f":"IF($G86= YEAR(TODAY()),$E86,(IF($G86=0,\"\",IF(Table13[[#This Row],[Life Expectancy]]=0,((0.056*(YEAR(TODAY())-Table1468[[#This Row],[Year of Initial Price]])*Table1468[[#This Row],[Initial Price]])+Table1468[[#This Row],[Initial Price]]),((VLOOKUP(YEAR(TODAY()),'Inflation Data'!$A:$C,3,TRUE)-VLOOKUP(Table1468[[#This Row],[Year of Initial Price]],'Inflation Data'!$A:$C,3,TRUE))/(VLOOKUP(Table1468[[#This Row],[Year of Initial Price]],'Inflation Data'!$A:$C,3,TRUE))*Table1468[[#This Row],[Initial Price]])+Table1468[[#This Row],[Initial Price]]))))","v":""},{"$f":"IF($G86=YEAR(TODAY()),$E86,(IF($G86=0,\"\",IF(Table13[[#This Row],[Life Expectancy]]=0,H86, ((0.056*(Table1468[[#This Row],[Year of Failure]]-YEAR(TODAY()))*Table1468[[#This Row],[Current Predicted Cost (to purchase in 2024)]])+Table1468[[#This Row],[Current Predicted Cost (to purchase in 2024)]])))))","v":""},{"$f":"Table13[[#This Row],[Estimated Year of Failure]]","v":""}]
[{"$f":"Table13[[#This Row],[I.D. Number ]]","v":""},{"$f":"Table13[[#This Row],[Category]]","v":0},{"$f":"Table13[[#This Row],[Type]]","v":0},{"$f":"Table13[[#This Row],[Description]]","v":0},null,null,{"$f":"Table13[[#This Row],[Installation Year]]","v":0},{"$f":"IF($G87= YEAR(TODAY()),$E87,(IF($G87=0,\"\",IF(Table13[[#This Row],[Life Expectancy]]=0,((0.056*(YEAR(TODAY())-Table1468[[#This Row],[Year of Initial Price]])*Table1468[[#This Row],[Initial Price]])+Table1468[[#This Row],[Initial Price]]),((VLOOKUP(YEAR(TODAY()),'Inflation Data'!$A:$C,3,TRUE)-VLOOKUP(Table1468[[#This Row],[Year of Initial Price]],'Inflation Data'!$A:$C,3,TRUE))/(VLOOKUP(Table1468[[#This Row],[Year of Initial Price]],'Inflation Data'!$A:$C,3,TRUE))*Table1468[[#This Row],[Initial Price]])+Table1468[[#This Row],[Initial Price]]))))","v":""},{"$f":"IF($G87=YEAR(TODAY()),$E87,(IF($G87=0,\"\",IF(Table13[[#This Row],[Life Expectancy]]=0,H87, ((0.056*(Table1468[[#This Row],[Year of Failure]]-YEAR(TODAY()))*Table1468[[#This Row],[Current Predicted Cost (to purchase in 2024)]])+Table1468[[#This Row],[Current Predicted Cost (to purchase in 2024)]])))))","v":""},{"$f":"Table13[[#This Row],[Estimated Year of Failure]]","v":""}]
[{"$f":"Table13[[#This Row],[I.D. Number ]]","v":""},{"$f":"Table13[[#This Row],[Category]]","v":0},{"$f":"Table13[[#This Row],[Type]]","v":0},{"$f":"Table13[[#This Row],[Description]]","v":0},null,null,{"$f":"Table13[[#This Row],[Installation Year]]","v":0},{"$f":"IF($G88= YEAR(TODAY()),$E88,(IF($G88=0,\"\",IF(Table13[[#This Row],[Life Expectancy]]=0,((0.056*(YEAR(TODAY())-Table1468[[#This Row],[Year of Initial Price]])*Table1468[[#This Row],[Initial Price]])+Table1468[[#This Row],[Initial Price]]),((VLOOKUP(YEAR(TODAY()),'Inflation Data'!$A:$C,3,TRUE)-VLOOKUP(Table1468[[#This Row],[Year of Initial Price]],'Inflation Data'!$A:$C,3,TRUE))/(VLOOKUP(Table1468[[#This Row],[Year of Initial Price]],'Inflation Data'!$A:$C,3,TRUE))*Table1468[[#This Row],[Initial Price]])+Table1468[[#This Row],[Initial Price]]))))","v":""},{"$f":"IF($G88=YEAR(TODAY()),$E88,(IF($G88=0,\"\",IF(Table13[[#This Row],[Life Expectancy]]=0,H88, ((0.056*(Table1468[[#This Row],[Year of Failure]]-YEAR(TODAY()))*Table1468[[#This Row],[Current Predicted Cost (to purchase in 2024)]])+Table1468[[#This Row],[Current Predicted Cost (to purchase in 2024)]])))))","v":""},{"$f":"Table13[[#This Row],[Estimated Year of Failure]]","v":""}]
[{"$f":"Table13[[#This Row],[I.D. Number ]]","v":""},{"$f":"Table13[[#This Row],[Category]]","v":0},{"$f":"Table13[[#This Row],[Type]]","v":0},{"$f":"Table13[[#This Row],[Description]]","v":0},null,null,{"$f":"Table13[[#This Row],[Installation Year]]","v":0},{"$f":"IF($G89= YEAR(TODAY()),$E89,(IF($G89=0,\"\",IF(Table13[[#This Row],[Life Expectancy]]=0,((0.056*(YEAR(TODAY())-Table1468[[#This Row],[Year of Initial Price]])*Table1468[[#This Row],[Initial Price]])+Table1468[[#This Row],[Initial Price]]),((VLOOKUP(YEAR(TODAY()),'Inflation Data'!$A:$C,3,TRUE)-VLOOKUP(Table1468[[#This Row],[Year of Initial Price]],'Inflation Data'!$A:$C,3,TRUE))/(VLOOKUP(Table1468[[#This Row],[Year of Initial Price]],'Inflation Data'!$A:$C,3,TRUE))*Table1468[[#This Row],[Initial Price]])+Table1468[[#This Row],[Initial Price]]))))","v":""},{"$f":"IF($G89=YEAR(TODAY()),$E89,(IF($G89=0,\"\",IF(Table13[[#This Row],[Life Expectancy]]=0,H89, ((0.056*(Table1468[[#This Row],[Year of Failure]]-YEAR(TODAY()))*Table1468[[#This Row],[Current Predicted Cost (to purchase in 2024)]])+Table1468[[#This Row],[Current Predicted Cost (to purchase in 2024)]])))))","v":""},{"$f":"Table13[[#This Row],[Estimated Year of Failure]]","v":""}]
[{"$f":"Table13[[#This Row],[I.D. Number ]]","v":""},{"$f":"Table13[[#This Row],[Category]]","v":0},{"$f":"Table13[[#This Row],[Type]]","v":0},{"$f":"Table13[[#This Row],[Description]]","v":0},null,null,{"$f":"Table13[[#This Row],[Installation Year]]","v":0},{"$f":"IF($G90= YEAR(TODAY()),$E90,(IF($G90=0,\"\",IF(Table13[[#This Row],[Life Expectancy]]=0,((0.056*(YEAR(TODAY())-Table1468[[#This Row],[Year of Initial Price]])*Table1468[[#This Row],[Initial Price]])+Table1468[[#This Row],[Initial Price]]),((VLOOKUP(YEAR(TODAY()),'Inflation Data'!$A:$C,3,TRUE)-VLOOKUP(Table1468[[#This Row],[Year of Initial Price]],'Inflation Data'!$A:$C,3,TRUE))/(VLOOKUP(Table1468[[#This Row],[Year of Initial Price]],'Inflation Data'!$A:$C,3,TRUE))*Table1468[[#This Row],[Initial Price]])+Table1468[[#This Row],[Initial Price]]))))","v":""},{"$f":"IF($G90=YEAR(TODAY()),$E90,(IF($G90=0,\"\",IF(Table13[[#This Row],[Life Expectancy]]=0,H90, ((0.056*(Table1468[[#This Row],[Year of Failure]]-YEAR(TODAY()))*Table1468[[#This Row],[Current Predicted Cost (to purchase in 2024)]])+Table1468[[#This Row],[Current Predicted Cost (to purchase in 2024)]])))))","v":""},{"$f":"Table13[[#This Row],[Estimated Year of Failure]]","v":""}]
[{"$f":"Table13[[#This Row],[I.D. Number ]]","v":""},{"$f":"Table13[[#This Row],[Category]]","v":0},{"$f":"Table13[[#This Row],[Type]]","v":0},{"$f":"Table13[[#This Row],[Description]]","v":0},null,null,{"$f":"Table13[[#This Row],[Installation Year]]","v":0},{"$f":"IF($G91= YEAR(TODAY()),$E91,(IF($G91=0,\"\",IF(Table13[[#This Row],[Life Expectancy]]=0,((0.056*(YEAR(TODAY())-Table1468[[#This Row],[Year of Initial Price]])*Table1468[[#This Row],[Initial Price]])+Table1468[[#This Row],[Initial Price]]),((VLOOKUP(YEAR(TODAY()),'Inflation Data'!$A:$C,3,TRUE)-VLOOKUP(Table1468[[#This Row],[Year of Initial Price]],'Inflation Data'!$A:$C,3,TRUE))/(VLOOKUP(Table1468[[#This Row],[Year of Initial Price]],'Inflation Data'!$A:$C,3,TRUE))*Table1468[[#This Row],[Initial Price]])+Table1468[[#This Row],[Initial Price]]))))","v":""},{"$f":"IF($G91=YEAR(TODAY()),$E91,(IF($G91=0,\"\",IF(Table13[[#This Row],[Life Expectancy]]=0,H91, ((0.056*(Table1468[[#This Row],[Year of Failure]]-YEAR(TODAY()))*Table1468[[#This Row],[Current Predicted Cost (to purchase in 2024)]])+Table1468[[#This Row],[Current Predicted Cost (to purchase in 2024)]])))))","v":""},{"$f":"Table13[[#This Row],[Estimated Year of Failure]]","v":""}]
[{"$f":"Table13[[#This Row],[I.D. Number ]]","v":""},{"$f":"Table13[[#This Row],[Category]]","v":0},{"$f":"Table13[[#This Row],[Type]]","v":0},{"$f":"Table13[[#This Row],[Description]]","v":0},null,null,{"$f":"Table13[[#This Row],[Installation Year]]","v":0},{"$f":"IF($G92= YEAR(TODAY()),$E92,(IF($G92=0,\"\",IF(Table13[[#This Row],[Life Expectancy]]=0,((0.056*(YEAR(TODAY())-Table1468[[#This Row],[Year of Initial Price]])*Table1468[[#This Row],[Initial Price]])+Table1468[[#This Row],[Initial Price]]),((VLOOKUP(YEAR(TODAY()),'Inflation Data'!$A:$C,3,TRUE)-VLOOKUP(Table1468[[#This Row],[Year of Initial Price]],'Inflation Data'!$A:$C,3,TRUE))/(VLOOKUP(Table1468[[#This Row],[Year of Initial Price]],'Inflation Data'!$A:$C,3,TRUE))*Table1468[[#This Row],[Initial Price]])+Table1468[[#This Row],[Initial Price]]))))","v":""},{"$f":"IF($G92=YEAR(TODAY()),$E92,(IF($G92=0,\"\",IF(Table13[[#This Row],[Life Expectancy]]=0,H92, ((0.056*(Table1468[[#This Row],[Year of Failure]]-YEAR(TODAY()))*Table1468[[#This Row],[Current Predicted Cost (to purchase in 2024)]])+Table1468[[#This Row],[Current Predicted Cost (to purchase in 2024)]])))))","v":""},{"$f":"Table13[[#This Row],[Estimated Year of Failure]]","v":""}]
[{"$f":"Table13[[#This Row],[I.D. Number ]]","v":""},{"$f":"Table13[[#This Row],[Category]]","v":0},{"$f":"Table13[[#This Row],[Type]]","v":0},{"$f":"Table13[[#This Row],[Description]]","v":0},null,null,{"$f":"Table13[[#This Row],[Installation Year]]","v":0},{"$f":"IF($G93= YEAR(TODAY()),$E93,(IF($G93=0,\"\",IF(Table13[[#This Row],[Life Expectancy]]=0,((0.056*(YEAR(TODAY())-Table1468[[#This Row],[Year of Initial Price]])*Table1468[[#This Row],[Initial Price]])+Table1468[[#This Row],[Initial Price]]),((VLOOKUP(YEAR(TODAY()),'Inflation Data'!$A:$C,3,TRUE)-VLOOKUP(Table1468[[#This Row],[Year of Initial Price]],'Inflation Data'!$A:$C,3,TRUE))/(VLOOKUP(Table1468[[#This Row],[Year of Initial Price]],'Inflation Data'!$A:$C,3,TRUE))*Table1468[[#This Row],[Initial Price]])+Table1468[[#This Row],[Initial Price]]))))","v":""},{"$f":"IF($G93=YEAR(TODAY()),$E93,(IF($G93=0,\"\",IF(Table13[[#This Row],[Life Expectancy]]=0,H93, ((0.056*(Table1468[[#This Row],[Year of Failure]]-YEAR(TODAY()))*Table1468[[#This Row],[Current Predicted Cost (to purchase in 2024)]])+Table1468[[#This Row],[Current Predicted Cost (to purchase in 2024)]])))))","v":""},{"$f":"Table13[[#This Row],[Estimated Year of Failure]]","v":""}]
[{"$f":"Table13[[#This Row],[I.D. Number ]]","v":""},{"$f":"Table13[[#This Row],[Category]]","v":0},{"$f":"Table13[[#This Row],[Type]]","v":0},{"$f":"Table13[[#This Row],[Description]]","v":0},null,null,{"$f":"Table13[[#This Row],[Installation Year]]","v":0},{"$f":"IF($G94= YEAR(TODAY()),$E94,(IF($G94=0,\"\",IF(Table13[[#This Row],[Life Expectancy]]=0,((0.056*(YEAR(TODAY())-Table1468[[#This Row],[Year of Initial Price]])*Table1468[[#This Row],[Initial Price]])+Table1468[[#This Row],[Initial Price]]),((VLOOKUP(YEAR(TODAY()),'Inflation Data'!$A:$C,3,TRUE)-VLOOKUP(Table1468[[#This Row],[Year of Initial Price]],'Inflation Data'!$A:$C,3,TRUE))/(VLOOKUP(Table1468[[#This Row],[Year of Initial Price]],'Inflation Data'!$A:$C,3,TRUE))*Table1468[[#This Row],[Initial Price]])+Table1468[[#This Row],[Initial Price]]))))","v":""},{"$f":"IF($G94=YEAR(TODAY()),$E94,(IF($G94=0,\"\",IF(Table13[[#This Row],[Life Expectancy]]=0,H94, ((0.056*(Table1468[[#This Row],[Year of Failure]]-YEAR(TODAY()))*Table1468[[#This Row],[Current Predicted Cost (to purchase in 2024)]])+Table1468[[#This Row],[Current Predicted Cost (to purchase in 2024)]])))))","v":""},{"$f":"Table13[[#This Row],[Estimated Year of Failure]]","v":""}]
[{"$f":"Table13[[#This Row],[I.D. Number ]]","v":""},{"$f":"Table13[[#This Row],[Category]]","v":0},{"$f":"Table13[[#This Row],[Type]]","v":0},{"$f":"Table13[[#This Row],[Description]]","v":0},null,null,{"$f":"Table13[[#This Row],[Installation Year]]","v":0},{"$f":"IF($G95= YEAR(TODAY()),$E95,(IF($G95=0,\"\",IF(Table13[[#This Row],[Life Expectancy]]=0,((0.056*(YEAR(TODAY())-Table1468[[#This Row],[Year of Initial Price]])*Table1468[[#This Row],[Initial Price]])+Table1468[[#This Row],[Initial Price]]),((VLOOKUP(YEAR(TODAY()),'Inflation Data'!$A:$C,3,TRUE)-VLOOKUP(Table1468[[#This Row],[Year of Initial Price]],'Inflation Data'!$A:$C,3,TRUE))/(VLOOKUP(Table1468[[#This Row],[Year of Initial Price]],'Inflation Data'!$A:$C,3,TRUE))*Table1468[[#This Row],[Initial Price]])+Table1468[[#This Row],[Initial Price]]))))","v":""},{"$f":"IF($G95=YEAR(TODAY()),$E95,(IF($G95=0,\"\",IF(Table13[[#This Row],[Life Expectancy]]=0,H95, ((0.056*(Table1468[[#This Row],[Year of Failure]]-YEAR(TODAY()))*Table1468[[#This Row],[Current Predicted Cost (to purchase in 2024)]])+Table1468[[#This Row],[Current Predicted Cost (to purchase in 2024)]])))))","v":""},{"$f":"Table13[[#This Row],[Estimated Year of Failure]]","v":""}]
[{"$f":"Table13[[#This Row],[I.D. Number ]]","v":""},{"$f":"Table13[[#This Row],[Category]]","v":0},{"$f":"Table13[[#This Row],[Type]]","v":0},{"$f":"Table13[[#This Row],[Description]]","v":0},null,null,{"$f":"Table13[[#This Row],[Installation Year]]","v":0},{"$f":"IF($G96= YEAR(TODAY()),$E96,(IF($G96=0,\"\",IF(Table13[[#This Row],[Life Expectancy]]=0,((0.056*(YEAR(TODAY())-Table1468[[#This Row],[Year of Initial Price]])*Table1468[[#This Row],[Initial Price]])+Table1468[[#This Row],[Initial Price]]),((VLOOKUP(YEAR(TODAY()),'Inflation Data'!$A:$C,3,TRUE)-VLOOKUP(Table1468[[#This Row],[Year of Initial Price]],'Inflation Data'!$A:$C,3,TRUE))/(VLOOKUP(Table1468[[#This Row],[Year of Initial Price]],'Inflation Data'!$A:$C,3,TRUE))*Table1468[[#This Row],[Initial Price]])+Table1468[[#This Row],[Initial Price]]))))","v":""},{"$f":"IF($G96=YEAR(TODAY()),$E96,(IF($G96=0,\"\",IF(Table13[[#This Row],[Life Expectancy]]=0,H96, ((0.056*(Table1468[[#This Row],[Year of Failure]]-YEAR(TODAY()))*Table1468[[#This Row],[Current Predicted Cost (to purchase in 2024)]])+Table1468[[#This Row],[Current Predicted Cost (to purchase in 2024)]])))))","v":""},{"$f":"Table13[[#This Row],[Estimated Year of Failure]]","v":""}]
[{"$f":"Table13[[#This Row],[I.D. Number ]]","v":""},{"$f":"Table13[[#This Row],[Category]]","v":0},{"$f":"Table13[[#This Row],[Type]]","v":0},{"$f":"Table13[[#This Row],[Description]]","v":0},null,null,{"$f":"Table13[[#This Row],[Installation Year]]","v":0},{"$f":"IF($G97= YEAR(TODAY()),$E97,(IF($G97=0,\"\",IF(Table13[[#This Row],[Life Expectancy]]=0,((0.056*(YEAR(TODAY())-Table1468[[#This Row],[Year of Initial Price]])*Table1468[[#This Row],[Initial Price]])+Table1468[[#This Row],[Initial Price]]),((VLOOKUP(YEAR(TODAY()),'Inflation Data'!$A:$C,3,TRUE)-VLOOKUP(Table1468[[#This Row],[Year of Initial Price]],'Inflation Data'!$A:$C,3,TRUE))/(VLOOKUP(Table1468[[#This Row],[Year of Initial Price]],'Inflation Data'!$A:$C,3,TRUE))*Table1468[[#This Row],[Initial Price]])+Table1468[[#This Row],[Initial Price]]))))","v":""},{"$f":"IF($G97=YEAR(TODAY()),$E97,(IF($G97=0,\"\",IF(Table13[[#This Row],[Life Expectancy]]=0,H97, ((0.056*(Table1468[[#This Row],[Year of Failure]]-YEAR(TODAY()))*Table1468[[#This Row],[Current Predicted Cost (to purchase in 2024)]])+Table1468[[#This Row],[Current Predicted Cost (to purchase in 2024)]])))))","v":""},{"$f":"Table13[[#This Row],[Estimated Year of Failure]]","v":""}]
[{"$f":"Table13[[#This Row],[I.D. Number ]]","v":""},{"$f":"Table13[[#This Row],[Category]]","v":0},{"$f":"Table13[[#This Row],[Type]]","v":0},{"$f":"Table13[[#This Row],[Description]]","v":0},null,null,{"$f":"Table13[[#This Row],[Installation Year]]","v":0},{"$f":"IF($G98= YEAR(TODAY()),$E98,(IF($G98=0,\"\",IF(Table13[[#This Row],[Life Expectancy]]=0,((0.056*(YEAR(TODAY())-Table1468[[#This Row],[Year of Initial Price]])*Table1468[[#This Row],[Initial Price]])+Table1468[[#This Row],[Initial Price]]),((VLOOKUP(YEAR(TODAY()),'Inflation Data'!$A:$C,3,TRUE)-VLOOKUP(Table1468[[#This Row],[Year of Initial Price]],'Inflation Data'!$A:$C,3,TRUE))/(VLOOKUP(Table1468[[#This Row],[Year of Initial Price]],'Inflation Data'!$A:$C,3,TRUE))*Table1468[[#This Row],[Initial Price]])+Table1468[[#This Row],[Initial Price]]))))","v":""},{"$f":"IF($G98=YEAR(TODAY()),$E98,(IF($G98=0,\"\",IF(Table13[[#This Row],[Life Expectancy]]=0,H98, ((0.056*(Table1468[[#This Row],[Year of Failure]]-YEAR(TODAY()))*Table1468[[#This Row],[Current Predicted Cost (to purchase in 2024)]])+Table1468[[#This Row],[Current Predicted Cost (to purchase in 2024)]])))))","v":""},{"$f":"Table13[[#This Row],[Estimated Year of Failure]]","v":""}]
[{"$f":"Table13[[#This Row],[I.D. Number ]]","v":""},{"$f":"Table13[[#This Row],[Category]]","v":0},{"$f":"Table13[[#This Row],[Type]]","v":0},{"$f":"Table13[[#This Row],[Description]]","v":0},null,null,{"$f":"Table13[[#This Row],[Installation Year]]","v":0},{"$f":"IF($G99= YEAR(TODAY()),$E99,(IF($G99=0,\"\",IF(Table13[[#This Row],[Life Expectancy]]=0,((0.056*(YEAR(TODAY())-Table1468[[#This Row],[Year of Initial Price]])*Table1468[[#This Row],[Initial Price]])+Table1468[[#This Row],[Initial Price]]),((VLOOKUP(YEAR(TODAY()),'Inflation Data'!$A:$C,3,TRUE)-VLOOKUP(Table1468[[#This Row],[Year of Initial Price]],'Inflation Data'!$A:$C,3,TRUE))/(VLOOKUP(Table1468[[#This Row],[Year of Initial Price]],'Inflation Data'!$A:$C,3,TRUE))*Table1468[[#This Row],[Initial Price]])+Table1468[[#This Row],[Initial Price]]))))","v":""},{"$f":"IF($G99=YEAR(TODAY()),$E99,(IF($G99=0,\"\",IF(Table13[[#This Row],[Life Expectancy]]=0,H99, ((0.056*(Table1468[[#This Row],[Year of Failure]]-YEAR(TODAY()))*Table1468[[#This Row],[Current Predicted Cost (to purchase in 2024)]])+Table1468[[#This Row],[Current Predicted Cost (to purchase in 2024)]])))))","v":""},{"$f":"Table13[[#This Row],[Estimated Year of Failure]]","v":""}]
[{"$f":"Table13[[#This Row],[I.D. Number ]]","v":""},{"$f":"Table13[[#This Row],[Category]]","v":0},{"$f":"Table13[[#This Row],[Type]]","v":0},{"$f":"Table13[[#This Row],[Description]]","v":0},null,null,{"$f":"Table13[[#This Row],[Installation Year]]","v":0},{"$f":"IF($G100= YEAR(TODAY()),$E100,(IF($G100=0,\"\",IF(Table13[[#This Row],[Life Expectancy]]=0,((0.056*(YEAR(TODAY())-Table1468[[#This Row],[Year of Initial Price]])*Table1468[[#This Row],[Initial Price]])+Table1468[[#This Row],[Initial Price]]),((VLOOKUP(YEAR(TODAY()),'Inflation Data'!$A:$C,3,TRUE)-VLOOKUP(Table1468[[#This Row],[Year of Initial Price]],'Inflation Data'!$A:$C,3,TRUE))/(VLOOKUP(Table1468[[#This Row],[Year of Initial Price]],'Inflation Data'!$A:$C,3,TRUE))*Table1468[[#This Row],[Initial Price]])+Table1468[[#This Row],[Initial Price]]))))","v":""},{"$f":"IF($G100=YEAR(TODAY()),$E100,(IF($G100=0,\"\",IF(Table13[[#This Row],[Life Expectancy]]=0,H100, ((0.056*(Table1468[[#This Row],[Year of Failure]]-YEAR(TODAY()))*Table1468[[#This Row],[Current Predicted Cost (to purchase in 2024)]])+Table1468[[#This Row],[Current Predicted Cost (to purchase in 2024)]])))))","v":""},{"$f":"Table13[[#This Row],[Estimated Year of Failure]]","v":""}]
[{"$f":"Table13[[#This Row],[I.D. Number ]]","v":""},{"$f":"Table13[[#This Row],[Category]]","v":0},{"$f":"Table13[[#This Row],[Type]]","v":0},{"$f":"Table13[[#This Row],[Description]]","v":0},null,null,{"$f":"Table13[[#This Row],[Installation Year]]","v":0},{"$f":"IF($G101= YEAR(TODAY()),$E101,(IF($G101=0,\"\",IF(Table13[[#This Row],[Life Expectancy]]=0,((0.056*(YEAR(TODAY())-Table1468[[#This Row],[Year of Initial Price]])*Table1468[[#This Row],[Initial Price]])+Table1468[[#This Row],[Initial Price]]),((VLOOKUP(YEAR(TODAY()),'Inflation Data'!$A:$C,3,TRUE)-VLOOKUP(Table1468[[#This Row],[Year of Initial Price]],'Inflation Data'!$A:$C,3,TRUE))/(VLOOKUP(Table1468[[#This Row],[Year of Initial Price]],'Inflation Data'!$A:$C,3,TRUE))*Table1468[[#This Row],[Initial Price]])+Table1468[[#This Row],[Initial Price]]))))","v":""},{"$f":"IF($G101=YEAR(TODAY()),$E101,(IF($G101=0,\"\",IF(Table13[[#This Row],[Life Expectancy]]=0,H101, ((0.056*(Table1468[[#This Row],[Year of Failure]]-YEAR(TODAY()))*Table1468[[#This Row],[Current Predicted Cost (to purchase in 2024)]])+Table1468[[#This Row],[Current Predicted Cost (to purchase in 2024)]])))))","v":""},{"$f":"Table13[[#This Row],[Estimated Year of Failure]]","v":""}]
[{"$f":"Table13[[#This Row],[I.D. Number ]]","v":""},{"$f":"Table13[[#This Row],[Category]]","v":0},{"$f":"Table13[[#This Row],[Type]]","v":0},{"$f":"Table13[[#This Row],[Description]]","v":0},null,null,{"$f":"Table13[[#This Row],[Installation Year]]","v":0},{"$f":"IF($G102= YEAR(TODAY()),$E102,(IF($G102=0,\"\",IF(Table13[[#This Row],[Life Expectancy]]=0,((0.056*(YEAR(TODAY())-Table1468[[#This Row],[Year of Initial Price]])*Table1468[[#This Row],[Initial Price]])+Table1468[[#This Row],[Initial Price]]),((VLOOKUP(YEAR(TODAY()),'Inflation Data'!$A:$C,3,TRUE)-VLOOKUP(Table1468[[#This Row],[Year of Initial Price]],'Inflation Data'!$A:$C,3,TRUE))/(VLOOKUP(Table1468[[#This Row],[Year of Initial Price]],'Inflation Data'!$A:$C,3,TRUE))*Table1468[[#This Row],[Initial Price]])+Table1468[[#This Row],[Initial Price]]))))","v":""},{"$f":"IF($G102=YEAR(TODAY()),$E102,(IF($G102=0,\"\",IF(Table13[[#This Row],[Life Expectancy]]=0,H102, ((0.056*(Table1468[[#This Row],[Year of Failure]]-YEAR(TODAY()))*Table1468[[#This Row],[Current Predicted Cost (to purchase in 2024)]])+Table1468[[#This Row],[Current Predicted Cost (to purchase in 2024)]])))))","v":""},{"$f":"Table13[[#This Row],[Estimated Year of Failure]]","v":""}]
[{"$f":"Table13[[#This Row],[I.D. Number ]]","v":""},{"$f":"Table13[[#This Row],[Category]]","v":0},{"$f":"Table13[[#This Row],[Type]]","v":0},{"$f":"Table13[[#This Row],[Description]]","v":0},null,null,{"$f":"Table13[[#This Row],[Installation Year]]","v":0},{"$f":"IF($G103= YEAR(TODAY()),$E103,(IF($G103=0,\"\",IF(Table13[[#This Row],[Life Expectancy]]=0,((0.056*(YEAR(TODAY())-Table1468[[#This Row],[Year of Initial Price]])*Table1468[[#This Row],[Initial Price]])+Table1468[[#This Row],[Initial Price]]),((VLOOKUP(YEAR(TODAY()),'Inflation Data'!$A:$C,3,TRUE)-VLOOKUP(Table1468[[#This Row],[Year of Initial Price]],'Inflation Data'!$A:$C,3,TRUE))/(VLOOKUP(Table1468[[#This Row],[Year of Initial Price]],'Inflation Data'!$A:$C,3,TRUE))*Table1468[[#This Row],[Initial Price]])+Table1468[[#This Row],[Initial Price]]))))","v":""},{"$f":"IF($G103=YEAR(TODAY()),$E103,(IF($G103=0,\"\",IF(Table13[[#This Row],[Life Expectancy]]=0,H103, ((0.056*(Table1468[[#This Row],[Year of Failure]]-YEAR(TODAY()))*Table1468[[#This Row],[Current Predicted Cost (to purchase in 2024)]])+Table1468[[#This Row],[Current Predicted Cost (to purchase in 2024)]])))))","v":""},{"$f":"Table13[[#This Row],[Estimated Year of Failure]]","v":""}]
[{"$f":"Table13[[#This Row],[I.D. Number ]]","v":""},{"$f":"Table13[[#This Row],[Category]]","v":0},{"$f":"Table13[[#This Row],[Type]]","v":0},{"$f":"Table13[[#This Row],[Description]]","v":0},null,null,{"$f":"Table13[[#This Row],[Installation Year]]","v":0},{"$f":"IF($G104= YEAR(TODAY()),$E104,(IF($G104=0,\"\",IF(Table13[[#This Row],[Life Expectancy]]=0,((0.056*(YEAR(TODAY())-Table1468[[#This Row],[Year of Initial Price]])*Table1468[[#This Row],[Initial Price]])+Table1468[[#This Row],[Initial Price]]),((VLOOKUP(YEAR(TODAY()),'Inflation Data'!$A:$C,3,TRUE)-VLOOKUP(Table1468[[#This Row],[Year of Initial Price]],'Inflation Data'!$A:$C,3,TRUE))/(VLOOKUP(Table1468[[#This Row],[Year of Initial Price]],'Inflation Data'!$A:$C,3,TRUE))*Table1468[[#This Row],[Initial Price]])+Table1468[[#This Row],[Initial Price]]))))","v":""},{"$f":"IF($G104=YEAR(TODAY()),$E104,(IF($G104=0,\"\",IF(Table13[[#This Row],[Life Expectancy]]=0,H104, ((0.056*(Table1468[[#This Row],[Year of Failure]]-YEAR(TODAY()))*Table1468[[#This Row],[Current Predicted Cost (to purchase in 2024)]])+Table1468[[#This Row],[Current Predicted Cost (to purchase in 2024)]])))))","v":""},{"$f":"Table13[[#This Row],[Estimated Year of Failure]]","v":""}]
[{"$f":"Table13[[#This Row],[I.D. Number ]]","v":""},{"$f":"Table13[[#This Row],[Category]]","v":0},{"$f":"Table13[[#This Row],[Type]]","v":0},{"$f":"Table13[[#This Row],[Description]]","v":0},null,null,{"$f":"Table13[[#This Row],[Installation Year]]","v":0},{"$f":"IF($G105= YEAR(TODAY()),$E105,(IF($G105=0,\"\",IF(Table13[[#This Row],[Life Expectancy]]=0,((0.056*(YEAR(TODAY())-Table1468[[#This Row],[Year of Initial Price]])*Table1468[[#This Row],[Initial Price]])+Table1468[[#This Row],[Initial Price]]),((VLOOKUP(YEAR(TODAY()),'Inflation Data'!$A:$C,3,TRUE)-VLOOKUP(Table1468[[#This Row],[Year of Initial Price]],'Inflation Data'!$A:$C,3,TRUE))/(VLOOKUP(Table1468[[#This Row],[Year of Initial Price]],'Inflation Data'!$A:$C,3,TRUE))*Table1468[[#This Row],[Initial Price]])+Table1468[[#This Row],[Initial Price]]))))","v":""},{"$f":"IF($G105=YEAR(TODAY()),$E105,(IF($G105=0,\"\",IF(Table13[[#This Row],[Life Expectancy]]=0,H105, ((0.056*(Table1468[[#This Row],[Year of Failure]]-YEAR(TODAY()))*Table1468[[#This Row],[Current Predicted Cost (to purchase in 2024)]])+Table1468[[#This Row],[Current Predicted Cost (to purchase in 2024)]])))))","v":""},{"$f":"Table13[[#This Row],[Estimated Year of Failure]]","v":""}]
[{"$f":"Table13[[#This Row],[I.D. Number ]]","v":""},{"$f":"Table13[[#This Row],[Category]]","v":0},{"$f":"Table13[[#This Row],[Type]]","v":0},{"$f":"Table13[[#This Row],[Description]]","v":0},null,null,{"$f":"Table13[[#This Row],[Installation Year]]","v":0},{"$f":"IF($G106= YEAR(TODAY()),$E106,(IF($G106=0,\"\",IF(Table13[[#This Row],[Life Expectancy]]=0,((0.056*(YEAR(TODAY())-Table1468[[#This Row],[Year of Initial Price]])*Table1468[[#This Row],[Initial Price]])+Table1468[[#This Row],[Initial Price]]),((VLOOKUP(YEAR(TODAY()),'Inflation Data'!$A:$C,3,TRUE)-VLOOKUP(Table1468[[#This Row],[Year of Initial Price]],'Inflation Data'!$A:$C,3,TRUE))/(VLOOKUP(Table1468[[#This Row],[Year of Initial Price]],'Inflation Data'!$A:$C,3,TRUE))*Table1468[[#This Row],[Initial Price]])+Table1468[[#This Row],[Initial Price]]))))","v":""},{"$f":"IF($G106=YEAR(TODAY()),$E106,(IF($G106=0,\"\",IF(Table13[[#This Row],[Life Expectancy]]=0,H106, ((0.056*(Table1468[[#This Row],[Year of Failure]]-YEAR(TODAY()))*Table1468[[#This Row],[Current Predicted Cost (to purchase in 2024)]])+Table1468[[#This Row],[Current Predicted Cost (to purchase in 2024)]])))))","v":""},{"$f":"Table13[[#This Row],[Estimated Year of Failure]]","v":""}]
[{"$f":"Table13[[#This Row],[I.D. Number ]]","v":""},{"$f":"Table13[[#This Row],[Category]]","v":0},{"$f":"Table13[[#This Row],[Type]]","v":0},{"$f":"Table13[[#This Row],[Description]]","v":0},null,null,{"$f":"Table13[[#This Row],[Installation Year]]","v":0},{"$f":"IF($G107= YEAR(TODAY()),$E107,(IF($G107=0,\"\",IF(Table13[[#This Row],[Life Expectancy]]=0,((0.056*(YEAR(TODAY())-Table1468[[#This Row],[Year of Initial Price]])*Table1468[[#This Row],[Initial Price]])+Table1468[[#This Row],[Initial Price]]),((VLOOKUP(YEAR(TODAY()),'Inflation Data'!$A:$C,3,TRUE)-VLOOKUP(Table1468[[#This Row],[Year of Initial Price]],'Inflation Data'!$A:$C,3,TRUE))/(VLOOKUP(Table1468[[#This Row],[Year of Initial Price]],'Inflation Data'!$A:$C,3,TRUE))*Table1468[[#This Row],[Initial Price]])+Table1468[[#This Row],[Initial Price]]))))","v":""},{"$f":"IF($G107=YEAR(TODAY()),$E107,(IF($G107=0,\"\",IF(Table13[[#This Row],[Life Expectancy]]=0,H107, ((0.056*(Table1468[[#This Row],[Year of Failure]]-YEAR(TODAY()))*Table1468[[#This Row],[Current Predicted Cost (to purchase in 2024)]])+Table1468[[#This Row],[Current Predicted Cost (to purchase in 2024)]])))))","v":""},{"$f":"Table13[[#This Row],[Estimated Year of Failure]]","v":""}]
[{"$f":"Table13[[#This Row],[I.D. Number ]]","v":""},{"$f":"Table13[[#This Row],[Category]]","v":0},{"$f":"Table13[[#This Row],[Type]]","v":0},{"$f":"Table13[[#This Row],[Description]]","v":0},null,null,{"$f":"Table13[[#This Row],[Installation Year]]","v":0},{"$f":"IF($G108= YEAR(TODAY()),$E108,(IF($G108=0,\"\",IF(Table13[[#This Row],[Life Expectancy]]=0,((0.056*(YEAR(TODAY())-Table1468[[#This Row],[Year of Initial Price]])*Table1468[[#This Row],[Initial Price]])+Table1468[[#This Row],[Initial Price]]),((VLOOKUP(YEAR(TODAY()),'Inflation Data'!$A:$C,3,TRUE)-VLOOKUP(Table1468[[#This Row],[Year of Initial Price]],'Inflation Data'!$A:$C,3,TRUE))/(VLOOKUP(Table1468[[#This Row],[Year of Initial Price]],'Inflation Data'!$A:$C,3,TRUE))*Table1468[[#This Row],[Initial Price]])+Table1468[[#This Row],[Initial Price]]))))","v":""},{"$f":"IF($G108=YEAR(TODAY()),$E108,(IF($G108=0,\"\",IF(Table13[[#This Row],[Life Expectancy]]=0,H108, ((0.056*(Table1468[[#This Row],[Year of Failure]]-YEAR(TODAY()))*Table1468[[#This Row],[Current Predicted Cost (to purchase in 2024)]])+Table1468[[#This Row],[Current Predicted Cost (to purchase in 2024)]])))))","v":""},{"$f":"Table13[[#This Row],[Estimated Year of Failure]]","v":""}]
[{"$f":"Table13[[#This Row],[I.D. Number ]]","v":""},{"$f":"Table13[[#This Row],[Category]]","v":0},{"$f":"Table13[[#This Row],[Type]]","v":0},{"$f":"Table13[[#This Row],[Description]]","v":0},null,null,{"$f":"Table13[[#This Row],[Installation Year]]","v":0},{"$f":"IF($G109= YEAR(TODAY()),$E109,(IF($G109=0,\"\",IF(Table13[[#This Row],[Life Expectancy]]=0,((0.056*(YEAR(TODAY())-Table1468[[#This Row],[Year of Initial Price]])*Table1468[[#This Row],[Initial Price]])+Table1468[[#This Row],[Initial Price]]),((VLOOKUP(YEAR(TODAY()),'Inflation Data'!$A:$C,3,TRUE)-VLOOKUP(Table1468[[#This Row],[Year of Initial Price]],'Inflation Data'!$A:$C,3,TRUE))/(VLOOKUP(Table1468[[#This Row],[Year of Initial Price]],'Inflation Data'!$A:$C,3,TRUE))*Table1468[[#This Row],[Initial Price]])+Table1468[[#This Row],[Initial Price]]))))","v":""},{"$f":"IF($G109=YEAR(TODAY()),$E109,(IF($G109=0,\"\",IF(Table13[[#This Row],[Life Expectancy]]=0,H109, ((0.056*(Table1468[[#This Row],[Year of Failure]]-YEAR(TODAY()))*Table1468[[#This Row],[Current Predicted Cost (to purchase in 2024)]])+Table1468[[#This Row],[Current Predicted Cost (to purchase in 2024)]])))))","v":""},{"$f":"Table13[[#This Row],[Estimated Year of Failure]]","v":""}]
[{"$f":"Table13[[#This Row],[I.D. Number ]]","v":""},{"$f":"Table13[[#This Row],[Category]]","v":0},{"$f":"Table13[[#This Row],[Type]]","v":0},{"$f":"Table13[[#This Row],[Description]]","v":0},null,null,{"$f":"Table13[[#This Row],[Installation Year]]","v":0},{"$f":"IF($G110= YEAR(TODAY()),$E110,(IF($G110=0,\"\",IF(Table13[[#This Row],[Life Expectancy]]=0,((0.056*(YEAR(TODAY())-Table1468[[#This Row],[Year of Initial Price]])*Table1468[[#This Row],[Initial Price]])+Table1468[[#This Row],[Initial Price]]),((VLOOKUP(YEAR(TODAY()),'Inflation Data'!$A:$C,3,TRUE)-VLOOKUP(Table1468[[#This Row],[Year of Initial Price]],'Inflation Data'!$A:$C,3,TRUE))/(VLOOKUP(Table1468[[#This Row],[Year of Initial Price]],'Inflation Data'!$A:$C,3,TRUE))*Table1468[[#This Row],[Initial Price]])+Table1468[[#This Row],[Initial Price]]))))","v":""},{"$f":"IF($G110=YEAR(TODAY()),$E110,(IF($G110=0,\"\",IF(Table13[[#This Row],[Life Expectancy]]=0,H110, ((0.056*(Table1468[[#This Row],[Year of Failure]]-YEAR(TODAY()))*Table1468[[#This Row],[Current Predicted Cost (to purchase in 2024)]])+Table1468[[#This Row],[Current Predicted Cost (to purchase in 2024)]])))))","v":""},{"$f":"Table13[[#This Row],[Estimated Year of Failure]]","v":""}]
[{"$f":"Table13[[#This Row],[I.D. Number ]]","v":""},{"$f":"Table13[[#This Row],[Category]]","v":0},{"$f":"Table13[[#This Row],[Type]]","v":0},{"$f":"Table13[[#This Row],[Description]]","v":0},null,null,{"$f":"Table13[[#This Row],[Installation Year]]","v":0},{"$f":"IF($G111= YEAR(TODAY()),$E111,(IF($G111=0,\"\",IF(Table13[[#This Row],[Life Expectancy]]=0,((0.056*(YEAR(TODAY())-Table1468[[#This Row],[Year of Initial Price]])*Table1468[[#This Row],[Initial Price]])+Table1468[[#This Row],[Initial Price]]),((VLOOKUP(YEAR(TODAY()),'Inflation Data'!$A:$C,3,TRUE)-VLOOKUP(Table1468[[#This Row],[Year of Initial Price]],'Inflation Data'!$A:$C,3,TRUE))/(VLOOKUP(Table1468[[#This Row],[Year of Initial Price]],'Inflation Data'!$A:$C,3,TRUE))*Table1468[[#This Row],[Initial Price]])+Table1468[[#This Row],[Initial Price]]))))","v":""},{"$f":"IF($G111=YEAR(TODAY()),$E111,(IF($G111=0,\"\",IF(Table13[[#This Row],[Life Expectancy]]=0,H111, ((0.056*(Table1468[[#This Row],[Year of Failure]]-YEAR(TODAY()))*Table1468[[#This Row],[Current Predicted Cost (to purchase in 2024)]])+Table1468[[#This Row],[Current Predicted Cost (to purchase in 2024)]])))))","v":""},{"$f":"Table13[[#This Row],[Estimated Year of Failure]]","v":""}]
[{"$f":"Table13[[#This Row],[I.D. Number ]]","v":""},{"$f":"Table13[[#This Row],[Category]]","v":0},{"$f":"Table13[[#This Row],[Type]]","v":0},{"$f":"Table13[[#This Row],[Description]]","v":0},null,null,{"$f":"Table13[[#This Row],[Installation Year]]","v":0},{"$f":"IF($G112= YEAR(TODAY()),$E112,(IF($G112=0,\"\",IF(Table13[[#This Row],[Life Expectancy]]=0,((0.056*(YEAR(TODAY())-Table1468[[#This Row],[Year of Initial Price]])*Table1468[[#This Row],[Initial Price]])+Table1468[[#This Row],[Initial Price]]),((VLOOKUP(YEAR(TODAY()),'Inflation Data'!$A:$C,3,TRUE)-VLOOKUP(Table1468[[#This Row],[Year of Initial Price]],'Inflation Data'!$A:$C,3,TRUE))/(VLOOKUP(Table1468[[#This Row],[Year of Initial Price]],'Inflation Data'!$A:$C,3,TRUE))*Table1468[[#This Row],[Initial Price]])+Table1468[[#This Row],[Initial Price]]))))","v":""},{"$f":"IF($G112=YEAR(TODAY()),$E112,(IF($G112=0,\"\",IF(Table13[[#This Row],[Life Expectancy]]=0,H112, ((0.056*(Table1468[[#This Row],[Year of Failure]]-YEAR(TODAY()))*Table1468[[#This Row],[Current Predicted Cost (to purchase in 2024)]])+Table1468[[#This Row],[Current Predicted Cost (to purchase in 2024)]])))))","v":""},{"$f":"Table13[[#This Row],[Estimated Year of Failure]]","v":""}]
[{"$f":"Table13[[#This Row],[I.D. Number ]]","v":""},{"$f":"Table13[[#This Row],[Category]]","v":0},{"$f":"Table13[[#This Row],[Type]]","v":0},{"$f":"Table13[[#This Row],[Description]]","v":0},null,null,{"$f":"Table13[[#This Row],[Installation Year]]","v":0},{"$f":"IF($G113= YEAR(TODAY()),$E113,(IF($G113=0,\"\",IF(Table13[[#This Row],[Life Expectancy]]=0,((0.056*(YEAR(TODAY())-Table1468[[#This Row],[Year of Initial Price]])*Table1468[[#This Row],[Initial Price]])+Table1468[[#This Row],[Initial Price]]),((VLOOKUP(YEAR(TODAY()),'Inflation Data'!$A:$C,3,TRUE)-VLOOKUP(Table1468[[#This Row],[Year of Initial Price]],'Inflation Data'!$A:$C,3,TRUE))/(VLOOKUP(Table1468[[#This Row],[Year of Initial Price]],'Inflation Data'!$A:$C,3,TRUE))*Table1468[[#This Row],[Initial Price]])+Table1468[[#This Row],[Initial Price]]))))","v":""},{"$f":"IF($G113=YEAR(TODAY()),$E113,(IF($G113=0,\"\",IF(Table13[[#This Row],[Life Expectancy]]=0,H113, ((0.056*(Table1468[[#This Row],[Year of Failure]]-YEAR(TODAY()))*Table1468[[#This Row],[Current Predicted Cost (to purchase in 2024)]])+Table1468[[#This Row],[Current Predicted Cost (to purchase in 2024)]])))))","v":""},{"$f":"Table13[[#This Row],[Estimated Year of Failure]]","v":""}]
[{"$f":"Table13[[#This Row],[I.D. Number ]]","v":""},{"$f":"Table13[[#This Row],[Category]]","v":0},{"$f":"Table13[[#This Row],[Type]]","v":0},{"$f":"Table13[[#This Row],[Description]]","v":0},null,null,{"$f":"Table13[[#This Row],[Installation Year]]","v":0},{"$f":"IF($G114= YEAR(TODAY()),$E114,(IF($G114=0,\"\",IF(Table13[[#This Row],[Life Expectancy]]=0,((0.056*(YEAR(TODAY())-Table1468[[#This Row],[Year of Initial Price]])*Table1468[[#This Row],[Initial Price]])+Table1468[[#This Row],[Initial Price]]),((VLOOKUP(YEAR(TODAY()),'Inflation Data'!$A:$C,3,TRUE)-VLOOKUP(Table1468[[#This Row],[Year of Initial Price]],'Inflation Data'!$A:$C,3,TRUE))/(VLOOKUP(Table1468[[#This Row],[Year of Initial Price]],'Inflation Data'!$A:$C,3,TRUE))*Table1468[[#This Row],[Initial Price]])+Table1468[[#This Row],[Initial Price]]))))","v":""},{"$f":"IF($G114=YEAR(TODAY()),$E114,(IF($G114=0,\"\",IF(Table13[[#This Row],[Life Expectancy]]=0,H114, ((0.056*(Table1468[[#This Row],[Year of Failure]]-YEAR(TODAY()))*Table1468[[#This Row],[Current Predicted Cost (to purchase in 2024)]])+Table1468[[#This Row],[Current Predicted Cost (to purchase in 2024)]])))))","v":""},{"$f":"Table13[[#This Row],[Estimated Year of Failure]]","v":""}]
[{"$f":"Table13[[#This Row],[I.D. Number ]]","v":""},{"$f":"Table13[[#This Row],[Category]]","v":0},{"$f":"Table13[[#This Row],[Type]]","v":0},{"$f":"Table13[[#This Row],[Description]]","v":0},null,null,{"$f":"Table13[[#This Row],[Installation Year]]","v":0},{"$f":"IF($G115= YEAR(TODAY()),$E115,(IF($G115=0,\"\",IF(Table13[[#This Row],[Life Expectancy]]=0,((0.056*(YEAR(TODAY())-Table1468[[#This Row],[Year of Initial Price]])*Table1468[[#This Row],[Initial Price]])+Table1468[[#This Row],[Initial Price]]),((VLOOKUP(YEAR(TODAY()),'Inflation Data'!$A:$C,3,TRUE)-VLOOKUP(Table1468[[#This Row],[Year of Initial Price]],'Inflation Data'!$A:$C,3,TRUE))/(VLOOKUP(Table1468[[#This Row],[Year of Initial Price]],'Inflation Data'!$A:$C,3,TRUE))*Table1468[[#This Row],[Initial Price]])+Table1468[[#This Row],[Initial Price]]))))","v":""},{"$f":"IF($G115=YEAR(TODAY()),$E115,(IF($G115=0,\"\",IF(Table13[[#This Row],[Life Expectancy]]=0,H115, ((0.056*(Table1468[[#This Row],[Year of Failure]]-YEAR(TODAY()))*Table1468[[#This Row],[Current Predicted Cost (to purchase in 2024)]])+Table1468[[#This Row],[Current Predicted Cost (to purchase in 2024)]])))))","v":""},{"$f":"Table13[[#This Row],[Estimated Year of Failure]]","v":""}]
[{"$f":"Table13[[#This Row],[I.D. Number ]]","v":""},{"$f":"Table13[[#This Row],[Category]]","v":0},{"$f":"Table13[[#This Row],[Type]]","v":0},{"$f":"Table13[[#This Row],[Description]]","v":0},null,null,{"$f":"Table13[[#This Row],[Installation Year]]","v":0},{"$f":"IF($G116= YEAR(TODAY()),$E116,(IF($G116=0,\"\",IF(Table13[[#This Row],[Life Expectancy]]=0,((0.056*(YEAR(TODAY())-Table1468[[#This Row],[Year of Initial Price]])*Table1468[[#This Row],[Initial Price]])+Table1468[[#This Row],[Initial Price]]),((VLOOKUP(YEAR(TODAY()),'Inflation Data'!$A:$C,3,TRUE)-VLOOKUP(Table1468[[#This Row],[Year of Initial Price]],'Inflation Data'!$A:$C,3,TRUE))/(VLOOKUP(Table1468[[#This Row],[Year of Initial Price]],'Inflation Data'!$A:$C,3,TRUE))*Table1468[[#This Row],[Initial Price]])+Table1468[[#This Row],[Initial Price]]))))","v":""},{"$f":"IF($G116=YEAR(TODAY()),$E116,(IF($G116=0,\"\",IF(Table13[[#This Row],[Life Expectancy]]=0,H116, ((0.056*(Table1468[[#This Row],[Year of Failure]]-YEAR(TODAY()))*Table1468[[#This Row],[Current Predicted Cost (to purchase in 2024)]])+Table1468[[#This Row],[Current Predicted Cost (to purchase in 2024)]])))))","v":""},{"$f":"Table13[[#This Row],[Estimated Year of Failure]]","v":""}]
[{"$f":"Table13[[#This Row],[I.D. Number ]]","v":""},{"$f":"Table13[[#This Row],[Category]]","v":0},{"$f":"Table13[[#This Row],[Type]]","v":0},{"$f":"Table13[[#This Row],[Description]]","v":0},null,null,{"$f":"Table13[[#This Row],[Installation Year]]","v":0},{"$f":"IF($G117= YEAR(TODAY()),$E117,(IF($G117=0,\"\",IF(Table13[[#This Row],[Life Expectancy]]=0,((0.056*(YEAR(TODAY())-Table1468[[#This Row],[Year of Initial Price]])*Table1468[[#This Row],[Initial Price]])+Table1468[[#This Row],[Initial Price]]),((VLOOKUP(YEAR(TODAY()),'Inflation Data'!$A:$C,3,TRUE)-VLOOKUP(Table1468[[#This Row],[Year of Initial Price]],'Inflation Data'!$A:$C,3,TRUE))/(VLOOKUP(Table1468[[#This Row],[Year of Initial Price]],'Inflation Data'!$A:$C,3,TRUE))*Table1468[[#This Row],[Initial Price]])+Table1468[[#This Row],[Initial Price]]))))","v":""},{"$f":"IF($G117=YEAR(TODAY()),$E117,(IF($G117=0,\"\",IF(Table13[[#This Row],[Life Expectancy]]=0,H117, ((0.056*(Table1468[[#This Row],[Year of Failure]]-YEAR(TODAY()))*Table1468[[#This Row],[Current Predicted Cost (to purchase in 2024)]])+Table1468[[#This Row],[Current Predicted Cost (to purchase in 2024)]])))))","v":""},{"$f":"Table13[[#This Row],[Estimated Year of Failure]]","v":""}]
[{"$f":"Table13[[#This Row],[I.D. Number ]]","v":""},{"$f":"Table13[[#This Row],[Category]]","v":0},{"$f":"Table13[[#This Row],[Type]]","v":0},{"$f":"Table13[[#This Row],[Description]]","v":0},null,null,{"$f":"Table13[[#This Row],[Installation Year]]","v":0},{"$f":"IF($G118= YEAR(TODAY()),$E118,(IF($G118=0,\"\",IF(Table13[[#This Row],[Life Expectancy]]=0,((0.056*(YEAR(TODAY())-Table1468[[#This Row],[Year of Initial Price]])*Table1468[[#This Row],[Initial Price]])+Table1468[[#This Row],[Initial Price]]),((VLOOKUP(YEAR(TODAY()),'Inflation Data'!$A:$C,3,TRUE)-VLOOKUP(Table1468[[#This Row],[Year of Initial Price]],'Inflation Data'!$A:$C,3,TRUE))/(VLOOKUP(Table1468[[#This Row],[Year of Initial Price]],'Inflation Data'!$A:$C,3,TRUE))*Table1468[[#This Row],[Initial Price]])+Table1468[[#This Row],[Initial Price]]))))","v":""},{"$f":"IF($G118=YEAR(TODAY()),$E118,(IF($G118=0,\"\",IF(Table13[[#This Row],[Life Expectancy]]=0,H118, ((0.056*(Table1468[[#This Row],[Year of Failure]]-YEAR(TODAY()))*Table1468[[#This Row],[Current Predicted Cost (to purchase in 2024)]])+Table1468[[#This Row],[Current Predicted Cost (to purchase in 2024)]])))))","v":""},{"$f":"Table13[[#This Row],[Estimated Year of Failure]]","v":""}]
[{"$f":"Table13[[#This Row],[I.D. Number ]]","v":""},{"$f":"Table13[[#This Row],[Category]]","v":0},{"$f":"Table13[[#This Row],[Type]]","v":0},{"$f":"Table13[[#This Row],[Description]]","v":0},null,null,{"$f":"Table13[[#This Row],[Installation Year]]","v":0},{"$f":"IF($G119= YEAR(TODAY()),$E119,(IF($G119=0,\"\",IF(Table13[[#This Row],[Life Expectancy]]=0,((0.056*(YEAR(TODAY())-Table1468[[#This Row],[Year of Initial Price]])*Table1468[[#This Row],[Initial Price]])+Table1468[[#This Row],[Initial Price]]),((VLOOKUP(YEAR(TODAY()),'Inflation Data'!$A:$C,3,TRUE)-VLOOKUP(Table1468[[#This Row],[Year of Initial Price]],'Inflation Data'!$A:$C,3,TRUE))/(VLOOKUP(Table1468[[#This Row],[Year of Initial Price]],'Inflation Data'!$A:$C,3,TRUE))*Table1468[[#This Row],[Initial Price]])+Table1468[[#This Row],[Initial Price]]))))","v":""},{"$f":"IF($G119=YEAR(TODAY()),$E119,(IF($G119=0,\"\",IF(Table13[[#This Row],[Life Expectancy]]=0,H119, ((0.056*(Table1468[[#This Row],[Year of Failure]]-YEAR(TODAY()))*Table1468[[#This Row],[Current Predicted Cost (to purchase in 2024)]])+Table1468[[#This Row],[Current Predicted Cost (to purchase in 2024)]])))))","v":""},{"$f":"Table13[[#This Row],[Estimated Year of Failure]]","v":""}]
[{"$f":"Table13[[#This Row],[I.D. Number ]]","v":""},{"$f":"Table13[[#This Row],[Category]]","v":0},{"$f":"Table13[[#This Row],[Type]]","v":0},{"$f":"Table13[[#This Row],[Description]]","v":0},null,null,{"$f":"Table13[[#This Row],[Installation Year]]","v":0},{"$f":"IF($G120= YEAR(TODAY()),$E120,(IF($G120=0,\"\",IF(Table13[[#This Row],[Life Expectancy]]=0,((0.056*(YEAR(TODAY())-Table1468[[#This Row],[Year of Initial Price]])*Table1468[[#This Row],[Initial Price]])+Table1468[[#This Row],[Initial Price]]),((VLOOKUP(YEAR(TODAY()),'Inflation Data'!$A:$C,3,TRUE)-VLOOKUP(Table1468[[#This Row],[Year of Initial Price]],'Inflation Data'!$A:$C,3,TRUE))/(VLOOKUP(Table1468[[#This Row],[Year of Initial Price]],'Inflation Data'!$A:$C,3,TRUE))*Table1468[[#This Row],[Initial Price]])+Table1468[[#This Row],[Initial Price]]))))","v":""},{"$f":"IF($G120=YEAR(TODAY()),$E120,(IF($G120=0,\"\",IF(Table13[[#This Row],[Life Expectancy]]=0,H120, ((0.056*(Table1468[[#This Row],[Year of Failure]]-YEAR(TODAY()))*Table1468[[#This Row],[Current Predicted Cost (to purchase in 2024)]])+Table1468[[#This Row],[Current Predicted Cost (to purchase in 2024)]])))))","v":""},{"$f":"Table13[[#This Row],[Estimated Year of Failure]]","v":""}]
[{"$f":"Table13[[#This Row],[I.D. Number ]]","v":""},{"$f":"Table13[[#This Row],[Category]]","v":0},{"$f":"Table13[[#This Row],[Type]]","v":0},{"$f":"Table13[[#This Row],[Description]]","v":0},null,null,{"$f":"Table13[[#This Row],[Installation Year]]","v":0},{"$f":"IF($G121= YEAR(TODAY()),$E121,(IF($G121=0,\"\",IF(Table13[[#This Row],[Life Expectancy]]=0,((0.056*(YEAR(TODAY())-Table1468[[#This Row],[Year of Initial Price]])*Table1468[[#This Row],[Initial Price]])+Table1468[[#This Row],[Initial Price]]),((VLOOKUP(YEAR(TODAY()),'Inflation Data'!$A:$C,3,TRUE)-VLOOKUP(Table1468[[#This Row],[Year of Initial Price]],'Inflation Data'!$A:$C,3,TRUE))/(VLOOKUP(Table1468[[#This Row],[Year of Initial Price]],'Inflation Data'!$A:$C,3,TRUE))*Table1468[[#This Row],[Initial Price]])+Table1468[[#This Row],[Initial Price]]))))","v":""},{"$f":"IF($G121=YEAR(TODAY()),$E121,(IF($G121=0,\"\",IF(Table13[[#This Row],[Life Expectancy]]=0,H121, ((0.056*(Table1468[[#This Row],[Year of Failure]]-YEAR(TODAY()))*Table1468[[#This Row],[Current Predicted Cost (to purchase in 2024)]])+Table1468[[#This Row],[Current Predicted Cost (to purchase in 2024)]])))))","v":""},{"$f":"Table13[[#This Row],[Estimated Year of Failure]]","v":""}]
[{"$f":"Table13[[#This Row],[I.D. Number ]]","v":""},{"$f":"Table13[[#This Row],[Category]]","v":0},{"$f":"Table13[[#This Row],[Type]]","v":0},{"$f":"Table13[[#This Row],[Description]]","v":0},null,null,{"$f":"Table13[[#This Row],[Installation Year]]","v":0},{"$f":"IF($G122= YEAR(TODAY()),$E122,(IF($G122=0,\"\",IF(Table13[[#This Row],[Life Expectancy]]=0,((0.056*(YEAR(TODAY())-Table1468[[#This Row],[Year of Initial Price]])*Table1468[[#This Row],[Initial Price]])+Table1468[[#This Row],[Initial Price]]),((VLOOKUP(YEAR(TODAY()),'Inflation Data'!$A:$C,3,TRUE)-VLOOKUP(Table1468[[#This Row],[Year of Initial Price]],'Inflation Data'!$A:$C,3,TRUE))/(VLOOKUP(Table1468[[#This Row],[Year of Initial Price]],'Inflation Data'!$A:$C,3,TRUE))*Table1468[[#This Row],[Initial Price]])+Table1468[[#This Row],[Initial Price]]))))","v":""},{"$f":"IF($G122=YEAR(TODAY()),$E122,(IF($G122=0,\"\",IF(Table13[[#This Row],[Life Expectancy]]=0,H122, ((0.056*(Table1468[[#This Row],[Year of Failure]]-YEAR(TODAY()))*Table1468[[#This Row],[Current Predicted Cost (to purchase in 2024)]])+Table1468[[#This Row],[Current Predicted Cost (to purchase in 2024)]])))))","v":""},{"$f":"Table13[[#This Row],[Estimated Year of Failure]]","v":""}]
[{"$f":"Table13[[#This Row],[I.D. Number ]]","v":""},{"$f":"Table13[[#This Row],[Category]]","v":0},{"$f":"Table13[[#This Row],[Type]]","v":0},{"$f":"Table13[[#This Row],[Description]]","v":0},null,null,{"$f":"Table13[[#This Row],[Installation Year]]","v":0},{"$f":"IF($G123= YEAR(TODAY()),$E123,(IF($G123=0,\"\",IF(Table13[[#This Row],[Life Expectancy]]=0,((0.056*(YEAR(TODAY())-Table1468[[#This Row],[Year of Initial Price]])*Table1468[[#This Row],[Initial Price]])+Table1468[[#This Row],[Initial Price]]),((VLOOKUP(YEAR(TODAY()),'Inflation Data'!$A:$C,3,TRUE)-VLOOKUP(Table1468[[#This Row],[Year of Initial Price]],'Inflation Data'!$A:$C,3,TRUE))/(VLOOKUP(Table1468[[#This Row],[Year of Initial Price]],'Inflation Data'!$A:$C,3,TRUE))*Table1468[[#This Row],[Initial Price]])+Table1468[[#This Row],[Initial Price]]))))","v":""},{"$f":"IF($G123=YEAR(TODAY()),$E123,(IF($G123=0,\"\",IF(Table13[[#This Row],[Life Expectancy]]=0,H123, ((0.056*(Table1468[[#This Row],[Year of Failure]]-YEAR(TODAY()))*Table1468[[#This Row],[Current Predicted Cost (to purchase in 2024)]])+Table1468[[#This Row],[Current Predicted Cost (to purchase in 2024)]])))))","v":""},{"$f":"Table13[[#This Row],[Estimated Year of Failure]]","v":""}]
[{"$f":"Table13[[#This Row],[I.D. Number ]]","v":""},{"$f":"Table13[[#This Row],[Category]]","v":0},{"$f":"Table13[[#This Row],[Type]]","v":0},{"$f":"Table13[[#This Row],[Description]]","v":0},null,null,{"$f":"Table13[[#This Row],[Installation Year]]","v":0},{"$f":"IF($G124= YEAR(TODAY()),$E124,(IF($G124=0,\"\",IF(Table13[[#This Row],[Life Expectancy]]=0,((0.056*(YEAR(TODAY())-Table1468[[#This Row],[Year of Initial Price]])*Table1468[[#This Row],[Initial Price]])+Table1468[[#This Row],[Initial Price]]),((VLOOKUP(YEAR(TODAY()),'Inflation Data'!$A:$C,3,TRUE)-VLOOKUP(Table1468[[#This Row],[Year of Initial Price]],'Inflation Data'!$A:$C,3,TRUE))/(VLOOKUP(Table1468[[#This Row],[Year of Initial Price]],'Inflation Data'!$A:$C,3,TRUE))*Table1468[[#This Row],[Initial Price]])+Table1468[[#This Row],[Initial Price]]))))","v":""},{"$f":"IF($G124=YEAR(TODAY()),$E124,(IF($G124=0,\"\",IF(Table13[[#This Row],[Life Expectancy]]=0,H124, ((0.056*(Table1468[[#This Row],[Year of Failure]]-YEAR(TODAY()))*Table1468[[#This Row],[Current Predicted Cost (to purchase in 2024)]])+Table1468[[#This Row],[Current Predicted Cost (to purchase in 2024)]])))))","v":""},{"$f":"Table13[[#This Row],[Estimated Year of Failure]]","v":""}]
[{"$f":"Table13[[#This Row],[I.D. Number ]]","v":""},{"$f":"Table13[[#This Row],[Category]]","v":0},{"$f":"Table13[[#This Row],[Type]]","v":0},{"$f":"Table13[[#This Row],[Description]]","v":0},null,null,{"$f":"Table13[[#This Row],[Installation Year]]","v":0},{"$f":"IF($G125= YEAR(TODAY()),$E125,(IF($G125=0,\"\",IF(Table13[[#This Row],[Life Expectancy]]=0,((0.056*(YEAR(TODAY())-Table1468[[#This Row],[Year of Initial Price]])*Table1468[[#This Row],[Initial Price]])+Table1468[[#This Row],[Initial Price]]),((VLOOKUP(YEAR(TODAY()),'Inflation Data'!$A:$C,3,TRUE)-VLOOKUP(Table1468[[#This Row],[Year of Initial Price]],'Inflation Data'!$A:$C,3,TRUE))/(VLOOKUP(Table1468[[#This Row],[Year of Initial Price]],'Inflation Data'!$A:$C,3,TRUE))*Table1468[[#This Row],[Initial Price]])+Table1468[[#This Row],[Initial Price]]))))","v":""},{"$f":"IF($G125=YEAR(TODAY()),$E125,(IF($G125=0,\"\",IF(Table13[[#This Row],[Life Expectancy]]=0,H125, ((0.056*(Table1468[[#This Row],[Year of Failure]]-YEAR(TODAY()))*Table1468[[#This Row],[Current Predicted Cost (to purchase in 2024)]])+Table1468[[#This Row],[Current Predicted Cost (to purchase in 2024)]])))))","v":""},{"$f":"Table13[[#This Row],[Estimated Year of Failure]]","v":""}]
[{"$f":"Table13[[#This Row],[I.D. Number ]]","v":""},{"$f":"Table13[[#This Row],[Category]]","v":0},{"$f":"Table13[[#This Row],[Type]]","v":0},{"$f":"Table13[[#This Row],[Description]]","v":0},null,null,{"$f":"Table13[[#This Row],[Installation Year]]","v":0},{"$f":"IF($G126= YEAR(TODAY()),$E126,(IF($G126=0,\"\",IF(Table13[[#This Row],[Life Expectancy]]=0,((0.056*(YEAR(TODAY())-Table1468[[#This Row],[Year of Initial Price]])*Table1468[[#This Row],[Initial Price]])+Table1468[[#This Row],[Initial Price]]),((VLOOKUP(YEAR(TODAY()),'Inflation Data'!$A:$C,3,TRUE)-VLOOKUP(Table1468[[#This Row],[Year of Initial Price]],'Inflation Data'!$A:$C,3,TRUE))/(VLOOKUP(Table1468[[#This Row],[Year of Initial Price]],'Inflation Data'!$A:$C,3,TRUE))*Table1468[[#This Row],[Initial Price]])+Table1468[[#This Row],[Initial Price]]))))","v":""},{"$f":"IF($G126=YEAR(TODAY()),$E126,(IF($G126=0,\"\",IF(Table13[[#This Row],[Life Expectancy]]=0,H126, ((0.056*(Table1468[[#This Row],[Year of Failure]]-YEAR(TODAY()))*Table1468[[#This Row],[Current Predicted Cost (to purchase in 2024)]])+Table1468[[#This Row],[Current Predicted Cost (to purchase in 2024)]])))))","v":""},{"$f":"Table13[[#This Row],[Estimated Year of Failure]]","v":""}]
[{"$f":"Table13[[#This Row],[I.D. Number ]]","v":""},{"$f":"Table13[[#This Row],[Category]]","v":0},{"$f":"Table13[[#This Row],[Type]]","v":0},{"$f":"Table13[[#This Row],[Description]]","v":0},null,null,{"$f":"Table13[[#This Row],[Installation Year]]","v":0},{"$f":"IF($G127= YEAR(TODAY()),$E127,(IF($G127=0,\"\",IF(Table13[[#This Row],[Life Expectancy]]=0,((0.056*(YEAR(TODAY())-Table1468[[#This Row],[Year of Initial Price]])*Table1468[[#This Row],[Initial Price]])+Table1468[[#This Row],[Initial Price]]),((VLOOKUP(YEAR(TODAY()),'Inflation Data'!$A:$C,3,TRUE)-VLOOKUP(Table1468[[#This Row],[Year of Initial Price]],'Inflation Data'!$A:$C,3,TRUE))/(VLOOKUP(Table1468[[#This Row],[Year of Initial Price]],'Inflation Data'!$A:$C,3,TRUE))*Table1468[[#This Row],[Initial Price]])+Table1468[[#This Row],[Initial Price]]))))","v":""},{"$f":"IF($G127=YEAR(TODAY()),$E127,(IF($G127=0,\"\",IF(Table13[[#This Row],[Life Expectancy]]=0,H127, ((0.056*(Table1468[[#This Row],[Year of Failure]]-YEAR(TODAY()))*Table1468[[#This Row],[Current Predicted Cost (to purchase in 2024)]])+Table1468[[#This Row],[Current Predicted Cost (to purchase in 2024)]])))))","v":""},{"$f":"Table13[[#This Row],[Estimated Year of Failure]]","v":""}]
[{"$f":"Table13[[#This Row],[I.D. Number ]]","v":""},{"$f":"Table13[[#This Row],[Category]]","v":0},{"$f":"Table13[[#This Row],[Type]]","v":0},{"$f":"Table13[[#This Row],[Description]]","v":0},null,null,{"$f":"Table13[[#This Row],[Installation Year]]","v":0},{"$f":"IF($G128= YEAR(TODAY()),$E128,(IF($G128=0,\"\",IF(Table13[[#This Row],[Life Expectancy]]=0,((0.056*(YEAR(TODAY())-Table1468[[#This Row],[Year of Initial Price]])*Table1468[[#This Row],[Initial Price]])+Table1468[[#This Row],[Initial Price]]),((VLOOKUP(YEAR(TODAY()),'Inflation Data'!$A:$C,3,TRUE)-VLOOKUP(Table1468[[#This Row],[Year of Initial Price]],'Inflation Data'!$A:$C,3,TRUE))/(VLOOKUP(Table1468[[#This Row],[Year of Initial Price]],'Inflation Data'!$A:$C,3,TRUE))*Table1468[[#This Row],[Initial Price]])+Table1468[[#This Row],[Initial Price]]))))","v":""},{"$f":"IF($G128=YEAR(TODAY()),$E128,(IF($G128=0,\"\",IF(Table13[[#This Row],[Life Expectancy]]=0,H128, ((0.056*(Table1468[[#This Row],[Year of Failure]]-YEAR(TODAY()))*Table1468[[#This Row],[Current Predicted Cost (to purchase in 2024)]])+Table1468[[#This Row],[Current Predicted Cost (to purchase in 2024)]])))))","v":""},{"$f":"Table13[[#This Row],[Estimated Year of Failure]]","v":""}]
[{"$f":"Table13[[#This Row],[I.D. Number ]]","v":""},{"$f":"Table13[[#This Row],[Category]]","v":0},{"$f":"Table13[[#This Row],[Type]]","v":0},{"$f":"Table13[[#This Row],[Description]]","v":0},null,null,{"$f":"Table13[[#This Row],[Installation Year]]","v":0},{"$f":"IF($G129= YEAR(TODAY()),$E129,(IF($G129=0,\"\",IF(Table13[[#This Row],[Life Expectancy]]=0,((0.056*(YEAR(TODAY())-Table1468[[#This Row],[Year of Initial Price]])*Table1468[[#This Row],[Initial Price]])+Table1468[[#This Row],[Initial Price]]),((VLOOKUP(YEAR(TODAY()),'Inflation Data'!$A:$C,3,TRUE)-VLOOKUP(Table1468[[#This Row],[Year of Initial Price]],'Inflation Data'!$A:$C,3,TRUE))/(VLOOKUP(Table1468[[#This Row],[Year of Initial Price]],'Inflation Data'!$A:$C,3,TRUE))*Table1468[[#This Row],[Initial Price]])+Table1468[[#This Row],[Initial Price]]))))","v":""},{"$f":"IF($G129=YEAR(TODAY()),$E129,(IF($G129=0,\"\",IF(Table13[[#This Row],[Life Expectancy]]=0,H129, ((0.056*(Table1468[[#This Row],[Year of Failure]]-YEAR(TODAY()))*Table1468[[#This Row],[Current Predicted Cost (to purchase in 2024)]])+Table1468[[#This Row],[Current Predicted Cost (to purchase in 2024)]])))))","v":""},{"$f":"Table13[[#This Row],[Estimated Year of Failure]]","v":""}]
[{"$f":"Table13[[#This Row],[I.D. Number ]]","v":""},{"$f":"Table13[[#This Row],[Category]]","v":0},{"$f":"Table13[[#This Row],[Type]]","v":0},{"$f":"Table13[[#This Row],[Description]]","v":0},null,null,{"$f":"Table13[[#This Row],[Installation Year]]","v":0},{"$f":"IF($G130= YEAR(TODAY()),$E130,(IF($G130=0,\"\",IF(Table13[[#This Row],[Life Expectancy]]=0,((0.056*(YEAR(TODAY())-Table1468[[#This Row],[Year of Initial Price]])*Table1468[[#This Row],[Initial Price]])+Table1468[[#This Row],[Initial Price]]),((VLOOKUP(YEAR(TODAY()),'Inflation Data'!$A:$C,3,TRUE)-VLOOKUP(Table1468[[#This Row],[Year of Initial Price]],'Inflation Data'!$A:$C,3,TRUE))/(VLOOKUP(Table1468[[#This Row],[Year of Initial Price]],'Inflation Data'!$A:$C,3,TRUE))*Table1468[[#This Row],[Initial Price]])+Table1468[[#This Row],[Initial Price]]))))","v":""},{"$f":"IF($G130=YEAR(TODAY()),$E130,(IF($G130=0,\"\",IF(Table13[[#This Row],[Life Expectancy]]=0,H130, ((0.056*(Table1468[[#This Row],[Year of Failure]]-YEAR(TODAY()))*Table1468[[#This Row],[Current Predicted Cost (to purchase in 2024)]])+Table1468[[#This Row],[Current Predicted Cost (to purchase in 2024)]])))))","v":""},{"$f":"Table13[[#This Row],[Estimated Year of Failure]]","v":""}]
[{"$f":"Table13[[#This Row],[I.D. Number ]]","v":""},{"$f":"Table13[[#This Row],[Category]]","v":0},{"$f":"Table13[[#This Row],[Type]]","v":0},{"$f":"Table13[[#This Row],[Description]]","v":0},null,null,{"$f":"Table13[[#This Row],[Installation Year]]","v":0},{"$f":"IF($G131= YEAR(TODAY()),$E131,(IF($G131=0,\"\",IF(Table13[[#This Row],[Life Expectancy]]=0,((0.056*(YEAR(TODAY())-Table1468[[#This Row],[Year of Initial Price]])*Table1468[[#This Row],[Initial Price]])+Table1468[[#This Row],[Initial Price]]),((VLOOKUP(YEAR(TODAY()),'Inflation Data'!$A:$C,3,TRUE)-VLOOKUP(Table1468[[#This Row],[Year of Initial Price]],'Inflation Data'!$A:$C,3,TRUE))/(VLOOKUP(Table1468[[#This Row],[Year of Initial Price]],'Inflation Data'!$A:$C,3,TRUE))*Table1468[[#This Row],[Initial Price]])+Table1468[[#This Row],[Initial Price]]))))","v":""},{"$f":"IF($G131=YEAR(TODAY()),$E131,(IF($G131=0,\"\",IF(Table13[[#This Row],[Life Expectancy]]=0,H131, ((0.056*(Table1468[[#This Row],[Year of Failure]]-YEAR(TODAY()))*Table1468[[#This Row],[Current Predicted Cost (to purchase in 2024)]])+Table1468[[#This Row],[Current Predicted Cost (to purchase in 2024)]])))))","v":""},{"$f":"Table13[[#This Row],[Estimated Year of Failure]]","v":""}]
[{"$f":"Table13[[#This Row],[I.D. Number ]]","v":""},{"$f":"Table13[[#This Row],[Category]]","v":0},{"$f":"Table13[[#This Row],[Type]]","v":0},{"$f":"Table13[[#This Row],[Description]]","v":0},null,null,{"$f":"Table13[[#This Row],[Installation Year]]","v":0},{"$f":"IF($G132= YEAR(TODAY()),$E132,(IF($G132=0,\"\",IF(Table13[[#This Row],[Life Expectancy]]=0,((0.056*(YEAR(TODAY())-Table1468[[#This Row],[Year of Initial Price]])*Table1468[[#This Row],[Initial Price]])+Table1468[[#This Row],[Initial Price]]),((VLOOKUP(YEAR(TODAY()),'Inflation Data'!$A:$C,3,TRUE)-VLOOKUP(Table1468[[#This Row],[Year of Initial Price]],'Inflation Data'!$A:$C,3,TRUE))/(VLOOKUP(Table1468[[#This Row],[Year of Initial Price]],'Inflation Data'!$A:$C,3,TRUE))*Table1468[[#This Row],[Initial Price]])+Table1468[[#This Row],[Initial Price]]))))","v":""},{"$f":"IF($G132=YEAR(TODAY()),$E132,(IF($G132=0,\"\",IF(Table13[[#This Row],[Life Expectancy]]=0,H132, ((0.056*(Table1468[[#This Row],[Year of Failure]]-YEAR(TODAY()))*Table1468[[#This Row],[Current Predicted Cost (to purchase in 2024)]])+Table1468[[#This Row],[Current Predicted Cost (to purchase in 2024)]])))))","v":""},{"$f":"Table13[[#This Row],[Estimated Year of Failure]]","v":""}]
[{"$f":"Table13[[#This Row],[I.D. Number ]]","v":""},{"$f":"Table13[[#This Row],[Category]]","v":0},{"$f":"Table13[[#This Row],[Type]]","v":0},{"$f":"Table13[[#This Row],[Description]]","v":0},null,null,{"$f":"Table13[[#This Row],[Installation Year]]","v":0},{"$f":"IF($G133= YEAR(TODAY()),$E133,(IF($G133=0,\"\",IF(Table13[[#This Row],[Life Expectancy]]=0,((0.056*(YEAR(TODAY())-Table1468[[#This Row],[Year of Initial Price]])*Table1468[[#This Row],[Initial Price]])+Table1468[[#This Row],[Initial Price]]),((VLOOKUP(YEAR(TODAY()),'Inflation Data'!$A:$C,3,TRUE)-VLOOKUP(Table1468[[#This Row],[Year of Initial Price]],'Inflation Data'!$A:$C,3,TRUE))/(VLOOKUP(Table1468[[#This Row],[Year of Initial Price]],'Inflation Data'!$A:$C,3,TRUE))*Table1468[[#This Row],[Initial Price]])+Table1468[[#This Row],[Initial Price]]))))","v":""},{"$f":"IF($G133=YEAR(TODAY()),$E133,(IF($G133=0,\"\",IF(Table13[[#This Row],[Life Expectancy]]=0,H133, ((0.056*(Table1468[[#This Row],[Year of Failure]]-YEAR(TODAY()))*Table1468[[#This Row],[Current Predicted Cost (to purchase in 2024)]])+Table1468[[#This Row],[Current Predicted Cost (to purchase in 2024)]])))))","v":""},{"$f":"Table13[[#This Row],[Estimated Year of Failure]]","v":""}]
[{"$f":"Table13[[#This Row],[I.D. Number ]]","v":""},{"$f":"Table13[[#This Row],[Category]]","v":0},{"$f":"Table13[[#This Row],[Type]]","v":0},{"$f":"Table13[[#This Row],[Description]]","v":0},null,null,{"$f":"Table13[[#This Row],[Installation Year]]","v":0},{"$f":"IF($G134= YEAR(TODAY()),$E134,(IF($G134=0,\"\",IF(Table13[[#This Row],[Life Expectancy]]=0,((0.056*(YEAR(TODAY())-Table1468[[#This Row],[Year of Initial Price]])*Table1468[[#This Row],[Initial Price]])+Table1468[[#This Row],[Initial Price]]),((VLOOKUP(YEAR(TODAY()),'Inflation Data'!$A:$C,3,TRUE)-VLOOKUP(Table1468[[#This Row],[Year of Initial Price]],'Inflation Data'!$A:$C,3,TRUE))/(VLOOKUP(Table1468[[#This Row],[Year of Initial Price]],'Inflation Data'!$A:$C,3,TRUE))*Table1468[[#This Row],[Initial Price]])+Table1468[[#This Row],[Initial Price]]))))","v":""},{"$f":"IF($G134=YEAR(TODAY()),$E134,(IF($G134=0,\"\",IF(Table13[[#This Row],[Life Expectancy]]=0,H134, ((0.056*(Table1468[[#This Row],[Year of Failure]]-YEAR(TODAY()))*Table1468[[#This Row],[Current Predicted Cost (to purchase in 2024)]])+Table1468[[#This Row],[Current Predicted Cost (to purchase in 2024)]])))))","v":""},{"$f":"Table13[[#This Row],[Estimated Year of Failure]]","v":""}]
[{"$f":"Table13[[#This Row],[I.D. Number ]]","v":""},{"$f":"Table13[[#This Row],[Category]]","v":0},{"$f":"Table13[[#This Row],[Type]]","v":0},{"$f":"Table13[[#This Row],[Description]]","v":0},null,null,{"$f":"Table13[[#This Row],[Installation Year]]","v":0},{"$f":"IF($G135= YEAR(TODAY()),$E135,(IF($G135=0,\"\",IF(Table13[[#This Row],[Life Expectancy]]=0,((0.056*(YEAR(TODAY())-Table1468[[#This Row],[Year of Initial Price]])*Table1468[[#This Row],[Initial Price]])+Table1468[[#This Row],[Initial Price]]),((VLOOKUP(YEAR(TODAY()),'Inflation Data'!$A:$C,3,TRUE)-VLOOKUP(Table1468[[#This Row],[Year of Initial Price]],'Inflation Data'!$A:$C,3,TRUE))/(VLOOKUP(Table1468[[#This Row],[Year of Initial Price]],'Inflation Data'!$A:$C,3,TRUE))*Table1468[[#This Row],[Initial Price]])+Table1468[[#This Row],[Initial Price]]))))","v":""},{"$f":"IF($G135=YEAR(TODAY()),$E135,(IF($G135=0,\"\",IF(Table13[[#This Row],[Life Expectancy]]=0,H135, ((0.056*(Table1468[[#This Row],[Year of Failure]]-YEAR(TODAY()))*Table1468[[#This Row],[Current Predicted Cost (to purchase in 2024)]])+Table1468[[#This Row],[Current Predicted Cost (to purchase in 2024)]])))))","v":""},{"$f":"Table13[[#This Row],[Estimated Year of Failure]]","v":""}]
[{"$f":"Table13[[#This Row],[I.D. Number ]]","v":""},{"$f":"Table13[[#This Row],[Category]]","v":0},{"$f":"Table13[[#This Row],[Type]]","v":0},{"$f":"Table13[[#This Row],[Description]]","v":0},null,null,{"$f":"Table13[[#This Row],[Installation Year]]","v":0},{"$f":"IF($G136= YEAR(TODAY()),$E136,(IF($G136=0,\"\",IF(Table13[[#This Row],[Life Expectancy]]=0,((0.056*(YEAR(TODAY())-Table1468[[#This Row],[Year of Initial Price]])*Table1468[[#This Row],[Initial Price]])+Table1468[[#This Row],[Initial Price]]),((VLOOKUP(YEAR(TODAY()),'Inflation Data'!$A:$C,3,TRUE)-VLOOKUP(Table1468[[#This Row],[Year of Initial Price]],'Inflation Data'!$A:$C,3,TRUE))/(VLOOKUP(Table1468[[#This Row],[Year of Initial Price]],'Inflation Data'!$A:$C,3,TRUE))*Table1468[[#This Row],[Initial Price]])+Table1468[[#This Row],[Initial Price]]))))","v":""},{"$f":"IF($G136=YEAR(TODAY()),$E136,(IF($G136=0,\"\",IF(Table13[[#This Row],[Life Expectancy]]=0,H136, ((0.056*(Table1468[[#This Row],[Year of Failure]]-YEAR(TODAY()))*Table1468[[#This Row],[Current Predicted Cost (to purchase in 2024)]])+Table1468[[#This Row],[Current Predicted Cost (to purchase in 2024)]])))))","v":""},{"$f":"Table13[[#This Row],[Estimated Year of Failure]]","v":""}]
[{"$f":"Table13[[#This Row],[I.D. Number ]]","v":""},{"$f":"Table13[[#This Row],[Category]]","v":0},{"$f":"Table13[[#This Row],[Type]]","v":0},{"$f":"Table13[[#This Row],[Description]]","v":0},null,null,{"$f":"Table13[[#This Row],[Installation Year]]","v":0},{"$f":"IF($G137= YEAR(TODAY()),$E137,(IF($G137=0,\"\",IF(Table13[[#This Row],[Life Expectancy]]=0,((0.056*(YEAR(TODAY())-Table1468[[#This Row],[Year of Initial Price]])*Table1468[[#This Row],[Initial Price]])+Table1468[[#This Row],[Initial Price]]),((VLOOKUP(YEAR(TODAY()),'Inflation Data'!$A:$C,3,TRUE)-VLOOKUP(Table1468[[#This Row],[Year of Initial Price]],'Inflation Data'!$A:$C,3,TRUE))/(VLOOKUP(Table1468[[#This Row],[Year of Initial Price]],'Inflation Data'!$A:$C,3,TRUE))*Table1468[[#This Row],[Initial Price]])+Table1468[[#This Row],[Initial Price]]))))","v":""},{"$f":"IF($G137=YEAR(TODAY()),$E137,(IF($G137=0,\"\",IF(Table13[[#This Row],[Life Expectancy]]=0,H137, ((0.056*(Table1468[[#This Row],[Year of Failure]]-YEAR(TODAY()))*Table1468[[#This Row],[Current Predicted Cost (to purchase in 2024)]])+Table1468[[#This Row],[Current Predicted Cost (to purchase in 2024)]])))))","v":""},{"$f":"Table13[[#This Row],[Estimated Year of Failure]]","v":""}]
[{"$f":"Table13[[#This Row],[I.D. Number ]]","v":""},{"$f":"Table13[[#This Row],[Category]]","v":0},{"$f":"Table13[[#This Row],[Type]]","v":0},{"$f":"Table13[[#This Row],[Description]]","v":0},null,null,{"$f":"Table13[[#This Row],[Installation Year]]","v":0},{"$f":"IF($G138= YEAR(TODAY()),$E138,(IF($G138=0,\"\",IF(Table13[[#This Row],[Life Expectancy]]=0,((0.056*(YEAR(TODAY())-Table1468[[#This Row],[Year of Initial Price]])*Table1468[[#This Row],[Initial Price]])+Table1468[[#This Row],[Initial Price]]),((VLOOKUP(YEAR(TODAY()),'Inflation Data'!$A:$C,3,TRUE)-VLOOKUP(Table1468[[#This Row],[Year of Initial Price]],'Inflation Data'!$A:$C,3,TRUE))/(VLOOKUP(Table1468[[#This Row],[Year of Initial Price]],'Inflation Data'!$A:$C,3,TRUE))*Table1468[[#This Row],[Initial Price]])+Table1468[[#This Row],[Initial Price]]))))","v":""},{"$f":"IF($G138=YEAR(TODAY()),$E138,(IF($G138=0,\"\",IF(Table13[[#This Row],[Life Expectancy]]=0,H138, ((0.056*(Table1468[[#This Row],[Year of Failure]]-YEAR(TODAY()))*Table1468[[#This Row],[Current Predicted Cost (to purchase in 2024)]])+Table1468[[#This Row],[Current Predicted Cost (to purchase in 2024)]])))))","v":""},{"$f":"Table13[[#This Row],[Estimated Year of Failure]]","v":""}]
[{"$f":"Table13[[#This Row],[I.D. Number ]]","v":""},{"$f":"Table13[[#This Row],[Category]]","v":0},{"$f":"Table13[[#This Row],[Type]]","v":0},{"$f":"Table13[[#This Row],[Description]]","v":0},null,null,{"$f":"Table13[[#This Row],[Installation Year]]","v":0},{"$f":"IF($G139= YEAR(TODAY()),$E139,(IF($G139=0,\"\",IF(Table13[[#This Row],[Life Expectancy]]=0,((0.056*(YEAR(TODAY())-Table1468[[#This Row],[Year of Initial Price]])*Table1468[[#This Row],[Initial Price]])+Table1468[[#This Row],[Initial Price]]),((VLOOKUP(YEAR(TODAY()),'Inflation Data'!$A:$C,3,TRUE)-VLOOKUP(Table1468[[#This Row],[Year of Initial Price]],'Inflation Data'!$A:$C,3,TRUE))/(VLOOKUP(Table1468[[#This Row],[Year of Initial Price]],'Inflation Data'!$A:$C,3,TRUE))*Table1468[[#This Row],[Initial Price]])+Table1468[[#This Row],[Initial Price]]))))","v":""},{"$f":"IF($G139=YEAR(TODAY()),$E139,(IF($G139=0,\"\",IF(Table13[[#This Row],[Life Expectancy]]=0,H139, ((0.056*(Table1468[[#This Row],[Year of Failure]]-YEAR(TODAY()))*Table1468[[#This Row],[Current Predicted Cost (to purchase in 2024)]])+Table1468[[#This Row],[Current Predicted Cost (to purchase in 2024)]])))))","v":""},{"$f":"Table13[[#This Row],[Estimated Year of Failure]]","v":""}]
[{"$f":"Table13[[#This Row],[I.D. Number ]]","v":""},{"$f":"Table13[[#This Row],[Category]]","v":0},{"$f":"Table13[[#This Row],[Type]]","v":0},{"$f":"Table13[[#This Row],[Description]]","v":0},null,null,{"$f":"Table13[[#This Row],[Installation Year]]","v":0},{"$f":"IF($G140= YEAR(TODAY()),$E140,(IF($G140=0,\"\",IF(Table13[[#This Row],[Life Expectancy]]=0,((0.056*(YEAR(TODAY())-Table1468[[#This Row],[Year of Initial Price]])*Table1468[[#This Row],[Initial Price]])+Table1468[[#This Row],[Initial Price]]),((VLOOKUP(YEAR(TODAY()),'Inflation Data'!$A:$C,3,TRUE)-VLOOKUP(Table1468[[#This Row],[Year of Initial Price]],'Inflation Data'!$A:$C,3,TRUE))/(VLOOKUP(Table1468[[#This Row],[Year of Initial Price]],'Inflation Data'!$A:$C,3,TRUE))*Table1468[[#This Row],[Initial Price]])+Table1468[[#This Row],[Initial Price]]))))","v":""},{"$f":"IF($G140=YEAR(TODAY()),$E140,(IF($G140=0,\"\",IF(Table13[[#This Row],[Life Expectancy]]=0,H140, ((0.056*(Table1468[[#This Row],[Year of Failure]]-YEAR(TODAY()))*Table1468[[#This Row],[Current Predicted Cost (to purchase in 2024)]])+Table1468[[#This Row],[Current Predicted Cost (to purchase in 2024)]])))))","v":""},{"$f":"Table13[[#This Row],[Estimated Year of Failure]]","v":""}]
[{"$f":"Table13[[#This Row],[I.D. Number ]]","v":""},{"$f":"Table13[[#This Row],[Category]]","v":0},{"$f":"Table13[[#This Row],[Type]]","v":0},{"$f":"Table13[[#This Row],[Description]]","v":0},null,null,{"$f":"Table13[[#This Row],[Installation Year]]","v":0},{"$f":"IF($G141= YEAR(TODAY()),$E141,(IF($G141=0,\"\",IF(Table13[[#This Row],[Life Expectancy]]=0,((0.056*(YEAR(TODAY())-Table1468[[#This Row],[Year of Initial Price]])*Table1468[[#This Row],[Initial Price]])+Table1468[[#This Row],[Initial Price]]),((VLOOKUP(YEAR(TODAY()),'Inflation Data'!$A:$C,3,TRUE)-VLOOKUP(Table1468[[#This Row],[Year of Initial Price]],'Inflation Data'!$A:$C,3,TRUE))/(VLOOKUP(Table1468[[#This Row],[Year of Initial Price]],'Inflation Data'!$A:$C,3,TRUE))*Table1468[[#This Row],[Initial Price]])+Table1468[[#This Row],[Initial Price]]))))","v":""},{"$f":"IF($G141=YEAR(TODAY()),$E141,(IF($G141=0,\"\",IF(Table13[[#This Row],[Life Expectancy]]=0,H141, ((0.056*(Table1468[[#This Row],[Year of Failure]]-YEAR(TODAY()))*Table1468[[#This Row],[Current Predicted Cost (to purchase in 2024)]])+Table1468[[#This Row],[Current Predicted Cost (to purchase in 2024)]])))))","v":""},{"$f":"Table13[[#This Row],[Estimated Year of Failure]]","v":""}]
[{"$f":"Table13[[#This Row],[I.D. Number ]]","v":""},{"$f":"Table13[[#This Row],[Category]]","v":0},{"$f":"Table13[[#This Row],[Type]]","v":0},{"$f":"Table13[[#This Row],[Description]]","v":0},null,null,{"$f":"Table13[[#This Row],[Installation Year]]","v":0},{"$f":"IF($G142= YEAR(TODAY()),$E142,(IF($G142=0,\"\",IF(Table13[[#This Row],[Life Expectancy]]=0,((0.056*(YEAR(TODAY())-Table1468[[#This Row],[Year of Initial Price]])*Table1468[[#This Row],[Initial Price]])+Table1468[[#This Row],[Initial Price]]),((VLOOKUP(YEAR(TODAY()),'Inflation Data'!$A:$C,3,TRUE)-VLOOKUP(Table1468[[#This Row],[Year of Initial Price]],'Inflation Data'!$A:$C,3,TRUE))/(VLOOKUP(Table1468[[#This Row],[Year of Initial Price]],'Inflation Data'!$A:$C,3,TRUE))*Table1468[[#This Row],[Initial Price]])+Table1468[[#This Row],[Initial Price]]))))","v":""},{"$f":"IF($G142=YEAR(TODAY()),$E142,(IF($G142=0,\"\",IF(Table13[[#This Row],[Life Expectancy]]=0,H142, ((0.056*(Table1468[[#This Row],[Year of Failure]]-YEAR(TODAY()))*Table1468[[#This Row],[Current Predicted Cost (to purchase in 2024)]])+Table1468[[#This Row],[Current Predicted Cost (to purchase in 2024)]])))))","v":""},{"$f":"Table13[[#This Row],[Estimated Year of Failure]]","v":""}]
[{"$f":"Table13[[#This Row],[I.D. Number ]]","v":""},{"$f":"Table13[[#This Row],[Category]]","v":0},{"$f":"Table13[[#This Row],[Type]]","v":0},{"$f":"Table13[[#This Row],[Description]]","v":0},null,null,{"$f":"Table13[[#This Row],[Installation Year]]","v":0},{"$f":"IF($G143= YEAR(TODAY()),$E143,(IF($G143=0,\"\",IF(Table13[[#This Row],[Life Expectancy]]=0,((0.056*(YEAR(TODAY())-Table1468[[#This Row],[Year of Initial Price]])*Table1468[[#This Row],[Initial Price]])+Table1468[[#This Row],[Initial Price]]),((VLOOKUP(YEAR(TODAY()),'Inflation Data'!$A:$C,3,TRUE)-VLOOKUP(Table1468[[#This Row],[Year of Initial Price]],'Inflation Data'!$A:$C,3,TRUE))/(VLOOKUP(Table1468[[#This Row],[Year of Initial Price]],'Inflation Data'!$A:$C,3,TRUE))*Table1468[[#This Row],[Initial Price]])+Table1468[[#This Row],[Initial Price]]))))","v":""},{"$f":"IF($G143=YEAR(TODAY()),$E143,(IF($G143=0,\"\",IF(Table13[[#This Row],[Life Expectancy]]=0,H143, ((0.056*(Table1468[[#This Row],[Year of Failure]]-YEAR(TODAY()))*Table1468[[#This Row],[Current Predicted Cost (to purchase in 2024)]])+Table1468[[#This Row],[Current Predicted Cost (to purchase in 2024)]])))))","v":""},{"$f":"Table13[[#This Row],[Estimated Year of Failure]]","v":""}]
[{"$f":"Table13[[#This Row],[I.D. Number ]]","v":""},{"$f":"Table13[[#This Row],[Category]]","v":0},{"$f":"Table13[[#This Row],[Type]]","v":0},{"$f":"Table13[[#This Row],[Description]]","v":0},null,null,{"$f":"Table13[[#This Row],[Installation Year]]","v":0},{"$f":"IF($G144= YEAR(TODAY()),$E144,(IF($G144=0,\"\",IF(Table13[[#This Row],[Life Expectancy]]=0,((0.056*(YEAR(TODAY())-Table1468[[#This Row],[Year of Initial Price]])*Table1468[[#This Row],[Initial Price]])+Table1468[[#This Row],[Initial Price]]),((VLOOKUP(YEAR(TODAY()),'Inflation Data'!$A:$C,3,TRUE)-VLOOKUP(Table1468[[#This Row],[Year of Initial Price]],'Inflation Data'!$A:$C,3,TRUE))/(VLOOKUP(Table1468[[#This Row],[Year of Initial Price]],'Inflation Data'!$A:$C,3,TRUE))*Table1468[[#This Row],[Initial Price]])+Table1468[[#This Row],[Initial Price]]))))","v":""},{"$f":"IF($G144=YEAR(TODAY()),$E144,(IF($G144=0,\"\",IF(Table13[[#This Row],[Life Expectancy]]=0,H144, ((0.056*(Table1468[[#This Row],[Year of Failure]]-YEAR(TODAY()))*Table1468[[#This Row],[Current Predicted Cost (to purchase in 2024)]])+Table1468[[#This Row],[Current Predicted Cost (to purchase in 2024)]])))))","v":""},{"$f":"Table13[[#This Row],[Estimated Year of Failure]]","v":""}]
[{"$f":"Table13[[#This Row],[I.D. Number ]]","v":""},{"$f":"Table13[[#This Row],[Category]]","v":0},{"$f":"Table13[[#This Row],[Type]]","v":0},{"$f":"Table13[[#This Row],[Description]]","v":0},null,null,{"$f":"Table13[[#This Row],[Installation Year]]","v":0},{"$f":"IF($G145= YEAR(TODAY()),$E145,(IF($G145=0,\"\",IF(Table13[[#This Row],[Life Expectancy]]=0,((0.056*(YEAR(TODAY())-Table1468[[#This Row],[Year of Initial Price]])*Table1468[[#This Row],[Initial Price]])+Table1468[[#This Row],[Initial Price]]),((VLOOKUP(YEAR(TODAY()),'Inflation Data'!$A:$C,3,TRUE)-VLOOKUP(Table1468[[#This Row],[Year of Initial Price]],'Inflation Data'!$A:$C,3,TRUE))/(VLOOKUP(Table1468[[#This Row],[Year of Initial Price]],'Inflation Data'!$A:$C,3,TRUE))*Table1468[[#This Row],[Initial Price]])+Table1468[[#This Row],[Initial Price]]))))","v":""},{"$f":"IF($G145=YEAR(TODAY()),$E145,(IF($G145=0,\"\",IF(Table13[[#This Row],[Life Expectancy]]=0,H145, ((0.056*(Table1468[[#This Row],[Year of Failure]]-YEAR(TODAY()))*Table1468[[#This Row],[Current Predicted Cost (to purchase in 2024)]])+Table1468[[#This Row],[Current Predicted Cost (to purchase in 2024)]])))))","v":""},{"$f":"Table13[[#This Row],[Estimated Year of Failure]]","v":""}]
[{"$f":"Table13[[#This Row],[I.D. Number ]]","v":""},{"$f":"Table13[[#This Row],[Category]]","v":0},{"$f":"Table13[[#This Row],[Type]]","v":0},{"$f":"Table13[[#This Row],[Description]]","v":0},null,null,{"$f":"Table13[[#This Row],[Installation Year]]","v":0},{"$f":"IF($G146= YEAR(TODAY()),$E146,(IF($G146=0,\"\",IF(Table13[[#This Row],[Life Expectancy]]=0,((0.056*(YEAR(TODAY())-Table1468[[#This Row],[Year of Initial Price]])*Table1468[[#This Row],[Initial Price]])+Table1468[[#This Row],[Initial Price]]),((VLOOKUP(YEAR(TODAY()),'Inflation Data'!$A:$C,3,TRUE)-VLOOKUP(Table1468[[#This Row],[Year of Initial Price]],'Inflation Data'!$A:$C,3,TRUE))/(VLOOKUP(Table1468[[#This Row],[Year of Initial Price]],'Inflation Data'!$A:$C,3,TRUE))*Table1468[[#This Row],[Initial Price]])+Table1468[[#This Row],[Initial Price]]))))","v":""},{"$f":"IF($G146=YEAR(TODAY()),$E146,(IF($G146=0,\"\",IF(Table13[[#This Row],[Life Expectancy]]=0,H146, ((0.056*(Table1468[[#This Row],[Year of Failure]]-YEAR(TODAY()))*Table1468[[#This Row],[Current Predicted Cost (to purchase in 2024)]])+Table1468[[#This Row],[Current Predicted Cost (to purchase in 2024)]])))))","v":""},{"$f":"Table13[[#This Row],[Estimated Year of Failure]]","v":""}]
[{"$f":"Table13[[#This Row],[I.D. Number ]]","v":""},{"$f":"Table13[[#This Row],[Category]]","v":0},{"$f":"Table13[[#This Row],[Type]]","v":0},{"$f":"Table13[[#This Row],[Description]]","v":0},null,null,{"$f":"Table13[[#This Row],[Installation Year]]","v":0},{"$f":"IF($G147= YEAR(TODAY()),$E147,(IF($G147=0,\"\",IF(Table13[[#This Row],[Life Expectancy]]=0,((0.056*(YEAR(TODAY())-Table1468[[#This Row],[Year of Initial Price]])*Table1468[[#This Row],[Initial Price]])+Table1468[[#This Row],[Initial Price]]),((VLOOKUP(YEAR(TODAY()),'Inflation Data'!$A:$C,3,TRUE)-VLOOKUP(Table1468[[#This Row],[Year of Initial Price]],'Inflation Data'!$A:$C,3,TRUE))/(VLOOKUP(Table1468[[#This Row],[Year of Initial Price]],'Inflation Data'!$A:$C,3,TRUE))*Table1468[[#This Row],[Initial Price]])+Table1468[[#This Row],[Initial Price]]))))","v":""},{"$f":"IF($G147=YEAR(TODAY()),$E147,(IF($G147=0,\"\",IF(Table13[[#This Row],[Life Expectancy]]=0,H147, ((0.056*(Table1468[[#This Row],[Year of Failure]]-YEAR(TODAY()))*Table1468[[#This Row],[Current Predicted Cost (to purchase in 2024)]])+Table1468[[#This Row],[Current Predicted Cost (to purchase in 2024)]])))))","v":""},{"$f":"Table13[[#This Row],[Estimated Year of Failure]]","v":""}]
[{"$f":"Table13[[#This Row],[I.D. Number ]]","v":""},{"$f":"Table13[[#This Row],[Category]]","v":0},{"$f":"Table13[[#This Row],[Type]]","v":0},{"$f":"Table13[[#This Row],[Description]]","v":0},null,null,{"$f":"Table13[[#This Row],[Installation Year]]","v":0},{"$f":"IF($G148= YEAR(TODAY()),$E148,(IF($G148=0,\"\",IF(Table13[[#This Row],[Life Expectancy]]=0,((0.056*(YEAR(TODAY())-Table1468[[#This Row],[Year of Initial Price]])*Table1468[[#This Row],[Initial Price]])+Table1468[[#This Row],[Initial Price]]),((VLOOKUP(YEAR(TODAY()),'Inflation Data'!$A:$C,3,TRUE)-VLOOKUP(Table1468[[#This Row],[Year of Initial Price]],'Inflation Data'!$A:$C,3,TRUE))/(VLOOKUP(Table1468[[#This Row],[Year of Initial Price]],'Inflation Data'!$A:$C,3,TRUE))*Table1468[[#This Row],[Initial Price]])+Table1468[[#This Row],[Initial Price]]))))","v":""},{"$f":"IF($G148=YEAR(TODAY()),$E148,(IF($G148=0,\"\",IF(Table13[[#This Row],[Life Expectancy]]=0,H148, ((0.056*(Table1468[[#This Row],[Year of Failure]]-YEAR(TODAY()))*Table1468[[#This Row],[Current Predicted Cost (to purchase in 2024)]])+Table1468[[#This Row],[Current Predicted Cost (to purchase in 2024)]])))))","v":""},{"$f":"Table13[[#This Row],[Estimated Year of Failure]]","v":""}]
[{"$f":"Table13[[#This Row],[I.D. Number ]]","v":""},{"$f":"Table13[[#This Row],[Category]]","v":0},{"$f":"Table13[[#This Row],[Type]]","v":0},{"$f":"Table13[[#This Row],[Description]]","v":0},null,null,{"$f":"Table13[[#This Row],[Installation Year]]","v":0},{"$f":"IF($G149= YEAR(TODAY()),$E149,(IF($G149=0,\"\",IF(Table13[[#This Row],[Life Expectancy]]=0,((0.056*(YEAR(TODAY())-Table1468[[#This Row],[Year of Initial Price]])*Table1468[[#This Row],[Initial Price]])+Table1468[[#This Row],[Initial Price]]),((VLOOKUP(YEAR(TODAY()),'Inflation Data'!$A:$C,3,TRUE)-VLOOKUP(Table1468[[#This Row],[Year of Initial Price]],'Inflation Data'!$A:$C,3,TRUE))/(VLOOKUP(Table1468[[#This Row],[Year of Initial Price]],'Inflation Data'!$A:$C,3,TRUE))*Table1468[[#This Row],[Initial Price]])+Table1468[[#This Row],[Initial Price]]))))","v":""},{"$f":"IF($G149=YEAR(TODAY()),$E149,(IF($G149=0,\"\",IF(Table13[[#This Row],[Life Expectancy]]=0,H149, ((0.056*(Table1468[[#This Row],[Year of Failure]]-YEAR(TODAY()))*Table1468[[#This Row],[Current Predicted Cost (to purchase in 2024)]])+Table1468[[#This Row],[Current Predicted Cost (to purchase in 2024)]])))))","v":""},{"$f":"Table13[[#This Row],[Estimated Year of Failure]]","v":""}]
[{"$f":"Table13[[#This Row],[I.D. Number ]]","v":""},{"$f":"Table13[[#This Row],[Category]]","v":0},{"$f":"Table13[[#This Row],[Type]]","v":0},{"$f":"Table13[[#This Row],[Description]]","v":0},null,null,{"$f":"Table13[[#This Row],[Installation Year]]","v":0},{"$f":"IF($G150= YEAR(TODAY()),$E150,(IF($G150=0,\"\",IF(Table13[[#This Row],[Life Expectancy]]=0,((0.056*(YEAR(TODAY())-Table1468[[#This Row],[Year of Initial Price]])*Table1468[[#This Row],[Initial Price]])+Table1468[[#This Row],[Initial Price]]),((VLOOKUP(YEAR(TODAY()),'Inflation Data'!$A:$C,3,TRUE)-VLOOKUP(Table1468[[#This Row],[Year of Initial Price]],'Inflation Data'!$A:$C,3,TRUE))/(VLOOKUP(Table1468[[#This Row],[Year of Initial Price]],'Inflation Data'!$A:$C,3,TRUE))*Table1468[[#This Row],[Initial Price]])+Table1468[[#This Row],[Initial Price]]))))","v":""},{"$f":"IF($G150=YEAR(TODAY()),$E150,(IF($G150=0,\"\",IF(Table13[[#This Row],[Life Expectancy]]=0,H150, ((0.056*(Table1468[[#This Row],[Year of Failure]]-YEAR(TODAY()))*Table1468[[#This Row],[Current Predicted Cost (to purchase in 2024)]])+Table1468[[#This Row],[Current Predicted Cost (to purchase in 2024)]])))))","v":""},{"$f":"Table13[[#This Row],[Estimated Year of Failure]]","v":""}]
[{"$f":"Table13[[#This Row],[I.D. Number ]]","v":""},{"$f":"Table13[[#This Row],[Category]]","v":0},{"$f":"Table13[[#This Row],[Type]]","v":0},{"$f":"Table13[[#This Row],[Description]]","v":0},null,null,{"$f":"Table13[[#This Row],[Installation Year]]","v":0},{"$f":"IF($G151= YEAR(TODAY()),$E151,(IF($G151=0,\"\",IF(Table13[[#This Row],[Life Expectancy]]=0,((0.056*(YEAR(TODAY())-Table1468[[#This Row],[Year of Initial Price]])*Table1468[[#This Row],[Initial Price]])+Table1468[[#This Row],[Initial Price]]),((VLOOKUP(YEAR(TODAY()),'Inflation Data'!$A:$C,3,TRUE)-VLOOKUP(Table1468[[#This Row],[Year of Initial Price]],'Inflation Data'!$A:$C,3,TRUE))/(VLOOKUP(Table1468[[#This Row],[Year of Initial Price]],'Inflation Data'!$A:$C,3,TRUE))*Table1468[[#This Row],[Initial Price]])+Table1468[[#This Row],[Initial Price]]))))","v":""},{"$f":"IF($G151=YEAR(TODAY()),$E151,(IF($G151=0,\"\",IF(Table13[[#This Row],[Life Expectancy]]=0,H151, ((0.056*(Table1468[[#This Row],[Year of Failure]]-YEAR(TODAY()))*Table1468[[#This Row],[Current Predicted Cost (to purchase in 2024)]])+Table1468[[#This Row],[Current Predicted Cost (to purchase in 2024)]])))))","v":""},{"$f":"Table13[[#This Row],[Estimated Year of Failure]]","v":""}]
[{"$f":"Table13[[#This Row],[I.D. Number ]]","v":""},{"$f":"Table13[[#This Row],[Category]]","v":0},{"$f":"Table13[[#This Row],[Type]]","v":0},{"$f":"Table13[[#This Row],[Description]]","v":0},null,null,{"$f":"Table13[[#This Row],[Installation Year]]","v":0},{"$f":"IF($G152= YEAR(TODAY()),$E152,(IF($G152=0,\"\",IF(Table13[[#This Row],[Life Expectancy]]=0,((0.056*(YEAR(TODAY())-Table1468[[#This Row],[Year of Initial Price]])*Table1468[[#This Row],[Initial Price]])+Table1468[[#This Row],[Initial Price]]),((VLOOKUP(YEAR(TODAY()),'Inflation Data'!$A:$C,3,TRUE)-VLOOKUP(Table1468[[#This Row],[Year of Initial Price]],'Inflation Data'!$A:$C,3,TRUE))/(VLOOKUP(Table1468[[#This Row],[Year of Initial Price]],'Inflation Data'!$A:$C,3,TRUE))*Table1468[[#This Row],[Initial Price]])+Table1468[[#This Row],[Initial Price]]))))","v":""},{"$f":"IF($G152=YEAR(TODAY()),$E152,(IF($G152=0,\"\",IF(Table13[[#This Row],[Life Expectancy]]=0,H152, ((0.056*(Table1468[[#This Row],[Year of Failure]]-YEAR(TODAY()))*Table1468[[#This Row],[Current Predicted Cost (to purchase in 2024)]])+Table1468[[#This Row],[Current Predicted Cost (to purchase in 2024)]])))))","v":""},{"$f":"Table13[[#This Row],[Estimated Year of Failure]]","v":""}]
[{"$f":"Table13[[#This Row],[I.D. Number ]]","v":""},{"$f":"Table13[[#This Row],[Category]]","v":0},{"$f":"Table13[[#This Row],[Type]]","v":0},{"$f":"Table13[[#This Row],[Description]]","v":0},null,null,{"$f":"Table13[[#This Row],[Installation Year]]","v":0},{"$f":"IF($G153= YEAR(TODAY()),$E153,(IF($G153=0,\"\",IF(Table13[[#This Row],[Life Expectancy]]=0,((0.056*(YEAR(TODAY())-Table1468[[#This Row],[Year of Initial Price]])*Table1468[[#This Row],[Initial Price]])+Table1468[[#This Row],[Initial Price]]),((VLOOKUP(YEAR(TODAY()),'Inflation Data'!$A:$C,3,TRUE)-VLOOKUP(Table1468[[#This Row],[Year of Initial Price]],'Inflation Data'!$A:$C,3,TRUE))/(VLOOKUP(Table1468[[#This Row],[Year of Initial Price]],'Inflation Data'!$A:$C,3,TRUE))*Table1468[[#This Row],[Initial Price]])+Table1468[[#This Row],[Initial Price]]))))","v":""},{"$f":"IF($G153=YEAR(TODAY()),$E153,(IF($G153=0,\"\",IF(Table13[[#This Row],[Life Expectancy]]=0,H153, ((0.056*(Table1468[[#This Row],[Year of Failure]]-YEAR(TODAY()))*Table1468[[#This Row],[Current Predicted Cost (to purchase in 2024)]])+Table1468[[#This Row],[Current Predicted Cost (to purchase in 2024)]])))))","v":""},{"$f":"Table13[[#This Row],[Estimated Year of Failure]]","v":""}]
[{"$f":"Table13[[#This Row],[I.D. Number ]]","v":""},{"$f":"Table13[[#This Row],[Category]]","v":0},{"$f":"Table13[[#This Row],[Type]]","v":0},{"$f":"Table13[[#This Row],[Description]]","v":0},null,null,{"$f":"Table13[[#This Row],[Installation Year]]","v":0},{"$f":"IF($G154= YEAR(TODAY()),$E154,(IF($G154=0,\"\",IF(Table13[[#This Row],[Life Expectancy]]=0,((0.056*(YEAR(TODAY())-Table1468[[#This Row],[Year of Initial Price]])*Table1468[[#This Row],[Initial Price]])+Table1468[[#This Row],[Initial Price]]),((VLOOKUP(YEAR(TODAY()),'Inflation Data'!$A:$C,3,TRUE)-VLOOKUP(Table1468[[#This Row],[Year of Initial Price]],'Inflation Data'!$A:$C,3,TRUE))/(VLOOKUP(Table1468[[#This Row],[Year of Initial Price]],'Inflation Data'!$A:$C,3,TRUE))*Table1468[[#This Row],[Initial Price]])+Table1468[[#This Row],[Initial Price]]))))","v":""},{"$f":"IF($G154=YEAR(TODAY()),$E154,(IF($G154=0,\"\",IF(Table13[[#This Row],[Life Expectancy]]=0,H154, ((0.056*(Table1468[[#This Row],[Year of Failure]]-YEAR(TODAY()))*Table1468[[#This Row],[Current Predicted Cost (to purchase in 2024)]])+Table1468[[#This Row],[Current Predicted Cost (to purchase in 2024)]])))))","v":""},{"$f":"Table13[[#This Row],[Estimated Year of Failure]]","v":""}]
[{"$f":"Table13[[#This Row],[I.D. Number ]]","v":""},{"$f":"Table13[[#This Row],[Category]]","v":0},{"$f":"Table13[[#This Row],[Type]]","v":0},{"$f":"Table13[[#This Row],[Description]]","v":0},null,null,{"$f":"Table13[[#This Row],[Installation Year]]","v":0},{"$f":"IF($G155= YEAR(TODAY()),$E155,(IF($G155=0,\"\",IF(Table13[[#This Row],[Life Expectancy]]=0,((0.056*(YEAR(TODAY())-Table1468[[#This Row],[Year of Initial Price]])*Table1468[[#This Row],[Initial Price]])+Table1468[[#This Row],[Initial Price]]),((VLOOKUP(YEAR(TODAY()),'Inflation Data'!$A:$C,3,TRUE)-VLOOKUP(Table1468[[#This Row],[Year of Initial Price]],'Inflation Data'!$A:$C,3,TRUE))/(VLOOKUP(Table1468[[#This Row],[Year of Initial Price]],'Inflation Data'!$A:$C,3,TRUE))*Table1468[[#This Row],[Initial Price]])+Table1468[[#This Row],[Initial Price]]))))","v":""},{"$f":"IF($G155=YEAR(TODAY()),$E155,(IF($G155=0,\"\",IF(Table13[[#This Row],[Life Expectancy]]=0,H155, ((0.056*(Table1468[[#This Row],[Year of Failure]]-YEAR(TODAY()))*Table1468[[#This Row],[Current Predicted Cost (to purchase in 2024)]])+Table1468[[#This Row],[Current Predicted Cost (to purchase in 2024)]])))))","v":""},{"$f":"Table13[[#This Row],[Estimated Year of Failure]]","v":""}]
[{"$f":"Table13[[#This Row],[I.D. Number ]]","v":""},{"$f":"Table13[[#This Row],[Category]]","v":0},{"$f":"Table13[[#This Row],[Type]]","v":0},{"$f":"Table13[[#This Row],[Description]]","v":0},null,null,{"$f":"Table13[[#This Row],[Installation Year]]","v":0},{"$f":"IF($G156= YEAR(TODAY()),$E156,(IF($G156=0,\"\",IF(Table13[[#This Row],[Life Expectancy]]=0,((0.056*(YEAR(TODAY())-Table1468[[#This Row],[Year of Initial Price]])*Table1468[[#This Row],[Initial Price]])+Table1468[[#This Row],[Initial Price]]),((VLOOKUP(YEAR(TODAY()),'Inflation Data'!$A:$C,3,TRUE)-VLOOKUP(Table1468[[#This Row],[Year of Initial Price]],'Inflation Data'!$A:$C,3,TRUE))/(VLOOKUP(Table1468[[#This Row],[Year of Initial Price]],'Inflation Data'!$A:$C,3,TRUE))*Table1468[[#This Row],[Initial Price]])+Table1468[[#This Row],[Initial Price]]))))","v":""},{"$f":"IF($G156=YEAR(TODAY()),$E156,(IF($G156=0,\"\",IF(Table13[[#This Row],[Life Expectancy]]=0,H156, ((0.056*(Table1468[[#This Row],[Year of Failure]]-YEAR(TODAY()))*Table1468[[#This Row],[Current Predicted Cost (to purchase in 2024)]])+Table1468[[#This Row],[Current Predicted Cost (to purchase in 2024)]])))))","v":""},{"$f":"Table13[[#This Row],[Estimated Year of Failure]]","v":""}]
[{"$f":"Table13[[#This Row],[I.D. Number ]]","v":""},{"$f":"Table13[[#This Row],[Category]]","v":0},{"$f":"Table13[[#This Row],[Type]]","v":0},{"$f":"Table13[[#This Row],[Description]]","v":0},null,null,{"$f":"Table13[[#This Row],[Installation Year]]","v":0},{"$f":"IF($G157= YEAR(TODAY()),$E157,(IF($G157=0,\"\",IF(Table13[[#This Row],[Life Expectancy]]=0,((0.056*(YEAR(TODAY())-Table1468[[#This Row],[Year of Initial Price]])*Table1468[[#This Row],[Initial Price]])+Table1468[[#This Row],[Initial Price]]),((VLOOKUP(YEAR(TODAY()),'Inflation Data'!$A:$C,3,TRUE)-VLOOKUP(Table1468[[#This Row],[Year of Initial Price]],'Inflation Data'!$A:$C,3,TRUE))/(VLOOKUP(Table1468[[#This Row],[Year of Initial Price]],'Inflation Data'!$A:$C,3,TRUE))*Table1468[[#This Row],[Initial Price]])+Table1468[[#This Row],[Initial Price]]))))","v":""},{"$f":"IF($G157=YEAR(TODAY()),$E157,(IF($G157=0,\"\",IF(Table13[[#This Row],[Life Expectancy]]=0,H157, ((0.056*(Table1468[[#This Row],[Year of Failure]]-YEAR(TODAY()))*Table1468[[#This Row],[Current Predicted Cost (to purchase in 2024)]])+Table1468[[#This Row],[Current Predicted Cost (to purchase in 2024)]])))))","v":""},{"$f":"Table13[[#This Row],[Estimated Year of Failure]]","v":""}]
[{"$f":"Table13[[#This Row],[I.D. Number ]]","v":""},{"$f":"Table13[[#This Row],[Category]]","v":0},{"$f":"Table13[[#This Row],[Type]]","v":0},{"$f":"Table13[[#This Row],[Description]]","v":0},null,null,{"$f":"Table13[[#This Row],[Installation Year]]","v":0},{"$f":"IF($G158= YEAR(TODAY()),$E158,(IF($G158=0,\"\",IF(Table13[[#This Row],[Life Expectancy]]=0,((0.056*(YEAR(TODAY())-Table1468[[#This Row],[Year of Initial Price]])*Table1468[[#This Row],[Initial Price]])+Table1468[[#This Row],[Initial Price]]),((VLOOKUP(YEAR(TODAY()),'Inflation Data'!$A:$C,3,TRUE)-VLOOKUP(Table1468[[#This Row],[Year of Initial Price]],'Inflation Data'!$A:$C,3,TRUE))/(VLOOKUP(Table1468[[#This Row],[Year of Initial Price]],'Inflation Data'!$A:$C,3,TRUE))*Table1468[[#This Row],[Initial Price]])+Table1468[[#This Row],[Initial Price]]))))","v":""},{"$f":"IF($G158=YEAR(TODAY()),$E158,(IF($G158=0,\"\",IF(Table13[[#This Row],[Life Expectancy]]=0,H158, ((0.056*(Table1468[[#This Row],[Year of Failure]]-YEAR(TODAY()))*Table1468[[#This Row],[Current Predicted Cost (to purchase in 2024)]])+Table1468[[#This Row],[Current Predicted Cost (to purchase in 2024)]])))))","v":""},{"$f":"Table13[[#This Row],[Estimated Year of Failure]]","v":""}]
[{"$f":"Table13[[#This Row],[I.D. Number ]]","v":""},{"$f":"Table13[[#This Row],[Category]]","v":0},{"$f":"Table13[[#This Row],[Type]]","v":0},{"$f":"Table13[[#This Row],[Description]]","v":0},null,null,{"$f":"Table13[[#This Row],[Installation Year]]","v":0},{"$f":"IF($G159= YEAR(TODAY()),$E159,(IF($G159=0,\"\",IF(Table13[[#This Row],[Life Expectancy]]=0,((0.056*(YEAR(TODAY())-Table1468[[#This Row],[Year of Initial Price]])*Table1468[[#This Row],[Initial Price]])+Table1468[[#This Row],[Initial Price]]),((VLOOKUP(YEAR(TODAY()),'Inflation Data'!$A:$C,3,TRUE)-VLOOKUP(Table1468[[#This Row],[Year of Initial Price]],'Inflation Data'!$A:$C,3,TRUE))/(VLOOKUP(Table1468[[#This Row],[Year of Initial Price]],'Inflation Data'!$A:$C,3,TRUE))*Table1468[[#This Row],[Initial Price]])+Table1468[[#This Row],[Initial Price]]))))","v":""},{"$f":"IF($G159=YEAR(TODAY()),$E159,(IF($G159=0,\"\",IF(Table13[[#This Row],[Life Expectancy]]=0,H159, ((0.056*(Table1468[[#This Row],[Year of Failure]]-YEAR(TODAY()))*Table1468[[#This Row],[Current Predicted Cost (to purchase in 2024)]])+Table1468[[#This Row],[Current Predicted Cost (to purchase in 2024)]])))))","v":""},{"$f":"Table13[[#This Row],[Estimated Year of Failure]]","v":""}]
[{"$f":"Table13[[#This Row],[I.D. Number ]]","v":""},{"$f":"Table13[[#This Row],[Category]]","v":0},{"$f":"Table13[[#This Row],[Type]]","v":0},{"$f":"Table13[[#This Row],[Description]]","v":0},null,null,{"$f":"Table13[[#This Row],[Installation Year]]","v":0},{"$f":"IF($G160= YEAR(TODAY()),$E160,(IF($G160=0,\"\",IF(Table13[[#This Row],[Life Expectancy]]=0,((0.056*(YEAR(TODAY())-Table1468[[#This Row],[Year of Initial Price]])*Table1468[[#This Row],[Initial Price]])+Table1468[[#This Row],[Initial Price]]),((VLOOKUP(YEAR(TODAY()),'Inflation Data'!$A:$C,3,TRUE)-VLOOKUP(Table1468[[#This Row],[Year of Initial Price]],'Inflation Data'!$A:$C,3,TRUE))/(VLOOKUP(Table1468[[#This Row],[Year of Initial Price]],'Inflation Data'!$A:$C,3,TRUE))*Table1468[[#This Row],[Initial Price]])+Table1468[[#This Row],[Initial Price]]))))","v":""},{"$f":"IF($G160=YEAR(TODAY()),$E160,(IF($G160=0,\"\",IF(Table13[[#This Row],[Life Expectancy]]=0,H160, ((0.056*(Table1468[[#This Row],[Year of Failure]]-YEAR(TODAY()))*Table1468[[#This Row],[Current Predicted Cost (to purchase in 2024)]])+Table1468[[#This Row],[Current Predicted Cost (to purchase in 2024)]])))))","v":""},{"$f":"Table13[[#This Row],[Estimated Year of Failure]]","v":""}]
[{"$f":"Table13[[#This Row],[I.D. Number ]]","v":""},{"$f":"Table13[[#This Row],[Category]]","v":0},{"$f":"Table13[[#This Row],[Type]]","v":0},{"$f":"Table13[[#This Row],[Description]]","v":0},null,null,{"$f":"Table13[[#This Row],[Installation Year]]","v":0},{"$f":"IF($G161= YEAR(TODAY()),$E161,(IF($G161=0,\"\",IF(Table13[[#This Row],[Life Expectancy]]=0,((0.056*(YEAR(TODAY())-Table1468[[#This Row],[Year of Initial Price]])*Table1468[[#This Row],[Initial Price]])+Table1468[[#This Row],[Initial Price]]),((VLOOKUP(YEAR(TODAY()),'Inflation Data'!$A:$C,3,TRUE)-VLOOKUP(Table1468[[#This Row],[Year of Initial Price]],'Inflation Data'!$A:$C,3,TRUE))/(VLOOKUP(Table1468[[#This Row],[Year of Initial Price]],'Inflation Data'!$A:$C,3,TRUE))*Table1468[[#This Row],[Initial Price]])+Table1468[[#This Row],[Initial Price]]))))","v":""},{"$f":"IF($G161=YEAR(TODAY()),$E161,(IF($G161=0,\"\",IF(Table13[[#This Row],[Life Expectancy]]=0,H161, ((0.056*(Table1468[[#This Row],[Year of Failure]]-YEAR(TODAY()))*Table1468[[#This Row],[Current Predicted Cost (to purchase in 2024)]])+Table1468[[#This Row],[Current Predicted Cost (to purchase in 2024)]])))))","v":""},{"$f":"Table13[[#This Row],[Estimated Year of Failure]]","v":""}]
[{"$f":"Table13[[#This Row],[I.D. Number ]]","v":""},{"$f":"Table13[[#This Row],[Category]]","v":0},{"$f":"Table13[[#This Row],[Type]]","v":0},{"$f":"Table13[[#This Row],[Description]]","v":0},null,null,{"$f":"Table13[[#This Row],[Installation Year]]","v":0},{"$f":"IF($G162= YEAR(TODAY()),$E162,(IF($G162=0,\"\",IF(Table13[[#This Row],[Life Expectancy]]=0,((0.056*(YEAR(TODAY())-Table1468[[#This Row],[Year of Initial Price]])*Table1468[[#This Row],[Initial Price]])+Table1468[[#This Row],[Initial Price]]),((VLOOKUP(YEAR(TODAY()),'Inflation Data'!$A:$C,3,TRUE)-VLOOKUP(Table1468[[#This Row],[Year of Initial Price]],'Inflation Data'!$A:$C,3,TRUE))/(VLOOKUP(Table1468[[#This Row],[Year of Initial Price]],'Inflation Data'!$A:$C,3,TRUE))*Table1468[[#This Row],[Initial Price]])+Table1468[[#This Row],[Initial Price]]))))","v":""},{"$f":"IF($G162=YEAR(TODAY()),$E162,(IF($G162=0,\"\",IF(Table13[[#This Row],[Life Expectancy]]=0,H162, ((0.056*(Table1468[[#This Row],[Year of Failure]]-YEAR(TODAY()))*Table1468[[#This Row],[Current Predicted Cost (to purchase in 2024)]])+Table1468[[#This Row],[Current Predicted Cost (to purchase in 2024)]])))))","v":""},{"$f":"Table13[[#This Row],[Estimated Year of Failure]]","v":""}]
[{"$f":"Table13[[#This Row],[I.D. Number ]]","v":""},{"$f":"Table13[[#This Row],[Category]]","v":0},{"$f":"Table13[[#This Row],[Type]]","v":0},{"$f":"Table13[[#This Row],[Description]]","v":0},null,null,{"$f":"Table13[[#This Row],[Installation Year]]","v":0},{"$f":"IF($G163= YEAR(TODAY()),$E163,(IF($G163=0,\"\",IF(Table13[[#This Row],[Life Expectancy]]=0,((0.056*(YEAR(TODAY())-Table1468[[#This Row],[Year of Initial Price]])*Table1468[[#This Row],[Initial Price]])+Table1468[[#This Row],[Initial Price]]),((VLOOKUP(YEAR(TODAY()),'Inflation Data'!$A:$C,3,TRUE)-VLOOKUP(Table1468[[#This Row],[Year of Initial Price]],'Inflation Data'!$A:$C,3,TRUE))/(VLOOKUP(Table1468[[#This Row],[Year of Initial Price]],'Inflation Data'!$A:$C,3,TRUE))*Table1468[[#This Row],[Initial Price]])+Table1468[[#This Row],[Initial Price]]))))","v":""},{"$f":"IF($G163=YEAR(TODAY()),$E163,(IF($G163=0,\"\",IF(Table13[[#This Row],[Life Expectancy]]=0,H163, ((0.056*(Table1468[[#This Row],[Year of Failure]]-YEAR(TODAY()))*Table1468[[#This Row],[Current Predicted Cost (to purchase in 2024)]])+Table1468[[#This Row],[Current Predicted Cost (to purchase in 2024)]])))))","v":""},{"$f":"Table13[[#This Row],[Estimated Year of Failure]]","v":""}]
[{"$f":"Table13[[#This Row],[I.D. Number ]]","v":""},{"$f":"Table13[[#This Row],[Category]]","v":0},{"$f":"Table13[[#This Row],[Type]]","v":0},{"$f":"Table13[[#This Row],[Description]]","v":0},null,null,{"$f":"Table13[[#This Row],[Installation Year]]","v":0},{"$f":"IF($G164= YEAR(TODAY()),$E164,(IF($G164=0,\"\",IF(Table13[[#This Row],[Life Expectancy]]=0,((0.056*(YEAR(TODAY())-Table1468[[#This Row],[Year of Initial Price]])*Table1468[[#This Row],[Initial Price]])+Table1468[[#This Row],[Initial Price]]),((VLOOKUP(YEAR(TODAY()),'Inflation Data'!$A:$C,3,TRUE)-VLOOKUP(Table1468[[#This Row],[Year of Initial Price]],'Inflation Data'!$A:$C,3,TRUE))/(VLOOKUP(Table1468[[#This Row],[Year of Initial Price]],'Inflation Data'!$A:$C,3,TRUE))*Table1468[[#This Row],[Initial Price]])+Table1468[[#This Row],[Initial Price]]))))","v":""},{"$f":"IF($G164=YEAR(TODAY()),$E164,(IF($G164=0,\"\",IF(Table13[[#This Row],[Life Expectancy]]=0,H164, ((0.056*(Table1468[[#This Row],[Year of Failure]]-YEAR(TODAY()))*Table1468[[#This Row],[Current Predicted Cost (to purchase in 2024)]])+Table1468[[#This Row],[Current Predicted Cost (to purchase in 2024)]])))))","v":""},{"$f":"Table13[[#This Row],[Estimated Year of Failure]]","v":""}]
[{"$f":"Table13[[#This Row],[I.D. Number ]]","v":""},{"$f":"Table13[[#This Row],[Category]]","v":0},{"$f":"Table13[[#This Row],[Type]]","v":0},{"$f":"Table13[[#This Row],[Description]]","v":0},null,null,{"$f":"Table13[[#This Row],[Installation Year]]","v":0},{"$f":"IF($G165= YEAR(TODAY()),$E165,(IF($G165=0,\"\",IF(Table13[[#This Row],[Life Expectancy]]=0,((0.056*(YEAR(TODAY())-Table1468[[#This Row],[Year of Initial Price]])*Table1468[[#This Row],[Initial Price]])+Table1468[[#This Row],[Initial Price]]),((VLOOKUP(YEAR(TODAY()),'Inflation Data'!$A:$C,3,TRUE)-VLOOKUP(Table1468[[#This Row],[Year of Initial Price]],'Inflation Data'!$A:$C,3,TRUE))/(VLOOKUP(Table1468[[#This Row],[Year of Initial Price]],'Inflation Data'!$A:$C,3,TRUE))*Table1468[[#This Row],[Initial Price]])+Table1468[[#This Row],[Initial Price]]))))","v":""},{"$f":"IF($G165=YEAR(TODAY()),$E165,(IF($G165=0,\"\",IF(Table13[[#This Row],[Life Expectancy]]=0,H165, ((0.056*(Table1468[[#This Row],[Year of Failure]]-YEAR(TODAY()))*Table1468[[#This Row],[Current Predicted Cost (to purchase in 2024)]])+Table1468[[#This Row],[Current Predicted Cost (to purchase in 2024)]])))))","v":""},{"$f":"Table13[[#This Row],[Estimated Year of Failure]]","v":""}]
[{"$f":"Table13[[#This Row],[I.D. Number ]]","v":""},{"$f":"Table13[[#This Row],[Category]]","v":0},{"$f":"Table13[[#This Row],[Type]]","v":0},{"$f":"Table13[[#This Row],[Description]]","v":0},null,null,{"$f":"Table13[[#This Row],[Installation Year]]","v":0},{"$f":"IF($G166= YEAR(TODAY()),$E166,(IF($G166=0,\"\",IF(Table13[[#This Row],[Life Expectancy]]=0,((0.056*(YEAR(TODAY())-Table1468[[#This Row],[Year of Initial Price]])*Table1468[[#This Row],[Initial Price]])+Table1468[[#This Row],[Initial Price]]),((VLOOKUP(YEAR(TODAY()),'Inflation Data'!$A:$C,3,TRUE)-VLOOKUP(Table1468[[#This Row],[Year of Initial Price]],'Inflation Data'!$A:$C,3,TRUE))/(VLOOKUP(Table1468[[#This Row],[Year of Initial Price]],'Inflation Data'!$A:$C,3,TRUE))*Table1468[[#This Row],[Initial Price]])+Table1468[[#This Row],[Initial Price]]))))","v":""},{"$f":"IF($G166=YEAR(TODAY()),$E166,(IF($G166=0,\"\",IF(Table13[[#This Row],[Life Expectancy]]=0,H166, ((0.056*(Table1468[[#This Row],[Year of Failure]]-YEAR(TODAY()))*Table1468[[#This Row],[Current Predicted Cost (to purchase in 2024)]])+Table1468[[#This Row],[Current Predicted Cost (to purchase in 2024)]])))))","v":""},{"$f":"Table13[[#This Row],[Estimated Year of Failure]]","v":""}]
[{"$f":"Table13[[#This Row],[I.D. Number ]]","v":""},{"$f":"Table13[[#This Row],[Category]]","v":0},{"$f":"Table13[[#This Row],[Type]]","v":0},{"$f":"Table13[[#This Row],[Description]]","v":0},null,null,{"$f":"Table13[[#This Row],[Installation Year]]","v":0},{"$f":"IF($G167= YEAR(TODAY()),$E167,(IF($G167=0,\"\",IF(Table13[[#This Row],[Life Expectancy]]=0,((0.056*(YEAR(TODAY())-Table1468[[#This Row],[Year of Initial Price]])*Table1468[[#This Row],[Initial Price]])+Table1468[[#This Row],[Initial Price]]),((VLOOKUP(YEAR(TODAY()),'Inflation Data'!$A:$C,3,TRUE)-VLOOKUP(Table1468[[#This Row],[Year of Initial Price]],'Inflation Data'!$A:$C,3,TRUE))/(VLOOKUP(Table1468[[#This Row],[Year of Initial Price]],'Inflation Data'!$A:$C,3,TRUE))*Table1468[[#This Row],[Initial Price]])+Table1468[[#This Row],[Initial Price]]))))","v":""},{"$f":"IF($G167=YEAR(TODAY()),$E167,(IF($G167=0,\"\",IF(Table13[[#This Row],[Life Expectancy]]=0,H167, ((0.056*(Table1468[[#This Row],[Year of Failure]]-YEAR(TODAY()))*Table1468[[#This Row],[Current Predicted Cost (to purchase in 2024)]])+Table1468[[#This Row],[Current Predicted Cost (to purchase in 2024)]])))))","v":""},{"$f":"Table13[[#This Row],[Estimated Year of Failure]]","v":""}]
[{"$f":"Table13[[#This Row],[I.D. Number ]]","v":""},{"$f":"Table13[[#This Row],[Category]]","v":0},{"$f":"Table13[[#This Row],[Type]]","v":0},{"$f":"Table13[[#This Row],[Description]]","v":0},null,null,{"$f":"Table13[[#This Row],[Installation Year]]","v":0},{"$f":"IF($G168= YEAR(TODAY()),$E168,(IF($G168=0,\"\",IF(Table13[[#This Row],[Life Expectancy]]=0,((0.056*(YEAR(TODAY())-Table1468[[#This Row],[Year of Initial Price]])*Table1468[[#This Row],[Initial Price]])+Table1468[[#This Row],[Initial Price]]),((VLOOKUP(YEAR(TODAY()),'Inflation Data'!$A:$C,3,TRUE)-VLOOKUP(Table1468[[#This Row],[Year of Initial Price]],'Inflation Data'!$A:$C,3,TRUE))/(VLOOKUP(Table1468[[#This Row],[Year of Initial Price]],'Inflation Data'!$A:$C,3,TRUE))*Table1468[[#This Row],[Initial Price]])+Table1468[[#This Row],[Initial Price]]))))","v":""},{"$f":"IF($G168=YEAR(TODAY()),$E168,(IF($G168=0,\"\",IF(Table13[[#This Row],[Life Expectancy]]=0,H168, ((0.056*(Table1468[[#This Row],[Year of Failure]]-YEAR(TODAY()))*Table1468[[#This Row],[Current Predicted Cost (to purchase in 2024)]])+Table1468[[#This Row],[Current Predicted Cost (to purchase in 2024)]])))))","v":""},{"$f":"Table13[[#This Row],[Estimated Year of Failure]]","v":""}]
[{"$f":"Table13[[#This Row],[I.D. Number ]]","v":""},{"$f":"Table13[[#This Row],[Category]]","v":0},{"$f":"Table13[[#This Row],[Type]]","v":0},{"$f":"Table13[[#This Row],[Description]]","v":0},null,null,{"$f":"Table13[[#This Row],[Installation Year]]","v":0},{"$f":"IF($G169= YEAR(TODAY()),$E169,(IF($G169=0,\"\",IF(Table13[[#This Row],[Life Expectancy]]=0,((0.056*(YEAR(TODAY())-Table1468[[#This Row],[Year of Initial Price]])*Table1468[[#This Row],[Initial Price]])+Table1468[[#This Row],[Initial Price]]),((VLOOKUP(YEAR(TODAY()),'Inflation Data'!$A:$C,3,TRUE)-VLOOKUP(Table1468[[#This Row],[Year of Initial Price]],'Inflation Data'!$A:$C,3,TRUE))/(VLOOKUP(Table1468[[#This Row],[Year of Initial Price]],'Inflation Data'!$A:$C,3,TRUE))*Table1468[[#This Row],[Initial Price]])+Table1468[[#This Row],[Initial Price]]))))","v":""},{"$f":"IF($G169=YEAR(TODAY()),$E169,(IF($G169=0,\"\",IF(Table13[[#This Row],[Life Expectancy]]=0,H169, ((0.056*(Table1468[[#This Row],[Year of Failure]]-YEAR(TODAY()))*Table1468[[#This Row],[Current Predicted Cost (to purchase in 2024)]])+Table1468[[#This Row],[Current Predicted Cost (to purchase in 2024)]])))))","v":""},{"$f":"Table13[[#This Row],[Estimated Year of Failure]]","v":""}]
[{"$f":"Table13[[#This Row],[I.D. Number ]]","v":""},{"$f":"Table13[[#This Row],[Category]]","v":0},{"$f":"Table13[[#This Row],[Type]]","v":0},{"$f":"Table13[[#This Row],[Description]]","v":0},null,null,{"$f":"Table13[[#This Row],[Installation Year]]","v":0},{"$f":"IF($G170= YEAR(TODAY()),$E170,(IF($G170=0,\"\",IF(Table13[[#This Row],[Life Expectancy]]=0,((0.056*(YEAR(TODAY())-Table1468[[#This Row],[Year of Initial Price]])*Table1468[[#This Row],[Initial Price]])+Table1468[[#This Row],[Initial Price]]),((VLOOKUP(YEAR(TODAY()),'Inflation Data'!$A:$C,3,TRUE)-VLOOKUP(Table1468[[#This Row],[Year of Initial Price]],'Inflation Data'!$A:$C,3,TRUE))/(VLOOKUP(Table1468[[#This Row],[Year of Initial Price]],'Inflation Data'!$A:$C,3,TRUE))*Table1468[[#This Row],[Initial Price]])+Table1468[[#This Row],[Initial Price]]))))","v":""},{"$f":"IF($G170=YEAR(TODAY()),$E170,(IF($G170=0,\"\",IF(Table13[[#This Row],[Life Expectancy]]=0,H170, ((0.056*(Table1468[[#This Row],[Year of Failure]]-YEAR(TODAY()))*Table1468[[#This Row],[Current Predicted Cost (to purchase in 2024)]])+Table1468[[#This Row],[Current Predicted Cost (to purchase in 2024)]])))))","v":""},{"$f":"Table13[[#This Row],[Estimated Year of Failure]]","v":""}]
[{"$f":"Table13[[#This Row],[I.D. Number ]]","v":""},{"$f":"Table13[[#This Row],[Category]]","v":0},{"$f":"Table13[[#This Row],[Type]]","v":0},{"$f":"Table13[[#This Row],[Description]]","v":0},null,null,{"$f":"Table13[[#This Row],[Installation Year]]","v":0},{"$f":"IF($G171= YEAR(TODAY()),$E171,(IF($G171=0,\"\",IF(Table13[[#This Row],[Life Expectancy]]=0,((0.056*(YEAR(TODAY())-Table1468[[#This Row],[Year of Initial Price]])*Table1468[[#This Row],[Initial Price]])+Table1468[[#This Row],[Initial Price]]),((VLOOKUP(YEAR(TODAY()),'Inflation Data'!$A:$C,3,TRUE)-VLOOKUP(Table1468[[#This Row],[Year of Initial Price]],'Inflation Data'!$A:$C,3,TRUE))/(VLOOKUP(Table1468[[#This Row],[Year of Initial Price]],'Inflation Data'!$A:$C,3,TRUE))*Table1468[[#This Row],[Initial Price]])+Table1468[[#This Row],[Initial Price]]))))","v":""},{"$f":"IF($G171=YEAR(TODAY()),$E171,(IF($G171=0,\"\",IF(Table13[[#This Row],[Life Expectancy]]=0,H171, ((0.056*(Table1468[[#This Row],[Year of Failure]]-YEAR(TODAY()))*Table1468[[#This Row],[Current Predicted Cost (to purchase in 2024)]])+Table1468[[#This Row],[Current Predicted Cost (to purchase in 2024)]])))))","v":""},{"$f":"Table13[[#This Row],[Estimated Year of Failure]]","v":""}]
[{"$f":"Table13[[#This Row],[I.D. Number ]]","v":""},{"$f":"Table13[[#This Row],[Category]]","v":0},{"$f":"Table13[[#This Row],[Type]]","v":0},{"$f":"Table13[[#This Row],[Description]]","v":0},null,null,{"$f":"Table13[[#This Row],[Installation Year]]","v":0},{"$f":"IF($G172= YEAR(TODAY()),$E172,(IF($G172=0,\"\",IF(Table13[[#This Row],[Life Expectancy]]=0,((0.056*(YEAR(TODAY())-Table1468[[#This Row],[Year of Initial Price]])*Table1468[[#This Row],[Initial Price]])+Table1468[[#This Row],[Initial Price]]),((VLOOKUP(YEAR(TODAY()),'Inflation Data'!$A:$C,3,TRUE)-VLOOKUP(Table1468[[#This Row],[Year of Initial Price]],'Inflation Data'!$A:$C,3,TRUE))/(VLOOKUP(Table1468[[#This Row],[Year of Initial Price]],'Inflation Data'!$A:$C,3,TRUE))*Table1468[[#This Row],[Initial Price]])+Table1468[[#This Row],[Initial Price]]))))","v":""},{"$f":"IF($G172=YEAR(TODAY()),$E172,(IF($G172=0,\"\",IF(Table13[[#This Row],[Life Expectancy]]=0,H172, ((0.056*(Table1468[[#This Row],[Year of Failure]]-YEAR(TODAY()))*Table1468[[#This Row],[Current Predicted Cost (to purchase in 2024)]])+Table1468[[#This Row],[Current Predicted Cost (to purchase in 2024)]])))))","v":""},{"$f":"Table13[[#This Row],[Estimated Year of Failure]]","v":""}]
[{"$f":"Table13[[#This Row],[I.D. Number ]]","v":""},{"$f":"Table13[[#This Row],[Category]]","v":0},{"$f":"Table13[[#This Row],[Type]]","v":0},{"$f":"Table13[[#This Row],[Description]]","v":0},null,null,{"$f":"Table13[[#This Row],[Installation Year]]","v":0},{"$f":"IF($G173= YEAR(TODAY()),$E173,(IF($G173=0,\"\",IF(Table13[[#This Row],[Life Expectancy]]=0,((0.056*(YEAR(TODAY())-Table1468[[#This Row],[Year of Initial Price]])*Table1468[[#This Row],[Initial Price]])+Table1468[[#This Row],[Initial Price]]),((VLOOKUP(YEAR(TODAY()),'Inflation Data'!$A:$C,3,TRUE)-VLOOKUP(Table1468[[#This Row],[Year of Initial Price]],'Inflation Data'!$A:$C,3,TRUE))/(VLOOKUP(Table1468[[#This Row],[Year of Initial Price]],'Inflation Data'!$A:$C,3,TRUE))*Table1468[[#This Row],[Initial Price]])+Table1468[[#This Row],[Initial Price]]))))","v":""},{"$f":"IF($G173=YEAR(TODAY()),$E173,(IF($G173=0,\"\",IF(Table13[[#This Row],[Life Expectancy]]=0,H173, ((0.056*(Table1468[[#This Row],[Year of Failure]]-YEAR(TODAY()))*Table1468[[#This Row],[Current Predicted Cost (to purchase in 2024)]])+Table1468[[#This Row],[Current Predicted Cost (to purchase in 2024)]])))))","v":""},{"$f":"Table13[[#This Row],[Estimated Year of Failure]]","v":""}]
[{"$f":"Table13[[#This Row],[I.D. Number ]]","v":""},{"$f":"Table13[[#This Row],[Category]]","v":0},{"$f":"Table13[[#This Row],[Type]]","v":0},{"$f":"Table13[[#This Row],[Description]]","v":0},null,null,{"$f":"Table13[[#This Row],[Installation Year]]","v":0},{"$f":"IF($G174= YEAR(TODAY()),$E174,(IF($G174=0,\"\",IF(Table13[[#This Row],[Life Expectancy]]=0,((0.056*(YEAR(TODAY())-Table1468[[#This Row],[Year of Initial Price]])*Table1468[[#This Row],[Initial Price]])+Table1468[[#This Row],[Initial Price]]),((VLOOKUP(YEAR(TODAY()),'Inflation Data'!$A:$C,3,TRUE)-VLOOKUP(Table1468[[#This Row],[Year of Initial Price]],'Inflation Data'!$A:$C,3,TRUE))/(VLOOKUP(Table1468[[#This Row],[Year of Initial Price]],'Inflation Data'!$A:$C,3,TRUE))*Table1468[[#This Row],[Initial Price]])+Table1468[[#This Row],[Initial Price]]))))","v":""},{"$f":"IF($G174=YEAR(TODAY()),$E174,(IF($G174=0,\"\",IF(Table13[[#This Row],[Life Expectancy]]=0,H174, ((0.056*(Table1468[[#This Row],[Year of Failure]]-YEAR(TODAY()))*Table1468[[#This Row],[Current Predicted Cost (to purchase in 2024)]])+Table1468[[#This Row],[Current Predicted Cost (to purchase in 2024)]])))))","v":""},{"$f":"Table13[[#This Row],[Estimated Year of Failure]]","v":""}]
[{"$f":"Table13[[#This Row],[I.D. Number ]]","v":""},{"$f":"Table13[[#This Row],[Category]]","v":0},{"$f":"Table13[[#This Row],[Type]]","v":0},{"$f":"Table13[[#This Row],[Description]]","v":0},null,null,{"$f":"Table13[[#This Row],[Installation Year]]","v":0},{"$f":"IF($G175= YEAR(TODAY()),$E175,(IF($G175=0,\"\",IF(Table13[[#This Row],[Life Expectancy]]=0,((0.056*(YEAR(TODAY())-Table1468[[#This Row],[Year of Initial Price]])*Table1468[[#This Row],[Initial Price]])+Table1468[[#This Row],[Initial Price]]),((VLOOKUP(YEAR(TODAY()),'Inflation Data'!$A:$C,3,TRUE)-VLOOKUP(Table1468[[#This Row],[Year of Initial Price]],'Inflation Data'!$A:$C,3,TRUE))/(VLOOKUP(Table1468[[#This Row],[Year of Initial Price]],'Inflation Data'!$A:$C,3,TRUE))*Table1468[[#This Row],[Initial Price]])+Table1468[[#This Row],[Initial Price]]))))","v":""},{"$f":"IF($G175=YEAR(TODAY()),$E175,(IF($G175=0,\"\",IF(Table13[[#This Row],[Life Expectancy]]=0,H175, ((0.056*(Table1468[[#This Row],[Year of Failure]]-YEAR(TODAY()))*Table1468[[#This Row],[Current Predicted Cost (to purchase in 2024)]])+Table1468[[#This Row],[Current Predicted Cost (to purchase in 2024)]])))))","v":""},{"$f":"Table13[[#This Row],[Estimated Year of Failure]]","v":""}]
[{"$f":"Table13[[#This Row],[I.D. Number ]]","v":""},{"$f":"Table13[[#This Row],[Category]]","v":0},{"$f":"Table13[[#This Row],[Type]]","v":0},{"$f":"Table13[[#This Row],[Description]]","v":0},null,null,{"$f":"Table13[[#This Row],[Installation Year]]","v":0},{"$f":"IF($G176= YEAR(TODAY()),$E176,(IF($G176=0,\"\",IF(Table13[[#This Row],[Life Expectancy]]=0,((0.056*(YEAR(TODAY())-Table1468[[#This Row],[Year of Initial Price]])*Table1468[[#This Row],[Initial Price]])+Table1468[[#This Row],[Initial Price]]),((VLOOKUP(YEAR(TODAY()),'Inflation Data'!$A:$C,3,TRUE)-VLOOKUP(Table1468[[#This Row],[Year of Initial Price]],'Inflation Data'!$A:$C,3,TRUE))/(VLOOKUP(Table1468[[#This Row],[Year of Initial Price]],'Inflation Data'!$A:$C,3,TRUE))*Table1468[[#This Row],[Initial Price]])+Table1468[[#This Row],[Initial Price]]))))","v":""},{"$f":"IF($G176=YEAR(TODAY()),$E176,(IF($G176=0,\"\",IF(Table13[[#This Row],[Life Expectancy]]=0,H176, ((0.056*(Table1468[[#This Row],[Year of Failure]]-YEAR(TODAY()))*Table1468[[#This Row],[Current Predicted Cost (to purchase in 2024)]])+Table1468[[#This Row],[Current Predicted Cost (to purchase in 2024)]])))))","v":""},{"$f":"Table13[[#This Row],[Estimated Year of Failure]]","v":""}]
[{"$f":"Table13[[#This Row],[I.D. Number ]]","v":""},{"$f":"Table13[[#This Row],[Category]]","v":0},{"$f":"Table13[[#This Row],[Type]]","v":0},{"$f":"Table13[[#This Row],[Description]]","v":0},null,null,{"$f":"Table13[[#This Row],[Installation Year]]","v":0},{"$f":"IF($G177= YEAR(TODAY()),$E177,(IF($G177=0,\"\",IF(Table13[[#This Row],[Life Expectancy]]=0,((0.056*(YEAR(TODAY())-Table1468[[#This Row],[Year of Initial Price]])*Table1468[[#This Row],[Initial Price]])+Table1468[[#This Row],[Initial Price]]),((VLOOKUP(YEAR(TODAY()),'Inflation Data'!$A:$C,3,TRUE)-VLOOKUP(Table1468[[#This Row],[Year of Initial Price]],'Inflation Data'!$A:$C,3,TRUE))/(VLOOKUP(Table1468[[#This Row],[Year of Initial Price]],'Inflation Data'!$A:$C,3,TRUE))*Table1468[[#This Row],[Initial Price]])+Table1468[[#This Row],[Initial Price]]))))","v":""},{"$f":"IF($G177=YEAR(TODAY()),$E177,(IF($G177=0,\"\",IF(Table13[[#This Row],[Life Expectancy]]=0,H177, ((0.056*(Table1468[[#This Row],[Year of Failure]]-YEAR(TODAY()))*Table1468[[#This Row],[Current Predicted Cost (to purchase in 2024)]])+Table1468[[#This Row],[Current Predicted Cost (to purchase in 2024)]])))))","v":""},{"$f":"Table13[[#This Row],[Estimated Year of Failure]]","v":""}]
[{"$f":"Table13[[#This Row],[I.D. Number ]]","v":""},{"$f":"Table13[[#This Row],[Category]]","v":0},{"$f":"Table13[[#This Row],[Type]]","v":0},{"$f":"Table13[[#This Row],[Description]]","v":0},null,null,{"$f":"Table13[[#This Row],[Installation Year]]","v":0},{"$f":"IF($G178= YEAR(TODAY()),$E178,(IF($G178=0,\"\",IF(Table13[[#This Row],[Life Expectancy]]=0,((0.056*(YEAR(TODAY())-Table1468[[#This Row],[Year of Initial Price]])*Table1468[[#This Row],[Initial Price]])+Table1468[[#This Row],[Initial Price]]),((VLOOKUP(YEAR(TODAY()),'Inflation Data'!$A:$C,3,TRUE)-VLOOKUP(Table1468[[#This Row],[Year of Initial Price]],'Inflation Data'!$A:$C,3,TRUE))/(VLOOKUP(Table1468[[#This Row],[Year of Initial Price]],'Inflation Data'!$A:$C,3,TRUE))*Table1468[[#This Row],[Initial Price]])+Table1468[[#This Row],[Initial Price]]))))","v":""},{"$f":"IF($G178=YEAR(TODAY()),$E178,(IF($G178=0,\"\",IF(Table13[[#This Row],[Life Expectancy]]=0,H178, ((0.056*(Table1468[[#This Row],[Year of Failure]]-YEAR(TODAY()))*Table1468[[#This Row],[Current Predicted Cost (to purchase in 2024)]])+Table1468[[#This Row],[Current Predicted Cost (to purchase in 2024)]])))))","v":""},{"$f":"Table13[[#This Row],[Estimated Year of Failure]]","v":""}]
[{"$f":"Table13[[#This Row],[I.D. Number ]]","v":""},{"$f":"Table13[[#This Row],[Category]]","v":0},{"$f":"Table13[[#This Row],[Type]]","v":0},{"$f":"Table13[[#This Row],[Description]]","v":0},null,null,{"$f":"Table13[[#This Row],[Installation Year]]","v":0},{"$f":"IF($G179= YEAR(TODAY()),$E179,(IF($G179=0,\"\",IF(Table13[[#This Row],[Life Expectancy]]=0,((0.056*(YEAR(TODAY())-Table1468[[#This Row],[Year of Initial Price]])*Table1468[[#This Row],[Initial Price]])+Table1468[[#This Row],[Initial Price]]),((VLOOKUP(YEAR(TODAY()),'Inflation Data'!$A:$C,3,TRUE)-VLOOKUP(Table1468[[#This Row],[Year of Initial Price]],'Inflation Data'!$A:$C,3,TRUE))/(VLOOKUP(Table1468[[#This Row],[Year of Initial Price]],'Inflation Data'!$A:$C,3,TRUE))*Table1468[[#This Row],[Initial Price]])+Table1468[[#This Row],[Initial Price]]))))","v":""},{"$f":"IF($G179=YEAR(TODAY()),$E179,(IF($G179=0,\"\",IF(Table13[[#This Row],[Life Expectancy]]=0,H179, ((0.056*(Table1468[[#This Row],[Year of Failure]]-YEAR(TODAY()))*Table1468[[#This Row],[Current Predicted Cost (to purchase in 2024)]])+Table1468[[#This Row],[Current Predicted Cost (to purchase in 2024)]])))))","v":""},{"$f":"Table13[[#This Row],[Estimated Year of Failure]]","v":""}]
[{"$f":"Table13[[#This Row],[I.D. Number ]]","v":""},{"$f":"Table13[[#This Row],[Category]]","v":0},{"$f":"Table13[[#This Row],[Type]]","v":0},{"$f":"Table13[[#This Row],[Description]]","v":0},null,null,{"$f":"Table13[[#This Row],[Installation Year]]","v":0},{"$f":"IF($G180= YEAR(TODAY()),$E180,(IF($G180=0,\"\",IF(Table13[[#This Row],[Life Expectancy]]=0,((0.056*(YEAR(TODAY())-Table1468[[#This Row],[Year of Initial Price]])*Table1468[[#This Row],[Initial Price]])+Table1468[[#This Row],[Initial Price]]),((VLOOKUP(YEAR(TODAY()),'Inflation Data'!$A:$C,3,TRUE)-VLOOKUP(Table1468[[#This Row],[Year of Initial Price]],'Inflation Data'!$A:$C,3,TRUE))/(VLOOKUP(Table1468[[#This Row],[Year of Initial Price]],'Inflation Data'!$A:$C,3,TRUE))*Table1468[[#This Row],[Initial Price]])+Table1468[[#This Row],[Initial Price]]))))","v":""},{"$f":"IF($G180=YEAR(TODAY()),$E180,(IF($G180=0,\"\",IF(Table13[[#This Row],[Life Expectancy]]=0,H180, ((0.056*(Table1468[[#This Row],[Year of Failure]]-YEAR(TODAY()))*Table1468[[#This Row],[Current Predicted Cost (to purchase in 2024)]])+Table1468[[#This Row],[Current Predicted Cost (to purchase in 2024)]])))))","v":""},{"$f":"Table13[[#This Row],[Estimated Year of Failure]]","v":""}]
[{"$f":"Table13[[#This Row],[I.D. Number ]]","v":""},{"$f":"Table13[[#This Row],[Category]]","v":0},{"$f":"Table13[[#This Row],[Type]]","v":0},{"$f":"Table13[[#This Row],[Description]]","v":0},null,null,{"$f":"Table13[[#This Row],[Installation Year]]","v":0},{"$f":"IF($G181= YEAR(TODAY()),$E181,(IF($G181=0,\"\",IF(Table13[[#This Row],[Life Expectancy]]=0,((0.056*(YEAR(TODAY())-Table1468[[#This Row],[Year of Initial Price]])*Table1468[[#This Row],[Initial Price]])+Table1468[[#This Row],[Initial Price]]),((VLOOKUP(YEAR(TODAY()),'Inflation Data'!$A:$C,3,TRUE)-VLOOKUP(Table1468[[#This Row],[Year of Initial Price]],'Inflation Data'!$A:$C,3,TRUE))/(VLOOKUP(Table1468[[#This Row],[Year of Initial Price]],'Inflation Data'!$A:$C,3,TRUE))*Table1468[[#This Row],[Initial Price]])+Table1468[[#This Row],[Initial Price]]))))","v":""},{"$f":"IF($G181=YEAR(TODAY()),$E181,(IF($G181=0,\"\",IF(Table13[[#This Row],[Life Expectancy]]=0,H181, ((0.056*(Table1468[[#This Row],[Year of Failure]]-YEAR(TODAY()))*Table1468[[#This Row],[Current Predicted Cost (to purchase in 2024)]])+Table1468[[#This Row],[Current Predicted Cost (to purchase in 2024)]])))))","v":""},{"$f":"Table13[[#This Row],[Estimated Year of Failure]]","v":""}]
[{"$f":"Table13[[#This Row],[I.D. Number ]]","v":""},{"$f":"Table13[[#This Row],[Category]]","v":0},{"$f":"Table13[[#This Row],[Type]]","v":0},{"$f":"Table13[[#This Row],[Description]]","v":0},null,null,{"$f":"Table13[[#This Row],[Installation Year]]","v":0},{"$f":"IF($G182= YEAR(TODAY()),$E182,(IF($G182=0,\"\",IF(Table13[[#This Row],[Life Expectancy]]=0,((0.056*(YEAR(TODAY())-Table1468[[#This Row],[Year of Initial Price]])*Table1468[[#This Row],[Initial Price]])+Table1468[[#This Row],[Initial Price]]),((VLOOKUP(YEAR(TODAY()),'Inflation Data'!$A:$C,3,TRUE)-VLOOKUP(Table1468[[#This Row],[Year of Initial Price]],'Inflation Data'!$A:$C,3,TRUE))/(VLOOKUP(Table1468[[#This Row],[Year of Initial Price]],'Inflation Data'!$A:$C,3,TRUE))*Table1468[[#This Row],[Initial Price]])+Table1468[[#This Row],[Initial Price]]))))","v":""},{"$f":"IF($G182=YEAR(TODAY()),$E182,(IF($G182=0,\"\",IF(Table13[[#This Row],[Life Expectancy]]=0,H182, ((0.056*(Table1468[[#This Row],[Year of Failure]]-YEAR(TODAY()))*Table1468[[#This Row],[Current Predicted Cost (to purchase in 2024)]])+Table1468[[#This Row],[Current Predicted Cost (to purchase in 2024)]])))))","v":""},{"$f":"Table13[[#This Row],[Estimated Year of Failure]]","v":""}]
[{"$f":"Table13[[#This Row],[I.D. Number ]]","v":""},{"$f":"Table13[[#This Row],[Category]]","v":0},{"$f":"Table13[[#This Row],[Type]]","v":0},{"$f":"Table13[[#This Row],[Description]]","v":0},null,null,{"$f":"Table13[[#This Row],[Installation Year]]","v":0},{"$f":"IF($G183= YEAR(TODAY()),$E183,(IF($G183=0,\"\",IF(Table13[[#This Row],[Life Expectancy]]=0,((0.056*(YEAR(TODAY())-Table1468[[#This Row],[Year of Initial Price]])*Table1468[[#This Row],[Initial Price]])+Table1468[[#This Row],[Initial Price]]),((VLOOKUP(YEAR(TODAY()),'Inflation Data'!$A:$C,3,TRUE)-VLOOKUP(Table1468[[#This Row],[Year of Initial Price]],'Inflation Data'!$A:$C,3,TRUE))/(VLOOKUP(Table1468[[#This Row],[Year of Initial Price]],'Inflation Data'!$A:$C,3,TRUE))*Table1468[[#This Row],[Initial Price]])+Table1468[[#This Row],[Initial Price]]))))","v":""},{"$f":"IF($G183=YEAR(TODAY()),$E183,(IF($G183=0,\"\",IF(Table13[[#This Row],[Life Expectancy]]=0,H183, ((0.056*(Table1468[[#This Row],[Year of Failure]]-YEAR(TODAY()))*Table1468[[#This Row],[Current Predicted Cost (to purchase in 2024)]])+Table1468[[#This Row],[Current Predicted Cost (to purchase in 2024)]])))))","v":""},{"$f":"Table13[[#This Row],[Estimated Year of Failure]]","v":""}]
[{"$f":"Table13[[#This Row],[I.D. Number ]]","v":""},{"$f":"Table13[[#This Row],[Category]]","v":0},{"$f":"Table13[[#This Row],[Type]]","v":0},{"$f":"Table13[[#This Row],[Description]]","v":0},null,null,{"$f":"Table13[[#This Row],[Installation Year]]","v":0},{"$f":"IF($G184= YEAR(TODAY()),$E184,(IF($G184=0,\"\",IF(Table13[[#This Row],[Life Expectancy]]=0,((0.056*(YEAR(TODAY())-Table1468[[#This Row],[Year of Initial Price]])*Table1468[[#This Row],[Initial Price]])+Table1468[[#This Row],[Initial Price]]),((VLOOKUP(YEAR(TODAY()),'Inflation Data'!$A:$C,3,TRUE)-VLOOKUP(Table1468[[#This Row],[Year of Initial Price]],'Inflation Data'!$A:$C,3,TRUE))/(VLOOKUP(Table1468[[#This Row],[Year of Initial Price]],'Inflation Data'!$A:$C,3,TRUE))*Table1468[[#This Row],[Initial Price]])+Table1468[[#This Row],[Initial Price]]))))","v":""},{"$f":"IF($G184=YEAR(TODAY()),$E184,(IF($G184=0,\"\",IF(Table13[[#This Row],[Life Expectancy]]=0,H184, ((0.056*(Table1468[[#This Row],[Year of Failure]]-YEAR(TODAY()))*Table1468[[#This Row],[Current Predicted Cost (to purchase in 2024)]])+Table1468[[#This Row],[Current Predicted Cost (to purchase in 2024)]])))))","v":""},{"$f":"Table13[[#This Row],[Estimated Year of Failure]]","v":""}]
[{"$f":"Table13[[#This Row],[I.D. Number ]]","v":""},{"$f":"Table13[[#This Row],[Category]]","v":0},{"$f":"Table13[[#This Row],[Type]]","v":0},{"$f":"Table13[[#This Row],[Description]]","v":0},null,null,{"$f":"Table13[[#This Row],[Installation Year]]","v":0},{"$f":"IF($G185= YEAR(TODAY()),$E185,(IF($G185=0,\"\",IF(Table13[[#This Row],[Life Expectancy]]=0,((0.056*(YEAR(TODAY())-Table1468[[#This Row],[Year of Initial Price]])*Table1468[[#This Row],[Initial Price]])+Table1468[[#This Row],[Initial Price]]),((VLOOKUP(YEAR(TODAY()),'Inflation Data'!$A:$C,3,TRUE)-VLOOKUP(Table1468[[#This Row],[Year of Initial Price]],'Inflation Data'!$A:$C,3,TRUE))/(VLOOKUP(Table1468[[#This Row],[Year of Initial Price]],'Inflation Data'!$A:$C,3,TRUE))*Table1468[[#This Row],[Initial Price]])+Table1468[[#This Row],[Initial Price]]))))","v":""},{"$f":"IF($G185=YEAR(TODAY()),$E185,(IF($G185=0,\"\",IF(Table13[[#This Row],[Life Expectancy]]=0,H185, ((0.056*(Table1468[[#This Row],[Year of Failure]]-YEAR(TODAY()))*Table1468[[#This Row],[Current Predicted Cost (to purchase in 2024)]])+Table1468[[#This Row],[Current Predicted Cost (to purchase in 2024)]])))))","v":""},{"$f":"Table13[[#This Row],[Estimated Year of Failure]]","v":""}]
[{"$f":"Table13[[#This Row],[I.D. Number ]]","v":""},{"$f":"Table13[[#This Row],[Category]]","v":0},{"$f":"Table13[[#This Row],[Type]]","v":0},{"$f":"Table13[[#This Row],[Description]]","v":0},null,null,{"$f":"Table13[[#This Row],[Installation Year]]","v":0},{"$f":"IF($G186= YEAR(TODAY()),$E186,(IF($G186=0,\"\",IF(Table13[[#This Row],[Life Expectancy]]=0,((0.056*(YEAR(TODAY())-Table1468[[#This Row],[Year of Initial Price]])*Table1468[[#This Row],[Initial Price]])+Table1468[[#This Row],[Initial Price]]),((VLOOKUP(YEAR(TODAY()),'Inflation Data'!$A:$C,3,TRUE)-VLOOKUP(Table1468[[#This Row],[Year of Initial Price]],'Inflation Data'!$A:$C,3,TRUE))/(VLOOKUP(Table1468[[#This Row],[Year of Initial Price]],'Inflation Data'!$A:$C,3,TRUE))*Table1468[[#This Row],[Initial Price]])+Table1468[[#This Row],[Initial Price]]))))","v":""},{"$f":"IF($G186=YEAR(TODAY()),$E186,(IF($G186=0,\"\",IF(Table13[[#This Row],[Life Expectancy]]=0,H186, ((0.056*(Table1468[[#This Row],[Year of Failure]]-YEAR(TODAY()))*Table1468[[#This Row],[Current Predicted Cost (to purchase in 2024)]])+Table1468[[#This Row],[Current Predicted Cost (to purchase in 2024)]])))))","v":""},{"$f":"Table13[[#This Row],[Estimated Year of Failure]]","v":""}]
[{"$f":"Table13[[#This Row],[I.D. Number ]]","v":""},{"$f":"Table13[[#This Row],[Category]]","v":0},{"$f":"Table13[[#This Row],[Type]]","v":0},{"$f":"Table13[[#This Row],[Description]]","v":0},null,null,{"$f":"Table13[[#This Row],[Installation Year]]","v":0},{"$f":"IF($G187= YEAR(TODAY()),$E187,(IF($G187=0,\"\",IF(Table13[[#This Row],[Life Expectancy]]=0,((0.056*(YEAR(TODAY())-Table1468[[#This Row],[Year of Initial Price]])*Table1468[[#This Row],[Initial Price]])+Table1468[[#This Row],[Initial Price]]),((VLOOKUP(YEAR(TODAY()),'Inflation Data'!$A:$C,3,TRUE)-VLOOKUP(Table1468[[#This Row],[Year of Initial Price]],'Inflation Data'!$A:$C,3,TRUE))/(VLOOKUP(Table1468[[#This Row],[Year of Initial Price]],'Inflation Data'!$A:$C,3,TRUE))*Table1468[[#This Row],[Initial Price]])+Table1468[[#This Row],[Initial Price]]))))","v":""},{"$f":"IF($G187=YEAR(TODAY()),$E187,(IF($G187=0,\"\",IF(Table13[[#This Row],[Life Expectancy]]=0,H187, ((0.056*(Table1468[[#This Row],[Year of Failure]]-YEAR(TODAY()))*Table1468[[#This Row],[Current Predicted Cost (to purchase in 2024)]])+Table1468[[#This Row],[Current Predicted Cost (to purchase in 2024)]])))))","v":""},{"$f":"Table13[[#This Row],[Estimated Year of Failure]]","v":""}]
[{"$f":"Table13[[#This Row],[I.D. Number ]]","v":""},{"$f":"Table13[[#This Row],[Category]]","v":0},{"$f":"Table13[[#This Row],[Type]]","v":0},{"$f":"Table13[[#This Row],[Description]]","v":0},null,null,{"$f":"Table13[[#This Row],[Installation Year]]","v":0},{"$f":"IF($G188= YEAR(TODAY()),$E188,(IF($G188=0,\"\",IF(Table13[[#This Row],[Life Expectancy]]=0,((0.056*(YEAR(TODAY())-Table1468[[#This Row],[Year of Initial Price]])*Table1468[[#This Row],[Initial Price]])+Table1468[[#This Row],[Initial Price]]),((VLOOKUP(YEAR(TODAY()),'Inflation Data'!$A:$C,3,TRUE)-VLOOKUP(Table1468[[#This Row],[Year of Initial Price]],'Inflation Data'!$A:$C,3,TRUE))/(VLOOKUP(Table1468[[#This Row],[Year of Initial Price]],'Inflation Data'!$A:$C,3,TRUE))*Table1468[[#This Row],[Initial Price]])+Table1468[[#This Row],[Initial Price]]))))","v":""},{"$f":"IF($G188=YEAR(TODAY()),$E188,(IF($G188=0,\"\",IF(Table13[[#This Row],[Life Expectancy]]=0,H188, ((0.056*(Table1468[[#This Row],[Year of Failure]]-YEAR(TODAY()))*Table1468[[#This Row],[Current Predicted Cost (to purchase in 2024)]])+Table1468[[#This Row],[Current Predicted Cost (to purchase in 2024)]])))))","v":""},{"$f":"Table13[[#This Row],[Estimated Year of Failure]]","v":""}]
[{"$f":"Table13[[#This Row],[I.D. Number ]]","v":""},{"$f":"Table13[[#This Row],[Category]]","v":0},{"$f":"Table13[[#This Row],[Type]]","v":0},{"$f":"Table13[[#This Row],[Description]]","v":0},null,null,{"$f":"Table13[[#This Row],[Installation Year]]","v":0},{"$f":"IF($G189= YEAR(TODAY()),$E189,(IF($G189=0,\"\",IF(Table13[[#This Row],[Life Expectancy]]=0,((0.056*(YEAR(TODAY())-Table1468[[#This Row],[Year of Initial Price]])*Table1468[[#This Row],[Initial Price]])+Table1468[[#This Row],[Initial Price]]),((VLOOKUP(YEAR(TODAY()),'Inflation Data'!$A:$C,3,TRUE)-VLOOKUP(Table1468[[#This Row],[Year of Initial Price]],'Inflation Data'!$A:$C,3,TRUE))/(VLOOKUP(Table1468[[#This Row],[Year of Initial Price]],'Inflation Data'!$A:$C,3,TRUE))*Table1468[[#This Row],[Initial Price]])+Table1468[[#This Row],[Initial Price]]))))","v":""},{"$f":"IF($G189=YEAR(TODAY()),$E189,(IF($G189=0,\"\",IF(Table13[[#This Row],[Life Expectancy]]=0,H189, ((0.056*(Table1468[[#This Row],[Year of Failure]]-YEAR(TODAY()))*Table1468[[#This Row],[Current Predicted Cost (to purchase in 2024)]])+Table1468[[#This Row],[Current Predicted Cost (to purchase in 2024)]])))))","v":""},{"$f":"Table13[[#This Row],[Estimated Year of Failure]]","v":""}]
[{"$f":"Table13[[#This Row],[I.D. Number ]]","v":""},{"$f":"Table13[[#This Row],[Category]]","v":0},{"$f":"Table13[[#This Row],[Type]]","v":0},{"$f":"Table13[[#This Row],[Description]]","v":0},null,null,{"$f":"Table13[[#This Row],[Installation Year]]","v":0},{"$f":"IF($G190= YEAR(TODAY()),$E190,(IF($G190=0,\"\",IF(Table13[[#This Row],[Life Expectancy]]=0,((0.056*(YEAR(TODAY())-Table1468[[#This Row],[Year of Initial Price]])*Table1468[[#This Row],[Initial Price]])+Table1468[[#This Row],[Initial Price]]),((VLOOKUP(YEAR(TODAY()),'Inflation Data'!$A:$C,3,TRUE)-VLOOKUP(Table1468[[#This Row],[Year of Initial Price]],'Inflation Data'!$A:$C,3,TRUE))/(VLOOKUP(Table1468[[#This Row],[Year of Initial Price]],'Inflation Data'!$A:$C,3,TRUE))*Table1468[[#This Row],[Initial Price]])+Table1468[[#This Row],[Initial Price]]))))","v":""},{"$f":"IF($G190=YEAR(TODAY()),$E190,(IF($G190=0,\"\",IF(Table13[[#This Row],[Life Expectancy]]=0,H190, ((0.056*(Table1468[[#This Row],[Year of Failure]]-YEAR(TODAY()))*Table1468[[#This Row],[Current Predicted Cost (to purchase in 2024)]])+Table1468[[#This Row],[Current Predicted Cost (to purchase in 2024)]])))))","v":""},{"$f":"Table13[[#This Row],[Estimated Year of Failure]]","v":""}]
[{"$f":"Table13[[#This Row],[I.D. Number ]]","v":""},{"$f":"Table13[[#This Row],[Category]]","v":0},{"$f":"Table13[[#This Row],[Type]]","v":0},{"$f":"Table13[[#This Row],[Description]]","v":0},null,null,{"$f":"Table13[[#This Row],[Installation Year]]","v":0},{"$f":"IF($G191= YEAR(TODAY()),$E191,(IF($G191=0,\"\",IF(Table13[[#This Row],[Life Expectancy]]=0,((0.056*(YEAR(TODAY())-Table1468[[#This Row],[Year of Initial Price]])*Table1468[[#This Row],[Initial Price]])+Table1468[[#This Row],[Initial Price]]),((VLOOKUP(YEAR(TODAY()),'Inflation Data'!$A:$C,3,TRUE)-VLOOKUP(Table1468[[#This Row],[Year of Initial Price]],'Inflation Data'!$A:$C,3,TRUE))/(VLOOKUP(Table1468[[#This Row],[Year of Initial Price]],'Inflation Data'!$A:$C,3,TRUE))*Table1468[[#This Row],[Initial Price]])+Table1468[[#This Row],[Initial Price]]))))","v":""},{"$f":"IF($G191=YEAR(TODAY()),$E191,(IF($G191=0,\"\",IF(Table13[[#This Row],[Life Expectancy]]=0,H191, ((0.056*(Table1468[[#This Row],[Year of Failure]]-YEAR(TODAY()))*Table1468[[#This Row],[Current Predicted Cost (to purchase in 2024)]])+Table1468[[#This Row],[Current Predicted Cost (to purchase in 2024)]])))))","v":""},{"$f":"Table13[[#This Row],[Estimated Year of Failure]]","v":""}]
[{"$f":"Table13[[#This Row],[I.D. Number ]]","v":""},{"$f":"Table13[[#This Row],[Category]]","v":0},{"$f":"Table13[[#This Row],[Type]]","v":0},{"$f":"Table13[[#This Row],[Description]]","v":0},null,null,{"$f":"Table13[[#This Row],[Installation Year]]","v":0},{"$f":"IF($G192= YEAR(TODAY()),$E192,(IF($G192=0,\"\",IF(Table13[[#This Row],[Life Expectancy]]=0,((0.056*(YEAR(TODAY())-Table1468[[#This Row],[Year of Initial Price]])*Table1468[[#This Row],[Initial Price]])+Table1468[[#This Row],[Initial Price]]),((VLOOKUP(YEAR(TODAY()),'Inflation Data'!$A:$C,3,TRUE)-VLOOKUP(Table1468[[#This Row],[Year of Initial Price]],'Inflation Data'!$A:$C,3,TRUE))/(VLOOKUP(Table1468[[#This Row],[Year of Initial Price]],'Inflation Data'!$A:$C,3,TRUE))*Table1468[[#This Row],[Initial Price]])+Table1468[[#This Row],[Initial Price]]))))","v":""},{"$f":"IF($G192=YEAR(TODAY()),$E192,(IF($G192=0,\"\",IF(Table13[[#This Row],[Life Expectancy]]=0,H192, ((0.056*(Table1468[[#This Row],[Year of Failure]]-YEAR(TODAY()))*Table1468[[#This Row],[Current Predicted Cost (to purchase in 2024)]])+Table1468[[#This Row],[Current Predicted Cost (to purchase in 2024)]])))))","v":""},{"$f":"Table13[[#This Row],[Estimated Year of Failure]]","v":""}]
[{"$f":"Table13[[#This Row],[I.D. Number ]]","v":""},{"$f":"Table13[[#This Row],[Category]]","v":0},{"$f":"Table13[[#This Row],[Type]]","v":0},{"$f":"Table13[[#This Row],[Description]]","v":0},null,null,{"$f":"Table13[[#This Row],[Installation Year]]","v":0},{"$f":"IF($G193= YEAR(TODAY()),$E193,(IF($G193=0,\"\",IF(Table13[[#This Row],[Life Expectancy]]=0,((0.056*(YEAR(TODAY())-Table1468[[#This Row],[Year of Initial Price]])*Table1468[[#This Row],[Initial Price]])+Table1468[[#This Row],[Initial Price]]),((VLOOKUP(YEAR(TODAY()),'Inflation Data'!$A:$C,3,TRUE)-VLOOKUP(Table1468[[#This Row],[Year of Initial Price]],'Inflation Data'!$A:$C,3,TRUE))/(VLOOKUP(Table1468[[#This Row],[Year of Initial Price]],'Inflation Data'!$A:$C,3,TRUE))*Table1468[[#This Row],[Initial Price]])+Table1468[[#This Row],[Initial Price]]))))","v":""},{"$f":"IF($G193=YEAR(TODAY()),$E193,(IF($G193=0,\"\",IF(Table13[[#This Row],[Life Expectancy]]=0,H193, ((0.056*(Table1468[[#This Row],[Year of Failure]]-YEAR(TODAY()))*Table1468[[#This Row],[Current Predicted Cost (to purchase in 2024)]])+Table1468[[#This Row],[Current Predicted Cost (to purchase in 2024)]])))))","v":""},{"$f":"Table13[[#This Row],[Estimated Year of Failure]]","v":""}]
[{"$f":"Table13[[#This Row],[I.D. Number ]]","v":""},{"$f":"Table13[[#This Row],[Category]]","v":0},{"$f":"Table13[[#This Row],[Type]]","v":0},{"$f":"Table13[[#This Row],[Description]]","v":0},null,null,{"$f":"Table13[[#This Row],[Installation Year]]","v":0},{"$f":"IF($G194= YEAR(TODAY()),$E194,(IF($G194=0,\"\",IF(Table13[[#This Row],[Life Expectancy]]=0,((0.056*(YEAR(TODAY())-Table1468[[#This Row],[Year of Initial Price]])*Table1468[[#This Row],[Initial Price]])+Table1468[[#This Row],[Initial Price]]),((VLOOKUP(YEAR(TODAY()),'Inflation Data'!$A:$C,3,TRUE)-VLOOKUP(Table1468[[#This Row],[Year of Initial Price]],'Inflation Data'!$A:$C,3,TRUE))/(VLOOKUP(Table1468[[#This Row],[Year of Initial Price]],'Inflation Data'!$A:$C,3,TRUE))*Table1468[[#This Row],[Initial Price]])+Table1468[[#This Row],[Initial Price]]))))","v":""},{"$f":"IF($G194=YEAR(TODAY()),$E194,(IF($G194=0,\"\",IF(Table13[[#This Row],[Life Expectancy]]=0,H194, ((0.056*(Table1468[[#This Row],[Year of Failure]]-YEAR(TODAY()))*Table1468[[#This Row],[Current Predicted Cost (to purchase in 2024)]])+Table1468[[#This Row],[Current Predicted Cost (to purchase in 2024)]])))))","v":""},{"$f":"Table13[[#This Row],[Estimated Year of Failure]]","v":""}]
[{"$f":"Table13[[#This Row],[I.D. Number ]]","v":""},{"$f":"Table13[[#This Row],[Category]]","v":0},{"$f":"Table13[[#This Row],[Type]]","v":0},{"$f":"Table13[[#This Row],[Description]]","v":0},null,null,{"$f":"Table13[[#This Row],[Installation Year]]","v":0},{"$f":"IF($G195= YEAR(TODAY()),$E195,(IF($G195=0,\"\",IF(Table13[[#This Row],[Life Expectancy]]=0,((0.056*(YEAR(TODAY())-Table1468[[#This Row],[Year of Initial Price]])*Table1468[[#This Row],[Initial Price]])+Table1468[[#This Row],[Initial Price]]),((VLOOKUP(YEAR(TODAY()),'Inflation Data'!$A:$C,3,TRUE)-VLOOKUP(Table1468[[#This Row],[Year of Initial Price]],'Inflation Data'!$A:$C,3,TRUE))/(VLOOKUP(Table1468[[#This Row],[Year of Initial Price]],'Inflation Data'!$A:$C,3,TRUE))*Table1468[[#This Row],[Initial Price]])+Table1468[[#This Row],[Initial Price]]))))","v":""},{"$f":"IF($G195=YEAR(TODAY()),$E195,(IF($G195=0,\"\",IF(Table13[[#This Row],[Life Expectancy]]=0,H195, ((0.056*(Table1468[[#This Row],[Year of Failure]]-YEAR(TODAY()))*Table1468[[#This Row],[Current Predicted Cost (to purchase in 2024)]])+Table1468[[#This Row],[Current Predicted Cost (to purchase in 2024)]])))))","v":""},{"$f":"Table13[[#This Row],[Estimated Year of Failure]]","v":""}]
[{"$f":"Table13[[#This Row],[I.D. Number ]]","v":""},{"$f":"Table13[[#This Row],[Category]]","v":0},{"$f":"Table13[[#This Row],[Type]]","v":0},{"$f":"Table13[[#This Row],[Description]]","v":0},null,null,{"$f":"Table13[[#This Row],[Installation Year]]","v":0},{"$f":"IF($G196= YEAR(TODAY()),$E196,(IF($G196=0,\"\",IF(Table13[[#This Row],[Life Expectancy]]=0,((0.056*(YEAR(TODAY())-Table1468[[#This Row],[Year of Initial Price]])*Table1468[[#This Row],[Initial Price]])+Table1468[[#This Row],[Initial Price]]),((VLOOKUP(YEAR(TODAY()),'Inflation Data'!$A:$C,3,TRUE)-VLOOKUP(Table1468[[#This Row],[Year of Initial Price]],'Inflation Data'!$A:$C,3,TRUE))/(VLOOKUP(Table1468[[#This Row],[Year of Initial Price]],'Inflation Data'!$A:$C,3,TRUE))*Table1468[[#This Row],[Initial Price]])+Table1468[[#This Row],[Initial Price]]))))","v":""},{"$f":"IF($G196=YEAR(TODAY()),$E196,(IF($G196=0,\"\",IF(Table13[[#This Row],[Life Expectancy]]=0,H196, ((0.056*(Table1468[[#This Row],[Year of Failure]]-YEAR(TODAY()))*Table1468[[#This Row],[Current Predicted Cost (to purchase in 2024)]])+Table1468[[#This Row],[Current Predicted Cost (to purchase in 2024)]])))))","v":""},{"$f":"Table13[[#This Row],[Estimated Year of Failure]]","v":""}]
[{"$f":"Table13[[#This Row],[I.D. Number ]]","v":""},{"$f":"Table13[[#This Row],[Category]]","v":0},{"$f":"Table13[[#This Row],[Type]]","v":0},{"$f":"Table13[[#This Row],[Description]]","v":0},null,null,{"$f":"Table13[[#This Row],[Installation Year]]","v":0},{"$f":"IF($G197= YEAR(TODAY()),$E197,(IF($G197=0,\"\",IF(Table13[[#This Row],[Life Expectancy]]=0,((0.056*(YEAR(TODAY())-Table1468[[#This Row],[Year of Initial Price]])*Table1468[[#This Row],[Initial Price]])+Table1468[[#This Row],[Initial Price]]),((VLOOKUP(YEAR(TODAY()),'Inflation Data'!$A:$C,3,TRUE)-VLOOKUP(Table1468[[#This Row],[Year of Initial Price]],'Inflation Data'!$A:$C,3,TRUE))/(VLOOKUP(Table1468[[#This Row],[Year of Initial Price]],'Inflation Data'!$A:$C,3,TRUE))*Table1468[[#This Row],[Initial Price]])+Table1468[[#This Row],[Initial Price]]))))","v":""},{"$f":"IF($G197=YEAR(TODAY()),$E197,(IF($G197=0,\"\",IF(Table13[[#This Row],[Life Expectancy]]=0,H197, ((0.056*(Table1468[[#This Row],[Year of Failure]]-YEAR(TODAY()))*Table1468[[#This Row],[Current Predicted Cost (to purchase in 2024)]])+Table1468[[#This Row],[Current Predicted Cost (to purchase in 2024)]])))))","v":""},{"$f":"Table13[[#This Row],[Estimated Year of Failure]]","v":""}]
[{"$f":"Table13[[#This Row],[I.D. Number ]]","v":""},{"$f":"Table13[[#This Row],[Category]]","v":0},{"$f":"Table13[[#This Row],[Type]]","v":0},{"$f":"Table13[[#This Row],[Description]]","v":0},null,null,{"$f":"Table13[[#This Row],[Installation Year]]","v":0},{"$f":"IF($G198= YEAR(TODAY()),$E198,(IF($G198=0,\"\",IF(Table13[[#This Row],[Life Expectancy]]=0,((0.056*(YEAR(TODAY())-Table1468[[#This Row],[Year of Initial Price]])*Table1468[[#This Row],[Initial Price]])+Table1468[[#This Row],[Initial Price]]),((VLOOKUP(YEAR(TODAY()),'Inflation Data'!$A:$C,3,TRUE)-VLOOKUP(Table1468[[#This Row],[Year of Initial Price]],'Inflation Data'!$A:$C,3,TRUE))/(VLOOKUP(Table1468[[#This Row],[Year of Initial Price]],'Inflation Data'!$A:$C,3,TRUE))*Table1468[[#This Row],[Initial Price]])+Table1468[[#This Row],[Initial Price]]))))","v":""},{"$f":"IF($G198=YEAR(TODAY()),$E198,(IF($G198=0,\"\",IF(Table13[[#This Row],[Life Expectancy]]=0,H198, ((0.056*(Table1468[[#This Row],[Year of Failure]]-YEAR(TODAY()))*Table1468[[#This Row],[Current Predicted Cost (to purchase in 2024)]])+Table1468[[#This Row],[Current Predicted Cost (to purchase in 2024)]])))))","v":""},{"$f":"Table13[[#This Row],[Estimated Year of Failure]]","v":""}]
[{"$f":"Table13[[#This Row],[I.D. Number ]]","v":""},{"$f":"Table13[[#This Row],[Category]]","v":0},{"$f":"Table13[[#This Row],[Type]]","v":0},{"$f":"Table13[[#This Row],[Description]]","v":0},null,null,{"$f":"Table13[[#This Row],[Installation Year]]","v":0},{"$f":"IF($G199= YEAR(TODAY()),$E199,(IF($G199=0,\"\",IF(Table13[[#This Row],[Life Expectancy]]=0,((0.056*(YEAR(TODAY())-Table1468[[#This Row],[Year of Initial Price]])*Table1468[[#This Row],[Initial Price]])+Table1468[[#This Row],[Initial Price]]),((VLOOKUP(YEAR(TODAY()),'Inflation Data'!$A:$C,3,TRUE)-VLOOKUP(Table1468[[#This Row],[Year of Initial Price]],'Inflation Data'!$A:$C,3,TRUE))/(VLOOKUP(Table1468[[#This Row],[Year of Initial Price]],'Inflation Data'!$A:$C,3,TRUE))*Table1468[[#This Row],[Initial Price]])+Table1468[[#This Row],[Initial Price]]))))","v":""},{"$f":"IF($G199=YEAR(TODAY()),$E199,(IF($G199=0,\"\",IF(Table13[[#This Row],[Life Expectancy]]=0,H199, ((0.056*(Table1468[[#This Row],[Year of Failure]]-YEAR(TODAY()))*Table1468[[#This Row],[Current Predicted Cost (to purchase in 2024)]])+Table1468[[#This Row],[Current Predicted Cost (to purchase in 2024)]])))))","v":""},{"$f":"Table13[[#This Row],[Estimated Year of Failure]]","v":""}]
[{"$f":"Table13[[#This Row],[I.D. Number ]]","v":""},{"$f":"Table13[[#This Row],[Category]]","v":0},{"$f":"Table13[[#This Row],[Type]]","v":0},{"$f":"Table13[[#This Row],[Description]]","v":0},null,null,{"$f":"Table13[[#This Row],[Installation Year]]","v":0},{"$f":"IF($G200= YEAR(TODAY()),$E200,(IF($G200=0,\"\",IF(Table13[[#This Row],[Life Expectancy]]=0,((0.056*(YEAR(TODAY())-Table1468[[#This Row],[Year of Initial Price]])*Table1468[[#This Row],[Initial Price]])+Table1468[[#This Row],[Initial Price]]),((VLOOKUP(YEAR(TODAY()),'Inflation Data'!$A:$C,3,TRUE)-VLOOKUP(Table1468[[#This Row],[Year of Initial Price]],'Inflation Data'!$A:$C,3,TRUE))/(VLOOKUP(Table1468[[#This Row],[Year of Initial Price]],'Inflation Data'!$A:$C,3,TRUE))*Table1468[[#This Row],[Initial Price]])+Table1468[[#This Row],[Initial Price]]))))","v":""},{"$f":"IF($G200=YEAR(TODAY()),$E200,(IF($G200=0,\"\",IF(Table13[[#This Row],[Life Expectancy]]=0,H200, ((0.056*(Table1468[[#This Row],[Year of Failure]]-YEAR(TODAY()))*Table1468[[#This Row],[Current Predicted Cost (to purchase in 2024)]])+Table1468[[#This Row],[Current Predicted Cost (to purchase in 2024)]])))))","v":""},{"$f":"Table13[[#This Row],[Estimated Year of Failure]]","v":""}]
[{"$f":"Table13[[#This Row],[I.D. Number ]]","v":""},{"$f":"Table13[[#This Row],[Category]]","v":0},{"$f":"Table13[[#This Row],[Type]]","v":0},{"$f":"Table13[[#This Row],[Description]]","v":0},null,null,{"$f":"Table13[[#This Row],[Installation Year]]","v":0},{"$f":"IF($G201= YEAR(TODAY()),$E201,(IF($G201=0,\"\",IF(Table13[[#This Row],[Life Expectancy]]=0,((0.056*(YEAR(TODAY())-Table1468[[#This Row],[Year of Initial Price]])*Table1468[[#This Row],[Initial Price]])+Table1468[[#This Row],[Initial Price]]),((VLOOKUP(YEAR(TODAY()),'Inflation Data'!$A:$C,3,TRUE)-VLOOKUP(Table1468[[#This Row],[Year of Initial Price]],'Inflation Data'!$A:$C,3,TRUE))/(VLOOKUP(Table1468[[#This Row],[Year of Initial Price]],'Inflation Data'!$A:$C,3,TRUE))*Table1468[[#This Row],[Initial Price]])+Table1468[[#This Row],[Initial Price]]))))","v":""},{"$f":"IF($G201=YEAR(TODAY()),$E201,(IF($G201=0,\"\",IF(Table13[[#This Row],[Life Expectancy]]=0,H201, ((0.056*(Table1468[[#This Row],[Year of Failure]]-YEAR(TODAY()))*Table1468[[#This Row],[Current Predicted Cost (to purchase in 2024)]])+Table1468[[#This Row],[Current Predicted Cost (to purchase in 2024)]])))))","v":""},{"$f":"Table13[[#This Row],[Estimated Year of Failure]]","v":""}]
[{"$f":"Table13[[#This Row],[I.D. Number ]]","v":""},{"$f":"Table13[[#This Row],[Category]]","v":0},{"$f":"Table13[[#This Row],[Type]]","v":0},{"$f":"Table13[[#This Row],[Description]]","v":0},null,null,{"$f":"Table13[[#This Row],[Installation Year]]","v":0},{"$f":"IF($G202= YEAR(TODAY()),$E202,(IF($G202=0,\"\",IF(Table13[[#This Row],[Life Expectancy]]=0,((0.056*(YEAR(TODAY())-Table1468[[#This Row],[Year of Initial Price]])*Table1468[[#This Row],[Initial Price]])+Table1468[[#This Row],[Initial Price]]),((VLOOKUP(YEAR(TODAY()),'Inflation Data'!$A:$C,3,TRUE)-VLOOKUP(Table1468[[#This Row],[Year of Initial Price]],'Inflation Data'!$A:$C,3,TRUE))/(VLOOKUP(Table1468[[#This Row],[Year of Initial Price]],'Inflation Data'!$A:$C,3,TRUE))*Table1468[[#This Row],[Initial Price]])+Table1468[[#This Row],[Initial Price]]))))","v":""},{"$f":"IF($G202=YEAR(TODAY()),$E202,(IF($G202=0,\"\",IF(Table13[[#This Row],[Life Expectancy]]=0,H202, ((0.056*(Table1468[[#This Row],[Year of Failure]]-YEAR(TODAY()))*Table1468[[#This Row],[Current Predicted Cost (to purchase in 2024)]])+Table1468[[#This Row],[Current Predicted Cost (to purchase in 2024)]])))))","v":""},{"$f":"Table13[[#This Row],[Estimated Year of Failure]]","v":""}]
[{"$f":"Table13[[#This Row],[I.D. Number ]]","v":""},{"$f":"Table13[[#This Row],[Category]]","v":0},{"$f":"Table13[[#This Row],[Type]]","v":0},{"$f":"Table13[[#This Row],[Description]]","v":0},null,null,{"$f":"Table13[[#This Row],[Installation Year]]","v":0},{"$f":"IF($G203= YEAR(TODAY()),$E203,(IF($G203=0,\"\",IF(Table13[[#This Row],[Life Expectancy]]=0,((0.056*(YEAR(TODAY())-Table1468[[#This Row],[Year of Initial Price]])*Table1468[[#This Row],[Initial Price]])+Table1468[[#This Row],[Initial Price]]),((VLOOKUP(YEAR(TODAY()),'Inflation Data'!$A:$C,3,TRUE)-VLOOKUP(Table1468[[#This Row],[Year of Initial Price]],'Inflation Data'!$A:$C,3,TRUE))/(VLOOKUP(Table1468[[#This Row],[Year of Initial Price]],'Inflation Data'!$A:$C,3,TRUE))*Table1468[[#This Row],[Initial Price]])+Table1468[[#This Row],[Initial Price]]))))","v":""},{"$f":"IF($G203=YEAR(TODAY()),$E203,(IF($G203=0,\"\",IF(Table13[[#This Row],[Life Expectancy]]=0,H203, ((0.056*(Table1468[[#This Row],[Year of Failure]]-YEAR(TODAY()))*Table1468[[#This Row],[Current Predicted Cost (to purchase in 2024)]])+Table1468[[#This Row],[Current Predicted Cost (to purchase in 2024)]])))))","v":""},{"$f":"Table13[[#This Row],[Estimated Year of Failure]]","v":""}]
[{"$f":"Table13[[#This Row],[I.D. Number ]]","v":""},{"$f":"Table13[[#This Row],[Category]]","v":0},{"$f":"Table13[[#This Row],[Type]]","v":0},{"$f":"Table13[[#This Row],[Description]]","v":0},null,null,{"$f":"Table13[[#This Row],[Installation Year]]","v":0},{"$f":"IF($G204= YEAR(TODAY()),$E204,(IF($G204=0,\"\",IF(Table13[[#This Row],[Life Expectancy]]=0,((0.056*(YEAR(TODAY())-Table1468[[#This Row],[Year of Initial Price]])*Table1468[[#This Row],[Initial Price]])+Table1468[[#This Row],[Initial Price]]),((VLOOKUP(YEAR(TODAY()),'Inflation Data'!$A:$C,3,TRUE)-VLOOKUP(Table1468[[#This Row],[Year of Initial Price]],'Inflation Data'!$A:$C,3,TRUE))/(VLOOKUP(Table1468[[#This Row],[Year of Initial Price]],'Inflation Data'!$A:$C,3,TRUE))*Table1468[[#This Row],[Initial Price]])+Table1468[[#This Row],[Initial Price]]))))","v":""},{"$f":"IF($G204=YEAR(TODAY()),$E204,(IF($G204=0,\"\",IF(Table13[[#This Row],[Life Expectancy]]=0,H204, ((0.056*(Table1468[[#This Row],[Year of Failure]]-YEAR(TODAY()))*Table1468[[#This Row],[Current Predicted Cost (to purchase in 2024)]])+Table1468[[#This Row],[Current Predicted Cost (to purchase in 2024)]])))))","v":""},{"$f":"Table13[[#This Row],[Estimated Year of Failure]]","v":""}]
[{"$f":"Table13[[#This Row],[I.D. Number ]]","v":""},{"$f":"Table13[[#This Row],[Category]]","v":0},{"$f":"Table13[[#This Row],[Type]]","v":0},{"$f":"Table13[[#This Row],[Description]]","v":0},null,null,{"$f":"Table13[[#This Row],[Installation Year]]","v":0},{"$f":"IF($G205= YEAR(TODAY()),$E205,(IF($G205=0,\"\",IF(Table13[[#This Row],[Life Expectancy]]=0,((0.056*(YEAR(TODAY())-Table1468[[#This Row],[Year of Initial Price]])*Table1468[[#This Row],[Initial Price]])+Table1468[[#This Row],[Initial Price]]),((VLOOKUP(YEAR(TODAY()),'Inflation Data'!$A:$C,3,TRUE)-VLOOKUP(Table1468[[#This Row],[Year of Initial Price]],'Inflation Data'!$A:$C,3,TRUE))/(VLOOKUP(Table1468[[#This Row],[Year of Initial Price]],'Inflation Data'!$A:$C,3,TRUE))*Table1468[[#This Row],[Initial Price]])+Table1468[[#This Row],[Initial Price]]))))","v":""},{"$f":"IF($G205=YEAR(TODAY()),$E205,(IF($G205=0,\"\",IF(Table13[[#This Row],[Life Expectancy]]=0,H205, ((0.056*(Table1468[[#This Row],[Year of Failure]]-YEAR(TODAY()))*Table1468[[#This Row],[Current Predicted Cost (to purchase in 2024)]])+Table1468[[#This Row],[Current Predicted Cost (to purchase in 2024)]])))))","v":""},{"$f":"Table13[[#This Row],[Estimated Year of Failure]]","v":""}]
[{"$f":"Table13[[#This Row],[I.D. Number ]]","v":""},{"$f":"Table13[[#This Row],[Category]]","v":0},{"$f":"Table13[[#This Row],[Type]]","v":0},{"$f":"Table13[[#This Row],[Description]]","v":0},null,null,{"$f":"Table13[[#This Row],[Installation Year]]","v":0},{"$f":"IF($G206= YEAR(TODAY()),$E206,(IF($G206=0,\"\",IF(Table13[[#This Row],[Life Expectancy]]=0,((0.056*(YEAR(TODAY())-Table1468[[#This Row],[Year of Initial Price]])*Table1468[[#This Row],[Initial Price]])+Table1468[[#This Row],[Initial Price]]),((VLOOKUP(YEAR(TODAY()),'Inflation Data'!$A:$C,3,TRUE)-VLOOKUP(Table1468[[#This Row],[Year of Initial Price]],'Inflation Data'!$A:$C,3,TRUE))/(VLOOKUP(Table1468[[#This Row],[Year of Initial Price]],'Inflation Data'!$A:$C,3,TRUE))*Table1468[[#This Row],[Initial Price]])+Table1468[[#This Row],[Initial Price]]))))","v":""},{"$f":"IF($G206=YEAR(TODAY()),$E206,(IF($G206=0,\"\",IF(Table13[[#This Row],[Life Expectancy]]=0,H206, ((0.056*(Table1468[[#This Row],[Year of Failure]]-YEAR(TODAY()))*Table1468[[#This Row],[Current Predicted Cost (to purchase in 2024)]])+Table1468[[#This Row],[Current Predicted Cost (to purchase in 2024)]])))))","v":""},{"$f":"Table13[[#This Row],[Estimated Year of Failure]]","v":""}]
[{"$f":"Table13[[#This Row],[I.D. Number ]]","v":""},{"$f":"Table13[[#This Row],[Category]]","v":0},{"$f":"Table13[[#This Row],[Type]]","v":0},{"$f":"Table13[[#This Row],[Description]]","v":0},null,null,{"$f":"Table13[[#This Row],[Installation Year]]","v":0},{"$f":"IF($G207= YEAR(TODAY()),$E207,(IF($G207=0,\"\",IF(Table13[[#This Row],[Life Expectancy]]=0,((0.056*(YEAR(TODAY())-Table1468[[#This Row],[Year of Initial Price]])*Table1468[[#This Row],[Initial Price]])+Table1468[[#This Row],[Initial Price]]),((VLOOKUP(YEAR(TODAY()),'Inflation Data'!$A:$C,3,TRUE)-VLOOKUP(Table1468[[#This Row],[Year of Initial Price]],'Inflation Data'!$A:$C,3,TRUE))/(VLOOKUP(Table1468[[#This Row],[Year of Initial Price]],'Inflation Data'!$A:$C,3,TRUE))*Table1468[[#This Row],[Initial Price]])+Table1468[[#This Row],[Initial Price]]))))","v":""},{"$f":"IF($G207=YEAR(TODAY()),$E207,(IF($G207=0,\"\",IF(Table13[[#This Row],[Life Expectancy]]=0,H207, ((0.056*(Table1468[[#This Row],[Year of Failure]]-YEAR(TODAY()))*Table1468[[#This Row],[Current Predicted Cost (to purchase in 2024)]])+Table1468[[#This Row],[Current Predicted Cost (to purchase in 2024)]])))))","v":""},{"$f":"Table13[[#This Row],[Estimated Year of Failure]]","v":""}]
[{"$f":"Table13[[#This Row],[I.D. Number ]]","v":""},{"$f":"Table13[[#This Row],[Category]]","v":0},{"$f":"Table13[[#This Row],[Type]]","v":0},{"$f":"Table13[[#This Row],[Description]]","v":0},null,null,{"$f":"Table13[[#This Row],[Installation Year]]","v":0},{"$f":"IF($G208= YEAR(TODAY()),$E208,(IF($G208=0,\"\",IF(Table13[[#This Row],[Life Expectancy]]=0,((0.056*(YEAR(TODAY())-Table1468[[#This Row],[Year of Initial Price]])*Table1468[[#This Row],[Initial Price]])+Table1468[[#This Row],[Initial Price]]),((VLOOKUP(YEAR(TODAY()),'Inflation Data'!$A:$C,3,TRUE)-VLOOKUP(Table1468[[#This Row],[Year of Initial Price]],'Inflation Data'!$A:$C,3,TRUE))/(VLOOKUP(Table1468[[#This Row],[Year of Initial Price]],'Inflation Data'!$A:$C,3,TRUE))*Table1468[[#This Row],[Initial Price]])+Table1468[[#This Row],[Initial Price]]))))","v":""},{"$f":"IF($G208=YEAR(TODAY()),$E208,(IF($G208=0,\"\",IF(Table13[[#This Row],[Life Expectancy]]=0,H208, ((0.056*(Table1468[[#This Row],[Year of Failure]]-YEAR(TODAY()))*Table1468[[#This Row],[Current Predicted Cost (to purchase in 2024)]])+Table1468[[#This Row],[Current Predicted Cost (to purchase in 2024)]])))))","v":""},{"$f":"Table13[[#This Row],[Estimated Year of Failure]]","v":""}]
[{"$f":"Table13[[#This Row],[I.D. Number ]]","v":""},{"$f":"Table13[[#This Row],[Category]]","v":0},{"$f":"Table13[[#This Row],[Type]]","v":0},{"$f":"Table13[[#This Row],[Description]]","v":0},null,null,{"$f":"Table13[[#This Row],[Installation Year]]","v":0},{"$f":"IF($G209= YEAR(TODAY()),$E209,(IF($G209=0,\"\",IF(Table13[[#This Row],[Life Expectancy]]=0,((0.056*(YEAR(TODAY())-Table1468[[#This Row],[Year of Initial Price]])*Table1468[[#This Row],[Initial Price]])+Table1468[[#This Row],[Initial Price]]),((VLOOKUP(YEAR(TODAY()),'Inflation Data'!$A:$C,3,TRUE)-VLOOKUP(Table1468[[#This Row],[Year of Initial Price]],'Inflation Data'!$A:$C,3,TRUE))/(VLOOKUP(Table1468[[#This Row],[Year of Initial Price]],'Inflation Data'!$A:$C,3,TRUE))*Table1468[[#This Row],[Initial Price]])+Table1468[[#This Row],[Initial Price]]))))","v":""},{"$f":"IF($G209=YEAR(TODAY()),$E209,(IF($G209=0,\"\",IF(Table13[[#This Row],[Life Expectancy]]=0,H209, ((0.056*(Table1468[[#This Row],[Year of Failure]]-YEAR(TODAY()))*Table1468[[#This Row],[Current Predicted Cost (to purchase in 2024)]])+Table1468[[#This Row],[Current Predicted Cost (to purchase in 2024)]])))))","v":""},{"$f":"Table13[[#This Row],[Estimated Year of Failure]]","v":""}]
[{"$f":"Table13[[#This Row],[I.D. Number ]]","v":""},{"$f":"Table13[[#This Row],[Category]]","v":0},{"$f":"Table13[[#This Row],[Type]]","v":0},{"$f":"Table13[[#This Row],[Description]]","v":0},null,null,{"$f":"Table13[[#This Row],[Installation Year]]","v":0},{"$f":"IF($G210= YEAR(TODAY()),$E210,(IF($G210=0,\"\",IF(Table13[[#This Row],[Life Expectancy]]=0,((0.056*(YEAR(TODAY())-Table1468[[#This Row],[Year of Initial Price]])*Table1468[[#This Row],[Initial Price]])+Table1468[[#This Row],[Initial Price]]),((VLOOKUP(YEAR(TODAY()),'Inflation Data'!$A:$C,3,TRUE)-VLOOKUP(Table1468[[#This Row],[Year of Initial Price]],'Inflation Data'!$A:$C,3,TRUE))/(VLOOKUP(Table1468[[#This Row],[Year of Initial Price]],'Inflation Data'!$A:$C,3,TRUE))*Table1468[[#This Row],[Initial Price]])+Table1468[[#This Row],[Initial Price]]))))","v":""},{"$f":"IF($G210=YEAR(TODAY()),$E210,(IF($G210=0,\"\",IF(Table13[[#This Row],[Life Expectancy]]=0,H210, ((0.056*(Table1468[[#This Row],[Year of Failure]]-YEAR(TODAY()))*Table1468[[#This Row],[Current Predicted Cost (to purchase in 2024)]])+Table1468[[#This Row],[Current Predicted Cost (to purchase in 2024)]])))))","v":""},{"$f":"Table13[[#This Row],[Estimated Year of Failure]]","v":""}]
[{"$f":"Table13[[#This Row],[I.D. Number ]]","v":""},{"$f":"Table13[[#This Row],[Category]]","v":0},{"$f":"Table13[[#This Row],[Type]]","v":0},{"$f":"Table13[[#This Row],[Description]]","v":0},null,null,{"$f":"Table13[[#This Row],[Installation Year]]","v":0},{"$f":"IF($G211= YEAR(TODAY()),$E211,(IF($G211=0,\"\",IF(Table13[[#This Row],[Life Expectancy]]=0,((0.056*(YEAR(TODAY())-Table1468[[#This Row],[Year of Initial Price]])*Table1468[[#This Row],[Initial Price]])+Table1468[[#This Row],[Initial Price]]),((VLOOKUP(YEAR(TODAY()),'Inflation Data'!$A:$C,3,TRUE)-VLOOKUP(Table1468[[#This Row],[Year of Initial Price]],'Inflation Data'!$A:$C,3,TRUE))/(VLOOKUP(Table1468[[#This Row],[Year of Initial Price]],'Inflation Data'!$A:$C,3,TRUE))*Table1468[[#This Row],[Initial Price]])+Table1468[[#This Row],[Initial Price]]))))","v":""},{"$f":"IF($G211=YEAR(TODAY()),$E211,(IF($G211=0,\"\",IF(Table13[[#This Row],[Life Expectancy]]=0,H211, ((0.056*(Table1468[[#This Row],[Year of Failure]]-YEAR(TODAY()))*Table1468[[#This Row],[Current Predicted Cost (to purchase in 2024)]])+Table1468[[#This Row],[Current Predicted Cost (to purchase in 2024)]])))))","v":""},{"$f":"Table13[[#This Row],[Estimated Year of Failure]]","v":""}]
[{"$f":"Table13[[#This Row],[I.D. Number ]]","v":""},{"$f":"Table13[[#This Row],[Category]]","v":0},{"$f":"Table13[[#This Row],[Type]]","v":0},{"$f":"Table13[[#This Row],[Description]]","v":0},null,null,{"$f":"Table13[[#This Row],[Installation Year]]","v":0},{"$f":"IF($G212= YEAR(TODAY()),$E212,(IF($G212=0,\"\",IF(Table13[[#This Row],[Life Expectancy]]=0,((0.056*(YEAR(TODAY())-Table1468[[#This Row],[Year of Initial Price]])*Table1468[[#This Row],[Initial Price]])+Table1468[[#This Row],[Initial Price]]),((VLOOKUP(YEAR(TODAY()),'Inflation Data'!$A:$C,3,TRUE)-VLOOKUP(Table1468[[#This Row],[Year of Initial Price]],'Inflation Data'!$A:$C,3,TRUE))/(VLOOKUP(Table1468[[#This Row],[Year of Initial Price]],'Inflation Data'!$A:$C,3,TRUE))*Table1468[[#This Row],[Initial Price]])+Table1468[[#This Row],[Initial Price]]))))","v":""},{"$f":"IF($G212=YEAR(TODAY()),$E212,(IF($G212=0,\"\",IF(Table13[[#This Row],[Life Expectancy]]=0,H212, ((0.056*(Table1468[[#This Row],[Year of Failure]]-YEAR(TODAY()))*Table1468[[#This Row],[Current Predicted Cost (to purchase in 2024)]])+Table1468[[#This Row],[Current Predicted Cost (to purchase in 2024)]])))))","v":""},{"$f":"Table13[[#This Row],[Estimated Year of Failure]]","v":""}]
[{"$f":"Table13[[#This Row],[I.D. Number ]]","v":""},{"$f":"Table13[[#This Row],[Category]]","v":0},{"$f":"Table13[[#This Row],[Type]]","v":0},{"$f":"Table13[[#This Row],[Description]]","v":0},null,null,{"$f":"Table13[[#This Row],[Installation Year]]","v":0},{"$f":"IF($G213= YEAR(TODAY()),$E213,(IF($G213=0,\"\",IF(Table13[[#This Row],[Life Expectancy]]=0,((0.056*(YEAR(TODAY())-Table1468[[#This Row],[Year of Initial Price]])*Table1468[[#This Row],[Initial Price]])+Table1468[[#This Row],[Initial Price]]),((VLOOKUP(YEAR(TODAY()),'Inflation Data'!$A:$C,3,TRUE)-VLOOKUP(Table1468[[#This Row],[Year of Initial Price]],'Inflation Data'!$A:$C,3,TRUE))/(VLOOKUP(Table1468[[#This Row],[Year of Initial Price]],'Inflation Data'!$A:$C,3,TRUE))*Table1468[[#This Row],[Initial Price]])+Table1468[[#This Row],[Initial Price]]))))","v":""},{"$f":"IF($G213=YEAR(TODAY()),$E213,(IF($G213=0,\"\",IF(Table13[[#This Row],[Life Expectancy]]=0,H213, ((0.056*(Table1468[[#This Row],[Year of Failure]]-YEAR(TODAY()))*Table1468[[#This Row],[Current Predicted Cost (to purchase in 2024)]])+Table1468[[#This Row],[Current Predicted Cost (to purchase in 2024)]])))))","v":""},{"$f":"Table13[[#This Row],[Estimated Year of Failure]]","v":""}]
[{"$f":"Table13[[#This Row],[I.D. Number ]]","v":""},{"$f":"Table13[[#This Row],[Category]]","v":0},{"$f":"Table13[[#This Row],[Type]]","v":0},{"$f":"Table13[[#This Row],[Description]]","v":0},null,null,{"$f":"Table13[[#This Row],[Installation Year]]","v":0},{"$f":"IF($G214= YEAR(TODAY()),$E214,(IF($G214=0,\"\",IF(Table13[[#This Row],[Life Expectancy]]=0,((0.056*(YEAR(TODAY())-Table1468[[#This Row],[Year of Initial Price]])*Table1468[[#This Row],[Initial Price]])+Table1468[[#This Row],[Initial Price]]),((VLOOKUP(YEAR(TODAY()),'Inflation Data'!$A:$C,3,TRUE)-VLOOKUP(Table1468[[#This Row],[Year of Initial Price]],'Inflation Data'!$A:$C,3,TRUE))/(VLOOKUP(Table1468[[#This Row],[Year of Initial Price]],'Inflation Data'!$A:$C,3,TRUE))*Table1468[[#This Row],[Initial Price]])+Table1468[[#This Row],[Initial Price]]))))","v":""},{"$f":"IF($G214=YEAR(TODAY()),$E214,(IF($G214=0,\"\",IF(Table13[[#This Row],[Life Expectancy]]=0,H214, ((0.056*(Table1468[[#This Row],[Year of Failure]]-YEAR(TODAY()))*Table1468[[#This Row],[Current Predicted Cost (to purchase in 2024)]])+Table1468[[#This Row],[Current Predicted Cost (to purchase in 2024)]])))))","v":""},{"$f":"Table13[[#This Row],[Estimated Year of Failure]]","v":""}]
[{"$f":"Table13[[#This Row],[I.D. Number ]]","v":""},{"$f":"Table13[[#This Row],[Category]]","v":0},{"$f":"Table13[[#This Row],[Type]]","v":0},{"$f":"Table13[[#This Row],[Description]]","v":0},null,null,{"$f":"Table13[[#This Row],[Installation Year]]","v":0},{"$f":"IF($G215= YEAR(TODAY()),$E215,(IF($G215=0,\"\",IF(Table13[[#This Row],[Life Expectancy]]=0,((0.056*(YEAR(TODAY())-Table1468[[#This Row],[Year of Initial Price]])*Table1468[[#This Row],[Initial Price]])+Table1468[[#This Row],[Initial Price]]),((VLOOKUP(YEAR(TODAY()),'Inflation Data'!$A:$C,3,TRUE)-VLOOKUP(Table1468[[#This Row],[Year of Initial Price]],'Inflation Data'!$A:$C,3,TRUE))/(VLOOKUP(Table1468[[#This Row],[Year of Initial Price]],'Inflation Data'!$A:$C,3,TRUE))*Table1468[[#This Row],[Initial Price]])+Table1468[[#This Row],[Initial Price]]))))","v":""},{"$f":"IF($G215=YEAR(TODAY()),$E215,(IF($G215=0,\"\",IF(Table13[[#This Row],[Life Expectancy]]=0,H215, ((0.056*(Table1468[[#This Row],[Year of Failure]]-YEAR(TODAY()))*Table1468[[#This Row],[Current Predicted Cost (to purchase in 2024)]])+Table1468[[#This Row],[Current Predicted Cost (to purchase in 2024)]])))))","v":""},{"$f":"Table13[[#This Row],[Estimated Year of Failure]]","v":""}]
[{"$f":"Table13[[#This Row],[I.D. Number ]]","v":""},{"$f":"Table13[[#This Row],[Category]]","v":0},{"$f":"Table13[[#This Row],[Type]]","v":0},{"$f":"Table13[[#This Row],[Description]]","v":0},null,null,{"$f":"Table13[[#This Row],[Installation Year]]","v":0},{"$f":"IF($G216= YEAR(TODAY()),$E216,(IF($G216=0,\"\",IF(Table13[[#This Row],[Life Expectancy]]=0,((0.056*(YEAR(TODAY())-Table1468[[#This Row],[Year of Initial Price]])*Table1468[[#This Row],[Initial Price]])+Table1468[[#This Row],[Initial Price]]),((VLOOKUP(YEAR(TODAY()),'Inflation Data'!$A:$C,3,TRUE)-VLOOKUP(Table1468[[#This Row],[Year of Initial Price]],'Inflation Data'!$A:$C,3,TRUE))/(VLOOKUP(Table1468[[#This Row],[Year of Initial Price]],'Inflation Data'!$A:$C,3,TRUE))*Table1468[[#This Row],[Initial Price]])+Table1468[[#This Row],[Initial Price]]))))","v":""},{"$f":"IF($G216=YEAR(TODAY()),$E216,(IF($G216=0,\"\",IF(Table13[[#This Row],[Life Expectancy]]=0,H216, ((0.056*(Table1468[[#This Row],[Year of Failure]]-YEAR(TODAY()))*Table1468[[#This Row],[Current Predicted Cost (to purchase in 2024)]])+Table1468[[#This Row],[Current Predicted Cost (to purchase in 2024)]])))))","v":""},{"$f":"Table13[[#This Row],[Estimated Year of Failure]]","v":""}]
[{"$f":"Table13[[#This Row],[I.D. Number ]]","v":""},{"$f":"Table13[[#This Row],[Category]]","v":0},{"$f":"Table13[[#This Row],[Type]]","v":0},{"$f":"Table13[[#This Row],[Description]]","v":0},null,null,{"$f":"Table13[[#This Row],[Installation Year]]","v":0},{"$f":"IF($G217= YEAR(TODAY()),$E217,(IF($G217=0,\"\",IF(Table13[[#This Row],[Life Expectancy]]=0,((0.056*(YEAR(TODAY())-Table1468[[#This Row],[Year of Initial Price]])*Table1468[[#This Row],[Initial Price]])+Table1468[[#This Row],[Initial Price]]),((VLOOKUP(YEAR(TODAY()),'Inflation Data'!$A:$C,3,TRUE)-VLOOKUP(Table1468[[#This Row],[Year of Initial Price]],'Inflation Data'!$A:$C,3,TRUE))/(VLOOKUP(Table1468[[#This Row],[Year of Initial Price]],'Inflation Data'!$A:$C,3,TRUE))*Table1468[[#This Row],[Initial Price]])+Table1468[[#This Row],[Initial Price]]))))","v":""},{"$f":"IF($G217=YEAR(TODAY()),$E217,(IF($G217=0,\"\",IF(Table13[[#This Row],[Life Expectancy]]=0,H217, ((0.056*(Table1468[[#This Row],[Year of Failure]]-YEAR(TODAY()))*Table1468[[#This Row],[Current Predicted Cost (to purchase in 2024)]])+Table1468[[#This Row],[Current Predicted Cost (to purchase in 2024)]])))))","v":""},{"$f":"Table13[[#This Row],[Estimated Year of Failure]]","v":""}]
[{"$f":"Table13[[#This Row],[I.D. Number ]]","v":""},{"$f":"Table13[[#This Row],[Category]]","v":0},{"$f":"Table13[[#This Row],[Type]]","v":0},{"$f":"Table13[[#This Row],[Description]]","v":0},null,null,{"$f":"Table13[[#This Row],[Installation Year]]","v":0},{"$f":"IF($G218= YEAR(TODAY()),$E218,(IF($G218=0,\"\",IF(Table13[[#This Row],[Life Expectancy]]=0,((0.056*(YEAR(TODAY())-Table1468[[#This Row],[Year of Initial Price]])*Table1468[[#This Row],[Initial Price]])+Table1468[[#This Row],[Initial Price]]),((VLOOKUP(YEAR(TODAY()),'Inflation Data'!$A:$C,3,TRUE)-VLOOKUP(Table1468[[#This Row],[Year of Initial Price]],'Inflation Data'!$A:$C,3,TRUE))/(VLOOKUP(Table1468[[#This Row],[Year of Initial Price]],'Inflation Data'!$A:$C,3,TRUE))*Table1468[[#This Row],[Initial Price]])+Table1468[[#This Row],[Initial Price]]))))","v":""},{"$f":"IF($G218=YEAR(TODAY()),$E218,(IF($G218=0,\"\",IF(Table13[[#This Row],[Life Expectancy]]=0,H218, ((0.056*(Table1468[[#This Row],[Year of Failure]]-YEAR(TODAY()))*Table1468[[#This Row],[Current Predicted Cost (to purchase in 2024)]])+Table1468[[#This Row],[Current Predicted Cost (to purchase in 2024)]])))))","v":""},{"$f":"Table13[[#This Row],[Estimated Year of Failure]]","v":""}]
[{"$f":"Table13[[#This Row],[I.D. Number ]]","v":""},{"$f":"Table13[[#This Row],[Category]]","v":0},{"$f":"Table13[[#This Row],[Type]]","v":0},{"$f":"Table13[[#This Row],[Description]]","v":0},null,null,{"$f":"Table13[[#This Row],[Installation Year]]","v":0},{"$f":"IF($G219= YEAR(TODAY()),$E219,(IF($G219=0,\"\",IF(Table13[[#This Row],[Life Expectancy]]=0,((0.056*(YEAR(TODAY())-Table1468[[#This Row],[Year of Initial Price]])*Table1468[[#This Row],[Initial Price]])+Table1468[[#This Row],[Initial Price]]),((VLOOKUP(YEAR(TODAY()),'Inflation Data'!$A:$C,3,TRUE)-VLOOKUP(Table1468[[#This Row],[Year of Initial Price]],'Inflation Data'!$A:$C,3,TRUE))/(VLOOKUP(Table1468[[#This Row],[Year of Initial Price]],'Inflation Data'!$A:$C,3,TRUE))*Table1468[[#This Row],[Initial Price]])+Table1468[[#This Row],[Initial Price]]))))","v":""},{"$f":"IF($G219=YEAR(TODAY()),$E219,(IF($G219=0,\"\",IF(Table13[[#This Row],[Life Expectancy]]=0,H219, ((0.056*(Table1468[[#This Row],[Year of Failure]]-YEAR(TODAY()))*Table1468[[#This Row],[Current Predicted Cost (to purchase in 2024)]])+Table1468[[#This Row],[Current Predicted Cost (to purchase in 2024)]])))))","v":""},{"$f":"Table13[[#This Row],[Estimated Year of Failure]]","v":""}]
[{"$f":"Table13[[#This Row],[I.D. Number ]]","v":""},{"$f":"Table13[[#This Row],[Category]]","v":0},{"$f":"Table13[[#This Row],[Type]]","v":0},{"$f":"Table13[[#This Row],[Description]]","v":0},null,null,{"$f":"Table13[[#This Row],[Installation Year]]","v":0},{"$f":"IF($G220= YEAR(TODAY()),$E220,(IF($G220=0,\"\",IF(Table13[[#This Row],[Life Expectancy]]=0,((0.056*(YEAR(TODAY())-Table1468[[#This Row],[Year of Initial Price]])*Table1468[[#This Row],[Initial Price]])+Table1468[[#This Row],[Initial Price]]),((VLOOKUP(YEAR(TODAY()),'Inflation Data'!$A:$C,3,TRUE)-VLOOKUP(Table1468[[#This Row],[Year of Initial Price]],'Inflation Data'!$A:$C,3,TRUE))/(VLOOKUP(Table1468[[#This Row],[Year of Initial Price]],'Inflation Data'!$A:$C,3,TRUE))*Table1468[[#This Row],[Initial Price]])+Table1468[[#This Row],[Initial Price]]))))","v":""},{"$f":"IF($G220=YEAR(TODAY()),$E220,(IF($G220=0,\"\",IF(Table13[[#This Row],[Life Expectancy]]=0,H220, ((0.056*(Table1468[[#This Row],[Year of Failure]]-YEAR(TODAY()))*Table1468[[#This Row],[Current Predicted Cost (to purchase in 2024)]])+Table1468[[#This Row],[Current Predicted Cost (to purchase in 2024)]])))))","v":""},{"$f":"Table13[[#This Row],[Estimated Year of Failure]]","v":""}]
[{"$f":"Table13[[#This Row],[I.D. Number ]]","v":""},{"$f":"Table13[[#This Row],[Category]]","v":0},{"$f":"Table13[[#This Row],[Type]]","v":0},{"$f":"Table13[[#This Row],[Description]]","v":0},null,null,{"$f":"Table13[[#This Row],[Installation Year]]","v":0},{"$f":"IF($G221= YEAR(TODAY()),$E221,(IF($G221=0,\"\",IF(Table13[[#This Row],[Life Expectancy]]=0,((0.056*(YEAR(TODAY())-Table1468[[#This Row],[Year of Initial Price]])*Table1468[[#This Row],[Initial Price]])+Table1468[[#This Row],[Initial Price]]),((VLOOKUP(YEAR(TODAY()),'Inflation Data'!$A:$C,3,TRUE)-VLOOKUP(Table1468[[#This Row],[Year of Initial Price]],'Inflation Data'!$A:$C,3,TRUE))/(VLOOKUP(Table1468[[#This Row],[Year of Initial Price]],'Inflation Data'!$A:$C,3,TRUE))*Table1468[[#This Row],[Initial Price]])+Table1468[[#This Row],[Initial Price]]))))","v":""},{"$f":"IF($G221=YEAR(TODAY()),$E221,(IF($G221=0,\"\",IF(Table13[[#This Row],[Life Expectancy]]=0,H221, ((0.056*(Table1468[[#This Row],[Year of Failure]]-YEAR(TODAY()))*Table1468[[#This Row],[Current Predicted Cost (to purchase in 2024)]])+Table1468[[#This Row],[Current Predicted Cost (to purchase in 2024)]])))))","v":""},{"$f":"Table13[[#This Row],[Estimated Year of Failure]]","v":""}]
[{"$f":"Table13[[#This Row],[I.D. Number ]]","v":""},{"$f":"Table13[[#This Row],[Category]]","v":0},{"$f":"Table13[[#This Row],[Type]]","v":0},{"$f":"Table13[[#This Row],[Description]]","v":0},null,null,{"$f":"Table13[[#This Row],[Installation Year]]","v":0},{"$f":"IF($G222= YEAR(TODAY()),$E222,(IF($G222=0,\"\",IF(Table13[[#This Row],[Life Expectancy]]=0,((0.056*(YEAR(TODAY())-Table1468[[#This Row],[Year of Initial Price]])*Table1468[[#This Row],[Initial Price]])+Table1468[[#This Row],[Initial Price]]),((VLOOKUP(YEAR(TODAY()),'Inflation Data'!$A:$C,3,TRUE)-VLOOKUP(Table1468[[#This Row],[Year of Initial Price]],'Inflation Data'!$A:$C,3,TRUE))/(VLOOKUP(Table1468[[#This Row],[Year of Initial Price]],'Inflation Data'!$A:$C,3,TRUE))*Table1468[[#This Row],[Initial Price]])+Table1468[[#This Row],[Initial Price]]))))","v":""},{"$f":"IF($G222=YEAR(TODAY()),$E222,(IF($G222=0,\"\",IF(Table13[[#This Row],[Life Expectancy]]=0,H222, ((0.056*(Table1468[[#This Row],[Year of Failure]]-YEAR(TODAY()))*Table1468[[#This Row],[Current Predicted Cost (to purchase in 2024)]])+Table1468[[#This Row],[Current Predicted Cost (to purchase in 2024)]])))))","v":""},{"$f":"Table13[[#This Row],[Estimated Year of Failure]]","v":""}]
[{"$f":"Table13[[#This Row],[I.D. Number ]]","v":""},{"$f":"Table13[[#This Row],[Category]]","v":0},{"$f":"Table13[[#This Row],[Type]]","v":0},{"$f":"Table13[[#This Row],[Description]]","v":0},null,null,{"$f":"Table13[[#This Row],[Installation Year]]","v":0},{"$f":"IF($G223= YEAR(TODAY()),$E223,(IF($G223=0,\"\",IF(Table13[[#This Row],[Life Expectancy]]=0,((0.056*(YEAR(TODAY())-Table1468[[#This Row],[Year of Initial Price]])*Table1468[[#This Row],[Initial Price]])+Table1468[[#This Row],[Initial Price]]),((VLOOKUP(YEAR(TODAY()),'Inflation Data'!$A:$C,3,TRUE)-VLOOKUP(Table1468[[#This Row],[Year of Initial Price]],'Inflation Data'!$A:$C,3,TRUE))/(VLOOKUP(Table1468[[#This Row],[Year of Initial Price]],'Inflation Data'!$A:$C,3,TRUE))*Table1468[[#This Row],[Initial Price]])+Table1468[[#This Row],[Initial Price]]))))","v":""},{"$f":"IF($G223=YEAR(TODAY()),$E223,(IF($G223=0,\"\",IF(Table13[[#This Row],[Life Expectancy]]=0,H223, ((0.056*(Table1468[[#This Row],[Year of Failure]]-YEAR(TODAY()))*Table1468[[#This Row],[Current Predicted Cost (to purchase in 2024)]])+Table1468[[#This Row],[Current Predicted Cost (to purchase in 2024)]])))))","v":""},{"$f":"Table13[[#This Row],[Estimated Year of Failure]]","v":""}]
[{"$f":"Table13[[#This Row],[I.D. Number ]]","v":""},{"$f":"Table13[[#This Row],[Category]]","v":0},{"$f":"Table13[[#This Row],[Type]]","v":0},{"$f":"Table13[[#This Row],[Description]]","v":0},null,null,{"$f":"Table13[[#This Row],[Installation Year]]","v":0},{"$f":"IF($G224= YEAR(TODAY()),$E224,(IF($G224=0,\"\",IF(Table13[[#This Row],[Life Expectancy]]=0,((0.056*(YEAR(TODAY())-Table1468[[#This Row],[Year of Initial Price]])*Table1468[[#This Row],[Initial Price]])+Table1468[[#This Row],[Initial Price]]),((VLOOKUP(YEAR(TODAY()),'Inflation Data'!$A:$C,3,TRUE)-VLOOKUP(Table1468[[#This Row],[Year of Initial Price]],'Inflation Data'!$A:$C,3,TRUE))/(VLOOKUP(Table1468[[#This Row],[Year of Initial Price]],'Inflation Data'!$A:$C,3,TRUE))*Table1468[[#This Row],[Initial Price]])+Table1468[[#This Row],[Initial Price]]))))","v":""},{"$f":"IF($G224=YEAR(TODAY()),$E224,(IF($G224=0,\"\",IF(Table13[[#This Row],[Life Expectancy]]=0,H224, ((0.056*(Table1468[[#This Row],[Year of Failure]]-YEAR(TODAY()))*Table1468[[#This Row],[Current Predicted Cost (to purchase in 2024)]])+Table1468[[#This Row],[Current Predicted Cost (to purchase in 2024)]])))))","v":""},{"$f":"Table13[[#This Row],[Estimated Year of Failure]]","v":""}]
[{"$f":"Table13[[#This Row],[I.D. Number ]]","v":""},{"$f":"Table13[[#This Row],[Category]]","v":0},{"$f":"Table13[[#This Row],[Type]]","v":0},{"$f":"Table13[[#This Row],[Description]]","v":0},null,null,{"$f":"Table13[[#This Row],[Installation Year]]","v":0},{"$f":"IF($G225= YEAR(TODAY()),$E225,(IF($G225=0,\"\",IF(Table13[[#This Row],[Life Expectancy]]=0,((0.056*(YEAR(TODAY())-Table1468[[#This Row],[Year of Initial Price]])*Table1468[[#This Row],[Initial Price]])+Table1468[[#This Row],[Initial Price]]),((VLOOKUP(YEAR(TODAY()),'Inflation Data'!$A:$C,3,TRUE)-VLOOKUP(Table1468[[#This Row],[Year of Initial Price]],'Inflation Data'!$A:$C,3,TRUE))/(VLOOKUP(Table1468[[#This Row],[Year of Initial Price]],'Inflation Data'!$A:$C,3,TRUE))*Table1468[[#This Row],[Initial Price]])+Table1468[[#This Row],[Initial Price]]))))","v":""},{"$f":"IF($G225=YEAR(TODAY()),$E225,(IF($G225=0,\"\",IF(Table13[[#This Row],[Life Expectancy]]=0,H225, ((0.056*(Table1468[[#This Row],[Year of Failure]]-YEAR(TODAY()))*Table1468[[#This Row],[Current Predicted Cost (to purchase in 2024)]])+Table1468[[#This Row],[Current Predicted Cost (to purchase in 2024)]])))))","v":""},{"$f":"Table13[[#This Row],[Estimated Year of Failure]]","v":""}]
[{"$f":"Table13[[#This Row],[I.D. Number ]]","v":""},{"$f":"Table13[[#This Row],[Category]]","v":0},{"$f":"Table13[[#This Row],[Type]]","v":0},{"$f":"Table13[[#This Row],[Description]]","v":0},null,null,{"$f":"Table13[[#This Row],[Installation Year]]","v":0},{"$f":"IF($G226= YEAR(TODAY()),$E226,(IF($G226=0,\"\",IF(Table13[[#This Row],[Life Expectancy]]=0,((0.056*(YEAR(TODAY())-Table1468[[#This Row],[Year of Initial Price]])*Table1468[[#This Row],[Initial Price]])+Table1468[[#This Row],[Initial Price]]),((VLOOKUP(YEAR(TODAY()),'Inflation Data'!$A:$C,3,TRUE)-VLOOKUP(Table1468[[#This Row],[Year of Initial Price]],'Inflation Data'!$A:$C,3,TRUE))/(VLOOKUP(Table1468[[#This Row],[Year of Initial Price]],'Inflation Data'!$A:$C,3,TRUE))*Table1468[[#This Row],[Initial Price]])+Table1468[[#This Row],[Initial Price]]))))","v":""},{"$f":"IF($G226=YEAR(TODAY()),$E226,(IF($G226=0,\"\",IF(Table13[[#This Row],[Life Expectancy]]=0,H226, ((0.056*(Table1468[[#This Row],[Year of Failure]]-YEAR(TODAY()))*Table1468[[#This Row],[Current Predicted Cost (to purchase in 2024)]])+Table1468[[#This Row],[Current Predicted Cost (to purchase in 2024)]])))))","v":""},{"$f":"Table13[[#This Row],[Estimated Year of Failure]]","v":""}]
[{"$f":"Table13[[#This Row],[I.D. Number ]]","v":""},{"$f":"Table13[[#This Row],[Category]]","v":0},{"$f":"Table13[[#This Row],[Type]]","v":0},{"$f":"Table13[[#This Row],[Description]]","v":0},null,null,{"$f":"Table13[[#This Row],[Installation Year]]","v":0},{"$f":"IF($G227= YEAR(TODAY()),$E227,(IF($G227=0,\"\",IF(Table13[[#This Row],[Life Expectancy]]=0,((0.056*(YEAR(TODAY())-Table1468[[#This Row],[Year of Initial Price]])*Table1468[[#This Row],[Initial Price]])+Table1468[[#This Row],[Initial Price]]),((VLOOKUP(YEAR(TODAY()),'Inflation Data'!$A:$C,3,TRUE)-VLOOKUP(Table1468[[#This Row],[Year of Initial Price]],'Inflation Data'!$A:$C,3,TRUE))/(VLOOKUP(Table1468[[#This Row],[Year of Initial Price]],'Inflation Data'!$A:$C,3,TRUE))*Table1468[[#This Row],[Initial Price]])+Table1468[[#This Row],[Initial Price]]))))","v":""},{"$f":"IF($G227=YEAR(TODAY()),$E227,(IF($G227=0,\"\",IF(Table13[[#This Row],[Life Expectancy]]=0,H227, ((0.056*(Table1468[[#This Row],[Year of Failure]]-YEAR(TODAY()))*Table1468[[#This Row],[Current Predicted Cost (to purchase in 2024)]])+Table1468[[#This Row],[Current Predicted Cost (to purchase in 2024)]])))))","v":""},{"$f":"Table13[[#This Row],[Estimated Year of Failure]]","v":""}]
[{"$f":"Table13[[#This Row],[I.D. Number ]]","v":""},{"$f":"Table13[[#This Row],[Category]]","v":0},{"$f":"Table13[[#This Row],[Type]]","v":0},{"$f":"Table13[[#This Row],[Description]]","v":0},null,null,{"$f":"Table13[[#This Row],[Installation Year]]","v":0},{"$f":"IF($G228= YEAR(TODAY()),$E228,(IF($G228=0,\"\",IF(Table13[[#This Row],[Life Expectancy]]=0,((0.056*(YEAR(TODAY())-Table1468[[#This Row],[Year of Initial Price]])*Table1468[[#This Row],[Initial Price]])+Table1468[[#This Row],[Initial Price]]),((VLOOKUP(YEAR(TODAY()),'Inflation Data'!$A:$C,3,TRUE)-VLOOKUP(Table1468[[#This Row],[Year of Initial Price]],'Inflation Data'!$A:$C,3,TRUE))/(VLOOKUP(Table1468[[#This Row],[Year of Initial Price]],'Inflation Data'!$A:$C,3,TRUE))*Table1468[[#This Row],[Initial Price]])+Table1468[[#This Row],[Initial Price]]))))","v":""},{"$f":"IF($G228=YEAR(TODAY()),$E228,(IF($G228=0,\"\",IF(Table13[[#This Row],[Life Expectancy]]=0,H228, ((0.056*(Table1468[[#This Row],[Year of Failure]]-YEAR(TODAY()))*Table1468[[#This Row],[Current Predicted Cost (to purchase in 2024)]])+Table1468[[#This Row],[Current Predicted Cost (to purchase in 2024)]])))))","v":""},{"$f":"Table13[[#This Row],[Estimated Year of Failure]]","v":""}]
[{"$f":"Table13[[#This Row],[I.D. Number ]]","v":""},{"$f":"Table13[[#This Row],[Category]]","v":0},{"$f":"Table13[[#This Row],[Type]]","v":0},{"$f":"Table13[[#This Row],[Description]]","v":0},null,null,{"$f":"Table13[[#This Row],[Installation Year]]","v":0},{"$f":"IF($G229= YEAR(TODAY()),$E229,(IF($G229=0,\"\",IF(Table13[[#This Row],[Life Expectancy]]=0,((0.056*(YEAR(TODAY())-Table1468[[#This Row],[Year of Initial Price]])*Table1468[[#This Row],[Initial Price]])+Table1468[[#This Row],[Initial Price]]),((VLOOKUP(YEAR(TODAY()),'Inflation Data'!$A:$C,3,TRUE)-VLOOKUP(Table1468[[#This Row],[Year of Initial Price]],'Inflation Data'!$A:$C,3,TRUE))/(VLOOKUP(Table1468[[#This Row],[Year of Initial Price]],'Inflation Data'!$A:$C,3,TRUE))*Table1468[[#This Row],[Initial Price]])+Table1468[[#This Row],[Initial Price]]))))","v":""},{"$f":"IF($G229=YEAR(TODAY()),$E229,(IF($G229=0,\"\",IF(Table13[[#This Row],[Life Expectancy]]=0,H229, ((0.056*(Table1468[[#This Row],[Year of Failure]]-YEAR(TODAY()))*Table1468[[#This Row],[Current Predicted Cost (to purchase in 2024)]])+Table1468[[#This Row],[Current Predicted Cost (to purchase in 2024)]])))))","v":""},{"$f":"Table13[[#This Row],[Estimated Year of Failure]]","v":""}]
[{"$f":"Table13[[#This Row],[I.D. Number ]]","v":""},{"$f":"Table13[[#This Row],[Category]]","v":0},{"$f":"Table13[[#This Row],[Type]]","v":0},{"$f":"Table13[[#This Row],[Description]]","v":0},null,null,{"$f":"Table13[[#This Row],[Installation Year]]","v":0},{"$f":"IF($G230= YEAR(TODAY()),$E230,(IF($G230=0,\"\",IF(Table13[[#This Row],[Life Expectancy]]=0,((0.056*(YEAR(TODAY())-Table1468[[#This Row],[Year of Initial Price]])*Table1468[[#This Row],[Initial Price]])+Table1468[[#This Row],[Initial Price]]),((VLOOKUP(YEAR(TODAY()),'Inflation Data'!$A:$C,3,TRUE)-VLOOKUP(Table1468[[#This Row],[Year of Initial Price]],'Inflation Data'!$A:$C,3,TRUE))/(VLOOKUP(Table1468[[#This Row],[Year of Initial Price]],'Inflation Data'!$A:$C,3,TRUE))*Table1468[[#This Row],[Initial Price]])+Table1468[[#This Row],[Initial Price]]))))","v":""},{"$f":"IF($G230=YEAR(TODAY()),$E230,(IF($G230=0,\"\",IF(Table13[[#This Row],[Life Expectancy]]=0,H230, ((0.056*(Table1468[[#This Row],[Year of Failure]]-YEAR(TODAY()))*Table1468[[#This Row],[Current Predicted Cost (to purchase in 2024)]])+Table1468[[#This Row],[Current Predicted Cost (to purchase in 2024)]])))))","v":""},{"$f":"Table13[[#This Row],[Estimated Year of Failure]]","v":""}]
[{"$f":"Table13[[#This Row],[I.D. Number ]]","v":""},{"$f":"Table13[[#This Row],[Category]]","v":0},{"$f":"Table13[[#This Row],[Type]]","v":0},{"$f":"Table13[[#This Row],[Description]]","v":0},null,null,{"$f":"Table13[[#This Row],[Installation Year]]","v":0},{"$f":"IF($G231= YEAR(TODAY()),$E231,(IF($G231=0,\"\",IF(Table13[[#This Row],[Life Expectancy]]=0,((0.056*(YEAR(TODAY())-Table1468[[#This Row],[Year of Initial Price]])*Table1468[[#This Row],[Initial Price]])+Table1468[[#This Row],[Initial Price]]),((VLOOKUP(YEAR(TODAY()),'Inflation Data'!$A:$C,3,TRUE)-VLOOKUP(Table1468[[#This Row],[Year of Initial Price]],'Inflation Data'!$A:$C,3,TRUE))/(VLOOKUP(Table1468[[#This Row],[Year of Initial Price]],'Inflation Data'!$A:$C,3,TRUE))*Table1468[[#This Row],[Initial Price]])+Table1468[[#This Row],[Initial Price]]))))","v":""},{"$f":"IF($G231=YEAR(TODAY()),$E231,(IF($G231=0,\"\",IF(Table13[[#This Row],[Life Expectancy]]=0,H231, ((0.056*(Table1468[[#This Row],[Year of Failure]]-YEAR(TODAY()))*Table1468[[#This Row],[Current Predicted Cost (to purchase in 2024)]])+Table1468[[#This Row],[Current Predicted Cost (to purchase in 2024)]])))))","v":""},{"$f":"Table13[[#This Row],[Estimated Year of Failure]]","v":""}]
[{"$f":"Table13[[#This Row],[I.D. Number ]]","v":""},{"$f":"Table13[[#This Row],[Category]]","v":0},{"$f":"Table13[[#This Row],[Type]]","v":0},{"$f":"Table13[[#This Row],[Description]]","v":0},null,null,{"$f":"Table13[[#This Row],[Installation Year]]","v":0},{"$f":"IF($G232= YEAR(TODAY()),$E232,(IF($G232=0,\"\",IF(Table13[[#This Row],[Life Expectancy]]=0,((0.056*(YEAR(TODAY())-Table1468[[#This Row],[Year of Initial Price]])*Table1468[[#This Row],[Initial Price]])+Table1468[[#This Row],[Initial Price]]),((VLOOKUP(YEAR(TODAY()),'Inflation Data'!$A:$C,3,TRUE)-VLOOKUP(Table1468[[#This Row],[Year of Initial Price]],'Inflation Data'!$A:$C,3,TRUE))/(VLOOKUP(Table1468[[#This Row],[Year of Initial Price]],'Inflation Data'!$A:$C,3,TRUE))*Table1468[[#This Row],[Initial Price]])+Table1468[[#This Row],[Initial Price]]))))","v":""},{"$f":"IF($G232=YEAR(TODAY()),$E232,(IF($G232=0,\"\",IF(Table13[[#This Row],[Life Expectancy]]=0,H232, ((0.056*(Table1468[[#This Row],[Year of Failure]]-YEAR(TODAY()))*Table1468[[#This Row],[Current Predicted Cost (to purchase in 2024)]])+Table1468[[#This Row],[Current Predicted Cost (to purchase in 2024)]])))))","v":""},{"$f":"Table13[[#This Row],[Estimated Year of Failure]]","v":""}]
[{"$f":"Table13[[#This Row],[I.D. Number ]]","v":""},{"$f":"Table13[[#This Row],[Category]]","v":0},{"$f":"Table13[[#This Row],[Type]]","v":0},{"$f":"Table13[[#This Row],[Description]]","v":0},null,null,{"$f":"Table13[[#This Row],[Installation Year]]","v":0},{"$f":"IF($G233= YEAR(TODAY()),$E233,(IF($G233=0,\"\",IF(Table13[[#This Row],[Life Expectancy]]=0,((0.056*(YEAR(TODAY())-Table1468[[#This Row],[Year of Initial Price]])*Table1468[[#This Row],[Initial Price]])+Table1468[[#This Row],[Initial Price]]),((VLOOKUP(YEAR(TODAY()),'Inflation Data'!$A:$C,3,TRUE)-VLOOKUP(Table1468[[#This Row],[Year of Initial Price]],'Inflation Data'!$A:$C,3,TRUE))/(VLOOKUP(Table1468[[#This Row],[Year of Initial Price]],'Inflation Data'!$A:$C,3,TRUE))*Table1468[[#This Row],[Initial Price]])+Table1468[[#This Row],[Initial Price]]))))","v":""},{"$f":"IF($G233=YEAR(TODAY()),$E233,(IF($G233=0,\"\",IF(Table13[[#This Row],[Life Expectancy]]=0,H233, ((0.056*(Table1468[[#This Row],[Year of Failure]]-YEAR(TODAY()))*Table1468[[#This Row],[Current Predicted Cost (to purchase in 2024)]])+Table1468[[#This Row],[Current Predicted Cost (to purchase in 2024)]])))))","v":""},{"$f":"Table13[[#This Row],[Estimated Year of Failure]]","v":""}]
[{"$f":"Table13[[#This Row],[I.D. Number ]]","v":""},{"$f":"Table13[[#This Row],[Category]]","v":0},{"$f":"Table13[[#This Row],[Type]]","v":0},{"$f":"Table13[[#This Row],[Description]]","v":0},null,null,{"$f":"Table13[[#This Row],[Installation Year]]","v":0},{"$f":"IF($G234= YEAR(TODAY()),$E234,(IF($G234=0,\"\",IF(Table13[[#This Row],[Life Expectancy]]=0,((0.056*(YEAR(TODAY())-Table1468[[#This Row],[Year of Initial Price]])*Table1468[[#This Row],[Initial Price]])+Table1468[[#This Row],[Initial Price]]),((VLOOKUP(YEAR(TODAY()),'Inflation Data'!$A:$C,3,TRUE)-VLOOKUP(Table1468[[#This Row],[Year of Initial Price]],'Inflation Data'!$A:$C,3,TRUE))/(VLOOKUP(Table1468[[#This Row],[Year of Initial Price]],'Inflation Data'!$A:$C,3,TRUE))*Table1468[[#This Row],[Initial Price]])+Table1468[[#This Row],[Initial Price]]))))","v":""},{"$f":"IF($G234=YEAR(TODAY()),$E234,(IF($G234=0,\"\",IF(Table13[[#This Row],[Life Expectancy]]=0,H234, ((0.056*(Table1468[[#This Row],[Year of Failure]]-YEAR(TODAY()))*Table1468[[#This Row],[Current Predicted Cost (to purchase in 2024)]])+Table1468[[#This Row],[Current Predicted Cost (to purchase in 2024)]])))))","v":""},{"$f":"Table13[[#This Row],[Estimated Year of Failure]]","v":""}]
[{"$f":"Table13[[#This Row],[I.D. Number ]]","v":""},{"$f":"Table13[[#This Row],[Category]]","v":0},{"$f":"Table13[[#This Row],[Type]]","v":0},{"$f":"Table13[[#This Row],[Description]]","v":0},null,null,{"$f":"Table13[[#This Row],[Installation Year]]","v":0},{"$f":"IF($G235= YEAR(TODAY()),$E235,(IF($G235=0,\"\",IF(Table13[[#This Row],[Life Expectancy]]=0,((0.056*(YEAR(TODAY())-Table1468[[#This Row],[Year of Initial Price]])*Table1468[[#This Row],[Initial Price]])+Table1468[[#This Row],[Initial Price]]),((VLOOKUP(YEAR(TODAY()),'Inflation Data'!$A:$C,3,TRUE)-VLOOKUP(Table1468[[#This Row],[Year of Initial Price]],'Inflation Data'!$A:$C,3,TRUE))/(VLOOKUP(Table1468[[#This Row],[Year of Initial Price]],'Inflation Data'!$A:$C,3,TRUE))*Table1468[[#This Row],[Initial Price]])+Table1468[[#This Row],[Initial Price]]))))","v":""},{"$f":"IF($G235=YEAR(TODAY()),$E235,(IF($G235=0,\"\",IF(Table13[[#This Row],[Life Expectancy]]=0,H235, ((0.056*(Table1468[[#This Row],[Year of Failure]]-YEAR(TODAY()))*Table1468[[#This Row],[Current Predicted Cost (to purchase in 2024)]])+Table1468[[#This Row],[Current Predicted Cost (to purchase in 2024)]])))))","v":""},{"$f":"Table13[[#This Row],[Estimated Year of Failure]]","v":""}]
[{"$f":"Table13[[#This Row],[I.D. Number ]]","v":""},{"$f":"Table13[[#This Row],[Category]]","v":0},{"$f":"Table13[[#This Row],[Type]]","v":0},{"$f":"Table13[[#This Row],[Description]]","v":0},null,null,{"$f":"Table13[[#This Row],[Installation Year]]","v":0},{"$f":"IF($G236= YEAR(TODAY()),$E236,(IF($G236=0,\"\",IF(Table13[[#This Row],[Life Expectancy]]=0,((0.056*(YEAR(TODAY())-Table1468[[#This Row],[Year of Initial Price]])*Table1468[[#This Row],[Initial Price]])+Table1468[[#This Row],[Initial Price]]),((VLOOKUP(YEAR(TODAY()),'Inflation Data'!$A:$C,3,TRUE)-VLOOKUP(Table1468[[#This Row],[Year of Initial Price]],'Inflation Data'!$A:$C,3,TRUE))/(VLOOKUP(Table1468[[#This Row],[Year of Initial Price]],'Inflation Data'!$A:$C,3,TRUE))*Table1468[[#This Row],[Initial Price]])+Table1468[[#This Row],[Initial Price]]))))","v":""},{"$f":"IF($G236=YEAR(TODAY()),$E236,(IF($G236=0,\"\",IF(Table13[[#This Row],[Life Expectancy]]=0,H236, ((0.056*(Table1468[[#This Row],[Year of Failure]]-YEAR(TODAY()))*Table1468[[#This Row],[Current Predicted Cost (to purchase in 2024)]])+Table1468[[#This Row],[Current Predicted Cost (to purchase in 2024)]])))))","v":""},{"$f":"Table13[[#This Row],[Estimated Year of Failure]]","v":""}]
[{"$f":"Table13[[#This Row],[I.D. Number ]]","v":""},{"$f":"Table13[[#This Row],[Category]]","v":0},{"$f":"Table13[[#This Row],[Type]]","v":0},{"$f":"Table13[[#This Row],[Description]]","v":0},null,null,{"$f":"Table13[[#This Row],[Installation Year]]","v":0},{"$f":"IF($G237= YEAR(TODAY()),$E237,(IF($G237=0,\"\",IF(Table13[[#This Row],[Life Expectancy]]=0,((0.056*(YEAR(TODAY())-Table1468[[#This Row],[Year of Initial Price]])*Table1468[[#This Row],[Initial Price]])+Table1468[[#This Row],[Initial Price]]),((VLOOKUP(YEAR(TODAY()),'Inflation Data'!$A:$C,3,TRUE)-VLOOKUP(Table1468[[#This Row],[Year of Initial Price]],'Inflation Data'!$A:$C,3,TRUE))/(VLOOKUP(Table1468[[#This Row],[Year of Initial Price]],'Inflation Data'!$A:$C,3,TRUE))*Table1468[[#This Row],[Initial Price]])+Table1468[[#This Row],[Initial Price]]))))","v":""},{"$f":"IF($G237=YEAR(TODAY()),$E237,(IF($G237=0,\"\",IF(Table13[[#This Row],[Life Expectancy]]=0,H237, ((0.056*(Table1468[[#This Row],[Year of Failure]]-YEAR(TODAY()))*Table1468[[#This Row],[Current Predicted Cost (to purchase in 2024)]])+Table1468[[#This Row],[Current Predicted Cost (to purchase in 2024)]])))))","v":""},{"$f":"Table13[[#This Row],[Estimated Year of Failure]]","v":""}]
[{"$f":"Table13[[#This Row],[I.D. Number ]]","v":""},{"$f":"Table13[[#This Row],[Category]]","v":0},{"$f":"Table13[[#This Row],[Type]]","v":0},{"$f":"Table13[[#This Row],[Description]]","v":0},null,null,{"$f":"Table13[[#This Row],[Installation Year]]","v":0},{"$f":"IF($G238= YEAR(TODAY()),$E238,(IF($G238=0,\"\",IF(Table13[[#This Row],[Life Expectancy]]=0,((0.056*(YEAR(TODAY())-Table1468[[#This Row],[Year of Initial Price]])*Table1468[[#This Row],[Initial Price]])+Table1468[[#This Row],[Initial Price]]),((VLOOKUP(YEAR(TODAY()),'Inflation Data'!$A:$C,3,TRUE)-VLOOKUP(Table1468[[#This Row],[Year of Initial Price]],'Inflation Data'!$A:$C,3,TRUE))/(VLOOKUP(Table1468[[#This Row],[Year of Initial Price]],'Inflation Data'!$A:$C,3,TRUE))*Table1468[[#This Row],[Initial Price]])+Table1468[[#This Row],[Initial Price]]))))","v":""},{"$f":"IF($G238=YEAR(TODAY()),$E238,(IF($G238=0,\"\",IF(Table13[[#This Row],[Life Expectancy]]=0,H238, ((0.056*(Table1468[[#This Row],[Year of Failure]]-YEAR(TODAY()))*Table1468[[#This Row],[Current Predicted Cost (to purchase in 2024)]])+Table1468[[#This Row],[Current Predicted Cost (to purchase in 2024)]])))))","v":""},{"$f":"Table13[[#This Row],[Estimated Year of Failure]]","v":""}]
[{"$f":"Table13[[#This Row],[I.D. Number ]]","v":""},{"$f":"Table13[[#This Row],[Category]]","v":0},{"$f":"Table13[[#This Row],[Type]]","v":0},{"$f":"Table13[[#This Row],[Description]]","v":0},null,null,{"$f":"Table13[[#This Row],[Installation Year]]","v":0},{"$f":"IF($G239= YEAR(TODAY()),$E239,(IF($G239=0,\"\",IF(Table13[[#This Row],[Life Expectancy]]=0,((0.056*(YEAR(TODAY())-Table1468[[#This Row],[Year of Initial Price]])*Table1468[[#This Row],[Initial Price]])+Table1468[[#This Row],[Initial Price]]),((VLOOKUP(YEAR(TODAY()),'Inflation Data'!$A:$C,3,TRUE)-VLOOKUP(Table1468[[#This Row],[Year of Initial Price]],'Inflation Data'!$A:$C,3,TRUE))/(VLOOKUP(Table1468[[#This Row],[Year of Initial Price]],'Inflation Data'!$A:$C,3,TRUE))*Table1468[[#This Row],[Initial Price]])+Table1468[[#This Row],[Initial Price]]))))","v":""},{"$f":"IF($G239=YEAR(TODAY()),$E239,(IF($G239=0,\"\",IF(Table13[[#This Row],[Life Expectancy]]=0,H239, ((0.056*(Table1468[[#This Row],[Year of Failure]]-YEAR(TODAY()))*Table1468[[#This Row],[Current Predicted Cost (to purchase in 2024)]])+Table1468[[#This Row],[Current Predicted Cost (to purchase in 2024)]])))))","v":""},{"$f":"Table13[[#This Row],[Estimated Year of Failure]]","v":""}]
[{"$f":"Table13[[#This Row],[I.D. Number ]]","v":""},{"$f":"Table13[[#This Row],[Category]]","v":0},{"$f":"Table13[[#This Row],[Type]]","v":0},{"$f":"Table13[[#This Row],[Description]]","v":0},null,null,{"$f":"Table13[[#This Row],[Installation Year]]","v":0},{"$f":"IF($G240= YEAR(TODAY()),$E240,(IF($G240=0,\"\",IF(Table13[[#This Row],[Life Expectancy]]=0,((0.056*(YEAR(TODAY())-Table1468[[#This Row],[Year of Initial Price]])*Table1468[[#This Row],[Initial Price]])+Table1468[[#This Row],[Initial Price]]),((VLOOKUP(YEAR(TODAY()),'Inflation Data'!$A:$C,3,TRUE)-VLOOKUP(Table1468[[#This Row],[Year of Initial Price]],'Inflation Data'!$A:$C,3,TRUE))/(VLOOKUP(Table1468[[#This Row],[Year of Initial Price]],'Inflation Data'!$A:$C,3,TRUE))*Table1468[[#This Row],[Initial Price]])+Table1468[[#This Row],[Initial Price]]))))","v":""},{"$f":"IF($G240=YEAR(TODAY()),$E240,(IF($G240=0,\"\",IF(Table13[[#This Row],[Life Expectancy]]=0,H240, ((0.056*(Table1468[[#This Row],[Year of Failure]]-YEAR(TODAY()))*Table1468[[#This Row],[Current Predicted Cost (to purchase in 2024)]])+Table1468[[#This Row],[Current Predicted Cost (to purchase in 2024)]])))))","v":""},{"$f":"Table13[[#This Row],[Estimated Year of Failure]]","v":""}]
[{"$f":"Table13[[#This Row],[I.D. Number ]]","v":""},{"$f":"Table13[[#This Row],[Category]]","v":0},{"$f":"Table13[[#This Row],[Type]]","v":0},{"$f":"Table13[[#This Row],[Description]]","v":0},null,null,{"$f":"Table13[[#This Row],[Installation Year]]","v":0},{"$f":"IF($G241= YEAR(TODAY()),$E241,(IF($G241=0,\"\",IF(Table13[[#This Row],[Life Expectancy]]=0,((0.056*(YEAR(TODAY())-Table1468[[#This Row],[Year of Initial Price]])*Table1468[[#This Row],[Initial Price]])+Table1468[[#This Row],[Initial Price]]),((VLOOKUP(YEAR(TODAY()),'Inflation Data'!$A:$C,3,TRUE)-VLOOKUP(Table1468[[#This Row],[Year of Initial Price]],'Inflation Data'!$A:$C,3,TRUE))/(VLOOKUP(Table1468[[#This Row],[Year of Initial Price]],'Inflation Data'!$A:$C,3,TRUE))*Table1468[[#This Row],[Initial Price]])+Table1468[[#This Row],[Initial Price]]))))","v":""},{"$f":"IF($G241=YEAR(TODAY()),$E241,(IF($G241=0,\"\",IF(Table13[[#This Row],[Life Expectancy]]=0,H241, ((0.056*(Table1468[[#This Row],[Year of Failure]]-YEAR(TODAY()))*Table1468[[#This Row],[Current Predicted Cost (to purchase in 2024)]])+Table1468[[#This Row],[Current Predicted Cost (to purchase in 2024)]])))))","v":""},{"$f":"Table13[[#This Row],[Estimated Year of Failure]]","v":""}]
[{"$f":"Table13[[#This Row],[I.D. Number ]]","v":""},{"$f":"Table13[[#This Row],[Category]]","v":0},{"$f":"Table13[[#This Row],[Type]]","v":0},{"$f":"Table13[[#This Row],[Description]]","v":0},null,null,{"$f":"Table13[[#This Row],[Installation Year]]","v":0},{"$f":"IF($G242= YEAR(TODAY()),$E242,(IF($G242=0,\"\",IF(Table13[[#This Row],[Life Expectancy]]=0,((0.056*(YEAR(TODAY())-Table1468[[#This Row],[Year of Initial Price]])*Table1468[[#This Row],[Initial Price]])+Table1468[[#This Row],[Initial Price]]),((VLOOKUP(YEAR(TODAY()),'Inflation Data'!$A:$C,3,TRUE)-VLOOKUP(Table1468[[#This Row],[Year of Initial Price]],'Inflation Data'!$A:$C,3,TRUE))/(VLOOKUP(Table1468[[#This Row],[Year of Initial Price]],'Inflation Data'!$A:$C,3,TRUE))*Table1468[[#This Row],[Initial Price]])+Table1468[[#This Row],[Initial Price]]))))","v":""},{"$f":"IF($G242=YEAR(TODAY()),$E242,(IF($G242=0,\"\",IF(Table13[[#This Row],[Life Expectancy]]=0,H242, ((0.056*(Table1468[[#This Row],[Year of Failure]]-YEAR(TODAY()))*Table1468[[#This Row],[Current Predicted Cost (to purchase in 2024)]])+Table1468[[#This Row],[Current Predicted Cost (to purchase in 2024)]])))))","v":""},{"$f":"Table13[[#This Row],[Estimated Year of Failure]]","v":""}]
[{"$f":"Table13[[#This Row],[I.D. Number ]]","v":""},{"$f":"Table13[[#This Row],[Category]]","v":0},{"$f":"Table13[[#This Row],[Type]]","v":0},{"$f":"Table13[[#This Row],[Description]]","v":0},null,null,{"$f":"Table13[[#This Row],[Installation Year]]","v":0},{"$f":"IF($G243= YEAR(TODAY()),$E243,(IF($G243=0,\"\",IF(Table13[[#This Row],[Life Expectancy]]=0,((0.056*(YEAR(TODAY())-Table1468[[#This Row],[Year of Initial Price]])*Table1468[[#This Row],[Initial Price]])+Table1468[[#This Row],[Initial Price]]),((VLOOKUP(YEAR(TODAY()),'Inflation Data'!$A:$C,3,TRUE)-VLOOKUP(Table1468[[#This Row],[Year of Initial Price]],'Inflation Data'!$A:$C,3,TRUE))/(VLOOKUP(Table1468[[#This Row],[Year of Initial Price]],'Inflation Data'!$A:$C,3,TRUE))*Table1468[[#This Row],[Initial Price]])+Table1468[[#This Row],[Initial Price]]))))","v":""},{"$f":"IF($G243=YEAR(TODAY()),$E243,(IF($G243=0,\"\",IF(Table13[[#This Row],[Life Expectancy]]=0,H243, ((0.056*(Table1468[[#This Row],[Year of Failure]]-YEAR(TODAY()))*Table1468[[#This Row],[Current Predicted Cost (to purchase in 2024)]])+Table1468[[#This Row],[Current Predicted Cost (to purchase in 2024)]])))))","v":""},{"$f":"Table13[[#This Row],[Estimated Year of Failure]]","v":""}]
[{"$f":"Table13[[#This Row],[I.D. Number ]]","v":""},{"$f":"Table13[[#This Row],[Category]]","v":0},{"$f":"Table13[[#This Row],[Type]]","v":0},{"$f":"Table13[[#This Row],[Description]]","v":0},null,null,{"$f":"Table13[[#This Row],[Installation Year]]","v":0},{"$f":"IF($G244= YEAR(TODAY()),$E244,(IF($G244=0,\"\",IF(Table13[[#This Row],[Life Expectancy]]=0,((0.056*(YEAR(TODAY())-Table1468[[#This Row],[Year of Initial Price]])*Table1468[[#This Row],[Initial Price]])+Table1468[[#This Row],[Initial Price]]),((VLOOKUP(YEAR(TODAY()),'Inflation Data'!$A:$C,3,TRUE)-VLOOKUP(Table1468[[#This Row],[Year of Initial Price]],'Inflation Data'!$A:$C,3,TRUE))/(VLOOKUP(Table1468[[#This Row],[Year of Initial Price]],'Inflation Data'!$A:$C,3,TRUE))*Table1468[[#This Row],[Initial Price]])+Table1468[[#This Row],[Initial Price]]))))","v":""},{"$f":"IF($G244=YEAR(TODAY()),$E244,(IF($G244=0,\"\",IF(Table13[[#This Row],[Life Expectancy]]=0,H244, ((0.056*(Table1468[[#This Row],[Year of Failure]]-YEAR(TODAY()))*Table1468[[#This Row],[Current Predicted Cost (to purchase in 2024)]])+Table1468[[#This Row],[Current Predicted Cost (to purchase in 2024)]])))))","v":""},{"$f":"Table13[[#This Row],[Estimated Year of Failure]]","v":""}]
[{"$f":"Table13[[#This Row],[I.D. Number ]]","v":""},{"$f":"Table13[[#This Row],[Category]]","v":0},{"$f":"Table13[[#This Row],[Type]]","v":0},{"$f":"Table13[[#This Row],[Description]]","v":0},null,null,{"$f":"Table13[[#This Row],[Installation Year]]","v":0},{"$f":"IF($G245= YEAR(TODAY()),$E245,(IF($G245=0,\"\",IF(Table13[[#This Row],[Life Expectancy]]=0,((0.056*(YEAR(TODAY())-Table1468[[#This Row],[Year of Initial Price]])*Table1468[[#This Row],[Initial Price]])+Table1468[[#This Row],[Initial Price]]),((VLOOKUP(YEAR(TODAY()),'Inflation Data'!$A:$C,3,TRUE)-VLOOKUP(Table1468[[#This Row],[Year of Initial Price]],'Inflation Data'!$A:$C,3,TRUE))/(VLOOKUP(Table1468[[#This Row],[Year of Initial Price]],'Inflation Data'!$A:$C,3,TRUE))*Table1468[[#This Row],[Initial Price]])+Table1468[[#This Row],[Initial Price]]))))","v":""},{"$f":"IF($G245=YEAR(TODAY()),$E245,(IF($G245=0,\"\",IF(Table13[[#This Row],[Life Expectancy]]=0,H245, ((0.056*(Table1468[[#This Row],[Year of Failure]]-YEAR(TODAY()))*Table1468[[#This Row],[Current Predicted Cost (to purchase in 2024)]])+Table1468[[#This Row],[Current Predicted Cost (to purchase in 2024)]])))))","v":""},{"$f":"Table13[[#This Row],[Estimated Year of Failure]]","v":""}]

{"sheet":"Consequence of Failure","index":5,"n_rows":246,"n_cols":17,"rows_kept":246,"cut":false,"hidden":false,"merged":[[3,16,3,30],[4,16,4,18],[4,19,4,21],[4,22,4,23],[4,24,4,25],[4,26,4,30],[3,15,4,15],[3,5,3,9],[3,10,3,14],[3,0,4,0],[3,1,4,1],[3,2,4,2],[3,4,4,4]]}
[]
[]
[]
["I.D. Number ","Category ","Type",null,"Life Expectancy ","Consequence of Failure ",null,null,null,null,"Probability of Failure",null,null,null,null,"Criticality Score"]
[null,null,null,"Description",null,"Back-Ups - Does your asset have redundancy or do you have a back-up on hand, or could you easily acquire one?","Importance - How many customers could lose service if the asset fails?","Compliance - Could asset failure lead to a regulatory violation?","Public Health and Environmental Concerns - Could asset failure lead to public health or environmental concerns?","CoF Score","Useful Life - Is the asset in the last 1/3 of its remaining useful life?","Capacity - Are you operating the asset above, at, or below intended capacity?","Reliability - Does the Asset need frequent repairs in addition to routine maintenance? ","Repair Schedule - Has the rate of repairs increased within the last 0-2 years?","PoF Score"]
[{"$f":"Table13[[#This Row],[I.D. Number ]]","v":"TaEl-1994-1"},{"$f":"Table13[[#This Row],[Category]]","v":"Tank"},{"$f":"Table13[[#This Row],[Type]]","v":"Elevated Storage Tank"},{"$f":"Table13[[#This Row],[Description]]","v":"Tank"},{"$f":"Table13[[#This Row],[Life Expectancy]]","v":0},"Yes","0%-25%","No","No",{"$f":"IF(Table142[[#This Row],[Column12]]=\"\",\"\",IF('Life Expectancy and Criticality'!AH3=0,\"0.5\",'Life Expectancy and Criticality'!AH3))","v":0.5},{"$f":"IF(Table142[[#This Row],[I.D. Number ]]=\"\",\"\",IF(Table142[[#This Row],[Life Expectency]]=\"0\",\"Yes\",IF((Table1468[[#This Row],[Year of Failure]]-YEAR(TODAY()))<('Life Expectancy and Criticality'!$V3*(1/3)),\"Yes\",\"No\")))","v":"Yes"},"At","No","No",{"$f":"IF(Table142[[#This Row],[Column2]]=0,\"\",IF('Life Expectancy and Criticality'!AQ3=0,\"0.5\",'Life Expectancy and Criticality'!AQ3))","v":2},{"$f":"IF(J6=\"\",0,IF(O6=\"\",\"\",J6*O6))","v":1},{"$f":"IF('Data Collection Sheet'!$N6,\"The YEAR OF FAILURE and PROJECTED COST were calculated using an estimated installation date.\",\"\")&IF('Cost Data'!$M6,\"The PROJECTED COST was calculated using an estimated intial price.\",\"\")","v":""}]
[{"$f":"Table13[[#This Row],[I.D. Number ]]","v":"TaEl-1994-2"},{"$f":"Table13[[#This Row],[Category]]","v":"Tank"},{"$f":"Table13[[#This Row],[Type]]","v":"Elevated Storage Tank"},{"$f":"Table13[[#This Row],[Description]]","v":"Tank"},{"$f":"Table13[[#This Row],[Life Expectancy]]","v":0},"Yes","0%-25%","No","No",{"$f":"IF(Table142[[#This Row],[Column12]]=\"\",\"\",IF('Life Expectancy and Criticality'!AH4=0,\"0.5\",'Life Expectancy and Criticality'!AH4))","v":0.5},{"$f":"IF(Table142[[#This Row],[I.D. Number ]]=\"\",\"\",IF(Table142[[#This Row],[Life Expectency]]=\"0\",\"Yes\",IF((Table1468[[#This Row],[Year of Failure]]-YEAR(TODAY()))<('Life Expectancy and Criticality'!$V4*(1/3)),\"Yes\",\"No\")))","v":"Yes"},"At","No","No",{"$f":"IF(Table142[[#This Row],[Column2]]=0,\"\",IF('Life Expectancy and Criticality'!AQ4=0,\"0.5\",'Life Expectancy and Criticality'!AQ4))","v":2},1,{"$f":"IF('Data Collection Sheet'!$N7,\"The YEAR OF FAILURE and PROJECTED COST were calculated using an estimated installation date.\",\"\")&IF('Cost Data'!$M7,\"The PROJECTED COST was calculated using an estimated intial price.\",\"\")","v":""}]
[{"$f":"Table13[[#This Row],[I.D. Number ]]","v":"PiPV-1970-1"},{"$f":"Table13[[#This Row],[Category]]","v":"Pipe"},{"$f":"Table13[[#This Row],[Type]]","v":"PVC"},{"$f":"Table13[[#This Row],[Description]]","v":"68662 linear feet"},{"$f":"Table13[[#This Row],[Life Expectancy]]","v":0},"No","0%-25%","Yes","Yes",{"$f":"IF(Table142[[#This Row],[Column12]]=\"\",\"\",IF('Life Expectancy and Criticality'!AH5=0,\"0.5\",'Life Expectancy and Criticality'!AH5))","v":3.5},{"$f":"IF(Table142[[#This Row],[I.D. Number ]]=\"\",\"\",IF(Table142[[#This Row],[Life Expectency]]=\"0\",\"Yes\",IF((Table1468[[#This Row],[Year of Failure]]-YEAR(TODAY()))<('Life Expectancy and Criticality'!$V5*(1/3)),\"Yes\",\"No\")))","v":"Yes"},"Below","Yes","Yes",{"$f":"IF(Table142[[#This Row],[Column2]]=0,\"\",IF('Life Expectancy and Criticality'!AQ5=0,\"0.5\",'Life Expectancy and Criticality'!AQ5))","v":3},10.5,{"$f":"IF('Data Collection Sheet'!$N8,\"The YEAR OF FAILURE and PROJECTED COST were calculated using an estimated installation date.\",\"\")&IF('Cost Data'!$M8,\"The PROJECTED COST was calculated using an estimated intial price.\",\"\")","v":"The PROJECTED COST was calculated using an estimated intial price."}]
[{"$f":"Table13[[#This Row],[I.D. Number ]]","v":"PiPV-1970-2"},{"$f":"Table13[[#This Row],[Category]]","v":"Pipe"},{"$f":"Table13[[#This Row],[Type]]","v":"PVC"},{"$f":"Table13[[#This Row],[Description]]","v":"39651 linear feet"},{"$f":"Table13[[#This Row],[Life Expectancy]]","v":0},"No","26%-50%","Yes","Yes",{"$f":"IF(Table142[[#This Row],[Column12]]=\"\",\"\",IF('Life Expectancy and Criticality'!AH6=0,\"0.5\",'Life Expectancy and Criticality'!AH6))","v":4},{"$f":"IF(Table142[[#This Row],[I.D. Number ]]=\"\",\"\",IF(Table142[[#This Row],[Life Expectency]]=\"0\",\"Yes\",IF((Table1468[[#This Row],[Year of Failure]]-YEAR(TODAY()))<('Life Expectancy and Criticality'!$V6*(1/3)),\"Yes\",\"No\")))","v":"Yes"},"Below","Yes","Yes",{"$f":"IF(Table142[[#This Row],[Column2]]=0,\"\",IF('Life Expectancy and Criticality'!AQ6=0,\"0.5\",'Life Expectancy and Criticality'!AQ6))","v":3},12,{"$f":"IF('Data Collection Sheet'!$N9,\"The YEAR OF FAILURE and PROJECTED COST were calculated using an estimated installation date.\",\"\")&IF('Cost Data'!$M9,\"The PROJECTED COST was calculated using an estimated intial price.\",\"\")","v":"The PROJECTED COST was calculated using an estimated intial price."}]
[{"$f":"Table13[[#This Row],[I.D. Number ]]","v":"PiPV-2011-1"},{"$f":"Table13[[#This Row],[Category]]","v":"Pipe"},{"$f":"Table13[[#This Row],[Type]]","v":"PVC"},{"$f":"Table13[[#This Row],[Description]]","v":"36,960 linear feet"},{"$f":"Table13[[#This Row],[Life Expectancy]]","v":27},"No","0%-25%","Yes","Yes",{"$f":"IF(Table142[[#This Row],[Column12]]=\"\",\"\",IF('Life Expectancy and Criticality'!AH7=0,\"0.5\",'Life Expectancy and Criticality'!AH7))","v":3.5},{"$f":"IF(Table142[[#This Row],[I.D. Number ]]=\"\",\"\",IF(Table142[[#This Row],[Life Expectency]]=\"0\",\"Yes\",IF((Table1468[[#This Row],[Year of Failure]]-YEAR(TODAY()))<('Life Expectancy and Criticality'!$V7*(1/3)),\"Yes\",\"No\")))","v":"No"},"Below","No","No",{"$f":"IF(Table142[[#This Row],[Column2]]=0,\"\",IF('Life Expectancy and Criticality'!AQ7=0,\"0.5\",'Life Expectancy and Criticality'!AQ7))","v":"0.5"},1.75,{"$f":"IF('Data Collection Sheet'!$N10,\"The YEAR OF FAILURE and PROJECTED COST were calculated using an estimated installation date.\",\"\")&IF('Cost Data'!$M10,\"The PROJECTED COST was calculated using an estimated intial price.\",\"\")","v":"The PROJECTED COST was calculated using an estimated intial price."}]
[{"$f":"Table13[[#This Row],[I.D. Number ]]","v":"PiPV-1970-3"},{"$f":"Table13[[#This Row],[Category]]","v":"Pipe"},{"$f":"Table13[[#This Row],[Type]]","v":"PVC"},{"$f":"Table13[[#This Row],[Description]]","v":"24,923 linear feet"},{"$f":"Table13[[#This Row],[Life Expectancy]]","v":0},"No","0%-25%","Yes","Yes",{"$f":"IF(Table142[[#This Row],[Column12]]=\"\",\"\",IF('Life Expectancy and Criticality'!AH8=0,\"0.5\",'Life Expectancy and Criticality'!AH8))","v":3.5},{"$f":"IF(Table142[[#This Row],[I.D. Number ]]=\"\",\"\",IF(Table142[[#This Row],[Life Expectency]]=\"0\",\"Yes\",IF((Table1468[[#This Row],[Year of Failure]]-YEAR(TODAY()))<('Life Expectancy and Criticality'!$V8*(1/3)),\"Yes\",\"No\")))","v":"Yes"},"Below","Yes","Yes",{"$f":"IF(Table142[[#This Row],[Column2]]=0,\"\",IF('Life Expectancy and Criticality'!AQ8=0,\"0.5\",'Life Expectancy and Criticality'!AQ8))","v":3},10.5,{"$f":"IF('Data Collection Sheet'!$N11,\"The YEAR OF FAILURE and PROJECTED COST were calculated using an estimated installation date.\",\"\")&IF('Cost Data'!$M11,\"The PROJECTED COST was calculated using an estimated intial price.\",\"\")","v":"The PROJECTED COST was calculated using an estimated intial price."}]
[{"$f":"Table13[[#This Row],[I.D. Number ]]","v":"PiPV-1970-4"},{"$f":"Table13[[#This Row],[Category]]","v":"Pipe"},{"$f":"Table13[[#This Row],[Type]]","v":"PVC"},{"$f":"Table13[[#This Row],[Description]]","v":"2,292 linear feet"},{"$f":"Table13[[#This Row],[Life Expectancy]]","v":0},"No","0%-25%","Yes","Yes",{"$f":"IF(Table142[[#This Row],[Column12]]=\"\",\"\",IF('Life Expectancy and Criticality'!AH9=0,\"0.5\",'Life Expectancy and Criticality'!AH9))","v":3.5},{"$f":"IF(Table142[[#This Row],[I.D. Number ]]=\"\",\"\",IF(Table142[[#This Row],[Life Expectency]]=\"0\",\"Yes\",IF((Table1468[[#This Row],[Year of Failure]]-YEAR(TODAY()))<('Life Expectancy and Criticality'!$V9*(1/3)),\"Yes\",\"No\")))","v":"Yes"},"At","Yes","Yes",{"$f":"IF(Table142[[#This Row],[Column2]]=0,\"\",IF('Life Expectancy and Criticality'!AQ9=0,\"0.5\",'Life Expectancy and Criticality'!AQ9))","v":4},14,{"$f":"IF('Data Collection Sheet'!$N12,\"The YEAR OF FAILURE and PROJECTED COST were calculated using an estimated installation date.\",\"\")&IF('Cost Data'!$M12,\"The PROJECTED COST was calculated using an estimated intial price.\",\"\")","v":"The PROJECTED COST was calculated using an estimated intial price."}]
[{"$f":"Table13[[#This Row],[I.D. Number ]]","v":"PiPV-1994-1"},{"$f":"Table13[[#This Row],[Category]]","v":"Pipe"},{"$f":"Table13[[#This Row],[Type]]","v":"PVC"},{"$f":"Table13[[#This Row],[Description]]","v":"31500 linrar feet"},{"$f":"Table13[[#This Row],[Life Expectancy]]","v":10},"No","0%-25%","Yes","Yes",{"$f":"IF(Table142[[#This Row],[Column12]]=\"\",\"\",IF('Life Expectancy and Criticality'!AH10=0,\"0.5\",'Life Expectancy and Criticality'!AH10))","v":3.5},{"$f":"IF(Table142[[#This Row],[I.D. Number ]]=\"\",\"\",IF(Table142[[#This Row],[Life Expectency]]=\"0\",\"Yes\",IF((Table1468[[#This Row],[Year of Failure]]-YEAR(TODAY()))<('Life Expectancy and Criticality'!$V10*(1/3)),\"Yes\",\"No\")))","v":"Yes"},"At","Yes","Yes",{"$f":"IF(Table142[[#This Row],[Column2]]=0,\"\",IF('Life Expectancy and Criticality'!AQ10=0,\"0.5\",'Life Expectancy and Criticality'!AQ10))","v":4},14,{"$f":"IF('Data Collection Sheet'!$N13,\"The YEAR OF FAILURE and PROJECTED COST were calculated using an estimated installation date.\",\"\")&IF('Cost Data'!$M13,\"The PROJECTED COST was calculated using an estimated intial price.\",\"\")","v":"The PROJECTED COST was calculated using an estimated intial price."}]
[{"$f":"Table13[[#This Row],[I.D. Number ]]","v":"PiPV-1994-2"},{"$f":"Table13[[#This Row],[Category]]","v":"Pipe"},{"$f":"Table13[[#This Row],[Type]]","v":"PVC"},{"$f":"Table13[[#This Row],[Description]]","v":"74550 linear feet"},{"$f":"Table13[[#This Row],[Life Expectancy]]","v":10},"No","0%-25%","Yes","Yes",{"$f":"IF(Table142[[#This Row],[Column12]]=\"\",\"\",IF('Life Expectancy and Criticality'!AH11=0,\"0.5\",'Life Expectancy and Criticality'!AH11))","v":3.5},{"$f":"IF(Table142[[#This Row],[I.D. Number ]]=\"\",\"\",IF(Table142[[#This Row],[Life Expectency]]=\"0\",\"Yes\",IF((Table1468[[#This Row],[Year of Failure]]-YEAR(TODAY()))<('Life Expectancy and Criticality'!$V11*(1/3)),\"Yes\",\"No\")))","v":"Yes"},"At","Yes","Yes",{"$f":"IF(Table142[[#This Row],[Column2]]=0,\"\",IF('Life Expectancy and Criticality'!AQ11=0,\"0.5\",'Life Expectancy and Criticality'!AQ11))","v":4},14,{"$f":"IF('Data Collection Sheet'!$N14,\"The YEAR OF FAILURE and PROJECTED COST were calculated using an estimated installation date.\",\"\")&IF('Cost Data'!$M14,\"The PROJECTED COST was calculated using an estimated intial price.\",\"\")","v":"The PROJECTED COST was calculated using an estimated intial price."}]
[{"$f":"Table13[[#This Row],[I.D. Number ]]","v":"PiPV-1994-3"},{"$f":"Table13[[#This Row],[Category]]","v":"Pipe"},{"$f":"Table13[[#This Row],[Type]]","v":"PVC"},{"$f":"Table13[[#This Row],[Description]]","v":"29,399 linear feet"},{"$f":"Table13[[#This Row],[Life Expectancy]]","v":10},"No","0%-25%","Yes","Yes",{"$f":"IF(Table142[[#This Row],[Column12]]=\"\",\"\",IF('Life Expectancy and Criticality'!AH12=0,\"0.5\",'Life Expectancy and Criticality'!AH12))","v":3.5},{"$f":"IF(Table142[[#This Row],[I.D. Number ]]=\"\",\"\",IF(Table142[[#This Row],[Life Expectency]]=\"0\",\"Yes\",IF((Table1468[[#This Row],[Year of Failure]]-YEAR(TODAY()))<('Life Expectancy and Criticality'!$V12*(1/3)),\"Yes\",\"No\")))","v":"Yes"},"Below","Yes","Yes",{"$f":"IF(Table142[[#This Row],[Column2]]=0,\"\",IF('Life Expectancy and Criticality'!AQ12=0,\"0.5\",'Life Expectancy and Criticality'!AQ12))","v":3},10.5,{"$f":"IF('Data Collection Sheet'!$N15,\"The YEAR OF FAILURE and PROJECTED COST were calculated using an estimated installation date.\",\"\")&IF('Cost Data'!$M15,\"The PROJECTED COST was calculated using an estimated intial price.\",\"\")","v":"The PROJECTED COST was calculated using an estimated intial price."}]
[{"$f":"Table13[[#This Row],[I.D. Number ]]","v":"PiPV-1994-4"},{"$f":"Table13[[#This Row],[Category]]","v":"Pipe"},{"$f":"Table13[[#This Row],[Type]]","v":"PVC"},{"$f":"Table13[[#This Row],[Description]]","v":"5,713 linear feet"},{"$f":"Table13[[#This Row],[Life Expectancy]]","v":10},"No","0%-25%","Yes","Yes",{"$f":"IF(Table142[[#This Row],[Column12]]=\"\",\"\",IF('Life Expectancy and Criticality'!AH13=0,\"0.5\",'Life Expectancy and Criticality'!AH13))","v":3.5},{"$f":"IF(Table142[[#This Row],[I.D. Number ]]=\"\",\"\",IF(Table142[[#This Row],[Life Expectency]]=\"0\",\"Yes\",IF((Table1468[[#This Row],[Year of Failure]]-YEAR(TODAY()))<('Life Expectancy and Criticality'!$V13*(1/3)),\"Yes\",\"No\")))","v":"Yes"},"Below","Yes","Yes",{"$f":"IF(Table142[[#This Row],[Column2]]=0,\"\",IF('Life Expectancy and Criticality'!AQ13=0,\"0.5\",'Life Expectancy and Criticality'!AQ13))","v":3},10.5,{"$f":"IF('Data Collection Sheet'!$N16,\"The YEAR OF FAILURE and PROJECTED COST were calculated using an estimated installation date.\",\"\")&IF('Cost Data'!$M16,\"The PROJECTED COST was calculated using an estimated intial price.\",\"\")","v":"The PROJECTED COST was calculated using an estimated intial price."}]
[{"$f":"Table13[[#This Row],[I.D. Number ]]","v":"PiPV-1994-5"},{"$f":"Table13[[#This Row],[Category]]","v":"Pipe"},{"$f":"Table13[[#This Row],[Type]]","v":"PVC"},{"$f":"Table13[[#This Row],[Description]]","v":"40,940 linear feet"},{"$f":"Table13[[#This Row],[Life Expectancy]]","v":10},"No","0%-25%","Yes","Yes",{"$f":"IF(Table142[[#This Row],[Column12]]=\"\",\"\",IF('Life Expectancy and Criticality'!AH14=0,\"0.5\",'Life Expectancy and Criticality'!AH14))","v":3.5},{"$f":"IF(Table142[[#This Row],[I.D. Number ]]=\"\",\"\",IF(Table142[[#This Row],[Life Expectency]]=\"0\",\"Yes\",IF((Table1468[[#This Row],[Year of Failure]]-YEAR(TODAY()))<('Life Expectancy and Criticality'!$V14*(1/3)),\"Yes\",\"No\")))","v":"Yes"},"At","Yes","Yes",{"$f":"IF(Table142[[#This Row],[Column2]]=0,\"\",IF('Life Expectancy and Criticality'!AQ14=0,\"0.5\",'Life Expectancy and Criticality'!AQ14))","v":4},14,{"$f":"IF('Data Collection Sheet'!$N17,\"The YEAR OF FAILURE and PROJECTED COST were calculated using an estimated installation date.\",\"\")&IF('Cost Data'!$M17,\"The PROJECTED COST was calculated using an estimated intial price.\",\"\")","v":"The PROJECTED COST was calculated using an estimated intial price."}]
[{"$f":"Table13[[#This Row],[I.D. Number ]]","v":"HyFi-1994-1"},{"$f":"Table13[[#This Row],[Category]]","v":"Hydrant"},{"$f":"Table13[[#This Row],[Type]]","v":"Fire "},{"$f":"Table13[[#This Row],[Description]]","v":"24 each"},{"$f":"Table13[[#This Row],[Life Expectancy]]","v":10},"Yes","0%-25%","No","No",{"$f":"IF(Table142[[#This Row],[Column12]]=\"\",\"\",IF('Life Expectancy and Criticality'!AH15=0,\"0.5\",'Life Expectancy and Criticality'!AH15))","v":0.5},{"$f":"IF(Table142[[#This Row],[I.D. Number ]]=\"\",\"\",IF(Table142[[#This Row],[Life Expectency]]=\"0\",\"Yes\",IF((Table1468[[#This Row],[Year of Failure]]-YEAR(TODAY()))<('Life Expectancy and Criticality'!$V15*(1/3)),\"Yes\",\"No\")))","v":"Yes"},"At","Yes","No",{"$f":"IF(Table142[[#This Row],[Column2]]=0,\"\",IF('Life Expectancy and Criticality'!AQ15=0,\"0.5\",'Life Expectancy and Criticality'!AQ15))","v":3},1.5,{"$f":"IF('Data Collection Sheet'!$N18,\"The YEAR OF FAILURE and PROJECTED COST were calculated using an estimated installation date.\",\"\")&IF('Cost Data'!$M18,\"The PROJECTED COST was calculated using an estimated intial price.\",\"\")","v":"The YEAR OF FAILURE and PROJECTED COST were calculated using an estimated installation date.The PROJECTED COST was calculated using an estimated intial price."}]
[{"$f":"Table13[[#This Row],[I.D. Number ]]","v":"SoWe-2021-1"},{"$f":"Table13[[#This Row],[Category]]","v":"Source"},{"$f":"Table13[[#This Row],[Type]]","v":"Well"},{"$f":"Table13[[#This Row],[Description]]","v":"Well 1"},{"$f":"Table13[[#This Row],[Life Expectancy]]","v":47},"Yes","0%-25%","Yes","No",{"$f":"IF(Table142[[#This Row],[Column12]]=\"\",\"\",IF('Life Expectancy and Criticality'!AH16=0,\"0.5\",'Life Expectancy and Criticality'!AH16))","v":1.5},{"$f":"IF(Table142[[#This Row],[I.D. Number ]]=\"\",\"\",IF(Table142[[#This Row],[Life Expectency]]=\"0\",\"Yes\",IF((Table1468[[#This Row],[Year of Failure]]-YEAR(TODAY()))<('Life Expectancy and Criticality'!$V16*(1/3)),\"Yes\",\"No\")))","v":"No"},"Below","No","No",{"$f":"IF(Table142[[#This Row],[Column2]]=0,\"\",IF('Life Expectancy and Criticality'!AQ16=0,\"0.5\",'Life Expectancy and Criticality'!AQ16))","v":"0.5"},0.75,{"$f":"IF('Data Collection Sheet'!$N19,\"The YEAR OF FAILURE and PROJECTED COST were calculated using an estimated installation date.\",\"\")&IF('Cost Data'!$M19,\"The PROJECTED COST was calculated using an estimated intial price.\",\"\")","v":""}]
[{"$f":"Table13[[#This Row],[I.D. Number ]]","v":"SoWe-2021-2"},{"$f":"Table13[[#This Row],[Category]]","v":"Source"},{"$f":"Table13[[#This Row],[Type]]","v":"Well"},{"$f":"Table13[[#This Row],[Description]]","v":"Well 2"},{"$f":"Table13[[#This Row],[Life Expectancy]]","v":47},"Yes","0%-25%","Yes","No",{"$f":"IF(Table142[[#This Row],[Column12]]=\"\",\"\",IF('Life Expectancy and Criticality'!AH17=0,\"0.5\",'Life Expectancy and Criticality'!AH17))","v":1.5},{"$f":"IF(Table142[[#This Row],[I.D. Number ]]=\"\",\"\",IF(Table142[[#This Row],[Life Expectency]]=\"0\",\"Yes\",IF((Table1468[[#This Row],[Year of Failure]]-YEAR(TODAY()))<('Life Expectancy and Criticality'!$V17*(1/3)),\"Yes\",\"No\")))","v":"No"},"At","No","No",{"$f":"IF(Table142[[#This Row],[Column2]]=0,\"\",IF('Life Expectancy and Criticality'!AQ17=0,\"0.5\",'Life Expectancy and Criticality'!AQ17))","v":1},1.5,{"$f":"IF('Data Collection Sheet'!$N20,\"The YEAR OF FAILURE and PROJECTED COST were calculated using an estimated installation date.\",\"\")&IF('Cost Data'!$M20,\"The PROJECTED COST was calculated using an estimated intial price.\",\"\")","v":""}]
[{"$f":"Table13[[#This Row],[I.D. Number ]]","v":"PuTr-2021-1"},{"$f":"Table13[[#This Row],[Category]]","v":"Pump"},{"$f":"Table13[[#This Row],[Type]]","v":"Transfer "},{"$f":"Table13[[#This Row],[Description]]","v":"Well 1 Pump"},{"$f":"Table13[[#This Row],[Life Expectancy]]","v":12},"Yes","0%-25%","Yes","No",{"$f":"IF(Table142[[#This Row],[Column12]]=\"\",\"\",IF('Life Expectancy and Criticality'!AH18=0,\"0.5\",'Life Expectancy and Criticality'!AH18))","v":1.5},{"$f":"IF(Table142[[#This Row],[I.D. Number ]]=\"\",\"\",IF(Table142[[#This Row],[Life Expectency]]=\"0\",\"Yes\",IF((Table1468[[#This Row],[Year of Failure]]-YEAR(TODAY()))<('Life Expectancy and Criticality'!$V18*(1/3)),\"Yes\",\"No\")))","v":"No"},"Below","No","No",{"$f":"IF(Table142[[#This Row],[Column2]]=0,\"\",IF('Life Expectancy and Criticality'!AQ18=0,\"0.5\",'Life Expectancy and Criticality'!AQ18))","v":"0.5"},0.75,{"$f":"IF('Data Collection Sheet'!$N21,\"The YEAR OF FAILURE and PROJECTED COST were calculated using an estimated installation date.\",\"\")&IF('Cost Data'!$M21,\"The PROJECTED COST was calculated using an estimated intial price.\",\"\")","v":""}]
[{"$f":"Table13[[#This Row],[I.D. Number ]]","v":"PuTr-2021-2"},{"$f":"Table13[[#This Row],[Category]]","v":"Pump"},{"$f":"Table13[[#This Row],[Type]]","v":"Transfer "},{"$f":"Table13[[#This Row],[Description]]","v":"Well 2 Pump"},{"$f":"Table13[[#This Row],[Life Expectancy]]","v":12},"Yes","0%-25%","Yes","No",{"$f":"IF(Table142[[#This Row],[Column12]]=\"\",\"\",IF('Life Expectancy and Criticality'!AH19=0,\"0.5\",'Life Expectancy and Criticality'!AH19))","v":1.5},{"$f":"IF(Table142[[#This Row],[I.D. Number ]]=\"\",\"\",IF(Table142[[#This Row],[Life Expectency]]=\"0\",\"Yes\",IF((Table1468[[#This Row],[Year of Failure]]-YEAR(TODAY()))<('Life Expectancy and Criticality'!$V19*(1/3)),\"Yes\",\"No\")))","v":"No"},"Below","No","No",{"$f":"IF(Table142[[#This Row],[Column2]]=0,\"\",IF('Life Expectancy and Criticality'!AQ19=0,\"0.5\",'Life Expectancy and Criticality'!AQ19))","v":"0.5"},0.75,{"$f":"IF('Data Collection Sheet'!$N22,\"The YEAR OF FAILURE and PROJECTED COST were calculated using an estimated installation date.\",\"\")&IF('Cost Data'!$M22,\"The PROJECTED COST was calculated using an estimated intial price.\",\"\")","v":""}]
[{"$f":"Table13[[#This Row],[I.D. Number ]]","v":"MeWe-2021-1"},{"$f":"Table13[[#This Row],[Category]]","v":"Meter"},{"$f":"Table13[[#This Row],[Type]]","v":"Well "},{"$f":"Table13[[#This Row],[Description]]","v":"Master Meter, Well 1"},{"$f":"Table13[[#This Row],[Life Expectancy]]","v":12},"Yes","0%-25%","Yes","No",{"$f":"IF(Table142[[#This Row],[Column12]]=\"\",\"\",IF('Life Expectancy and Criticality'!AH20=0,\"0.5\",'Life Expectancy and Criticality'!AH20))","v":1.5},{"$f":"IF(Table142[[#This Row],[I.D. Number ]]=\"\",\"\",IF(Table142[[#This Row],[Life Expectency]]=\"0\",\"Yes\",IF((Table1468[[#This Row],[Year of Failure]]-YEAR(TODAY()))<('Life Expectancy and Criticality'!$V20*(1/3)),\"Yes\",\"No\")))","v":"No"},"Below","No","No",{"$f":"IF(Table142[[#This Row],[Column2]]=0,\"\",IF('Life Expectancy and Criticality'!AQ20=0,\"0.5\",'Life Expectancy and Criticality'!AQ20))","v":"0.5"},0.75,{"$f":"IF('Data Collection Sheet'!$N23,\"The YEAR OF FAILURE and PROJECTED COST were calculated using an estimated installation date.\",\"\")&IF('Cost Data'!$M23,\"The PROJECTED COST was calculated using an estimated intial price.\",\"\")","v":""}]
[{"$f":"Table13[[#This Row],[I.D. Number ]]","v":"MeWe-2021-2"},{"$f":"Table13[[#This Row],[Category]]","v":"Meter"},{"$f":"Table13[[#This Row],[Type]]","v":"Well "},{"$f":"Table13[[#This Row],[Description]]","v":"Master Meter, Well 2"},{"$f":"Table13[[#This Row],[Life Expectancy]]","v":12},"Yes","0%-25%","Yes","No",{"$f":"IF(Table142[[#This Row],[Column12]]=\"\",\"\",IF('Life Expectancy and Criticality'!AH21=0,\"0.5\",'Life Expectancy and Criticality'!AH21))","v":1.5},{"$f":"IF(Table142[[#This Row],[I.D. Number ]]=\"\",\"\",IF(Table142[[#This Row],[Life Expectency]]=\"0\",\"Yes\",IF((Table1468[[#This Row],[Year of Failure]]-YEAR(TODAY()))<('Life Expectancy and Criticality'!$V21*(1/3)),\"Yes\",\"No\")))","v":"No"},"Below","No","No",{"$f":"IF(Table142[[#This Row],[Column2]]=0,\"\",IF('Life Expectancy and Criticality'!AQ21=0,\"0.5\",'Life Expectancy and Criticality'!AQ21))","v":"0.5"},0.75,{"$f":"IF('Data Collection Sheet'!$N24,\"The YEAR OF FAILURE and PROJECTED COST were calculated using an estimated installation date.\",\"\")&IF('Cost Data'!$M24,\"The PROJECTED COST was calculated using an estimated intial price.\",\"\")","v":""}]
[{"$f":"Table13[[#This Row],[I.D. Number ]]","v":"WTP-2022-1"},{"$f":"Table13[[#This Row],[Category]]","v":"Building"},{"$f":"Table13[[#This Row],[Type]]","v":"Treatment Plant"},{"$f":"Table13[[#This Row],[Description]]","v":"400 Sq Ft Treatment Plant Room"},{"$f":"Table13[[#This Row],[Life Expectancy]]","v":48},"Yes","0%-25%","Yes","No",{"$f":"IF(Table142[[#This Row],[Column12]]=\"\",\"\",IF('Life Expectancy and Criticality'!AH22=0,\"0.5\",'Life Expectancy and Criticality'!AH22))","v":1.5},{"$f":"IF(Table142[[#This Row],[I.D. Number ]]=\"\",\"\",IF(Table142[[#This Row],[Life Expectency]]=\"0\",\"Yes\",IF((Table1468[[#This Row],[Year of Failure]]-YEAR(TODAY()))<('Life Expectancy and Criticality'!$V22*(1/3)),\"Yes\",\"No\")))","v":"No"},"At","No","No",{"$f":"IF(Table142[[#This Row],[Column2]]=0,\"\",IF('Life Expectancy and Criticality'!AQ22=0,\"0.5\",'Life Expectancy and Criticality'!AQ22))","v":1},1.5,{"$f":"IF('Data Collection Sheet'!$N25,\"The YEAR OF FAILURE and PROJECTED COST were calculated using an estimated installation date.\",\"\")&IF('Cost Data'!$M25,\"The PROJECTED COST was calculated using an estimated intial price.\",\"\")","v":""}]
[{"$f":"Table13[[#This Row],[I.D. Number ]]","v":"TaCl-2022-1"},{"$f":"Table13[[#This Row],[Category]]","v":"Tank"},{"$f":"Table13[[#This Row],[Type]]","v":"Clear Well"},{"$f":"Table13[[#This Row],[Description]]","v":"Water Treatment Clear well"},{"$f":"Table13[[#This Row],[Life Expectancy]]","v":48},"Yes","0%-25%","No","No",{"$f":"IF(Table142[[#This Row],[Column12]]=\"\",\"\",IF('Life Expectancy and Criticality'!AH23=0,\"0.5\",'Life Expectancy and Criticality'!AH23))","v":0.5},{"$f":"IF(Table142[[#This Row],[I.D. Number ]]=\"\",\"\",IF(Table142[[#This Row],[Life Expectency]]=\"0\",\"Yes\",IF((Table1468[[#This Row],[Year of Failure]]-YEAR(TODAY()))<('Life Expectancy and Criticality'!$V23*(1/3)),\"Yes\",\"No\")))","v":"No"},"At","No","No",{"$f":"IF(Table142[[#This Row],[Column2]]=0,\"\",IF('Life Expectancy and Criticality'!AQ23=0,\"0.5\",'Life Expectancy and Criticality'!AQ23))","v":1},0.5,{"$f":"IF('Data Collection Sheet'!$N26,\"The YEAR OF FAILURE and PROJECTED COST were calculated using an estimated installation date.\",\"\")&IF('Cost Data'!$M26,\"The PROJECTED COST was calculated using an estimated intial price.\",\"\")","v":""}]
[{"$f":"Table13[[#This Row],[I.D. Number ]]","v":"PuHi-2022-1"},{"$f":"Table13[[#This Row],[Category]]","v":"Pump"},{"$f":"Table13[[#This Row],[Type]]","v":"High Service "},{"$f":"Table13[[#This Row],[Description]]","v":"Vertical Turbine"},{"$f":"Table13[[#This Row],[Life Expectancy]]","v":13},"Yes","0%-25%","Yes","Yes",{"$f":"IF(Table142[[#This Row],[Column12]]=\"\",\"\",IF('Life Expectancy and Criticality'!AH24=0,\"0.5\",'Life Expectancy and Criticality'!AH24))","v":2.5},{"$f":"IF(Table142[[#This Row],[I.D. Number ]]=\"\",\"\",IF(Table142[[#This Row],[Life Expectency]]=\"0\",\"Yes\",IF((Table1468[[#This Row],[Year of Failure]]-YEAR(TODAY()))<('Life Expectancy and Criticality'!$V24*(1/3)),\"Yes\",\"No\")))","v":"No"},"At","No","No",{"$f":"IF(Table142[[#This Row],[Column2]]=0,\"\",IF('Life Expectancy and Criticality'!AQ24=0,\"0.5\",'Life Expectancy and Criticality'!AQ24))","v":1},2.5,{"$f":"IF('Data Collection Sheet'!$N27,\"The YEAR OF FAILURE and PROJECTED COST were calculated using an estimated installation date.\",\"\")&IF('Cost Data'!$M27,\"The PROJECTED COST was calculated using an estimated intial price.\",\"\")","v":""}]
[{"$f":"Table13[[#This Row],[I.D. Number ]]","v":"PuHi-2022-2"},{"$f":"Table13[[#This Row],[Category]]","v":"Pump"},{"$f":"Table13[[#This Row],[Type]]","v":"High Service "},{"$f":"Table13[[#This Row],[Description]]","v":"Vertical Turbine"},{"$f":"Table13[[#This Row],[Life Expectancy]]","v":13},"Yes","0%-25%","Yes","Yes",{"$f":"IF(Table142[[#This Row],[Column12]]=\"\",\"\",IF('Life Expectancy and Criticality'!AH25=0,\"0.5\",'Life Expectancy and Criticality'!AH25))","v":2.5},{"$f":"IF(Table142[[#This Row],[I.D. Number ]]=\"\",\"\",IF(Table142[[#This Row],[Life Expectency]]=\"0\",\"Yes\",IF((Table1468[[#This Row],[Year of Failure]]-YEAR(TODAY()))<('Life Expectancy and Criticality'!$V25*(1/3)),\"Yes\",\"No\")))","v":"No"},"At","No","No",{"$f":"IF(Table142[[#This Row],[Column2]]=0,\"\",IF('Life Expectancy and Criticality'!AQ25=0,\"0.5\",'Life Expectancy and Criticality'!AQ25))","v":1},2.5,{"$f":"IF('Data Collection Sheet'!$N28,\"The YEAR OF FAILURE and PROJECTED COST were calculated using an estimated installation date.\",\"\")&IF('Cost Data'!$M28,\"The PROJECTED COST was calculated using an estimated intial price.\",\"\")","v":""}]
[{"$f":"Table13[[#This Row],[I.D. Number ]]","v":"CoTe-2022-1"},{"$f":"Table13[[#This Row],[Category]]","v":"Control"},{"$f":"Table13[[#This Row],[Type]]","v":"Telemetry "},{"$f":"Table13[[#This Row],[Description]]","v":"Plant Control Panel"},{"$f":"Table13[[#This Row],[Life Expectancy]]","v":13},"No","0%-25%","Yes","Yes",{"$f":"IF(Table142[[#This Row],[Column12]]=\"\",\"\",IF('Life Expectancy and Criticality'!AH26=0,\"0.5\",'Life Expectancy and Criticality'!AH26))","v":3.5},{"$f":"IF(Table142[[#This Row],[I.D. Number ]]=\"\",\"\",IF(Table142[[#This Row],[Life Expectency]]=\"0\",\"Yes\",IF((Table1468[[#This Row],[Year of Failure]]-YEAR(TODAY()))<('Life Expectancy and Criticality'!$V26*(1/3)),\"Yes\",\"No\")))","v":"No"},"At","No","No",{"$f":"IF(Table142[[#This Row],[Column2]]=0,\"\",IF('Life Expectancy and Criticality'!AQ26=0,\"0.5\",'Life Expectancy and Criticality'!AQ26))","v":1},3.5,{"$f":"IF('Data Collection Sheet'!$N29,\"The YEAR OF FAILURE and PROJECTED COST were calculated using an estimated installation date.\",\"\")&IF('Cost Data'!$M29,\"The PROJECTED COST was calculated using an estimated intial price.\",\"\")","v":""}]
[{"$f":"Table13[[#This Row],[I.D. Number ]]","v":"CoTe-2022-2"},{"$f":"Table13[[#This Row],[Category]]","v":"Control"},{"$f":"Table13[[#This Row],[Type]]","v":"Telemetry "},{"$f":"Table13[[#This Row],[Description]]","v":"Electrical Control Panel"},{"$f":"Table13[[#This Row],[Life Expectancy]]","v":13},"No","0%-25%","Yes","Yes",{"$f":"IF(Table142[[#This Row],[Column12]]=\"\",\"\",IF('Life Expectancy and Criticality'!AH27=0,\"0.5\",'Life Expectancy and Criticality'!AH27))","v":3.5},{"$f":"IF(Table142[[#This Row],[I.D. Number ]]=\"\",\"\",IF(Table142[[#This Row],[Life Expectency]]=\"0\",\"Yes\",IF((Table1468[[#This Row],[Year of Failure]]-YEAR(TODAY()))<('Life Expectancy and Criticality'!$V27*(1/3)),\"Yes\",\"No\")))","v":"No"},"At","No","No",{"$f":"IF(Table142[[#This Row],[Column2]]=0,\"\",IF('Life Expectancy and Criticality'!AQ27=0,\"0.5\",'Life Expectancy and Criticality'!AQ27))","v":1},3.5,{"$f":"IF('Data Collection Sheet'!$N30,\"The YEAR OF FAILURE and PROJECTED COST were calculated using an estimated installation date.\",\"\")&IF('Cost Data'!$M30,\"The PROJECTED COST was calculated using an estimated intial price.\",\"\")","v":""}]
[{"$f":"Table13[[#This Row],[I.D. Number ]]","v":"TrSe-2022-1"},{"$f":"Table13[[#This Row],[Category]]","v":"Treatment"},{"$f":"Table13[[#This Row],[Type]]","v":"Sedimentation "},{"$f":"Table13[[#This Row],[Description]]","v":"Sediment Pond"},{"$f":"Table13[[#This Row],[Life Expectancy]]","v":18},"Yes","0%-25%","Yes","Yes",{"$f":"IF(Table142[[#This Row],[Column12]]=\"\",\"\",IF('Life Expectancy and Criticality'!AH28=0,\"0.5\",'Life Expectancy and Criticality'!AH28))","v":2.5},{"$f":"IF(Table142[[#This Row],[I.D. Number ]]=\"\",\"\",IF(Table142[[#This Row],[Life Expectency]]=\"0\",\"Yes\",IF((Table1468[[#This Row],[Year of Failure]]-YEAR(TODAY()))<('Life Expectancy and Criticality'!$V28*(1/3)),\"Yes\",\"No\")))","v":"No"},"At","No","No",{"$f":"IF(Table142[[#This Row],[Column2]]=0,\"\",IF('Life Expectancy and Criticality'!AQ28=0,\"0.5\",'Life Expectancy and Criticality'!AQ28))","v":1},2.5,{"$f":"IF('Data Collection Sheet'!$N31,\"The YEAR OF FAILURE and PROJECTED COST were calculated using an estimated installation date.\",\"\")&IF('Cost Data'!$M31,\"The PROJECTED COST was calculated using an estimated intial price.\",\"\")","v":""}]
[{"$f":"Table13[[#This Row],[I.D. Number ]]","v":"SaFe-2022-1"},{"$f":"Table13[[#This Row],[Category]]","v":"Safety"},{"$f":"Table13[[#This Row],[Type]]","v":"Fencing"},{"$f":"Table13[[#This Row],[Description]]","v":"Chain Link Fencing"},{"$f":"Table13[[#This Row],[Life Expectancy]]","v":8},"No","0%-25%","Yes","Yes",{"$f":"IF(Table142[[#This Row],[Column12]]=\"\",\"\",IF('Life Expectancy and Criticality'!AH29=0,\"0.5\",'Life Expectancy and Criticality'!AH29))","v":3.5},{"$f":"IF(Table142[[#This Row],[I.D. Number ]]=\"\",\"\",IF(Table142[[#This Row],[Life Expectency]]=\"0\",\"Yes\",IF((Table1468[[#This Row],[Year of Failure]]-YEAR(TODAY()))<('Life Expectancy and Criticality'!$V29*(1/3)),\"Yes\",\"No\")))","v":"No"},"At","No","No",{"$f":"IF(Table142[[#This Row],[Column2]]=0,\"\",IF('Life Expectancy and Criticality'!AQ29=0,\"0.5\",'Life Expectancy and Criticality'!AQ29))","v":1},3.5,{"$f":"IF('Data Collection Sheet'!$N32,\"The YEAR OF FAILURE and PROJECTED COST were calculated using an estimated installation date.\",\"\")&IF('Cost Data'!$M32,\"The PROJECTED COST was calculated using an estimated intial price.\",\"\")","v":""}]
[{"$f":"Table13[[#This Row],[I.D. Number ]]","v":"TrCh-2022-1"},{"$f":"Table13[[#This Row],[Category]]","v":"Treatment"},{"$f":"Table13[[#This Row],[Type]]","v":"Chlorination "},{"$f":"Table13[[#This Row],[Description]]","v":"Chlorination System"},{"$f":"Table13[[#This Row],[Life Expectancy]]","v":18},"Yes","0%-25%","Yes","Yes",{"$f":"IF(Table142[[#This Row],[Column12]]=\"\",\"\",IF('Life Expectancy and Criticality'!AH30=0,\"0.5\",'Life Expectancy and Criticality'!AH30))","v":2.5},{"$f":"IF(Table142[[#This Row],[I.D. Number ]]=\"\",\"\",IF(Table142[[#This Row],[Life Expectency]]=\"0\",\"Yes\",IF((Table1468[[#This Row],[Year of Failure]]-YEAR(TODAY()))<('Life Expectancy and Criticality'!$V30*(1/3)),\"Yes\",\"No\")))","v":"No"},"At","No","No",{"$f":"IF(Table142[[#This Row],[Column2]]=0,\"\",IF('Life Expectancy and Criticality'!AQ30=0,\"0.5\",'Life Expectancy and Criticality'!AQ30))","v":1},2.5,{"$f":"IF('Data Collection Sheet'!$N33,\"The YEAR OF FAILURE and PROJECTED COST were calculated using an estimated installation date.\",\"\")&IF('Cost Data'!$M33,\"The PROJECTED COST was calculated using an estimated intial price.\",\"\")","v":""}]
[{"$f":"Table13[[#This Row],[I.D. Number ]]","v":"TrFi-2022-1"},{"$f":"Table13[[#This Row],[Category]]","v":"Treatment"},{"$f":"Table13[[#This Row],[Type]]","v":"Filtration"},{"$f":"Table13[[#This Row],[Description]]","v":"Qty 3 Pressure Filter"},{"$f":"Table13[[#This Row],[Life Expectancy]]","v":18},"Yes","0%-25%","No","No",{"$f":"IF(Table142[[#This Row],[Column12]]=\"\",\"\",IF('Life Expectancy and Criticality'!AH31=0,\"0.5\",'Life Expectancy and Criticality'!AH31))","v":0.5},{"$f":"IF(Table142[[#This Row],[I.D. Number ]]=\"\",\"\",IF(Table142[[#This Row],[Life Expectency]]=\"0\",\"Yes\",IF((Table1468[[#This Row],[Year of Failure]]-YEAR(TODAY()))<('Life Expectancy and Criticality'!$V31*(1/3)),\"Yes\",\"No\")))","v":"No"},"At","No","No",{"$f":"IF(Table142[[#This Row],[Column2]]=0,\"\",IF('Life Expectancy and Criticality'!AQ31=0,\"0.5\",'Life Expectancy and Criticality'!AQ31))","v":1},0.5,{"$f":"IF('Data Collection Sheet'!$N34,\"The YEAR OF FAILURE and PROJECTED COST were calculated using an estimated installation date.\",\"\")&IF('Cost Data'!$M34,\"The PROJECTED COST was calculated using an estimated intial price.\",\"\")","v":""}]
[{"$f":"Table13[[#This Row],[I.D. Number ]]","v":"TrFi-2022-2"},{"$f":"Table13[[#This Row],[Category]]","v":"Treatment"},{"$f":"Table13[[#This Row],[Type]]","v":"Filtration"},{"$f":"Table13[[#This Row],[Description]]","v":"Cascade Aerator"},{"$f":"Table13[[#This Row],[Life Expectancy]]","v":18},"Yes","0%-25%","No","No",{"$f":"IF(Table142[[#This Row],[Column12]]=\"\",\"\",IF('Life Expectancy and Criticality'!AH32=0,\"0.5\",'Life Expectancy and Criticality'!AH32))","v":0.5},{"$f":"IF(Table142[[#This Row],[I.D. Number ]]=\"\",\"\",IF(Table142[[#This Row],[Life Expectency]]=\"0\",\"Yes\",IF((Table1468[[#This Row],[Year of Failure]]-YEAR(TODAY()))<('Life Expectancy and Criticality'!$V32*(1/3)),\"Yes\",\"No\")))","v":"No"},"Below","No","No",{"$f":"IF(Table142[[#This Row],[Column2]]=0,\"\",IF('Life Expectancy and Criticality'!AQ32=0,\"0.5\",'Life Expectancy and Criticality'!AQ32))","v":"0.5"},0.25,{"$f":"IF('Data Collection Sheet'!$N35,\"The YEAR OF FAILURE and PROJECTED COST were calculated using an estimated installation date.\",\"\")&IF('Cost Data'!$M35,\"The PROJECTED COST was calculated using an estimated intial price.\",\"\")","v":""}]
[{"$f":"Table13[[#This Row],[I.D. Number ]]","v":"PuMe-2022-1"},{"$f":"Table13[[#This Row],[Category]]","v":"Pump"},{"$f":"Table13[[#This Row],[Type]]","v":"Metering "},{"$f":"Table13[[#This Row],[Description]]","v":"Phosphate Feed Pump"},{"$f":"Table13[[#This Row],[Life Expectancy]]","v":13},"Yes","0%-25%","No","No",{"$f":"IF(Table142[[#This Row],[Column12]]=\"\",\"\",IF('Life Expectancy and Criticality'!AH33=0,\"0.5\",'Life Expectancy and Criticality'!AH33))","v":0.5},{"$f":"IF(Table142[[#This Row],[I.D. Number ]]=\"\",\"\",IF(Table142[[#This Row],[Life Expectency]]=\"0\",\"Yes\",IF((Table1468[[#This Row],[Year of Failure]]-YEAR(TODAY()))<('Life Expectancy and Criticality'!$V33*(1/3)),\"Yes\",\"No\")))","v":"No"},"Below","No","No",{"$f":"IF(Table142[[#This Row],[Column2]]=0,\"\",IF('Life Expectancy and Criticality'!AQ33=0,\"0.5\",'Life Expectancy and Criticality'!AQ33))","v":"0.5"},0.25,{"$f":"IF('Data Collection Sheet'!$N36,\"The YEAR OF FAILURE and PROJECTED COST were calculated using an estimated installation date.\",\"\")&IF('Cost Data'!$M36,\"The PROJECTED COST was calculated using an estimated intial price.\",\"\")","v":""}]
[{"$f":"Table13[[#This Row],[I.D. Number ]]","v":"PuMe-2022-2"},{"$f":"Table13[[#This Row],[Category]]","v":"Pump"},{"$f":"Table13[[#This Row],[Type]]","v":"Metering "},{"$f":"Table13[[#This Row],[Description]]","v":"Caustic Feed Pump"},{"$f":"Table13[[#This Row],[Life Expectancy]]","v":13},"Yes","0%-25%","No","No",{"$f":"IF(Table142[[#This Row],[Column12]]=\"\",\"\",IF('Life Expectancy and Criticality'!AH34=0,\"0.5\",'Life Expectancy and Criticality'!AH34))","v":0.5},{"$f":"IF(Table142[[#This Row],[I.D. Number ]]=\"\",\"\",IF(Table142[[#This Row],[Life Expectency]]=\"0\",\"Yes\",IF((Table1468[[#This Row],[Year of Failure]]-YEAR(TODAY()))<('Life Expectancy and Criticality'!$V34*(1/3)),\"Yes\",\"No\")))","v":"No"},"Below","No","No",{"$f":"IF(Table142[[#This Row],[Column2]]=0,\"\",IF('Life Expectancy and Criticality'!AQ34=0,\"0.5\",'Life Expectancy and Criticality'!AQ34))","v":"0.5"},0.25,{"$f":"IF('Data Collection Sheet'!$N37,\"The YEAR OF FAILURE and PROJECTED COST were calculated using an estimated installation date.\",\"\")&IF('Cost Data'!$M37,\"The PROJECTED COST was calculated using an estimated intial price.\",\"\")","v":""}]
[{"$f":"Table13[[#This Row],[I.D. Number ]]","v":"PuMe-2022-3"},{"$f":"Table13[[#This Row],[Category]]","v":"Pump"},{"$f":"Table13[[#This Row],[Type]]","v":"Metering "},{"$f":"Table13[[#This Row],[Description]]","v":"Pot Perm Feed Pump"},{"$f":"Table13[[#This Row],[Life Expectancy]]","v":13},"Yes","0%-25%","No","No",{"$f":"IF(Table142[[#This Row],[Column12]]=\"\",\"\",IF('Life Expectancy and Criticality'!AH35=0,\"0.5\",'Life Expectancy and Criticality'!AH35))","v":0.5},{"$f":"IF(Table142[[#This Row],[I.D. Number ]]=\"\",\"\",IF(Table142[[#This Row],[Life Expectency]]=\"0\",\"Yes\",IF((Table1468[[#This Row],[Year of Failure]]-YEAR(TODAY()))<('Life Expectancy and Criticality'!$V35*(1/3)),\"Yes\",\"No\")))","v":"No"},"Below","No","No",{"$f":"IF(Table142[[#This Row],[Column2]]=0,\"\",IF('Life Expectancy and Criticality'!AQ35=0,\"0.5\",'Life Expectancy and Criticality'!AQ35))","v":"0.5"},0.25,{"$f":"IF('Data Collection Sheet'!$N38,\"The YEAR OF FAILURE and PROJECTED COST were calculated using an estimated installation date.\",\"\")&IF('Cost Data'!$M38,\"The PROJECTED COST was calculated using an estimated intial price.\",\"\")","v":""}]
[{"$f":"Table13[[#This Row],[I.D. Number ]]","v":"MeSo-2022-1"},{"$f":"Table13[[#This Row],[Category]]","v":"Meter"},{"$f":"Table13[[#This Row],[Type]]","v":"Source "},{"$f":"Table13[[#This Row],[Description]]","v":"Tank Meter Controller"},{"$f":"Table13[[#This Row],[Life Expectancy]]","v":10},"Yes","0%-25%","No","No",{"$f":"IF(Table142[[#This Row],[Column12]]=\"\",\"\",IF('Life Expectancy and Criticality'!AH36=0,\"0.5\",'Life Expectancy and Criticality'!AH36))","v":0.5},{"$f":"IF(Table142[[#This Row],[I.D. Number ]]=\"\",\"\",IF(Table142[[#This Row],[Life Expectency]]=\"0\",\"Yes\",IF((Table1468[[#This Row],[Year of Failure]]-YEAR(TODAY()))<('Life Expectancy and Criticality'!$V36*(1/3)),\"Yes\",\"No\")))","v":"No"},"Below","No","No",{"$f":"IF(Table142[[#This Row],[Column2]]=0,\"\",IF('Life Expectancy and Criticality'!AQ36=0,\"0.5\",'Life Expectancy and Criticality'!AQ36))","v":"0.5"},0.25,{"$f":"IF('Data Collection Sheet'!$N39,\"The YEAR OF FAILURE and PROJECTED COST were calculated using an estimated installation date.\",\"\")&IF('Cost Data'!$M39,\"The PROJECTED COST was calculated using an estimated intial price.\",\"\")","v":""}]
[{"$f":"Table13[[#This Row],[I.D. Number ]]","v":"HyFi-2022-1"},{"$f":"Table13[[#This Row],[Category]]","v":"Hydrant"},{"$f":"Table13[[#This Row],[Type]]","v":"Fire "},{"$f":"Table13[[#This Row],[Description]]","v":"Fire Hydrant"},{"$f":"Table13[[#This Row],[Life Expectancy]]","v":48},"Yes","0%-25%","No","No",{"$f":"IF(Table142[[#This Row],[Column12]]=\"\",\"\",IF('Life Expectancy and Criticality'!AH37=0,\"0.5\",'Life Expectancy and Criticality'!AH37))","v":0.5},{"$f":"IF(Table142[[#This Row],[I.D. Number ]]=\"\",\"\",IF(Table142[[#This Row],[Life Expectency]]=\"0\",\"Yes\",IF((Table1468[[#This Row],[Year of Failure]]-YEAR(TODAY()))<('Life Expectancy and Criticality'!$V37*(1/3)),\"Yes\",\"No\")))","v":"No"},"Below","No","No",{"$f":"IF(Table142[[#This Row],[Column2]]=0,\"\",IF('Life Expectancy and Criticality'!AQ37=0,\"0.5\",'Life Expectancy and Criticality'!AQ37))","v":"0.5"},0.25,{"$f":"IF('Data Collection Sheet'!$N40,\"The YEAR OF FAILURE and PROJECTED COST were calculated using an estimated installation date.\",\"\")&IF('Cost Data'!$M40,\"The PROJECTED COST was calculated using an estimated intial price.\",\"\")","v":""}]
[{"$f":"Table13[[#This Row],[I.D. Number ]]","v":"PiPV-2024-1"},{"$f":"Table13[[#This Row],[Category]]","v":"Pipe"},{"$f":"Table13[[#This Row],[Type]]","v":"PVC"},{"$f":"Table13[[#This Row],[Description]]","v":"HDPE, DR11, 200 psi, 4545 linear feet"},{"$f":"Table13[[#This Row],[Life Expectancy]]","v":80},"Yes","0%-25%","No","No",{"$f":"IF(Table142[[#This Row],[Column12]]=\"\",\"\",IF('Life Expectancy and Criticality'!AH38=0,\"0.5\",'Life Expectancy and Criticality'!AH38))","v":0.5},{"$f":"IF(Table142[[#This Row],[I.D. Number ]]=\"\",\"\",IF(Table142[[#This Row],[Life Expectency]]=\"0\",\"Yes\",IF((Table1468[[#This Row],[Year of Failure]]-YEAR(TODAY()))<('Life Expectancy and Criticality'!$V38*(1/3)),\"Yes\",\"No\")))","v":"No"},"Below","No","No",{"$f":"IF(Table142[[#This Row],[Column2]]=0,\"\",IF('Life Expectancy and Criticality'!AQ38=0,\"0.5\",'Life Expectancy and Criticality'!AQ38))","v":"0.5"},0.25,{"$f":"IF('Data Collection Sheet'!$N41,\"The YEAR OF FAILURE and PROJECTED COST were calculated using an estimated installation date.\",\"\")&IF('Cost Data'!$M41,\"The PROJECTED COST was calculated using an estimated intial price.\",\"\")","v":""}]
[{"$f":"Table13[[#This Row],[I.D. Number ]]","v":"PiPV-2024-2"},{"$f":"Table13[[#This Row],[Category]]","v":"Pipe"},{"$f":"Table13[[#This Row],[Type]]","v":"PVC"},{"$f":"Table13[[#This Row],[Description]]","v":"HDPE, DR11, 200 psi, 4820 linear feet"},{"$f":"Table13[[#This Row],[Life Expectancy]]","v":80},"Yes","0%-25%","No","No",{"$f":"IF(Table142[[#This Row],[Column12]]=\"\",\"\",IF('Life Expectancy and Criticality'!AH39=0,\"0.5\",'Life Expectancy and Criticality'!AH39))","v":0.5},{"$f":"IF(Table142[[#This Row],[I.D. Number ]]=\"\",\"\",IF(Table142[[#This Row],[Life Expectency]]=\"0\",\"Yes\",IF((Table1468[[#This Row],[Year of Failure]]-YEAR(TODAY()))<('Life Expectancy and Criticality'!$V39*(1/3)),\"Yes\",\"No\")))","v":"No"},"Below","No","No",{"$f":"IF(Table142[[#This Row],[Column2]]=0,\"\",IF('Life Expectancy and Criticality'!AQ39=0,\"0.5\",'Life Expectancy and Criticality'!AQ39))","v":"0.5"},0.25,{"$f":"IF('Data Collection Sheet'!$N42,\"The YEAR OF FAILURE and PROJECTED COST were calculated using an estimated installation date.\",\"\")&IF('Cost Data'!$M42,\"The PROJECTED COST was calculated using an estimated intial price.\",\"\")","v":""}]
[{"$f":"Table13[[#This Row],[I.D. Number ]]","v":"PiPV-2024-3"},{"$f":"Table13[[#This Row],[Category]]","v":"Pipe"},{"$f":"Table13[[#This Row],[Type]]","v":"PVC"},{"$f":"Table13[[#This Row],[Description]]","v":"HDPE, DR11, 200 psi, 10,400 linear feet"},{"$f":"Table13[[#This Row],[Life Expectancy]]","v":80},"Yes","0%-25%","No","No",{"$f":"IF(Table142[[#This Row],[Column12]]=\"\",\"\",IF('Life Expectancy and Criticality'!AH40=0,\"0.5\",'Life Expectancy and Criticality'!AH40))","v":0.5},{"$f":"IF(Table142[[#This Row],[I.D. Number ]]=\"\",\"\",IF(Table142[[#This Row],[Life Expectency]]=\"0\",\"Yes\",IF((Table1468[[#This Row],[Year of Failure]]-YEAR(TODAY()))<('Life Expectancy and Criticality'!$V40*(1/3)),\"Yes\",\"No\")))","v":"No"},"Below","No","No",{"$f":"IF(Table142[[#This Row],[Column2]]=0,\"\",IF('Life Expectancy and Criticality'!AQ40=0,\"0.5\",'Life Expectancy and Criticality'!AQ40))","v":"0.5"},0.25,{"$f":"IF('Data Collection Sheet'!$N43,\"The YEAR OF FAILURE and PROJECTED COST were calculated using an estimated installation date.\",\"\")&IF('Cost Data'!$M43,\"The PROJECTED COST was calculated using an estimated intial price.\",\"\")","v":""}]
[{"$f":"Table13[[#This Row],[I.D. Number ]]","v":"HyFi-2024-1"},{"$f":"Table13[[#This Row],[Category]]","v":"Hydrant"},{"$f":"Table13[[#This Row],[Type]]","v":"Fire "},{"$f":"Table13[[#This Row],[Description]]","v":"Qty 5 Fire Hydrants"},{"$f":"Table13[[#This Row],[Life Expectancy]]","v":50},"Yes","0%-25%","No","No",{"$f":"IF(Table142[[#This Row],[Column12]]=\"\",\"\",IF('Life Expectancy and Criticality'!AH41=0,\"0.5\",'Life Expectancy and Criticality'!AH41))","v":0.5},{"$f":"IF(Table142[[#This Row],[I.D. Number ]]=\"\",\"\",IF(Table142[[#This Row],[Life Expectency]]=\"0\",\"Yes\",IF((Table1468[[#This Row],[Year of Failure]]-YEAR(TODAY()))<('Life Expectancy and Criticality'!$V41*(1/3)),\"Yes\",\"No\")))","v":"No"},"Below","No","No",{"$f":"IF(Table142[[#This Row],[Column2]]=0,\"\",IF('Life Expectancy and Criticality'!AQ41=0,\"0.5\",'Life Expectancy and Criticality'!AQ41))","v":"0.5"},0.25,{"$f":"IF('Data Collection Sheet'!$N44,\"The YEAR OF FAILURE and PROJECTED COST were calculated using an estimated installation date.\",\"\")&IF('Cost Data'!$M44,\"The PROJECTED COST was calculated using an estimated intial price.\",\"\")","v":""}]
[{"$f":"Table13[[#This Row],[I.D. Number ]]","v":"MeMa-2024-1"},{"$f":"Table13[[#This Row],[Category]]","v":"Meter"},{"$f":"Table13[[#This Row],[Type]]","v":"Master "},{"$f":"Table13[[#This Row],[Description]]","v":"Assembly 1, 2, 9 and 10 - Qty 4"},{"$f":"Table13[[#This Row],[Life Expectancy]]","v":15},"Yes","0%-25%","No","No",{"$f":"IF(Table142[[#This Row],[Column12]]=\"\",\"\",IF('Life Expectancy and Criticality'!AH42=0,\"0.5\",'Life Expectancy and Criticality'!AH42))","v":0.5},{"$f":"IF(Table142[[#This Row],[I.D. Number ]]=\"\",\"\",IF(Table142[[#This Row],[Life Expectency]]=\"0\",\"Yes\",IF((Table1468[[#This Row],[Year of Failure]]-YEAR(TODAY()))<('Life Expectancy and Criticality'!$V42*(1/3)),\"Yes\",\"No\")))","v":"No"},"Below","No","No",{"$f":"IF(Table142[[#This Row],[Column2]]=0,\"\",IF('Life Expectancy and Criticality'!AQ42=0,\"0.5\",'Life Expectancy and Criticality'!AQ42))","v":"0.5"},0.25,{"$f":"IF('Data Collection Sheet'!$N45,\"The YEAR OF FAILURE and PROJECTED COST were calculated using an estimated installation date.\",\"\")&IF('Cost Data'!$M45,\"The PROJECTED COST was calculated using an estimated intial price.\",\"\")","v":""}]
[{"$f":"Table13[[#This Row],[I.D. Number ]]","v":"MeMa-2024-2"},{"$f":"Table13[[#This Row],[Category]]","v":"Meter"},{"$f":"Table13[[#This Row],[Type]]","v":"Master "},{"$f":"Table13[[#This Row],[Description]]","v":"Assembly 3 - Qty 1"},{"$f":"Table13[[#This Row],[Life Expectancy]]","v":15},"Yes","0%-25%","No","No",{"$f":"IF(Table142[[#This Row],[Column12]]=\"\",\"\",IF('Life Expectancy and Criticality'!AH43=0,\"0.5\",'Life Expectancy and Criticality'!AH43))","v":0.5},{"$f":"IF(Table142[[#This Row],[I.D. Number ]]=\"\",\"\",IF(Table142[[#This Row],[Life Expectency]]=\"0\",\"Yes\",IF((Table1468[[#This Row],[Year of Failure]]-YEAR(TODAY()))<('Life Expectancy and Criticality'!$V43*(1/3)),\"Yes\",\"No\")))","v":"No"},"Below","No","No",{"$f":"IF(Table142[[#This Row],[Column2]]=0,\"\",IF('Life Expectancy and Criticality'!AQ43=0,\"0.5\",'Life Expectancy and Criticality'!AQ43))","v":"0.5"},0.25,{"$f":"IF('Data Collection Sheet'!$N46,\"The YEAR OF FAILURE and PROJECTED COST were calculated using an estimated installation date.\",\"\")&IF('Cost Data'!$M46,\"The PROJECTED COST was calculated using an estimated intial price.\",\"\")","v":""}]
[{"$f":"Table13[[#This Row],[I.D. Number ]]","v":"MeMa-2024-3"},{"$f":"Table13[[#This Row],[Category]]","v":"Meter"},{"$f":"Table13[[#This Row],[Type]]","v":"Master "},{"$f":"Table13[[#This Row],[Description]]","v":"Assembly 4 & 6 - Qty 2"},{"$f":"Table13[[#This Row],[Life Expectancy]]","v":15},"Yes","0%-25%","No","No",{"$f":"IF(Table142[[#This Row],[Column12]]=\"\",\"\",IF('Life Expectancy and Criticality'!AH44=0,\"0.5\",'Life Expectancy and Criticality'!AH44))","v":0.5},{"$f":"IF(Table142[[#This Row],[I.D. Number ]]=\"\",\"\",IF(Table142[[#This Row],[Life Expectency]]=\"0\",\"Yes\",IF((Table1468[[#This Row],[Year of Failure]]-YEAR(TODAY()))<('Life Expectancy and Criticality'!$V44*(1/3)),\"Yes\",\"No\")))","v":"No"},"Below","No","No",{"$f":"IF(Table142[[#This Row],[Column2]]=0,\"\",IF('Life Expectancy and Criticality'!AQ44=0,\"0.5\",'Life Expectancy and Criticality'!AQ44))","v":"0.5"},0.25,{"$f":"IF('Data Collection Sheet'!$N47,\"The YEAR OF FAILURE and PROJECTED COST were calculated using an estimated installation date.\",\"\")&IF('Cost Data'!$M47,\"The PROJECTED COST was calculated using an estimated intial price.\",\"\")","v":""}]
[{"$f":"Table13[[#This Row],[I.D. Number ]]","v":"MeMa-2024-4"},{"$f":"Table13[[#This Row],[Category]]","v":"Meter"},{"$f":"Table13[[#This Row],[Type]]","v":"Master "},{"$f":"Table13[[#This Row],[Description]]","v":"Assembly 5 & 19 - Qty 2"},{"$f":"Table13[[#This Row],[Life Expectancy]]","v":15},"Yes","0%-25%","No","No",{"$f":"IF(Table142[[#This Row],[Column12]]=\"\",\"\",IF('Life Expectancy and Criticality'!AH45=0,\"0.5\",'Life Expectancy and Criticality'!AH45))","v":0.5},{"$f":"IF(Table142[[#This Row],[I.D. Number ]]=\"\",\"\",IF(Table142[[#This Row],[Life Expectency]]=\"0\",\"Yes\",IF((Table1468[[#This Row],[Year of Failure]]-YEAR(TODAY()))<('Life Expectancy and Criticality'!$V45*(1/3)),\"Yes\",\"No\")))","v":"No"},"Below","No","No",{"$f":"IF(Table142[[#This Row],[Column2]]=0,\"\",IF('Life Expectancy and Criticality'!AQ45=0,\"0.5\",'Life Expectancy and Criticality'!AQ45))","v":"0.5"},0.25,{"$f":"IF('Data Collection Sheet'!$N48,\"The YEAR OF FAILURE and PROJECTED COST were calculated using an estimated installation date.\",\"\")&IF('Cost Data'!$M48,\"The PROJECTED COST was calculated using an estimated intial price.\",\"\")","v":""}]
[{"$f":"Table13[[#This Row],[I.D. Number ]]","v":"MeMa-2024-5"},{"$f":"Table13[[#This Row],[Category]]","v":"Meter"},{"$f":"Table13[[#This Row],[Type]]","v":"Master "},{"$f":"Table13[[#This Row],[Description]]","v":"Assembly 7 - Qty 1"},{"$f":"Table13[[#This Row],[Life Expectancy]]","v":15},"Yes","0%-25%","No","No",{"$f":"IF(Table142[[#This Row],[Column12]]=\"\",\"\",IF('Life Expectancy and Criticality'!AH46=0,\"0.5\",'Life Expectancy and Criticality'!AH46))","v":0.5},{"$f":"IF(Table142[[#This Row],[I.D. Number ]]=\"\",\"\",IF(Table142[[#This Row],[Life Expectency]]=\"0\",\"Yes\",IF((Table1468[[#This Row],[Year of Failure]]-YEAR(TODAY()))<('Life Expectancy and Criticality'!$V46*(1/3)),\"Yes\",\"No\")))","v":"No"},"Below","No","No",{"$f":"IF(Table142[[#This Row],[Column2]]=0,\"\",IF('Life Expectancy and Criticality'!AQ46=0,\"0.5\",'Life Expectancy and Criticality'!AQ46))","v":"0.5"},0.25,{"$f":"IF('Data Collection Sheet'!$N49,\"The YEAR OF FAILURE and PROJECTED COST were calculated using an estimated installation date.\",\"\")&IF('Cost Data'!$M49,\"The PROJECTED COST was calculated using an estimated intial price.\",\"\")","v":""}]
[{"$f":"Table13[[#This Row],[I.D. Number ]]","v":"MeMa-2024-6"},{"$f":"Table13[[#This Row],[Category]]","v":"Meter"},{"$f":"Table13[[#This Row],[Type]]","v":"Master "},{"$f":"Table13[[#This Row],[Description]]","v":"Assembly 8 - Qty 1"},{"$f":"Table13[[#This Row],[Life Expectancy]]","v":15},"Yes","0%-25%","No","No",{"$f":"IF(Table142[[#This Row],[Column12]]=\"\",\"\",IF('Life Expectancy and Criticality'!AH47=0,\"0.5\",'Life Expectancy and Criticality'!AH47))","v":0.5},{"$f":"IF(Table142[[#This Row],[I.D. Number ]]=\"\",\"\",IF(Table142[[#This Row],[Life Expectency]]=\"0\",\"Yes\",IF((Table1468[[#This Row],[Year of Failure]]-YEAR(TODAY()))<('Life Expectancy and Criticality'!$V47*(1/3)),\"Yes\",\"No\")))","v":"No"},"At","No","No",{"$f":"IF(Table142[[#This Row],[Column2]]=0,\"\",IF('Life Expectancy and Criticality'!AQ47=0,\"0.5\",'Life Expectancy and Criticality'!AQ47))","v":1},0.5,{"$f":"IF('Data Collection Sheet'!$N50,\"The YEAR OF FAILURE and PROJECTED COST were calculated using an estimated installation date.\",\"\")&IF('Cost Data'!$M50,\"The PROJECTED COST was calculated using an estimated intial price.\",\"\")","v":""}]
[{"$f":"Table13[[#This Row],[I.D. Number ]]","v":"MeMa-2024-7"},{"$f":"Table13[[#This Row],[Category]]","v":"Meter"},{"$f":"Table13[[#This Row],[Type]]","v":"Master "},{"$f":"Table13[[#This Row],[Description]]","v":"Assembly 11 - Qty 1"},{"$f":"Table13[[#This Row],[Life Expectancy]]","v":15},"Yes","0%-25%","No","No",{"$f":"IF(Table142[[#This Row],[Column12]]=\"\",\"\",IF('Life Expectancy and Criticality'!AH48=0,\"0.5\",'Life Expectancy and Criticality'!AH48))","v":0.5},{"$f":"IF(Table142[[#This Row],[I.D. Number ]]=\"\",\"\",IF(Table142[[#This Row],[Life Expectency]]=\"0\",\"Yes\",IF((Table1468[[#This Row],[Year of Failure]]-YEAR(TODAY()))<('Life Expectancy and Criticality'!$V48*(1/3)),\"Yes\",\"No\")))","v":"No"},"At","No","No",{"$f":"IF(Table142[[#This Row],[Column2]]=0,\"\",IF('Life Expectancy and Criticality'!AQ48=0,\"0.5\",'Life Expectancy and Criticality'!AQ48))","v":1},0.5,{"$f":"IF('Data Collection Sheet'!$N51,\"The YEAR OF FAILURE and PROJECTED COST were calculated using an estimated installation date.\",\"\")&IF('Cost Data'!$M51,\"The PROJECTED COST was calculated using an estimated intial price.\",\"\")","v":""}]
[{"$f":"Table13[[#This Row],[I.D. Number ]]","v":"MeMa-2024-8"},{"$f":"Table13[[#This Row],[Category]]","v":"Meter"},{"$f":"Table13[[#This Row],[Type]]","v":"Master "},{"$f":"Table13[[#This Row],[Description]]","v":"Assembly 12 - Qty 1"},{"$f":"Table13[[#This Row],[Life Expectancy]]","v":15},"Yes","0%-25%","No","No",{"$f":"IF(Table142[[#This Row],[Column12]]=\"\",\"\",IF('Life Expectancy and Criticality'!AH49=0,\"0.5\",'Life Expectancy and Criticality'!AH49))","v":0.5},{"$f":"IF(Table142[[#This Row],[I.D. Number ]]=\"\",\"\",IF(Table142[[#This Row],[Life Expectency]]=\"0\",\"Yes\",IF((Table1468[[#This Row],[Year of Failure]]-YEAR(TODAY()))<('Life Expectancy and Criticality'!$V49*(1/3)),\"Yes\",\"No\")))","v":"No"},"At","No","No",{"$f":"IF(Table142[[#This Row],[Column2]]=0,\"\",IF('Life Expectancy and Criticality'!AQ49=0,\"0.5\",'Life Expectancy and Criticality'!AQ49))","v":1},0.5,{"$f":"IF('Data Collection Sheet'!$N52,\"The YEAR OF FAILURE and PROJECTED COST were calculated using an estimated installation date.\",\"\")&IF('Cost Data'!$M52,\"The PROJECTED COST was calculated using an estimated intial price.\",\"\")","v":""}]
[{"$f":"Table13[[#This Row],[I.D. Number ]]","v":"MeMa-2024-9"},{"$f":"Table13[[#This Row],[Category]]","v":"Meter"},{"$f":"Table13[[#This Row],[Type]]","v":"Master "},{"$f":"Table13[[#This Row],[Description]]","v":"Assembly 13 - Qty 1"},{"$f":"Table13[[#This Row],[Life Expectancy]]","v":15},"Yes","0%-25%","No","No",{"$f":"IF(Table142[[#This Row],[Column12]]=\"\",\"\",IF('Life Expectancy and Criticality'!AH50=0,\"0.5\",'Life Expectancy and Criticality'!AH50))","v":0.5},{"$f":"IF(Table142[[#This Row],[I.D. Number ]]=\"\",\"\",IF(Table142[[#This Row],[Life Expectency]]=\"0\",\"Yes\",IF((Table1468[[#This Row],[Year of Failure]]-YEAR(TODAY()))<('Life Expectancy and Criticality'!$V50*(1/3)),\"Yes\",\"No\")))","v":"No"},"At","No","No",{"$f":"IF(Table142[[#This Row],[Column2]]=0,\"\",IF('Life Expectancy and Criticality'!AQ50=0,\"0.5\",'Life Expectancy and Criticality'!AQ50))","v":1},0.5,{"$f":"IF('Data Collection Sheet'!$N53,\"The YEAR OF FAILURE and PROJECTED COST were calculated using an estimated installation date.\",\"\")&IF('Cost Data'!$M53,\"The PROJECTED COST was calculated using an estimated intial price.\",\"\")","v":""}]
[{"$f":"Table13[[#This Row],[I.D. Number ]]","v":"MeMa-2024-10"},{"$f":"Table13[[#This Row],[Category]]","v":"Meter"},{"$f":"Table13[[#This Row],[Type]]","v":"Master "},{"$f":"Table13[[#This Row],[Description]]","v":"Assembly 14 - Qty 1"},{"$f":"Table13[[#This Row],[Life Expectancy]]","v":15},"Yes","0%-25%","No","No",{"$f":"IF(Table142[[#This Row],[Column12]]=\"\",\"\",IF('Life Expectancy and Criticality'!AH51=0,\"0.5\",'Life Expectancy and Criticality'!AH51))","v":0.5},{"$f":"IF(Table142[[#This Row],[I.D. Number ]]=\"\",\"\",IF(Table142[[#This Row],[Life Expectency]]=\"0\",\"Yes\",IF((Table1468[[#This Row],[Year of Failure]]-YEAR(TODAY()))<('Life Expectancy and Criticality'!$V51*(1/3)),\"Yes\",\"No\")))","v":"No"},"At","No","No",{"$f":"IF(Table142[[#This Row],[Column2]]=0,\"\",IF('Life Expectancy and Criticality'!AQ51=0,\"0.5\",'Life Expectancy and Criticality'!AQ51))","v":1},0.5,{"$f":"IF('Data Collection Sheet'!$N54,\"The YEAR OF FAILURE and PROJECTED COST were calculated using an estimated installation date.\",\"\")&IF('Cost Data'!$M54,\"The PROJECTED COST was calculated using an estimated intial price.\",\"\")","v":""}]
[{"$f":"Table13[[#This Row],[I.D. Number ]]","v":"MeMa-2024-11"},{"$f":"Table13[[#This Row],[Category]]","v":"Meter"},{"$f":"Table13[[#This Row],[Type]]","v":"Master "},{"$f":"Table13[[#This Row],[Description]]","v":"Assembly 15, 16, 17, 18 - Qty 4"},{"$f":"Table13[[#This Row],[Life Expectancy]]","v":15},"Yes","0%-25%","No","No",{"$f":"IF(Table142[[#This Row],[Column12]]=\"\",\"\",IF('Life Expectancy and Criticality'!AH52=0,\"0.5\",'Life Expectancy and Criticality'!AH52))","v":0.5},{"$f":"IF(Table142[[#This Row],[I.D. Number ]]=\"\",\"\",IF(Table142[[#This Row],[Life Expectency]]=\"0\",\"Yes\",IF((Table1468[[#This Row],[Year of Failure]]-YEAR(TODAY()))<('Life Expectancy and Criticality'!$V52*(1/3)),\"Yes\",\"No\")))","v":"No"},"At","No","No",{"$f":"IF(Table142[[#This Row],[Column2]]=0,\"\",IF('Life Expectancy and Criticality'!AQ52=0,\"0.5\",'Life Expectancy and Criticality'!AQ52))","v":1},0.5,{"$f":"IF('Data Collection Sheet'!$N55,\"The YEAR OF FAILURE and PROJECTED COST were calculated using an estimated installation date.\",\"\")&IF('Cost Data'!$M55,\"The PROJECTED COST was calculated using an estimated intial price.\",\"\")","v":""}]
[{"$f":"Table13[[#This Row],[I.D. Number ]]","v":"MeMa-2024-12"},{"$f":"Table13[[#This Row],[Category]]","v":"Meter"},{"$f":"Table13[[#This Row],[Type]]","v":"Master "},{"$f":"Table13[[#This Row],[Description]]","v":"Assembly 20 - Qty 1"},{"$f":"Table13[[#This Row],[Life Expectancy]]","v":15},"Yes","0%-25%","No","No",{"$f":"IF(Table142[[#This Row],[Column12]]=\"\",\"\",IF('Life Expectancy and Criticality'!AH53=0,\"0.5\",'Life Expectancy and Criticality'!AH53))","v":0.5},{"$f":"IF(Table142[[#This Row],[I.D. Number ]]=\"\",\"\",IF(Table142[[#This Row],[Life Expectency]]=\"0\",\"Yes\",IF((Table1468[[#This Row],[Year of Failure]]-YEAR(TODAY()))<('Life Expectancy and Criticality'!$V53*(1/3)),\"Yes\",\"No\")))","v":"No"},"At","No","No",{"$f":"IF(Table142[[#This Row],[Column2]]=0,\"\",IF('Life Expectancy and Criticality'!AQ53=0,\"0.5\",'Life Expectancy and Criticality'!AQ53))","v":1},0.5,{"$f":"IF('Data Collection Sheet'!$N56,\"The YEAR OF FAILURE and PROJECTED COST were calculated using an estimated installation date.\",\"\")&IF('Cost Data'!$M56,\"The PROJECTED COST was calculated using an estimated intial price.\",\"\")","v":""}]
[{"$f":"Table13[[#This Row],[I.D. Number ]]","v":"VaGa-2024-1"},{"$f":"Table13[[#This Row],[Category]]","v":"Valve"},{"$f":"Table13[[#This Row],[Type]]","v":"Gate "},{"$f":"Table13[[#This Row],[Description]]","v":"Qty 3"},{"$f":"Table13[[#This Row],[Life Expectancy]]","v":20},"Yes","0%-25%","No","No",{"$f":"IF(Table142[[#This Row],[Column12]]=\"\",\"\",IF('Life Expectancy and Criticality'!AH54=0,\"0.5\",'Life Expectancy and Criticality'!AH54))","v":0.5},{"$f":"IF(Table142[[#This Row],[I.D. Number ]]=\"\",\"\",IF(Table142[[#This Row],[Life Expectency]]=\"0\",\"Yes\",IF((Table1468[[#This Row],[Year of Failure]]-YEAR(TODAY()))<('Life Expectancy and Criticality'!$V54*(1/3)),\"Yes\",\"No\")))","v":"No"},"At","No","No",{"$f":"IF(Table142[[#This Row],[Column2]]=0,\"\",IF('Life Expectancy and Criticality'!AQ54=0,\"0.5\",'Life Expectancy and Criticality'!AQ54))","v":1},0.5,{"$f":"IF('Data Collection Sheet'!$N57,\"The YEAR OF FAILURE and PROJECTED COST were calculated using an estimated installation date.\",\"\")&IF('Cost Data'!$M57,\"The PROJECTED COST was calculated using an estimated intial price.\",\"\")","v":""}]
[{"$f":"Table13[[#This Row],[I.D. Number ]]","v":"VaGa-2024-2"},{"$f":"Table13[[#This Row],[Category]]","v":"Valve"},{"$f":"Table13[[#This Row],[Type]]","v":"Gate "},{"$f":"Table13[[#This Row],[Description]]","v":"Qty 1"},{"$f":"Table13[[#This Row],[Life Expectancy]]","v":20},"Yes","0%-25%","No","No",{"$f":"IF(Table142[[#This Row],[Column12]]=\"\",\"\",IF('Life Expectancy and Criticality'!AH55=0,\"0.5\",'Life Expectancy and Criticality'!AH55))","v":0.5},{"$f":"IF(Table142[[#This Row],[I.D. Number ]]=\"\",\"\",IF(Table142[[#This Row],[Life Expectency]]=\"0\",\"Yes\",IF((Table1468[[#This Row],[Year of Failure]]-YEAR(TODAY()))<('Life Expectancy and Criticality'!$V55*(1/3)),\"Yes\",\"No\")))","v":"No"},"At","No","No",{"$f":"IF(Table142[[#This Row],[Column2]]=0,\"\",IF('Life Expectancy and Criticality'!AQ55=0,\"0.5\",'Life Expectancy and Criticality'!AQ55))","v":1},0.5,{"$f":"IF('Data Collection Sheet'!$N58,\"The YEAR OF FAILURE and PROJECTED COST were calculated using an estimated installation date.\",\"\")&IF('Cost Data'!$M58,\"The PROJECTED COST was calculated using an estimated intial price.\",\"\")","v":""}]
[{"$f":"Table13[[#This Row],[I.D. Number ]]","v":"VaGa-2024-3"},{"$f":"Table13[[#This Row],[Category]]","v":"Valve"},{"$f":"Table13[[#This Row],[Type]]","v":"Gate "},{"$f":"Table13[[#This Row],[Description]]","v":"Qty 2"},{"$f":"Table13[[#This Row],[Life Expectancy]]","v":20},"Yes","0%-25%","No","No",{"$f":"IF(Table142[[#This Row],[Column12]]=\"\",\"\",IF('Life Expectancy and Criticality'!AH56=0,\"0.5\",'Life Expectancy and Criticality'!AH56))","v":0.5},{"$f":"IF(Table142[[#This Row],[I.D. Number ]]=\"\",\"\",IF(Table142[[#This Row],[Life Expectency]]=\"0\",\"Yes\",IF((Table1468[[#This Row],[Year of Failure]]-YEAR(TODAY()))<('Life Expectancy and Criticality'!$V56*(1/3)),\"Yes\",\"No\")))","v":"No"},"At","No","No",{"$f":"IF(Table142[[#This Row],[Column2]]=0,\"\",IF('Life Expectancy and Criticality'!AQ56=0,\"0.5\",'Life Expectancy and Criticality'!AQ56))","v":1},0.5,{"$f":"IF('Data Collection Sheet'!$N59,\"The YEAR OF FAILURE and PROJECTED COST were calculated using an estimated installation date.\",\"\")&IF('Cost Data'!$M59,\"The PROJECTED COST was calculated using an estimated intial price.\",\"\")","v":""}]
[{"$f":"Table13[[#This Row],[I.D. Number ]]","v":"VaGa-2024-4"},{"$f":"Table13[[#This Row],[Category]]","v":"Valve"},{"$f":"Table13[[#This Row],[Type]]","v":"Gate "},{"$f":"Table13[[#This Row],[Description]]","v":"Qty 3"},{"$f":"Table13[[#This Row],[Life Expectancy]]","v":20},"Yes","0%-25%","No","No",{"$f":"IF(Table142[[#This Row],[Column12]]=\"\",\"\",IF('Life Expectancy and Criticality'!AH57=0,\"0.5\",'Life Expectancy and Criticality'!AH57))","v":0.5},{"$f":"IF(Table142[[#This Row],[I.D. Number ]]=\"\",\"\",IF(Table142[[#This Row],[Life Expectency]]=\"0\",\"Yes\",IF((Table1468[[#This Row],[Year of Failure]]-YEAR(TODAY()))<('Life Expectancy and Criticality'!$V57*(1/3)),\"Yes\",\"No\")))","v":"No"},"At","No","No",{"$f":"IF(Table142[[#This Row],[Column2]]=0,\"\",IF('Life Expectancy and Criticality'!AQ57=0,\"0.5\",'Life Expectancy and Criticality'!AQ57))","v":1},0.5,{"$f":"IF('Data Collection Sheet'!$N60,\"The YEAR OF FAILURE and PROJECTED COST were calculated using an estimated installation date.\",\"\")&IF('Cost Data'!$M60,\"The PROJECTED COST was calculated using an estimated intial price.\",\"\")","v":""}]
[{"$f":"Table13[[#This Row],[I.D. Number ]]","v":"VaPr-2024-1"},{"$f":"Table13[[#This Row],[Category]]","v":"Valve"},{"$f":"Table13[[#This Row],[Type]]","v":"Pressure Relief (PRV)"},{"$f":"Table13[[#This Row],[Description]]","v":"PRV-8"},{"$f":"Table13[[#This Row],[Life Expectancy]]","v":20},"Yes","0%-25%","No","No",{"$f":"IF(Table142[[#This Row],[Column12]]=\"\",\"\",IF('Life Expectancy and Criticality'!AH58=0,\"0.5\",'Life Expectancy and Criticality'!AH58))","v":0.5},{"$f":"IF(Table142[[#This Row],[I.D. Number ]]=\"\",\"\",IF(Table142[[#This Row],[Life Expectency]]=\"0\",\"Yes\",IF((Table1468[[#This Row],[Year of Failure]]-YEAR(TODAY()))<('Life Expectancy and Criticality'!$V58*(1/3)),\"Yes\",\"No\")))","v":"No"},"At","No","No",{"$f":"IF(Table142[[#This Row],[Column2]]=0,\"\",IF('Life Expectancy and Criticality'!AQ58=0,\"0.5\",'Life Expectancy and Criticality'!AQ58))","v":1},0.5,{"$f":"IF('Data Collection Sheet'!$N61,\"The YEAR OF FAILURE and PROJECTED COST were calculated using an estimated installation date.\",\"\")&IF('Cost Data'!$M61,\"The PROJECTED COST was calculated using an estimated intial price.\",\"\")","v":""}]
[{"$f":"Table13[[#This Row],[I.D. Number ]]","v":"VaPr-2024-2"},{"$f":"Table13[[#This Row],[Category]]","v":"Valve"},{"$f":"Table13[[#This Row],[Type]]","v":"Pressure Relief (PRV)"},{"$f":"Table13[[#This Row],[Description]]","v":"Residential - Qty 4"},{"$f":"Table13[[#This Row],[Life Expectancy]]","v":20},"Yes","0%-25%","No","No",{"$f":"IF(Table142[[#This Row],[Column12]]=\"\",\"\",IF('Life Expectancy and Criticality'!AH59=0,\"0.5\",'Life Expectancy and Criticality'!AH59))","v":0.5},{"$f":"IF(Table142[[#This Row],[I.D. Number ]]=\"\",\"\",IF(Table142[[#This Row],[Life Expectency]]=\"0\",\"Yes\",IF((Table1468[[#This Row],[Year of Failure]]-YEAR(TODAY()))<('Life Expectancy and Criticality'!$V59*(1/3)),\"Yes\",\"No\")))","v":"No"},"At","No","No",{"$f":"IF(Table142[[#This Row],[Column2]]=0,\"\",IF('Life Expectancy and Criticality'!AQ59=0,\"0.5\",'Life Expectancy and Criticality'!AQ59))","v":1},0.5,{"$f":"IF('Data Collection Sheet'!$N62,\"The YEAR OF FAILURE and PROJECTED COST were calculated using an estimated installation date.\",\"\")&IF('Cost Data'!$M62,\"The PROJECTED COST was calculated using an estimated intial price.\",\"\")","v":""}]
[{"$f":"Table13[[#This Row],[I.D. Number ]]","v":"VaGa-2024-5"},{"$f":"Table13[[#This Row],[Category]]","v":"Valve"},{"$f":"Table13[[#This Row],[Type]]","v":"Gate "},{"$f":"Table13[[#This Row],[Description]]","v":"Flush Valve"},{"$f":"Table13[[#This Row],[Life Expectancy]]","v":20},"Yes","0%-25%","No","No",{"$f":"IF(Table142[[#This Row],[Column12]]=\"\",\"\",IF('Life Expectancy and Criticality'!AH60=0,\"0.5\",'Life Expectancy and Criticality'!AH60))","v":0.5},{"$f":"IF(Table142[[#This Row],[I.D. Number ]]=\"\",\"\",IF(Table142[[#This Row],[Life Expectency]]=\"0\",\"Yes\",IF((Table1468[[#This Row],[Year of Failure]]-YEAR(TODAY()))<('Life Expectancy and Criticality'!$V60*(1/3)),\"Yes\",\"No\")))","v":"No"},"At","No","No",{"$f":"IF(Table142[[#This Row],[Column2]]=0,\"\",IF('Life Expectancy and Criticality'!AQ60=0,\"0.5\",'Life Expectancy and Criticality'!AQ60))","v":1},0.5,{"$f":"IF('Data Collection Sheet'!$N63,\"The YEAR OF FAILURE and PROJECTED COST were calculated using an estimated installation date.\",\"\")&IF('Cost Data'!$M63,\"The PROJECTED COST was calculated using an estimated intial price.\",\"\")","v":""}]
[{"$f":"Table13[[#This Row],[I.D. Number ]]","v":"CoSC-2024-1"},{"$f":"Table13[[#This Row],[Category]]","v":"Control"},{"$f":"Table13[[#This Row],[Type]]","v":"SCADA "},{"$f":"Table13[[#This Row],[Description]]","v":"Automated Meter Reading System"},{"$f":"Table13[[#This Row],[Life Expectancy]]","v":15},"Yes","0%-25%","No","No",{"$f":"IF(Table142[[#This Row],[Column12]]=\"\",\"\",IF('Life Expectancy and Criticality'!AH61=0,\"0.5\",'Life Expectancy and Criticality'!AH61))","v":0.5},{"$f":"IF(Table142[[#This Row],[I.D. Number ]]=\"\",\"\",IF(Table142[[#This Row],[Life Expectency]]=\"0\",\"Yes\",IF((Table1468[[#This Row],[Year of Failure]]-YEAR(TODAY()))<('Life Expectancy and Criticality'!$V61*(1/3)),\"Yes\",\"No\")))","v":"No"},"At","No","No",{"$f":"IF(Table142[[#This Row],[Column2]]=0,\"\",IF('Life Expectancy and Criticality'!AQ61=0,\"0.5\",'Life Expectancy and Criticality'!AQ61))","v":1},0.5,{"$f":"IF('Data Collection Sheet'!$N64,\"The YEAR OF FAILURE and PROJECTED COST were calculated using an estimated installation date.\",\"\")&IF('Cost Data'!$M64,\"The PROJECTED COST was calculated using an estimated intial price.\",\"\")","v":""}]
[{"$f":"Table13[[#This Row],[I.D. Number ]]","v":"MeRe-2024-1"},{"$f":"Table13[[#This Row],[Category]]","v":"Meter"},{"$f":"Table13[[#This Row],[Type]]","v":"Residential "},{"$f":"Table13[[#This Row],[Description]]","v":"5/8\" x 3/4\" Meters - Qty 932"},{"$f":"Table13[[#This Row],[Life Expectancy]]","v":15},"Yes","0%-25%","No","No",{"$f":"IF(Table142[[#This Row],[Column12]]=\"\",\"\",IF('Life Expectancy and Criticality'!AH62=0,\"0.5\",'Life Expectancy and Criticality'!AH62))","v":0.5},{"$f":"IF(Table142[[#This Row],[I.D. Number ]]=\"\",\"\",IF(Table142[[#This Row],[Life Expectency]]=\"0\",\"Yes\",IF((Table1468[[#This Row],[Year of Failure]]-YEAR(TODAY()))<('Life Expectancy and Criticality'!$V62*(1/3)),\"Yes\",\"No\")))","v":"No"},"At","No","No",{"$f":"IF(Table142[[#This Row],[Column2]]=0,\"\",IF('Life Expectancy and Criticality'!AQ62=0,\"0.5\",'Life Expectancy and Criticality'!AQ62))","v":1},0.5,{"$f":"IF('Data Collection Sheet'!$N65,\"The YEAR OF FAILURE and PROJECTED COST were calculated using an estimated installation date.\",\"\")&IF('Cost Data'!$M65,\"The PROJECTED COST was calculated using an estimated intial price.\",\"\")","v":""}]
[{"$f":"Table13[[#This Row],[I.D. Number ]]","v":"MeCu-2024-1"},{"$f":"Table13[[#This Row],[Category]]","v":"Meter"},{"$f":"Table13[[#This Row],[Type]]","v":"Customer "},{"$f":"Table13[[#This Row],[Description]]","v":"Meters - Qty 8"},{"$f":"Table13[[#This Row],[Life Expectancy]]","v":15},"Yes","0%-25%","No","No",{"$f":"IF(Table142[[#This Row],[Column12]]=\"\",\"\",IF('Life Expectancy and Criticality'!AH63=0,\"0.5\",'Life Expectancy and Criticality'!AH63))","v":0.5},{"$f":"IF(Table142[[#This Row],[I.D. Number ]]=\"\",\"\",IF(Table142[[#This Row],[Life Expectency]]=\"0\",\"Yes\",IF((Table1468[[#This Row],[Year of Failure]]-YEAR(TODAY()))<('Life Expectancy and Criticality'!$V63*(1/3)),\"Yes\",\"No\")))","v":"No"},"At","No","No",{"$f":"IF(Table142[[#This Row],[Column2]]=0,\"\",IF('Life Expectancy and Criticality'!AQ63=0,\"0.5\",'Life Expectancy and Criticality'!AQ63))","v":1},0.5,{"$f":"IF('Data Collection Sheet'!$N66,\"The YEAR OF FAILURE and PROJECTED COST were calculated using an estimated installation date.\",\"\")&IF('Cost Data'!$M66,\"The PROJECTED COST was calculated using an estimated intial price.\",\"\")","v":""}]
[{"$f":"Table13[[#This Row],[I.D. Number ]]","v":"VaPr-2024-3"},{"$f":"Table13[[#This Row],[Category]]","v":"Valve"},{"$f":"Table13[[#This Row],[Type]]","v":"Pressure Relief (PRV)"},{"$f":"Table13[[#This Row],[Description]]","v":"PRV-7"},{"$f":"Table13[[#This Row],[Life Expectancy]]","v":20},"Yes","0%-25%","No","No",{"$f":"IF(Table142[[#This Row],[Column12]]=\"\",\"\",IF('Life Expectancy and Criticality'!AH64=0,\"0.5\",'Life Expectancy and Criticality'!AH64))","v":0.5},{"$f":"IF(Table142[[#This Row],[I.D. Number ]]=\"\",\"\",IF(Table142[[#This Row],[Life Expectency]]=\"0\",\"Yes\",IF((Table1468[[#This Row],[Year of Failure]]-YEAR(TODAY()))<('Life Expectancy and Criticality'!$V64*(1/3)),\"Yes\",\"No\")))","v":"No"},"At","No","No",{"$f":"IF(Table142[[#This Row],[Column2]]=0,\"\",IF('Life Expectancy and Criticality'!AQ64=0,\"0.5\",'Life Expectancy and Criticality'!AQ64))","v":1},0.5,{"$f":"IF('Data Collection Sheet'!$N67,\"The YEAR OF FAILURE and PROJECTED COST were calculated using an estimated installation date.\",\"\")&IF('Cost Data'!$M67,\"The PROJECTED COST was calculated using an estimated intial price.\",\"\")","v":""}]
[{"$f":"Table13[[#This Row],[I.D. Number ]]","v":"VaGa-2024-6"},{"$f":"Table13[[#This Row],[Category]]","v":"Valve"},{"$f":"Table13[[#This Row],[Type]]","v":"Gate "},{"$f":"Table13[[#This Row],[Description]]","v":"Qty - 2"},{"$f":"Table13[[#This Row],[Life Expectancy]]","v":20},"Yes","0%-25%","No","No",{"$f":"IF(Table142[[#This Row],[Column12]]=\"\",\"\",IF('Life Expectancy and Criticality'!AH65=0,\"0.5\",'Life Expectancy and Criticality'!AH65))","v":0.5},{"$f":"IF(Table142[[#This Row],[I.D. Number ]]=\"\",\"\",IF(Table142[[#This Row],[Life Expectency]]=\"0\",\"Yes\",IF((Table1468[[#This Row],[Year of Failure]]-YEAR(TODAY()))<('Life Expectancy and Criticality'!$V65*(1/3)),\"Yes\",\"No\")))","v":"No"},"At","No","No",{"$f":"IF(Table142[[#This Row],[Column2]]=0,\"\",IF('Life Expectancy and Criticality'!AQ65=0,\"0.5\",'Life Expectancy and Criticality'!AQ65))","v":1},0.5,{"$f":"IF('Data Collection Sheet'!$N68,\"The YEAR OF FAILURE and PROJECTED COST were calculated using an estimated installation date.\",\"\")&IF('Cost Data'!$M68,\"The PROJECTED COST was calculated using an estimated intial price.\",\"\")","v":"The PROJECTED COST was calculated using an estimated intial price."}]
[{"$f":"Table13[[#This Row],[I.D. Number ]]","v":"PiPV-2024-4"},{"$f":"Table13[[#This Row],[Category]]","v":"Pipe"},{"$f":"Table13[[#This Row],[Type]]","v":"PVC"},{"$f":"Table13[[#This Row],[Description]]","v":"HDPE, DR11, 200psi - 4195 linear ft"},{"$f":"Table13[[#This Row],[Life Expectancy]]","v":80},"Yes","0%-25%","No","No",{"$f":"IF(Table142[[#This Row],[Column12]]=\"\",\"\",IF('Life Expectancy and Criticality'!AH66=0,\"0.5\",'Life Expectancy and Criticality'!AH66))","v":0.5},{"$f":"IF(Table142[[#This Row],[I.D. Number ]]=\"\",\"\",IF(Table142[[#This Row],[Life Expectency]]=\"0\",\"Yes\",IF((Table1468[[#This Row],[Year of Failure]]-YEAR(TODAY()))<('Life Expectancy and Criticality'!$V66*(1/3)),\"Yes\",\"No\")))","v":"No"},"At","No","No",{"$f":"IF(Table142[[#This Row],[Column2]]=0,\"\",IF('Life Expectancy and Criticality'!AQ66=0,\"0.5\",'Life Expectancy and Criticality'!AQ66))","v":1},0.5,{"$f":"IF('Data Collection Sheet'!$N69,\"The YEAR OF FAILURE and PROJECTED COST were calculated using an estimated installation date.\",\"\")&IF('Cost Data'!$M69,\"The PROJECTED COST was calculated using an estimated intial price.\",\"\")","v":""}]
[{"$f":"Table13[[#This Row],[I.D. Number ]]","v":"VaGa-2024-7"},{"$f":"Table13[[#This Row],[Category]]","v":"Valve"},{"$f":"Table13[[#This Row],[Type]]","v":"Gate "},{"$f":"Table13[[#This Row],[Description]]","v":0},{"$f":"Table13[[#This Row],[Life Expectancy]]","v":20},"Yes","0%-25%","No","No",{"$f":"IF(Table142[[#This Row],[Column12]]=\"\",\"\",IF('Life Expectancy and Criticality'!AH67=0,\"0.5\",'Life Expectancy and Criticality'!AH67))","v":0.5},{"$f":"IF(Table142[[#This Row],[I.D. Number ]]=\"\",\"\",IF(Table142[[#This Row],[Life Expectency]]=\"0\",\"Yes\",IF((Table1468[[#This Row],[Year of Failure]]-YEAR(TODAY()))<('Life Expectancy and Criticality'!$V67*(1/3)),\"Yes\",\"No\")))","v":"No"},"At","No","No",{"$f":"IF(Table142[[#This Row],[Column2]]=0,\"\",IF('Life Expectancy and Criticality'!AQ67=0,\"0.5\",'Life Expectancy and Criticality'!AQ67))","v":1},{"$f":"IF(J70=\"\",0,IF(O70=\"\",\"\",J70*O70))","v":0.5},{"$f":"IF('Data Collection Sheet'!$N70,\"The YEAR OF FAILURE and PROJECTED COST were calculated using an estimated installation date.\",\"\")&IF('Cost Data'!$M70,\"The PROJECTED COST was calculated using an estimated intial price.\",\"\")","v":""}]
[{"$f":"Table13[[#This Row],[I.D. Number ]]","v":"VaPr-2024-4"},{"$f":"Table13[[#This Row],[Category]]","v":"Valve"},{"$f":"Table13[[#This Row],[Type]]","v":"Pressure Relief (PRV)"},{"$f":"Table13[[#This Row],[Description]]","v":"PRV-1 thru PRV-6 + PRV-9 - Qty 7"},{"$f":"Table13[[#This Row],[Life Expectancy]]","v":20},"Yes","0%-25%","No","No",{"$f":"IF(Table142[[#This Row],[Column12]]=\"\",\"\",IF('Life Expectancy and Criticality'!AH68=0,\"0.5\",'Life Expectancy and Criticality'!AH68))","v":0.5},{"$f":"IF(Table142[[#This Row],[I.D. Number ]]=\"\",\"\",IF(Table142[[#This Row],[Life Expectency]]=\"0\",\"Yes\",IF((Table1468[[#This Row],[Year of Failure]]-YEAR(TODAY()))<('Life Expectancy and Criticality'!$V68*(1/3)),\"Yes\",\"No\")))","v":"No"},"At","No","No",{"$f":"IF(Table142[[#This Row],[Column2]]=0,\"\",IF('Life Expectancy and Criticality'!AQ68=0,\"0.5\",'Life Expectancy and Criticality'!AQ68))","v":1},0.5,{"$f":"IF('Data Collection Sheet'!$N71,\"The YEAR OF FAILURE and PROJECTED COST were calculated using an estimated installation date.\",\"\")&IF('Cost Data'!$M71,\"The PROJECTED COST was calculated using an estimated intial price.\",\"\")","v":""}]
[{"$f":"Table13[[#This Row],[I.D. Number ]]","v":"VaGa-2024-8"},{"$f":"Table13[[#This Row],[Category]]","v":"Valve"},{"$f":"Table13[[#This Row],[Type]]","v":"Gate "},{"$f":"Table13[[#This Row],[Description]]","v":"Gate Valve System"},{"$f":"Table13[[#This Row],[Life Expectancy]]","v":20},"Yes","0%-25%","No","No",{"$f":"IF(Table142[[#This Row],[Column12]]=\"\",\"\",IF('Life Expectancy and Criticality'!AH69=0,\"0.5\",'Life Expectancy and Criticality'!AH69))","v":0.5},{"$f":"IF(Table142[[#This Row],[I.D. Number ]]=\"\",\"\",IF(Table142[[#This Row],[Life Expectency]]=\"0\",\"Yes\",IF((Table1468[[#This Row],[Year of Failure]]-YEAR(TODAY()))<('Life Expectancy and Criticality'!$V69*(1/3)),\"Yes\",\"No\")))","v":"No"},"At","No","No",{"$f":"IF(Table142[[#This Row],[Column2]]=0,\"\",IF('Life Expectancy and Criticality'!AQ69=0,\"0.5\",'Life Expectancy and Criticality'!AQ69))","v":1},0.5,{"$f":"IF('Data Collection Sheet'!$N72,\"The YEAR OF FAILURE and PROJECTED COST were calculated using an estimated installation date.\",\"\")&IF('Cost Data'!$M72,\"The PROJECTED COST was calculated using an estimated intial price.\",\"\")","v":""}]
[{"$f":"Table13[[#This Row],[I.D. Number ]]","v":""},{"$f":"Table13[[#This Row],[Category]]","v":0},{"$f":"Table13[[#This Row],[Type]]","v":0},{"$f":"Table13[[#This Row],[Description]]","v":0},{"$f":"Table13[[#This Row],[Life Expectancy]]","v":""},null,null,null,null,{"$f":"IF(Table142[[#This Row],[Column12]]=\"\",\"\",IF('Life Expectancy and Criticality'!AH70=0,\"0.5\",'Life Expectancy and Criticality'!AH70))","v":""},{"$f":"IF(Table142[[#This Row],[I.D. Number ]]=\"\",\"\",IF(Table142[[#This Row],[Life Expectency]]=\"0\",\"Yes\",IF((Table1468[[#This Row],[Year of Failure]]-YEAR(TODAY()))<('Life Expectancy and Criticality'!$V70*(1/3)),\"Yes\",\"No\")))","v":""},null,null,null,{"$f":"IF(Table142[[#This Row],[Column2]]=0,\"\",IF('Life Expectancy and Criticality'!AQ70=0,\"0.5\",'Life Expectancy and Criticality'!AQ70))","v":""},0,{"$f":"IF('Data Collection Sheet'!$N73,\"The YEAR OF FAILURE and PROJECTED COST were calculated using an estimated installation date.\",\"\")&IF('Cost Data'!$M73,\"The PROJECTED COST was calculated using an estimated intial price.\",\"\")","v":""}]
[{"$f":"Table13[[#This Row],[I.D. Number ]]","v":""},{"$f":"Table13[[#This Row],[Category]]","v":0},{"$f":"Table13[[#This Row],[Type]]","v":0},{"$f":"Table13[[#This Row],[Description]]","v":0},{"$f":"Table13[[#This Row],[Life Expectancy]]","v":""},null,null,null,null,{"$f":"IF(Table142[[#This Row],[Column12]]=\"\",\"\",IF('Life Expectancy and Criticality'!AH71=0,\"0.5\",'Life Expectancy and Criticality'!AH71))","v":""},{"$f":"IF(Table142[[#This Row],[I.D. Number ]]=\"\",\"\",IF(Table142[[#This Row],[Life Expectency]]=\"0\",\"Yes\",IF((Table1468[[#This Row],[Year of Failure]]-YEAR(TODAY()))<('Life Expectancy and Criticality'!$V71*(1/3)),\"Yes\",\"No\")))","v":""},null,null,null,{"$f":"IF(Table142[[#This Row],[Column2]]=0,\"\",IF('Life Expectancy and Criticality'!AQ71=0,\"0.5\",'Life Expectancy and Criticality'!AQ71))","v":""},0,{"$f":"IF('Data Collection Sheet'!$N74,\"The YEAR OF FAILURE and PROJECTED COST were calculated using an estimated installation date.\",\"\")&IF('Cost Data'!$M74,\"The PROJECTED COST was calculated using an estimated intial price.\",\"\")","v":""}]
[{"$f":"Table13[[#This Row],[I.D. Number ]]","v":""},{"$f":"Table13[[#This Row],[Category]]","v":0},{"$f":"Table13[[#This Row],[Type]]","v":0},{"$f":"Table13[[#This Row],[Description]]","v":0},{"$f":"Table13[[#This Row],[Life Expectancy]]","v":""},null,null,null,null,{"$f":"IF(Table142[[#This Row],[Column12]]=\"\",\"\",IF('Life Expectancy and Criticality'!AH72=0,\"0.5\",'Life Expectancy and Criticality'!AH72))","v":""},{"$f":"IF(Table142[[#This Row],[I.D. Number ]]=\"\",\"\",IF(Table142[[#This Row],[Life Expectency]]=\"0\",\"Yes\",IF((Table1468[[#This Row],[Year of Failure]]-YEAR(TODAY()))<('Life Expectancy and Criticality'!$V72*(1/3)),\"Yes\",\"No\")))","v":""},null,null,null,{"$f":"IF(Table142[[#This Row],[Column2]]=0,\"\",IF('Life Expectancy and Criticality'!AQ72=0,\"0.5\",'Life Expectancy and Criticality'!AQ72))","v":""},0,{"$f":"IF('Data Collection Sheet'!$N75,\"The YEAR OF FAILURE and PROJECTED COST were calculated using an estimated installation date.\",\"\")&IF('Cost Data'!$M75,\"The PROJECTED COST was calculated using an estimated intial price.\",\"\")","v":""}]
[{"$f":"Table13[[#This Row],[I.D. Number ]]","v":""},{"$f":"Table13[[#This Row],[Category]]","v":0},{"$f":"Table13[[#This Row],[Type]]","v":0},{"$f":"Table13[[#This Row],[Description]]","v":0},{"$f":"Table13[[#This Row],[Life Expectancy]]","v":""},null,null,null,null,{"$f":"IF(Table142[[#This Row],[Column12]]=\"\",\"\",IF('Life Expectancy and Criticality'!AH73=0,\"0.5\",'Life Expectancy and Criticality'!AH73))","v":""},{"$f":"IF(Table142[[#This Row],[I.D. Number ]]=\"\",\"\",IF(Table142[[#This Row],[Life Expectency]]=\"0\",\"Yes\",IF((Table1468[[#This Row],[Year of Failure]]-YEAR(TODAY()))<('Life Expectancy and Criticality'!$V73*(1/3)),\"Yes\",\"No\")))","v":""},null,null,null,{"$f":"IF(Table142[[#This Row],[Column2]]=0,\"\",IF('Life Expectancy and Criticality'!AQ73=0,\"0.5\",'Life Expectancy and Criticality'!AQ73))","v":""},0,{"$f":"IF('Data Collection Sheet'!$N76,\"The YEAR OF FAILURE and PROJECTED COST were calculated using an estimated installation date.\",\"\")&IF('Cost Data'!$M76,\"The PROJECTED COST was calculated using an estimated intial price.\",\"\")","v":""}]
[{"$f":"Table13[[#This Row],[I.D. Number ]]","v":""},{"$f":"Table13[[#This Row],[Category]]","v":0},{"$f":"Table13[[#This Row],[Type]]","v":0},{"$f":"Table13[[#This Row],[Description]]","v":0},{"$f":"Table13[[#This Row],[Life Expectancy]]","v":""},null,null,null,null,{"$f":"IF(Table142[[#This Row],[Column12]]=\"\",\"\",IF('Life Expectancy and Criticality'!AH74=0,\"0.5\",'Life Expectancy and Criticality'!AH74))","v":""},{"$f":"IF(Table142[[#This Row],[I.D. Number ]]=\"\",\"\",IF(Table142[[#This Row],[Life Expectency]]=\"0\",\"Yes\",IF((Table1468[[#This Row],[Year of Failure]]-YEAR(TODAY()))<('Life Expectancy and Criticality'!$V74*(1/3)),\"Yes\",\"No\")))","v":""},null,null,null,{"$f":"IF(Table142[[#This Row],[Column2]]=0,\"\",IF('Life Expectancy and Criticality'!AQ74=0,\"0.5\",'Life Expectancy and Criticality'!AQ74))","v":""},0,{"$f":"IF('Data Collection Sheet'!$N77,\"The YEAR OF FAILURE and PROJECTED COST were calculated using an estimated installation date.\",\"\")&IF('Cost Data'!$M77,\"The PROJECTED COST was calculated using an estimated intial price.\",\"\")","v":""}]
[{"$f":"Table13[[#This Row],[I.D. Number ]]","v":""},{"$f":"Table13[[#This Row],[Category]]","v":0},{"$f":"Table13[[#This Row],[Type]]","v":0},{"$f":"Table13[[#This Row],[Description]]","v":0},{"$f":"Table13[[#This Row],[Life Expectancy]]","v":""},null,null,null,null,{"$f":"IF(Table142[[#This Row],[Column12]]=\"\",\"\",IF('Life Expectancy and Criticality'!AH75=0,\"0.5\",'Life Expectancy and Criticality'!AH75))","v":""},{"$f":"IF(Table142[[#This Row],[I.D. Number ]]=\"\",\"\",IF(Table142[[#This Row],[Life Expectency]]=\"0\",\"Yes\",IF((Table1468[[#This Row],[Year of Failure]]-YEAR(TODAY()))<('Life Expectancy and Criticality'!$V75*(1/3)),\"Yes\",\"No\")))","v":""},null,null,null,{"$f":"IF(Table142[[#This Row],[Column2]]=0,\"\",IF('Life Expectancy and Criticality'!AQ75=0,\"0.5\",'Life Expectancy and Criticality'!AQ75))","v":""},0,{"$f":"IF('Data Collection Sheet'!$N78,\"The YEAR OF FAILURE and PROJECTED COST were calculated using an estimated installation date.\",\"\")&IF('Cost Data'!$M78,\"The PROJECTED COST was calculated using an estimated intial price.\",\"\")","v":""}]
[{"$f":"Table13[[#This Row],[I.D. Number ]]","v":""},{"$f":"Table13[[#This Row],[Category]]","v":0},{"$f":"Table13[[#This Row],[Type]]","v":0},{"$f":"Table13[[#This Row],[Description]]","v":0},{"$f":"Table13[[#This Row],[Life Expectancy]]","v":""},null,null,null,null,{"$f":"IF(Table142[[#This Row],[Column12]]=\"\",\"\",IF('Life Expectancy and Criticality'!AH76=0,\"0.5\",'Life Expectancy and Criticality'!AH76))","v":""},{"$f":"IF(Table142[[#This Row],[I.D. Number ]]=\"\",\"\",IF(Table142[[#This Row],[Life Expectency]]=\"0\",\"Yes\",IF((Table1468[[#This Row],[Year of Failure]]-YEAR(TODAY()))<('Life Expectancy and Criticality'!$V76*(1/3)),\"Yes\",\"No\")))","v":""},null,null,null,{"$f":"IF(Table142[[#This Row],[Column2]]=0,\"\",IF('Life Expectancy and Criticality'!AQ76=0,\"0.5\",'Life Expectancy and Criticality'!AQ76))","v":""},0,{"$f":"IF('Data Collection Sheet'!$N79,\"The YEAR OF FAILURE and PROJECTED COST were calculated using an estimated installation date.\",\"\")&IF('Cost Data'!$M79,\"The PROJECTED COST was calculated using an estimated intial price.\",\"\")","v":""}]
[{"$f":"Table13[[#This Row],[I.D. Number ]]","v":""},{"$f":"Table13[[#This Row],[Category]]","v":0},{"$f":"Table13[[#This Row],[Type]]","v":0},{"$f":"Table13[[#This Row],[Description]]","v":0},{"$f":"Table13[[#This Row],[Life Expectancy]]","v":""},null,null,null,null,{"$f":"IF(Table142[[#This Row],[Column12]]=\"\",\"\",IF('Life Expectancy and Criticality'!AH77=0,\"0.5\",'Life Expectancy and Criticality'!AH77))","v":""},{"$f":"IF(Table142[[#This Row],[I.D. Number ]]=\"\",\"\",IF(Table142[[#This Row],[Life Expectency]]=\"0\",\"Yes\",IF((Table1468[[#This Row],[Year of Failure]]-YEAR(TODAY()))<('Life Expectancy and Criticality'!$V77*(1/3)),\"Yes\",\"No\")))","v":""},null,null,null,{"$f":"IF(Table142[[#This Row],[Column2]]=0,\"\",IF('Life Expectancy and Criticality'!AQ77=0,\"0.5\",'Life Expectancy and Criticality'!AQ77))","v":""},0,{"$f":"IF('Data Collection Sheet'!$N80,\"The YEAR OF FAILURE and PROJECTED COST were calculated using an estimated installation date.\",\"\")&IF('Cost Data'!$M80,\"The PROJECTED COST was calculated using an estimated intial price.\",\"\")","v":""}]
[{"$f":"Table13[[#This Row],[I.D. Number ]]","v":""},{"$f":"Table13[[#This Row],[Category]]","v":0},{"$f":"Table13[[#This Row],[Type]]","v":0},{"$f":"Table13[[#This Row],[Description]]","v":0},{"$f":"Table13[[#This Row],[Life Expectancy]]","v":""},null,null,null,null,{"$f":"IF(Table142[[#This Row],[Column12]]=\"\",\"\",IF('Life Expectancy and Criticality'!AH78=0,\"0.5\",'Life Expectancy and Criticality'!AH78))","v":""},{"$f":"IF(Table142[[#This Row],[I.D. Number ]]=\"\",\"\",IF(Table142[[#This Row],[Life Expectency]]=\"0\",\"Yes\",IF((Table1468[[#This Row],[Year of Failure]]-YEAR(TODAY()))<('Life Expectancy and Criticality'!$V78*(1/3)),\"Yes\",\"No\")))","v":""},null,null,null,{"$f":"IF(Table142[[#This Row],[Column2]]=0,\"\",IF('Life Expectancy and Criticality'!AQ78=0,\"0.5\",'Life Expectancy and Criticality'!AQ78))","v":""},0,{"$f":"IF('Data Collection Sheet'!$N81,\"The YEAR OF FAILURE and PROJECTED COST were calculated using an estimated installation date.\",\"\")&IF('Cost Data'!$M81,\"The PROJECTED COST was calculated using an estimated intial price.\",\"\")","v":""}]
[{"$f":"Table13[[#This Row],[I.D. Number ]]","v":""},{"$f":"Table13[[#This Row],[Category]]","v":0},{"$f":"Table13[[#This Row],[Type]]","v":0},{"$f":"Table13[[#This Row],[Description]]","v":0},{"$f":"Table13[[#This Row],[Life Expectancy]]","v":""},null,null,null,null,{"$f":"IF(Table142[[#This Row],[Column12]]=\"\",\"\",IF('Life Expectancy and Criticality'!AH79=0,\"0.5\",'Life Expectancy and Criticality'!AH79))","v":""},{"$f":"IF(Table142[[#This Row],[I.D. Number ]]=\"\",\"\",IF(Table142[[#This Row],[Life Expectency]]=\"0\",\"Yes\",IF((Table1468[[#This Row],[Year of Failure]]-YEAR(TODAY()))<('Life Expectancy and Criticality'!$V79*(1/3)),\"Yes\",\"No\")))","v":""},null,null,null,{"$f":"IF(Table142[[#This Row],[Column2]]=0,\"\",IF('Life Expectancy and Criticality'!AQ79=0,\"0.5\",'Life Expectancy and Criticality'!AQ79))","v":""},0,{"$f":"IF('Data Collection Sheet'!$N82,\"The YEAR OF FAILURE and PROJECTED COST were calculated using an estimated installation date.\",\"\")&IF('Cost Data'!$M82,\"The PROJECTED COST was calculated using an estimated intial price.\",\"\")","v":""}]
[{"$f":"Table13[[#This Row],[I.D. Number ]]","v":""},{"$f":"Table13[[#This Row],[Category]]","v":0},{"$f":"Table13[[#This Row],[Type]]","v":0},{"$f":"Table13[[#This Row],[Description]]","v":0},{"$f":"Table13[[#This Row],[Life Expectancy]]","v":""},null,null,null,null,{"$f":"IF(Table142[[#This Row],[Column12]]=\"\",\"\",IF('Life Expectancy and Criticality'!AH80=0,\"0.5\",'Life Expectancy and Criticality'!AH80))","v":""},{"$f":"IF(Table142[[#This Row],[I.D. Number ]]=\"\",\"\",IF(Table142[[#This Row],[Life Expectency]]=\"0\",\"Yes\",IF((Table1468[[#This Row],[Year of Failure]]-YEAR(TODAY()))<('Life Expectancy and Criticality'!$V80*(1/3)),\"Yes\",\"No\")))","v":""},null,null,null,{"$f":"IF(Table142[[#This Row],[Column2]]=0,\"\",IF('Life Expectancy and Criticality'!AQ80=0,\"0.5\",'Life Expectancy and Criticality'!AQ80))","v":""},0,{"$f":"IF('Data Collection Sheet'!$N83,\"The YEAR OF FAILURE and PROJECTED COST were calculated using an estimated installation date.\",\"\")&IF('Cost Data'!$M83,\"The PROJECTED COST was calculated using an estimated intial price.\",\"\")","v":""}]
[{"$f":"Table13[[#This Row],[I.D. Number ]]","v":""},{"$f":"Table13[[#This Row],[Category]]","v":0},{"$f":"Table13[[#This Row],[Type]]","v":0},{"$f":"Table13[[#This Row],[Description]]","v":0},{"$f":"Table13[[#This Row],[Life Expectancy]]","v":""},null,null,null,null,{"$f":"IF(Table142[[#This Row],[Column12]]=\"\",\"\",IF('Life Expectancy and Criticality'!AH81=0,\"0.5\",'Life Expectancy and Criticality'!AH81))","v":""},{"$f":"IF(Table142[[#This Row],[I.D. Number ]]=\"\",\"\",IF(Table142[[#This Row],[Life Expectency]]=\"0\",\"Yes\",IF((Table1468[[#This Row],[Year of Failure]]-YEAR(TODAY()))<('Life Expectancy and Criticality'!$V81*(1/3)),\"Yes\",\"No\")))","v":""},null,null,null,{"$f":"IF(Table142[[#This Row],[Column2]]=0,\"\",IF('Life Expectancy and Criticality'!AQ81=0,\"0.5\",'Life Expectancy and Criticality'!AQ81))","v":""},0,{"$f":"IF('Data Collection Sheet'!$N84,\"The YEAR OF FAILURE and PROJECTED COST were calculated using an estimated installation date.\",\"\")&IF('Cost Data'!$M84,\"The PROJECTED COST was calculated using an estimated intial price.\",\"\")","v":""}]
[{"$f":"Table13[[#This Row],[I.D. Number ]]","v":""},{"$f":"Table13[[#This Row],[Category]]","v":0},{"$f":"Table13[[#This Row],[Type]]","v":0},{"$f":"Table13[[#This Row],[Description]]","v":0},{"$f":"Table13[[#This Row],[Life Expectancy]]","v":""},null,null,null,null,{"$f":"IF(Table142[[#This Row],[Column12]]=\"\",\"\",IF('Life Expectancy and Criticality'!AH82=0,\"0.5\",'Life Expectancy and Criticality'!AH82))","v":""},{"$f":"IF(Table142[[#This Row],[I.D. Number ]]=\"\",\"\",IF(Table142[[#This Row],[Life Expectency]]=\"0\",\"Yes\",IF((Table1468[[#This Row],[Year of Failure]]-YEAR(TODAY()))<('Life Expectancy and Criticality'!$V82*(1/3)),\"Yes\",\"No\")))","v":""},null,null,null,{"$f":"IF(Table142[[#This Row],[Column2]]=0,\"\",IF('Life Expectancy and Criticality'!AQ82=0,\"0.5\",'Life Expectancy and Criticality'!AQ82))","v":""},0,{"$f":"IF('Data Collection Sheet'!$N85,\"The YEAR OF FAILURE and PROJECTED COST were calculated using an estimated installation date.\",\"\")&IF('Cost Data'!$M85,\"The PROJECTED COST was calculated using an estimated intial price.\",\"\")","v":""}]
[{"$f":"Table13[[#This Row],[I.D. Number ]]","v":""},{"$f":"Table13[[#This Row],[Category]]","v":0},{"$f":"Table13[[#This Row],[Type]]","v":0},{"$f":"Table13[[#This Row],[Description]]","v":0},{"$f":"Table13[[#This Row],[Life Expectancy]]","v":""},null,null,null,null,{"$f":"IF(Table142[[#This Row],[Column12]]=\"\",\"\",IF('Life Expectancy and Criticality'!AH83=0,\"0.5\",'Life Expectancy and Criticality'!AH83))","v":""},{"$f":"IF(Table142[[#This Row],[I.D. Number ]]=\"\",\"\",IF(Table142[[#This Row],[Life Expectency]]=\"0\",\"Yes\",IF((Table1468[[#This Row],[Year of Failure]]-YEAR(TODAY()))<('Life Expectancy and Criticality'!$V83*(1/3)),\"Yes\",\"No\")))","v":""},null,null,null,{"$f":"IF(Table142[[#This Row],[Column2]]=0,\"\",IF('Life Expectancy and Criticality'!AQ83=0,\"0.5\",'Life Expectancy and Criticality'!AQ83))","v":""},0,{"$f":"IF('Data Collection Sheet'!$N86,\"The YEAR OF FAILURE and PROJECTED COST were calculated using an estimated installation date.\",\"\")&IF('Cost Data'!$M86,\"The PROJECTED COST was calculated using an estimated intial price.\",\"\")","v":""}]
[{"$f":"Table13[[#This Row],[I.D. Number ]]","v":""},{"$f":"Table13[[#This Row],[Category]]","v":0},{"$f":"Table13[[#This Row],[Type]]","v":0},{"$f":"Table13[[#This Row],[Description]]","v":0},{"$f":"Table13[[#This Row],[Life Expectancy]]","v":""},null,null,null,null,{"$f":"IF(Table142[[#This Row],[Column12]]=\"\",\"\",IF('Life Expectancy and Criticality'!AH84=0,\"0.5\",'Life Expectancy and Criticality'!AH84))","v":""},{"$f":"IF(Table142[[#This Row],[I.D. Number ]]=\"\",\"\",IF(Table142[[#This Row],[Life Expectency]]=\"0\",\"Yes\",IF((Table1468[[#This Row],[Year of Failure]]-YEAR(TODAY()))<('Life Expectancy and Criticality'!$V84*(1/3)),\"Yes\",\"No\")))","v":""},null,null,null,{"$f":"IF(Table142[[#This Row],[Column2]]=0,\"\",IF('Life Expectancy and Criticality'!AQ84=0,\"0.5\",'Life Expectancy and Criticality'!AQ84))","v":""},0,{"$f":"IF('Data Collection Sheet'!$N87,\"The YEAR OF FAILURE and PROJECTED COST were calculated using an estimated installation date.\",\"\")&IF('Cost Data'!$M87,\"The PROJECTED COST was calculated using an estimated intial price.\",\"\")","v":""}]
[{"$f":"Table13[[#This Row],[I.D. Number ]]","v":""},{"$f":"Table13[[#This Row],[Category]]","v":0},{"$f":"Table13[[#This Row],[Type]]","v":0},{"$f":"Table13[[#This Row],[Description]]","v":0},{"$f":"Table13[[#This Row],[Life Expectancy]]","v":""},null,null,null,null,{"$f":"IF(Table142[[#This Row],[Column12]]=\"\",\"\",IF('Life Expectancy and Criticality'!AH85=0,\"0.5\",'Life Expectancy and Criticality'!AH85))","v":""},{"$f":"IF(Table142[[#This Row],[I.D. Number ]]=\"\",\"\",IF(Table142[[#This Row],[Life Expectency]]=\"0\",\"Yes\",IF((Table1468[[#This Row],[Year of Failure]]-YEAR(TODAY()))<('Life Expectancy and Criticality'!$V85*(1/3)),\"Yes\",\"No\")))","v":""},null,null,null,{"$f":"IF(Table142[[#This Row],[Column2]]=0,\"\",IF('Life Expectancy and Criticality'!AQ85=0,\"0.5\",'Life Expectancy and Criticality'!AQ85))","v":""},0,{"$f":"IF('Data Collection Sheet'!$N88,\"The YEAR OF FAILURE and PROJECTED COST were calculated using an estimated installation date.\",\"\")&IF('Cost Data'!$M88,\"The PROJECTED COST was calculated using an estimated intial price.\",\"\")","v":""}]
[{"$f":"Table13[[#This Row],[I.D. Number ]]","v":""},{"$f":"Table13[[#This Row],[Category]]","v":0},{"$f":"Table13[[#This Row],[Type]]","v":0},{"$f":"Table13[[#This Row],[Description]]","v":0},{"$f":"Table13[[#This Row],[Life Expectancy]]","v":""},null,null,null,null,{"$f":"IF(Table142[[#This Row],[Column12]]=\"\",\"\",IF('Life Expectancy and Criticality'!AH86=0,\"0.5\",'Life Expectancy and Criticality'!AH86))","v":""},{"$f":"IF(Table142[[#This Row],[I.D. Number ]]=\"\",\"\",IF(Table142[[#This Row],[Life Expectency]]=\"0\",\"Yes\",IF((Table1468[[#This Row],[Year of Failure]]-YEAR(TODAY()))<('Life Expectancy and Criticality'!$V86*(1/3)),\"Yes\",\"No\")))","v":""},null,null,null,{"$f":"IF(Table142[[#This Row],[Column2]]=0,\"\",IF('Life Expectancy and Criticality'!AQ86=0,\"0.5\",'Life Expectancy and Criticality'!AQ86))","v":""},0,{"$f":"IF('Data Collection Sheet'!$N89,\"The YEAR OF FAILURE and PROJECTED COST were calculated using an estimated installation date.\",\"\")&IF('Cost Data'!$M89,\"The PROJECTED COST was calculated using an estimated intial price.\",\"\")","v":""}]
[{"$f":"Table13[[#This Row],[I.D. Number ]]","v":""},{"$f":"Table13[[#This Row],[Category]]","v":0},{"$f":"Table13[[#This Row],[Type]]","v":0},{"$f":"Table13[[#This Row],[Description]]","v":0},{"$f":"Table13[[#This Row],[Life Expectancy]]","v":""},null,null,null,null,{"$f":"IF(Table142[[#This Row],[Column12]]=\"\",\"\",IF('Life Expectancy and Criticality'!AH87=0,\"0.5\",'Life Expectancy and Criticality'!AH87))","v":""},{"$f":"IF(Table142[[#This Row],[I.D. Number ]]=\"\",\"\",IF(Table142[[#This Row],[Life Expectency]]=\"0\",\"Yes\",IF((Table1468[[#This Row],[Year of Failure]]-YEAR(TODAY()))<('Life Expectancy and Criticality'!$V87*(1/3)),\"Yes\",\"No\")))","v":""},null,null,null,{"$f":"IF(Table142[[#This Row],[Column2]]=0,\"\",IF('Life Expectancy and Criticality'!AQ87=0,\"0.5\",'Life Expectancy and Criticality'!AQ87))","v":""},0,{"$f":"IF('Data Collection Sheet'!$N90,\"The YEAR OF FAILURE and PROJECTED COST were calculated using an estimated installation date.\",\"\")&IF('Cost Data'!$M90,\"The PROJECTED COST was calculated using an estimated intial price.\",\"\")","v":""}]
[{"$f":"Table13[[#This Row],[I.D. Number ]]","v":""},{"$f":"Table13[[#This Row],[Category]]","v":0},{"$f":"Table13[[#This Row],[Type]]","v":0},{"$f":"Table13[[#This Row],[Description]]","v":0},{"$f":"Table13[[#This Row],[Life Expectancy]]","v":""},null,null,null,null,{"$f":"IF(Table142[[#This Row],[Column12]]=\"\",\"\",IF('Life Expectancy and Criticality'!AH88=0,\"0.5\",'Life Expectancy and Criticality'!AH88))","v":""},{"$f":"IF(Table142[[#This Row],[I.D. Number ]]=\"\",\"\",IF(Table142[[#This Row],[Life Expectency]]=\"0\",\"Yes\",IF((Table1468[[#This Row],[Year of Failure]]-YEAR(TODAY()))<('Life Expectancy and Criticality'!$V88*(1/3)),\"Yes\",\"No\")))","v":""},null,null,null,{"$f":"IF(Table142[[#This Row],[Column2]]=0,\"\",IF('Life Expectancy and Criticality'!AQ88=0,\"0.5\",'Life Expectancy and Criticality'!AQ88))","v":""},0,{"$f":"IF('Data Collection Sheet'!$N91,\"The YEAR OF FAILURE and PROJECTED COST were calculated using an estimated installation date.\",\"\")&IF('Cost Data'!$M91,\"The PROJECTED COST was calculated using an estimated intial price.\",\"\")","v":""}]
[{"$f":"Table13[[#This Row],[I.D. Number ]]","v":""},{"$f":"Table13[[#This Row],[Category]]","v":0},{"$f":"Table13[[#This Row],[Type]]","v":0},{"$f":"Table13[[#This Row],[Description]]","v":0},{"$f":"Table13[[#This Row],[Life Expectancy]]","v":""},null,null,null,null,{"$f":"IF(Table142[[#This Row],[Column12]]=\"\",\"\",IF('Life Expectancy and Criticality'!AH89=0,\"0.5\",'Life Expectancy and Criticality'!AH89))","v":""},{"$f":"IF(Table142[[#This Row],[I.D. Number ]]=\"\",\"\",IF(Table142[[#This Row],[Life Expectency]]=\"0\",\"Yes\",IF((Table1468[[#This Row],[Year of Failure]]-YEAR(TODAY()))<('Life Expectancy and Criticality'!$V89*(1/3)),\"Yes\",\"No\")))","v":""},null,null,null,{"$f":"IF(Table142[[#This Row],[Column2]]=0,\"\",IF('Life Expectancy and Criticality'!AQ89=0,\"0.5\",'Life Expectancy and Criticality'!AQ89))","v":""},0,{"$f":"IF('Data Collection Sheet'!$N92,\"The YEAR OF FAILURE and PROJECTED COST were calculated using an estimated installation date.\",\"\")&IF('Cost Data'!$M92,\"The PROJECTED COST was calculated using an estimated intial price.\",\"\")","v":""}]
[{"$f":"Table13[[#This Row],[I.D. Number ]]","v":""},{"$f":"Table13[[#This Row],[Category]]","v":0},{"$f":"Table13[[#This Row],[Type]]","v":0},{"$f":"Table13[[#This Row],[Description]]","v":0},{"$f":"Table13[[#This Row],[Life Expectancy]]","v":""},null,null,null,null,{"$f":"IF(Table142[[#This Row],[Column12]]=\"\",\"\",IF('Life Expectancy and Criticality'!AH90=0,\"0.5\",'Life Expectancy and Criticality'!AH90))","v":""},{"$f":"IF(Table142[[#This Row],[I.D. Number ]]=\"\",\"\",IF(Table142[[#This Row],[Life Expectency]]=\"0\",\"Yes\",IF((Table1468[[#This Row],[Year of Failure]]-YEAR(TODAY()))<('Life Expectancy and Criticality'!$V90*(1/3)),\"Yes\",\"No\")))","v":""},null,null,null,{"$f":"IF(Table142[[#This Row],[Column2]]=0,\"\",IF('Life Expectancy and Criticality'!AQ90=0,\"0.5\",'Life Expectancy and Criticality'!AQ90))","v":""},0,{"$f":"IF('Data Collection Sheet'!$N93,\"The YEAR OF FAILURE and PROJECTED COST were calculated using an estimated installation date.\",\"\")&IF('Cost Data'!$M93,\"The PROJECTED COST was calculated using an estimated intial price.\",\"\")","v":""}]
[{"$f":"Table13[[#This Row],[I.D. Number ]]","v":""},{"$f":"Table13[[#This Row],[Category]]","v":0},{"$f":"Table13[[#This Row],[Type]]","v":0},{"$f":"Table13[[#This Row],[Description]]","v":0},{"$f":"Table13[[#This Row],[Life Expectancy]]","v":""},null,null,null,null,{"$f":"IF(Table142[[#This Row],[Column12]]=\"\",\"\",IF('Life Expectancy and Criticality'!AH91=0,\"0.5\",'Life Expectancy and Criticality'!AH91))","v":""},{"$f":"IF(Table142[[#This Row],[I.D. Number ]]=\"\",\"\",IF(Table142[[#This Row],[Life Expectency]]=\"0\",\"Yes\",IF((Table1468[[#This Row],[Year of Failure]]-YEAR(TODAY()))<('Life Expectancy and Criticality'!$V91*(1/3)),\"Yes\",\"No\")))","v":""},null,null,null,{"$f":"IF(Table142[[#This Row],[Column2]]=0,\"\",IF('Life Expectancy and Criticality'!AQ91=0,\"0.5\",'Life Expectancy and Criticality'!AQ91))","v":""},0,{"$f":"IF('Data Collection Sheet'!$N94,\"The YEAR OF FAILURE and PROJECTED COST were calculated using an estimated installation date.\",\"\")&IF('Cost Data'!$M94,\"The PROJECTED COST was calculated using an estimated intial price.\",\"\")","v":""}]
[{"$f":"Table13[[#This Row],[I.D. Number ]]","v":""},{"$f":"Table13[[#This Row],[Category]]","v":0},{"$f":"Table13[[#This Row],[Type]]","v":0},{"$f":"Table13[[#This Row],[Description]]","v":0},{"$f":"Table13[[#This Row],[Life Expectancy]]","v":""},null,null,null,null,{"$f":"IF(Table142[[#This Row],[Column12]]=\"\",\"\",IF('Life Expectancy and Criticality'!AH92=0,\"0.5\",'Life Expectancy and Criticality'!AH92))","v":""},{"$f":"IF(Table142[[#This Row],[I.D. Number ]]=\"\",\"\",IF(Table142[[#This Row],[Life Expectency]]=\"0\",\"Yes\",IF((Table1468[[#This Row],[Year of Failure]]-YEAR(TODAY()))<('Life Expectancy and Criticality'!$V92*(1/3)),\"Yes\",\"No\")))","v":""},null,null,null,{"$f":"IF(Table142[[#This Row],[Column2]]=0,\"\",IF('Life Expectancy and Criticality'!AQ92=0,\"0.5\",'Life Expectancy and Criticality'!AQ92))","v":""},0,{"$f":"IF('Data Collection Sheet'!$N95,\"The YEAR OF FAILURE and PROJECTED COST were calculated using an estimated installation date.\",\"\")&IF('Cost Data'!$M95,\"The PROJECTED COST was calculated using an estimated intial price.\",\"\")","v":""}]
[{"$f":"Table13[[#This Row],[I.D. Number ]]","v":""},{"$f":"Table13[[#This Row],[Category]]","v":0},{"$f":"Table13[[#This Row],[Type]]","v":0},{"$f":"Table13[[#This Row],[Description]]","v":0},{"$f":"Table13[[#This Row],[Life Expectancy]]","v":""},null,null,null,null,{"$f":"IF(Table142[[#This Row],[Column12]]=\"\",\"\",IF('Life Expectancy and Criticality'!AH93=0,\"0.5\",'Life Expectancy and Criticality'!AH93))","v":""},{"$f":"IF(Table142[[#This Row],[I.D. Number ]]=\"\",\"\",IF(Table142[[#This Row],[Life Expectency]]=\"0\",\"Yes\",IF((Table1468[[#This Row],[Year of Failure]]-YEAR(TODAY()))<('Life Expectancy and Criticality'!$V93*(1/3)),\"Yes\",\"No\")))","v":""},null,null,null,{"$f":"IF(Table142[[#This Row],[Column2]]=0,\"\",IF('Life Expectancy and Criticality'!AQ93=0,\"0.5\",'Life Expectancy and Criticality'!AQ93))","v":""},0,{"$f":"IF('Data Collection Sheet'!$N96,\"The YEAR OF FAILURE and PROJECTED COST were calculated using an estimated installation date.\",\"\")&IF('Cost Data'!$M96,\"The PROJECTED COST was calculated using an estimated intial price.\",\"\")","v":""}]
[{"$f":"Table13[[#This Row],[I.D. Number ]]","v":""},{"$f":"Table13[[#This Row],[Category]]","v":0},{"$f":"Table13[[#This Row],[Type]]","v":0},{"$f":"Table13[[#This Row],[Description]]","v":0},{"$f":"Table13[[#This Row],[Life Expectancy]]","v":""},null,null,null,null,{"$f":"IF(Table142[[#This Row],[Column12]]=\"\",\"\",IF('Life Expectancy and Criticality'!AH94=0,\"0.5\",'Life Expectancy and Criticality'!AH94))","v":""},{"$f":"IF(Table142[[#This Row],[I.D. Number ]]=\"\",\"\",IF(Table142[[#This Row],[Life Expectency]]=\"0\",\"Yes\",IF((Table1468[[#This Row],[Year of Failure]]-YEAR(TODAY()))<('Life Expectancy and Criticality'!$V94*(1/3)),\"Yes\",\"No\")))","v":""},null,null,null,{"$f":"IF(Table142[[#This Row],[Column2]]=0,\"\",IF('Life Expectancy and Criticality'!AQ94=0,\"0.5\",'Life Expectancy and Criticality'!AQ94))","v":""},0,{"$f":"IF('Data Collection Sheet'!$N97,\"The YEAR OF FAILURE and PROJECTED COST were calculated using an estimated installation date.\",\"\")&IF('Cost Data'!$M97,\"The PROJECTED COST was calculated using an estimated intial price.\",\"\")","v":""}]
[{"$f":"Table13[[#This Row],[I.D. Number ]]","v":""},{"$f":"Table13[[#This Row],[Category]]","v":0},{"$f":"Table13[[#This Row],[Type]]","v":0},{"$f":"Table13[[#This Row],[Description]]","v":0},{"$f":"Table13[[#This Row],[Life Expectancy]]","v":""},null,null,null,null,{"$f":"IF(Table142[[#This Row],[Column12]]=\"\",\"\",IF('Life Expectancy and Criticality'!AH95=0,\"0.5\",'Life Expectancy and Criticality'!AH95))","v":""},{"$f":"IF(Table142[[#This Row],[I.D. Number ]]=\"\",\"\",IF(Table142[[#This Row],[Life Expectency]]=\"0\",\"Yes\",IF((Table1468[[#This Row],[Year of Failure]]-YEAR(TODAY()))<('Life Expectancy and Criticality'!$V95*(1/3)),\"Yes\",\"No\")))","v":""},null,null,null,{"$f":"IF(Table142[[#This Row],[Column2]]=0,\"\",IF('Life Expectancy and Criticality'!AQ95=0,\"0.5\",'Life Expectancy and Criticality'!AQ95))","v":""},0,{"$f":"IF('Data Collection Sheet'!$N98,\"The YEAR OF FAILURE and PROJECTED COST were calculated using an estimated installation date.\",\"\")&IF('Cost Data'!$M98,\"The PROJECTED COST was calculated using an estimated intial price.\",\"\")","v":""}]
[{"$f":"Table13[[#This Row],[I.D. Number ]]","v":""},{"$f":"Table13[[#This Row],[Category]]","v":0},{"$f":"Table13[[#This Row],[Type]]","v":0},{"$f":"Table13[[#This Row],[Description]]","v":0},{"$f":"Table13[[#This Row],[Life Expectancy]]","v":""},null,null,null,null,{"$f":"IF(Table142[[#This Row],[Column12]]=\"\",\"\",IF('Life Expectancy and Criticality'!AH96=0,\"0.5\",'Life Expectancy and Criticality'!AH96))","v":""},{"$f":"IF(Table142[[#This Row],[I.D. Number ]]=\"\",\"\",IF(Table142[[#This Row],[Life Expectency]]=\"0\",\"Yes\",IF((Table1468[[#This Row],[Year of Failure]]-YEAR(TODAY()))<('Life Expectancy and Criticality'!$V96*(1/3)),\"Yes\",\"No\")))","v":""},null,null,null,{"$f":"IF(Table142[[#This Row],[Column2]]=0,\"\",IF('Life Expectancy and Criticality'!AQ96=0,\"0.5\",'Life Expectancy and Criticality'!AQ96))","v":""},0,{"$f":"IF('Data Collection Sheet'!$N99,\"The YEAR OF FAILURE and PROJECTED COST were calculated using an estimated installation date.\",\"\")&IF('Cost Data'!$M99,\"The PROJECTED COST was calculated using an estimated intial price.\",\"\")","v":""}]
[{"$f":"Table13[[#This Row],[I.D. Number ]]","v":""},{"$f":"Table13[[#This Row],[Category]]","v":0},{"$f":"Table13[[#This Row],[Type]]","v":0},{"$f":"Table13[[#This Row],[Description]]","v":0},{"$f":"Table13[[#This Row],[Life Expectancy]]","v":""},null,null,null,null,{"$f":"IF(Table142[[#This Row],[Column12]]=\"\",\"\",IF('Life Expectancy and Criticality'!AH97=0,\"0.5\",'Life Expectancy and Criticality'!AH97))","v":""},{"$f":"IF(Table142[[#This Row],[I.D. Number ]]=\"\",\"\",IF(Table142[[#This Row],[Life Expectency]]=\"0\",\"Yes\",IF((Table1468[[#This Row],[Year of Failure]]-YEAR(TODAY()))<('Life Expectancy and Criticality'!$V97*(1/3)),\"Yes\",\"No\")))","v":""},null,null,null,{"$f":"IF(Table142[[#This Row],[Column2]]=0,\"\",IF('Life Expectancy and Criticality'!AQ97=0,\"0.5\",'Life Expectancy and Criticality'!AQ97))","v":""},0,{"$f":"IF('Data Collection Sheet'!$N100,\"The YEAR OF FAILURE and PROJECTED COST were calculated using an estimated installation date.\",\"\")&IF('Cost Data'!$M100,\"The PROJECTED COST was calculated using an estimated intial price.\",\"\")","v":""}]
[{"$f":"Table13[[#This Row],[I.D. Number ]]","v":""},{"$f":"Table13[[#This Row],[Category]]","v":0},{"$f":"Table13[[#This Row],[Type]]","v":0},{"$f":"Table13[[#This Row],[Description]]","v":0},{"$f":"Table13[[#This Row],[Life Expectancy]]","v":""},null,null,null,null,{"$f":"IF(Table142[[#This Row],[Column12]]=\"\",\"\",IF('Life Expectancy and Criticality'!AH98=0,\"0.5\",'Life Expectancy and Criticality'!AH98))","v":""},{"$f":"IF(Table142[[#This Row],[I.D. Number ]]=\"\",\"\",IF(Table142[[#This Row],[Life Expectency]]=\"0\",\"Yes\",IF((Table1468[[#This Row],[Year of Failure]]-YEAR(TODAY()))<('Life Expectancy and Criticality'!$V98*(1/3)),\"Yes\",\"No\")))","v":""},null,null,null,{"$f":"IF(Table142[[#This Row],[Column2]]=0,\"\",IF('Life Expectancy and Criticality'!AQ98=0,\"0.5\",'Life Expectancy and Criticality'!AQ98))","v":""},0,{"$f":"IF('Data Collection Sheet'!$N101,\"The YEAR OF FAILURE and PROJECTED COST were calculated using an estimated installation date.\",\"\")&IF('Cost Data'!$M101,\"The PROJECTED COST was calculated using an estimated intial price.\",\"\")","v":""}]
[{"$f":"Table13[[#This Row],[I.D. Number ]]","v":""},{"$f":"Table13[[#This Row],[Category]]","v":0},{"$f":"Table13[[#This Row],[Type]]","v":0},{"$f":"Table13[[#This Row],[Description]]","v":0},{"$f":"Table13[[#This Row],[Life Expectancy]]","v":""},null,null,null,null,{"$f":"IF(Table142[[#This Row],[Column12]]=\"\",\"\",IF('Life Expectancy and Criticality'!AH99=0,\"0.5\",'Life Expectancy and Criticality'!AH99))","v":""},{"$f":"IF(Table142[[#This Row],[I.D. Number ]]=\"\",\"\",IF(Table142[[#This Row],[Life Expectency]]=\"0\",\"Yes\",IF((Table1468[[#This Row],[Year of Failure]]-YEAR(TODAY()))<('Life Expectancy and Criticality'!$V99*(1/3)),\"Yes\",\"No\")))","v":""},null,null,null,{"$f":"IF(Table142[[#This Row],[Column2]]=0,\"\",IF('Life Expectancy and Criticality'!AQ99=0,\"0.5\",'Life Expectancy and Criticality'!AQ99))","v":""},0,{"$f":"IF('Data Collection Sheet'!$N102,\"The YEAR OF FAILURE and PROJECTED COST were calculated using an estimated installation date.\",\"\")&IF('Cost Data'!$M102,\"The PROJECTED COST was calculated using an estimated intial price.\",\"\")","v":""}]
[{"$f":"Table13[[#This Row],[I.D. Number ]]","v":""},{"$f":"Table13[[#This Row],[Category]]","v":0},{"$f":"Table13[[#This Row],[Type]]","v":0},{"$f":"Table13[[#This Row],[Description]]","v":0},{"$f":"Table13[[#This Row],[Life Expectancy]]","v":""},null,null,null,null,{"$f":"IF(Table142[[#This Row],[Column12]]=\"\",\"\",IF('Life Expectancy and Criticality'!AH100=0,\"0.5\",'Life Expectancy and Criticality'!AH100))","v":""},{"$f":"IF(Table142[[#This Row],[I.D. Number ]]=\"\",\"\",IF(Table142[[#This Row],[Life Expectency]]=\"0\",\"Yes\",IF((Table1468[[#This Row],[Year of Failure]]-YEAR(TODAY()))<('Life Expectancy and Criticality'!$V100*(1/3)),\"Yes\",\"No\")))","v":""},null,null,null,{"$f":"IF(Table142[[#This Row],[Column2]]=0,\"\",IF('Life Expectancy and Criticality'!AQ100=0,\"0.5\",'Life Expectancy and Criticality'!AQ100))","v":""},0,{"$f":"IF('Data Collection Sheet'!$N103,\"The YEAR OF FAILURE and PROJECTED COST were calculated using an estimated installation date.\",\"\")&IF('Cost Data'!$M103,\"The PROJECTED COST was calculated using an estimated intial price.\",\"\")","v":""}]
[{"$f":"Table13[[#This Row],[I.D. Number ]]","v":""},{"$f":"Table13[[#This Row],[Category]]","v":0},{"$f":"Table13[[#This Row],[Type]]","v":0},{"$f":"Table13[[#This Row],[Description]]","v":0},{"$f":"Table13[[#This Row],[Life Expectancy]]","v":""},null,null,null,null,{"$f":"IF(Table142[[#This Row],[Column12]]=\"\",\"\",IF('Life Expectancy and Criticality'!AH101=0,\"0.5\",'Life Expectancy and Criticality'!AH101))","v":""},{"$f":"IF(Table142[[#This Row],[I.D. Number ]]=\"\",\"\",IF(Table142[[#This Row],[Life Expectency]]=\"0\",\"Yes\",IF((Table1468[[#This Row],[Year of Failure]]-YEAR(TODAY()))<('Life Expectancy and Criticality'!$V101*(1/3)),\"Yes\",\"No\")))","v":""},null,null,null,{"$f":"IF(Table142[[#This Row],[Column2]]=0,\"\",IF('Life Expectancy and Criticality'!AQ101=0,\"0.5\",'Life Expectancy and Criticality'!AQ101))","v":""},0,{"$f":"IF('Data Collection Sheet'!$N104,\"The YEAR OF FAILURE and PROJECTED COST were calculated using an estimated installation date.\",\"\")&IF('Cost Data'!$M104,\"The PROJECTED COST was calculated using an estimated intial price.\",\"\")","v":""}]
[{"$f":"Table13[[#This Row],[I.D. Number ]]","v":""},{"$f":"Table13[[#This Row],[Category]]","v":0},{"$f":"Table13[[#This Row],[Type]]","v":0},{"$f":"Table13[[#This Row],[Description]]","v":0},{"$f":"Table13[[#This Row],[Life Expectancy]]","v":""},null,null,null,null,{"$f":"IF(Table142[[#This Row],[Column12]]=\"\",\"\",IF('Life Expectancy and Criticality'!AH102=0,\"0.5\",'Life Expectancy and Criticality'!AH102))","v":""},{"$f":"IF(Table142[[#This Row],[I.D. Number ]]=\"\",\"\",IF(Table142[[#This Row],[Life Expectency]]=\"0\",\"Yes\",IF((Table1468[[#This Row],[Year of Failure]]-YEAR(TODAY()))<('Life Expectancy and Criticality'!$V102*(1/3)),\"Yes\",\"No\")))","v":""},null,null,null,{"$f":"IF(Table142[[#This Row],[Column2]]=0,\"\",IF('Life Expectancy and Criticality'!AQ102=0,\"0.5\",'Life Expectancy and Criticality'!AQ102))","v":""},0,{"$f":"IF('Data Collection Sheet'!$N105,\"The YEAR OF FAILURE and PROJECTED COST were calculated using an estimated installation date.\",\"\")&IF('Cost Data'!$M105,\"The PROJECTED COST was calculated using an estimated intial price.\",\"\")","v":""}]
[{"$f":"Table13[[#This Row],[I.D. Number ]]","v":""},{"$f":"Table13[[#This Row],[Category]]","v":0},{"$f":"Table13[[#This Row],[Type]]","v":0},{"$f":"Table13[[#This Row],[Description]]","v":0},{"$f":"Table13[[#This Row],[Life Expectancy]]","v":""},null,null,null,null,{"$f":"IF(Table142[[#This Row],[Column12]]=\"\",\"\",IF('Life Expectancy and Criticality'!AH103=0,\"0.5\",'Life Expectancy and Criticality'!AH103))","v":""},{"$f":"IF(Table142[[#This Row],[I.D. Number ]]=\"\",\"\",IF(Table142[[#This Row],[Life Expectency]]=\"0\",\"Yes\",IF((Table1468[[#This Row],[Year of Failure]]-YEAR(TODAY()))<('Life Expectancy and Criticality'!$V103*(1/3)),\"Yes\",\"No\")))","v":""},null,null,null,{"$f":"IF(Table142[[#This Row],[Column2]]=0,\"\",IF('Life Expectancy and Criticality'!AQ103=0,\"0.5\",'Life Expectancy and Criticality'!AQ103))","v":""},0,{"$f":"IF('Data Collection Sheet'!$N106,\"The YEAR OF FAILURE and PROJECTED COST were calculated using an estimated installation date.\",\"\")&IF('Cost Data'!$M106,\"The PROJECTED COST was calculated using an estimated intial price.\",\"\")","v":""}]
[{"$f":"Table13[[#This Row],[I.D. Number ]]","v":""},{"$f":"Table13[[#This Row],[Category]]","v":0},{"$f":"Table13[[#This Row],[Type]]","v":0},{"$f":"Table13[[#This Row],[Description]]","v":0},{"$f":"Table13[[#This Row],[Life Expectancy]]","v":""},null,null,null,null,{"$f":"IF(Table142[[#This Row],[Column12]]=\"\",\"\",IF('Life Expectancy and Criticality'!AH104=0,\"0.5\",'Life Expectancy and Criticality'!AH104))","v":""},{"$f":"IF(Table142[[#This Row],[I.D. Number ]]=\"\",\"\",IF(Table142[[#This Row],[Life Expectency]]=\"0\",\"Yes\",IF((Table1468[[#This Row],[Year of Failure]]-YEAR(TODAY()))<('Life Expectancy and Criticality'!$V104*(1/3)),\"Yes\",\"No\")))","v":""},null,null,null,{"$f":"IF(Table142[[#This Row],[Column2]]=0,\"\",IF('Life Expectancy and Criticality'!AQ104=0,\"0.5\",'Life Expectancy and Criticality'!AQ104))","v":""},0,{"$f":"IF('Data Collection Sheet'!$N107,\"The YEAR OF FAILURE and PROJECTED COST were calculated using an estimated installation date.\",\"\")&IF('Cost Data'!$M107,\"The PROJECTED COST was calculated using an estimated intial price.\",\"\")","v":""}]
[{"$f":"Table13[[#This Row],[I.D. Number ]]","v":""},{"$f":"Table13[[#This Row],[Category]]","v":0},{"$f":"Table13[[#This Row],[Type]]","v":0},{"$f":"Table13[[#This Row],[Description]]","v":0},{"$f":"Table13[[#This Row],[Life Expectancy]]","v":""},null,null,null,null,{"$f":"IF(Table142[[#This Row],[Column12]]=\"\",\"\",IF('Life Expectancy and Criticality'!AH105=0,\"0.5\",'Life Expectancy and Criticality'!AH105))","v":""},{"$f":"IF(Table142[[#This Row],[I.D. Number ]]=\"\",\"\",IF(Table142[[#This Row],[Life Expectency]]=\"0\",\"Yes\",IF((Table1468[[#This Row],[Year of Failure]]-YEAR(TODAY()))<('Life Expectancy and Criticality'!$V105*(1/3)),\"Yes\",\"No\")))","v":""},null,null,null,{"$f":"IF(Table142[[#This Row],[Column2]]=0,\"\",IF('Life Expectancy and Criticality'!AQ105=0,\"0.5\",'Life Expectancy and Criticality'!AQ105))","v":""},0,{"$f":"IF('Data Collection Sheet'!$N108,\"The YEAR OF FAILURE and PROJECTED COST were calculated using an estimated installation date.\",\"\")&IF('Cost Data'!$M108,\"The PROJECTED COST was calculated using an estimated intial price.\",\"\")","v":""}]
[{"$f":"Table13[[#This Row],[I.D. Number ]]","v":""},{"$f":"Table13[[#This Row],[Category]]","v":0},{"$f":"Table13[[#This Row],[Type]]","v":0},{"$f":"Table13[[#This Row],[Description]]","v":0},{"$f":"Table13[[#This Row],[Life Expectancy]]","v":""},null,null,null,null,{"$f":"IF(Table142[[#This Row],[Column12]]=\"\",\"\",IF('Life Expectancy and Criticality'!AH106=0,\"0.5\",'Life Expectancy and Criticality'!AH106))","v":""},{"$f":"IF(Table142[[#This Row],[I.D. Number ]]=\"\",\"\",IF(Table142[[#This Row],[Life Expectency]]=\"0\",\"Yes\",IF((Table1468[[#This Row],[Year of Failure]]-YEAR(TODAY()))<('Life Expectancy and Criticality'!$V106*(1/3)),\"Yes\",\"No\")))","v":""},null,null,null,{"$f":"IF(Table142[[#This Row],[Column2]]=0,\"\",IF('Life Expectancy and Criticality'!AQ106=0,\"0.5\",'Life Expectancy and Criticality'!AQ106))","v":""},0,{"$f":"IF('Data Collection Sheet'!$N109,\"The YEAR OF FAILURE and PROJECTED COST were calculated using an estimated installation date.\",\"\")&IF('Cost Data'!$M109,\"The PROJECTED COST was calculated using an estimated intial price.\",\"\")","v":""}]
[{"$f":"Table13[[#This Row],[I.D. Number ]]","v":""},{"$f":"Table13[[#This Row],[Category]]","v":0},{"$f":"Table13[[#This Row],[Type]]","v":0},{"$f":"Table13[[#This Row],[Description]]","v":0},{"$f":"Table13[[#This Row],[Life Expectancy]]","v":""},null,null,null,null,{"$f":"IF(Table142[[#This Row],[Column12]]=\"\",\"\",IF('Life Expectancy and Criticality'!AH107=0,\"0.5\",'Life Expectancy and Criticality'!AH107))","v":""},{"$f":"IF(Table142[[#This Row],[I.D. Number ]]=\"\",\"\",IF(Table142[[#This Row],[Life Expectency]]=\"0\",\"Yes\",IF((Table1468[[#This Row],[Year of Failure]]-YEAR(TODAY()))<('Life Expectancy and Criticality'!$V107*(1/3)),\"Yes\",\"No\")))","v":""},null,null,null,{"$f":"IF(Table142[[#This Row],[Column2]]=0,\"\",IF('Life Expectancy and Criticality'!AQ107=0,\"0.5\",'Life Expectancy and Criticality'!AQ107))","v":""},0,{"$f":"IF('Data Collection Sheet'!$N110,\"The YEAR OF FAILURE and PROJECTED COST were calculated using an estimated installation date.\",\"\")&IF('Cost Data'!$M110,\"The PROJECTED COST was calculated using an estimated intial price.\",\"\")","v":""}]
[{"$f":"Table13[[#This Row],[I.D. Number ]]","v":""},{"$f":"Table13[[#This Row],[Category]]","v":0},{"$f":"Table13[[#This Row],[Type]]","v":0},{"$f":"Table13[[#This Row],[Description]]","v":0},{"$f":"Table13[[#This Row],[Life Expectancy]]","v":""},null,null,null,null,{"$f":"IF(Table142[[#This Row],[Column12]]=\"\",\"\",IF('Life Expectancy and Criticality'!AH108=0,\"0.5\",'Life Expectancy and Criticality'!AH108))","v":""},{"$f":"IF(Table142[[#This Row],[I.D. Number ]]=\"\",\"\",IF(Table142[[#This Row],[Life Expectency]]=\"0\",\"Yes\",IF((Table1468[[#This Row],[Year of Failure]]-YEAR(TODAY()))<('Life Expectancy and Criticality'!$V108*(1/3)),\"Yes\",\"No\")))","v":""},null,null,null,{"$f":"IF(Table142[[#This Row],[Column2]]=0,\"\",IF('Life Expectancy and Criticality'!AQ108=0,\"0.5\",'Life Expectancy and Criticality'!AQ108))","v":""},0,{"$f":"IF('Data Collection Sheet'!$N111,\"The YEAR OF FAILURE and PROJECTED COST were calculated using an estimated installation date.\",\"\")&IF('Cost Data'!$M111,\"The PROJECTED COST was calculated using an estimated intial price.\",\"\")","v":""}]
[{"$f":"Table13[[#This Row],[I.D. Number ]]","v":""},{"$f":"Table13[[#This Row],[Category]]","v":0},{"$f":"Table13[[#This Row],[Type]]","v":0},{"$f":"Table13[[#This Row],[Description]]","v":0},{"$f":"Table13[[#This Row],[Life Expectancy]]","v":""},null,null,null,null,{"$f":"IF(Table142[[#This Row],[Column12]]=\"\",\"\",IF('Life Expectancy and Criticality'!AH109=0,\"0.5\",'Life Expectancy and Criticality'!AH109))","v":""},{"$f":"IF(Table142[[#This Row],[I.D. Number ]]=\"\",\"\",IF(Table142[[#This Row],[Life Expectency]]=\"0\",\"Yes\",IF((Table1468[[#This Row],[Year of Failure]]-YEAR(TODAY()))<('Life Expectancy and Criticality'!$V109*(1/3)),\"Yes\",\"No\")))","v":""},null,null,null,{"$f":"IF(Table142[[#This Row],[Column2]]=0,\"\",IF('Life Expectancy and Criticality'!AQ109=0,\"0.5\",'Life Expectancy and Criticality'!AQ109))","v":""},0,{"$f":"IF('Data Collection Sheet'!$N112,\"The YEAR OF FAILURE and PROJECTED COST were calculated using an estimated installation date.\",\"\")&IF('Cost Data'!$M112,\"The PROJECTED COST was calculated using an estimated intial price.\",\"\")","v":""}]
[{"$f":"Table13[[#This Row],[I.D. Number ]]","v":""},{"$f":"Table13[[#This Row],[Category]]","v":0},{"$f":"Table13[[#This Row],[Type]]","v":0},{"$f":"Table13[[#This Row],[Description]]","v":0},{"$f":"Table13[[#This Row],[Life Expectancy]]","v":""},null,null,null,null,{"$f":"IF(Table142[[#This Row],[Column12]]=\"\",\"\",IF('Life Expectancy and Criticality'!AH110=0,\"0.5\",'Life Expectancy and Criticality'!AH110))","v":""},{"$f":"IF(Table142[[#This Row],[I.D. Number ]]=\"\",\"\",IF(Table142[[#This Row],[Life Expectency]]=\"0\",\"Yes\",IF((Table1468[[#This Row],[Year of Failure]]-YEAR(TODAY()))<('Life Expectancy and Criticality'!$V110*(1/3)),\"Yes\",\"No\")))","v":""},null,null,null,{"$f":"IF(Table142[[#This Row],[Column2]]=0,\"\",IF('Life Expectancy and Criticality'!AQ110=0,\"0.5\",'Life Expectancy and Criticality'!AQ110))","v":""},0,{"$f":"IF('Data Collection Sheet'!$N113,\"The YEAR OF FAILURE and PROJECTED COST were calculated using an estimated installation date.\",\"\")&IF('Cost Data'!$M113,\"The PROJECTED COST was calculated using an estimated intial price.\",\"\")","v":""}]
[{"$f":"Table13[[#This Row],[I.D. Number ]]","v":""},{"$f":"Table13[[#This Row],[Category]]","v":0},{"$f":"Table13[[#This Row],[Type]]","v":0},{"$f":"Table13[[#This Row],[Description]]","v":0},{"$f":"Table13[[#This Row],[Life Expectancy]]","v":""},null,null,null,null,{"$f":"IF(Table142[[#This Row],[Column12]]=\"\",\"\",IF('Life Expectancy and Criticality'!AH111=0,\"0.5\",'Life Expectancy and Criticality'!AH111))","v":""},{"$f":"IF(Table142[[#This Row],[I.D. Number ]]=\"\",\"\",IF(Table142[[#This Row],[Life Expectency]]=\"0\",\"Yes\",IF((Table1468[[#This Row],[Year of Failure]]-YEAR(TODAY()))<('Life Expectancy and Criticality'!$V111*(1/3)),\"Yes\",\"No\")))","v":""},null,null,null,{"$f":"IF(Table142[[#This Row],[Column2]]=0,\"\",IF('Life Expectancy and Criticality'!AQ111=0,\"0.5\",'Life Expectancy and Criticality'!AQ111))","v":""},0,{"$f":"IF('Data Collection Sheet'!$N114,\"The YEAR OF FAILURE and PROJECTED COST were calculated using an estimated installation date.\",\"\")&IF('Cost Data'!$M114,\"The PROJECTED COST was calculated using an estimated intial price.\",\"\")","v":""}]
[{"$f":"Table13[[#This Row],[I.D. Number ]]","v":""},{"$f":"Table13[[#This Row],[Category]]","v":0},{"$f":"Table13[[#This Row],[Type]]","v":0},{"$f":"Table13[[#This Row],[Description]]","v":0},{"$f":"Table13[[#This Row],[Life Expectancy]]","v":""},null,null,null,null,{"$f":"IF(Table142[[#This Row],[Column12]]=\"\",\"\",IF('Life Expectancy and Criticality'!AH112=0,\"0.5\",'Life Expectancy and Criticality'!AH112))","v":""},{"$f":"IF(Table142[[#This Row],[I.D. Number ]]=\"\",\"\",IF(Table142[[#This Row],[Life Expectency]]=\"0\",\"Yes\",IF((Table1468[[#This Row],[Year of Failure]]-YEAR(TODAY()))<('Life Expectancy and Criticality'!$V112*(1/3)),\"Yes\",\"No\")))","v":""},null,null,null,{"$f":"IF(Table142[[#This Row],[Column2]]=0,\"\",IF('Life Expectancy and Criticality'!AQ112=0,\"0.5\",'Life Expectancy and Criticality'!AQ112))","v":""},0,{"$f":"IF('Data Collection Sheet'!$N115,\"The YEAR OF FAILURE and PROJECTED COST were calculated using an estimated installation date.\",\"\")&IF('Cost Data'!$M115,\"The PROJECTED COST was calculated using an estimated intial price.\",\"\")","v":""}]
[{"$f":"Table13[[#This Row],[I.D. Number ]]","v":""},{"$f":"Table13[[#This Row],[Category]]","v":0},{"$f":"Table13[[#This Row],[Type]]","v":0},{"$f":"Table13[[#This Row],[Description]]","v":0},{"$f":"Table13[[#This Row],[Life Expectancy]]","v":""},null,null,null,null,{"$f":"IF(Table142[[#This Row],[Column12]]=\"\",\"\",IF('Life Expectancy and Criticality'!AH113=0,\"0.5\",'Life Expectancy and Criticality'!AH113))","v":""},{"$f":"IF(Table142[[#This Row],[I.D. Number ]]=\"\",\"\",IF(Table142[[#This Row],[Life Expectency]]=\"0\",\"Yes\",IF((Table1468[[#This Row],[Year of Failure]]-YEAR(TODAY()))<('Life Expectancy and Criticality'!$V113*(1/3)),\"Yes\",\"No\")))","v":""},null,null,null,{"$f":"IF(Table142[[#This Row],[Column2]]=0,\"\",IF('Life Expectancy and Criticality'!AQ113=0,\"0.5\",'Life Expectancy and Criticality'!AQ113))","v":""},0,{"$f":"IF('Data Collection Sheet'!$N116,\"The YEAR OF FAILURE and PROJECTED COST were calculated using an estimated installation date.\",\"\")&IF('Cost Data'!$M116,\"The PROJECTED COST was calculated using an estimated intial price.\",\"\")","v":""}]
[{"$f":"Table13[[#This Row],[I.D. Number ]]","v":""},{"$f":"Table13[[#This Row],[Category]]","v":0},{"$f":"Table13[[#This Row],[Type]]","v":0},{"$f":"Table13[[#This Row],[Description]]","v":0},{"$f":"Table13[[#This Row],[Life Expectancy]]","v":""},null,null,null,null,{"$f":"IF(Table142[[#This Row],[Column12]]=\"\",\"\",IF('Life Expectancy and Criticality'!AH114=0,\"0.5\",'Life Expectancy and Criticality'!AH114))","v":""},{"$f":"IF(Table142[[#This Row],[I.D. Number ]]=\"\",\"\",IF(Table142[[#This Row],[Life Expectency]]=\"0\",\"Yes\",IF((Table1468[[#This Row],[Year of Failure]]-YEAR(TODAY()))<('Life Expectancy and Criticality'!$V114*(1/3)),\"Yes\",\"No\")))","v":""},null,null,null,{"$f":"IF(Table142[[#This Row],[Column2]]=0,\"\",IF('Life Expectancy and Criticality'!AQ114=0,\"0.5\",'Life Expectancy and Criticality'!AQ114))","v":""},0,{"$f":"IF('Data Collection Sheet'!$N117,\"The YEAR OF FAILURE and PROJECTED COST were calculated using an estimated installation date.\",\"\")&IF('Cost Data'!$M117,\"The PROJECTED COST was calculated using an estimated intial price.\",\"\")","v":""}]
[{"$f":"Table13[[#This Row],[I.D. Number ]]","v":""},{"$f":"Table13[[#This Row],[Category]]","v":0},{"$f":"Table13[[#This Row],[Type]]","v":0},{"$f":"Table13[[#This Row],[Description]]","v":0},{"$f":"Table13[[#This Row],[Life Expectancy]]","v":""},null,null,null,null,{"$f":"IF(Table142[[#This Row],[Column12]]=\"\",\"\",IF('Life Expectancy and Criticality'!AH115=0,\"0.5\",'Life Expectancy and Criticality'!AH115))","v":""},{"$f":"IF(Table142[[#This Row],[I.D. Number ]]=\"\",\"\",IF(Table142[[#This Row],[Life Expectency]]=\"0\",\"Yes\",IF((Table1468[[#This Row],[Year of Failure]]-YEAR(TODAY()))<('Life Expectancy and Criticality'!$V115*(1/3)),\"Yes\",\"No\")))","v":""},null,null,null,{"$f":"IF(Table142[[#This Row],[Column2]]=0,\"\",IF('Life Expectancy and Criticality'!AQ115=0,\"0.5\",'Life Expectancy and Criticality'!AQ115))","v":""},0,{"$f":"IF('Data Collection Sheet'!$N118,\"The YEAR OF FAILURE and PROJECTED COST were calculated using an estimated installation date.\",\"\")&IF('Cost Data'!$M118,\"The PROJECTED COST was calculated using an estimated intial price.\",\"\")","v":""}]
[{"$f":"Table13[[#This Row],[I.D. Number ]]","v":""},{"$f":"Table13[[#This Row],[Category]]","v":0},{"$f":"Table13[[#This Row],[Type]]","v":0},{"$f":"Table13[[#This Row],[Description]]","v":0},{"$f":"Table13[[#This Row],[Life Expectancy]]","v":""},null,null,null,null,{"$f":"IF(Table142[[#This Row],[Column12]]=\"\",\"\",IF('Life Expectancy and Criticality'!AH116=0,\"0.5\",'Life Expectancy and Criticality'!AH116))","v":""},{"$f":"IF(Table142[[#This Row],[I.D. Number ]]=\"\",\"\",IF(Table142[[#This Row],[Life Expectency]]=\"0\",\"Yes\",IF((Table1468[[#This Row],[Year of Failure]]-YEAR(TODAY()))<('Life Expectancy and Criticality'!$V116*(1/3)),\"Yes\",\"No\")))","v":""},null,null,null,{"$f":"IF(Table142[[#This Row],[Column2]]=0,\"\",IF('Life Expectancy and Criticality'!AQ116=0,\"0.5\",'Life Expectancy and Criticality'!AQ116))","v":""},0,{"$f":"IF('Data Collection Sheet'!$N119,\"The YEAR OF FAILURE and PROJECTED COST were calculated using an estimated installation date.\",\"\")&IF('Cost Data'!$M119,\"The PROJECTED COST was calculated using an estimated intial price.\",\"\")","v":""}]
[{"$f":"Table13[[#This Row],[I.D. Number ]]","v":""},{"$f":"Table13[[#This Row],[Category]]","v":0},{"$f":"Table13[[#This Row],[Type]]","v":0},{"$f":"Table13[[#This Row],[Description]]","v":0},{"$f":"Table13[[#This Row],[Life Expectancy]]","v":""},null,null,null,null,{"$f":"IF(Table142[[#This Row],[Column12]]=\"\",\"\",IF('Life Expectancy and Criticality'!AH117=0,\"0.5\",'Life Expectancy and Criticality'!AH117))","v":""},{"$f":"IF(Table142[[#This Row],[I.D. Number ]]=\"\",\"\",IF(Table142[[#This Row],[Life Expectency]]=\"0\",\"Yes\",IF((Table1468[[#This Row],[Year of Failure]]-YEAR(TODAY()))<('Life Expectancy and Criticality'!$V117*(1/3)),\"Yes\",\"No\")))","v":""},null,null,null,{"$f":"IF(Table142[[#This Row],[Column2]]=0,\"\",IF('Life Expectancy and Criticality'!AQ117=0,\"0.5\",'Life Expectancy and Criticality'!AQ117))","v":""},0,{"$f":"IF('Data Collection Sheet'!$N120,\"The YEAR OF FAILURE and PROJECTED COST were calculated using an estimated installation date.\",\"\")&IF('Cost Data'!$M120,\"The PROJECTED COST was calculated using an estimated intial price.\",\"\")","v":""}]
[{"$f":"Table13[[#This Row],[I.D. Number ]]","v":""},{"$f":"Table13[[#This Row],[Category]]","v":0},{"$f":"Table13[[#This Row],[Type]]","v":0},{"$f":"Table13[[#This Row],[Description]]","v":0},{"$f":"Table13[[#This Row],[Life Expectancy]]","v":""},null,null,null,null,{"$f":"IF(Table142[[#This Row],[Column12]]=\"\",\"\",IF('Life Expectancy and Criticality'!AH118=0,\"0.5\",'Life Expectancy and Criticality'!AH118))","v":""},{"$f":"IF(Table142[[#This Row],[I.D. Number ]]=\"\",\"\",IF(Table142[[#This Row],[Life Expectency]]=\"0\",\"Yes\",IF((Table1468[[#This Row],[Year of Failure]]-YEAR(TODAY()))<('Life Expectancy and Criticality'!$V118*(1/3)),\"Yes\",\"No\")))","v":""},null,null,null,{"$f":"IF(Table142[[#This Row],[Column2]]=0,\"\",IF('Life Expectancy and Criticality'!AQ118=0,\"0.5\",'Life Expectancy and Criticality'!AQ118))","v":""},0,{"$f":"IF('Data Collection Sheet'!$N121,\"The YEAR OF FAILURE and PROJECTED COST were calculated using an estimated installation date.\",\"\")&IF('Cost Data'!$M121,\"The PROJECTED COST was calculated using an estimated intial price.\",\"\")","v":""}]
[{"$f":"Table13[[#This Row],[I.D. Number ]]","v":""},{"$f":"Table13[[#This Row],[Category]]","v":0},{"$f":"Table13[[#This Row],[Type]]","v":0},{"$f":"Table13[[#This Row],[Description]]","v":0},{"$f":"Table13[[#This Row],[Life Expectancy]]","v":""},null,null,null,null,{"$f":"IF(Table142[[#This Row],[Column12]]=\"\",\"\",IF('Life Expectancy and Criticality'!AH119=0,\"0.5\",'Life Expectancy and Criticality'!AH119))","v":""},{"$f":"IF(Table142[[#This Row],[I.D. Number ]]=\"\",\"\",IF(Table142[[#This Row],[Life Expectency]]=\"0\",\"Yes\",IF((Table1468[[#This Row],[Year of Failure]]-YEAR(TODAY()))<('Life Expectancy and Criticality'!$V119*(1/3)),\"Yes\",\"No\")))","v":""},null,null,null,{"$f":"IF(Table142[[#This Row],[Column2]]=0,\"\",IF('Life Expectancy and Criticality'!AQ119=0,\"0.5\",'Life Expectancy and Criticality'!AQ119))","v":""},0,{"$f":"IF('Data Collection Sheet'!$N122,\"The YEAR OF FAILURE and PROJECTED COST were calculated using an estimated installation date.\",\"\")&IF('Cost Data'!$M122,\"The PROJECTED COST was calculated using an estimated intial price.\",\"\")","v":""}]
[{"$f":"Table13[[#This Row],[I.D. Number ]]","v":""},{"$f":"Table13[[#This Row],[Category]]","v":0},{"$f":"Table13[[#This Row],[Type]]","v":0},{"$f":"Table13[[#This Row],[Description]]","v":0},{"$f":"Table13[[#This Row],[Life Expectancy]]","v":""},null,null,null,null,{"$f":"IF(Table142[[#This Row],[Column12]]=\"\",\"\",IF('Life Expectancy and Criticality'!AH120=0,\"0.5\",'Life Expectancy and Criticality'!AH120))","v":""},{"$f":"IF(Table142[[#This Row],[I.D. Number ]]=\"\",\"\",IF(Table142[[#This Row],[Life Expectency]]=\"0\",\"Yes\",IF((Table1468[[#This Row],[Year of Failure]]-YEAR(TODAY()))<('Life Expectancy and Criticality'!$V120*(1/3)),\"Yes\",\"No\")))","v":""},null,null,null,{"$f":"IF(Table142[[#This Row],[Column2]]=0,\"\",IF('Life Expectancy and Criticality'!AQ120=0,\"0.5\",'Life Expectancy and Criticality'!AQ120))","v":""},0,{"$f":"IF('Data Collection Sheet'!$N123,\"The YEAR OF FAILURE and PROJECTED COST were calculated using an estimated installation date.\",\"\")&IF('Cost Data'!$M123,\"The PROJECTED COST was calculated using an estimated intial price.\",\"\")","v":""}]
[{"$f":"Table13[[#This Row],[I.D. Number ]]","v":""},{"$f":"Table13[[#This Row],[Category]]","v":0},{"$f":"Table13[[#This Row],[Type]]","v":0},{"$f":"Table13[[#This Row],[Description]]","v":0},{"$f":"Table13[[#This Row],[Life Expectancy]]","v":""},null,null,null,null,{"$f":"IF(Table142[[#This Row],[Column12]]=\"\",\"\",IF('Life Expectancy and Criticality'!AH121=0,\"0.5\",'Life Expectancy and Criticality'!AH121))","v":""},{"$f":"IF(Table142[[#This Row],[I.D. Number ]]=\"\",\"\",IF(Table142[[#This Row],[Life Expectency]]=\"0\",\"Yes\",IF((Table1468[[#This Row],[Year of Failure]]-YEAR(TODAY()))<('Life Expectancy and Criticality'!$V121*(1/3)),\"Yes\",\"No\")))","v":""},null,null,null,{"$f":"IF(Table142[[#This Row],[Column2]]=0,\"\",IF('Life Expectancy and Criticality'!AQ121=0,\"0.5\",'Life Expectancy and Criticality'!AQ121))","v":""},0,{"$f":"IF('Data Collection Sheet'!$N124,\"The YEAR OF FAILURE and PROJECTED COST were calculated using an estimated installation date.\",\"\")&IF('Cost Data'!$M124,\"The PROJECTED COST was calculated using an estimated intial price.\",\"\")","v":""}]
[{"$f":"Table13[[#This Row],[I.D. Number ]]","v":""},{"$f":"Table13[[#This Row],[Category]]","v":0},{"$f":"Table13[[#This Row],[Type]]","v":0},{"$f":"Table13[[#This Row],[Description]]","v":0},{"$f":"Table13[[#This Row],[Life Expectancy]]","v":""},null,null,null,null,{"$f":"IF(Table142[[#This Row],[Column12]]=\"\",\"\",IF('Life Expectancy and Criticality'!AH122=0,\"0.5\",'Life Expectancy and Criticality'!AH122))","v":""},{"$f":"IF(Table142[[#This Row],[I.D. Number ]]=\"\",\"\",IF(Table142[[#This Row],[Life Expectency]]=\"0\",\"Yes\",IF((Table1468[[#This Row],[Year of Failure]]-YEAR(TODAY()))<('Life Expectancy and Criticality'!$V122*(1/3)),\"Yes\",\"No\")))","v":""},null,null,null,{"$f":"IF(Table142[[#This Row],[Column2]]=0,\"\",IF('Life Expectancy and Criticality'!AQ122=0,\"0.5\",'Life Expectancy and Criticality'!AQ122))","v":""},0,{"$f":"IF('Data Collection Sheet'!$N125,\"The YEAR OF FAILURE and PROJECTED COST were calculated using an estimated installation date.\",\"\")&IF('Cost Data'!$M125,\"The PROJECTED COST was calculated using an estimated intial price.\",\"\")","v":""}]
[{"$f":"Table13[[#This Row],[I.D. Number ]]","v":""},{"$f":"Table13[[#This Row],[Category]]","v":0},{"$f":"Table13[[#This Row],[Type]]","v":0},{"$f":"Table13[[#This Row],[Description]]","v":0},{"$f":"Table13[[#This Row],[Life Expectancy]]","v":""},null,null,null,null,{"$f":"IF(Table142[[#This Row],[Column12]]=\"\",\"\",IF('Life Expectancy and Criticality'!AH123=0,\"0.5\",'Life Expectancy and Criticality'!AH123))","v":""},{"$f":"IF(Table142[[#This Row],[I.D. Number ]]=\"\",\"\",IF(Table142[[#This Row],[Life Expectency]]=\"0\",\"Yes\",IF((Table1468[[#This Row],[Year of Failure]]-YEAR(TODAY()))<('Life Expectancy and Criticality'!$V123*(1/3)),\"Yes\",\"No\")))","v":""},null,null,null,{"$f":"IF(Table142[[#This Row],[Column2]]=0,\"\",IF('Life Expectancy and Criticality'!AQ123=0,\"0.5\",'Life Expectancy and Criticality'!AQ123))","v":""},0,{"$f":"IF('Data Collection Sheet'!$N126,\"The YEAR OF FAILURE and PROJECTED COST were calculated using an estimated installation date.\",\"\")&IF('Cost Data'!$M126,\"The PROJECTED COST was calculated using an estimated intial price.\",\"\")","v":""}]
[{"$f":"Table13[[#This Row],[I.D. Number ]]","v":""},{"$f":"Table13[[#This Row],[Category]]","v":0},{"$f":"Table13[[#This Row],[Type]]","v":0},{"$f":"Table13[[#This Row],[Description]]","v":0},{"$f":"Table13[[#This Row],[Life Expectancy]]","v":""},null,null,null,null,{"$f":"IF(Table142[[#This Row],[Column12]]=\"\",\"\",IF('Life Expectancy and Criticality'!AH124=0,\"0.5\",'Life Expectancy and Criticality'!AH124))","v":""},{"$f":"IF(Table142[[#This Row],[I.D. Number ]]=\"\",\"\",IF(Table142[[#This Row],[Life Expectency]]=\"0\",\"Yes\",IF((Table1468[[#This Row],[Year of Failure]]-YEAR(TODAY()))<('Life Expectancy and Criticality'!$V124*(1/3)),\"Yes\",\"No\")))","v":""},null,null,null,{"$f":"IF(Table142[[#This Row],[Column2]]=0,\"\",IF('Life Expectancy and Criticality'!AQ124=0,\"0.5\",'Life Expectancy and Criticality'!AQ124))","v":""},0,{"$f":"IF('Data Collection Sheet'!$N127,\"The YEAR OF FAILURE and PROJECTED COST were calculated using an estimated installation date.\",\"\")&IF('Cost Data'!$M127,\"The PROJECTED COST was calculated using an estimated intial price.\",\"\")","v":""}]
[{"$f":"Table13[[#This Row],[I.D. Number ]]","v":""},{"$f":"Table13[[#This Row],[Category]]","v":0},{"$f":"Table13[[#This Row],[Type]]","v":0},{"$f":"Table13[[#This Row],[Description]]","v":0},{"$f":"Table13[[#This Row],[Life Expectancy]]","v":""},null,null,null,null,{"$f":"IF(Table142[[#This Row],[Column12]]=\"\",\"\",IF('Life Expectancy and Criticality'!AH125=0,\"0.5\",'Life Expectancy and Criticality'!AH125))","v":""},{"$f":"IF(Table142[[#This Row],[I.D. Number ]]=\"\",\"\",IF(Table142[[#This Row],[Life Expectency]]=\"0\",\"Yes\",IF((Table1468[[#This Row],[Year of Failure]]-YEAR(TODAY()))<('Life Expectancy and Criticality'!$V125*(1/3)),\"Yes\",\"No\")))","v":""},null,null,null,{"$f":"IF(Table142[[#This Row],[Column2]]=0,\"\",IF('Life Expectancy and Criticality'!AQ125=0,\"0.5\",'Life Expectancy and Criticality'!AQ125))","v":""},0,{"$f":"IF('Data Collection Sheet'!$N128,\"The YEAR OF FAILURE and PROJECTED COST were calculated using an estimated installation date.\",\"\")&IF('Cost Data'!$M128,\"The PROJECTED COST was calculated using an estimated intial price.\",\"\")","v":""}]
[{"$f":"Table13[[#This Row],[I.D. Number ]]","v":""},{"$f":"Table13[[#This Row],[Category]]","v":0},{"$f":"Table13[[#This Row],[Type]]","v":0},{"$f":"Table13[[#This Row],[Description]]","v":0},{"$f":"Table13[[#This Row],[Life Expectancy]]","v":""},null,null,null,null,{"$f":"IF(Table142[[#This Row],[Column12]]=\"\",\"\",IF('Life Expectancy and Criticality'!AH126=0,\"0.5\",'Life Expectancy and Criticality'!AH126))","v":""},{"$f":"IF(Table142[[#This Row],[I.D. Number ]]=\"\",\"\",IF(Table142[[#This Row],[Life Expectency]]=\"0\",\"Yes\",IF((Table1468[[#This Row],[Year of Failure]]-YEAR(TODAY()))<('Life Expectancy and Criticality'!$V126*(1/3)),\"Yes\",\"No\")))","v":""},null,null,null,{"$f":"IF(Table142[[#This Row],[Column2]]=0,\"\",IF('Life Expectancy and Criticality'!AQ126=0,\"0.5\",'Life Expectancy and Criticality'!AQ126))","v":""},0,{"$f":"IF('Data Collection Sheet'!$N129,\"The YEAR OF FAILURE and PROJECTED COST were calculated using an estimated installation date.\",\"\")&IF('Cost Data'!$M129,\"The PROJECTED COST was calculated using an estimated intial price.\",\"\")","v":""}]
[{"$f":"Table13[[#This Row],[I.D. Number ]]","v":""},{"$f":"Table13[[#This Row],[Category]]","v":0},{"$f":"Table13[[#This Row],[Type]]","v":0},{"$f":"Table13[[#This Row],[Description]]","v":0},{"$f":"Table13[[#This Row],[Life Expectancy]]","v":""},null,null,null,null,{"$f":"IF(Table142[[#This Row],[Column12]]=\"\",\"\",IF('Life Expectancy and Criticality'!AH127=0,\"0.5\",'Life Expectancy and Criticality'!AH127))","v":""},{"$f":"IF(Table142[[#This Row],[I.D. Number ]]=\"\",\"\",IF(Table142[[#This Row],[Life Expectency]]=\"0\",\"Yes\",IF((Table1468[[#This Row],[Year of Failure]]-YEAR(TODAY()))<('Life Expectancy and Criticality'!$V127*(1/3)),\"Yes\",\"No\")))","v":""},null,null,null,{"$f":"IF(Table142[[#This Row],[Column2]]=0,\"\",IF('Life Expectancy and Criticality'!AQ127=0,\"0.5\",'Life Expectancy and Criticality'!AQ127))","v":""},0,{"$f":"IF('Data Collection Sheet'!$N130,\"The YEAR OF FAILURE and PROJECTED COST were calculated using an estimated installation date.\",\"\")&IF('Cost Data'!$M130,\"The PROJECTED COST was calculated using an estimated intial price.\",\"\")","v":""}]
[{"$f":"Table13[[#This Row],[I.D. Number ]]","v":""},{"$f":"Table13[[#This Row],[Category]]","v":0},{"$f":"Table13[[#This Row],[Type]]","v":0},{"$f":"Table13[[#This Row],[Description]]","v":0},{"$f":"Table13[[#This Row],[Life Expectancy]]","v":""},null,null,null,null,{"$f":"IF(Table142[[#This Row],[Column12]]=\"\",\"\",IF('Life Expectancy and Criticality'!AH128=0,\"0.5\",'Life Expectancy and Criticality'!AH128))","v":""},{"$f":"IF(Table142[[#This Row],[I.D. Number ]]=\"\",\"\",IF(Table142[[#This Row],[Life Expectency]]=\"0\",\"Yes\",IF((Table1468[[#This Row],[Year of Failure]]-YEAR(TODAY()))<('Life Expectancy and Criticality'!$V128*(1/3)),\"Yes\",\"No\")))","v":""},null,null,null,{"$f":"IF(Table142[[#This Row],[Column2]]=0,\"\",IF('Life Expectancy and Criticality'!AQ128=0,\"0.5\",'Life Expectancy and Criticality'!AQ128))","v":""},0,{"$f":"IF('Data Collection Sheet'!$N131,\"The YEAR OF FAILURE and PROJECTED COST were calculated using an estimated installation date.\",\"\")&IF('Cost Data'!$M131,\"The PROJECTED COST was calculated using an estimated intial price.\",\"\")","v":""}]
[{"$f":"Table13[[#This Row],[I.D. Number ]]","v":""},{"$f":"Table13[[#This Row],[Category]]","v":0},{"$f":"Table13[[#This Row],[Type]]","v":0},{"$f":"Table13[[#This Row],[Description]]","v":0},{"$f":"Table13[[#This Row],[Life Expectancy]]","v":""},null,null,null,null,{"$f":"IF(Table142[[#This Row],[Column12]]=\"\",\"\",IF('Life Expectancy and Criticality'!AH129=0,\"0.5\",'Life Expectancy and Criticality'!AH129))","v":""},{"$f":"IF(Table142[[#This Row],[I.D. Number ]]=\"\",\"\",IF(Table142[[#This Row],[Life Expectency]]=\"0\",\"Yes\",IF((Table1468[[#This Row],[Year of Failure]]-YEAR(TODAY()))<('Life Expectancy and Criticality'!$V129*(1/3)),\"Yes\",\"No\")))","v":""},null,null,null,{"$f":"IF(Table142[[#This Row],[Column2]]=0,\"\",IF('Life Expectancy and Criticality'!AQ129=0,\"0.5\",'Life Expectancy and Criticality'!AQ129))","v":""},0,{"$f":"IF('Data Collection Sheet'!$N132,\"The YEAR OF FAILURE and PROJECTED COST were calculated using an estimated installation date.\",\"\")&IF('Cost Data'!$M132,\"The PROJECTED COST was calculated using an estimated intial price.\",\"\")","v":""}]
[{"$f":"Table13[[#This Row],[I.D. Number ]]","v":""},{"$f":"Table13[[#This Row],[Category]]","v":0},{"$f":"Table13[[#This Row],[Type]]","v":0},{"$f":"Table13[[#This Row],[Description]]","v":0},{"$f":"Table13[[#This Row],[Life Expectancy]]","v":""},null,null,null,null,{"$f":"IF(Table142[[#This Row],[Column12]]=\"\",\"\",IF('Life Expectancy and Criticality'!AH130=0,\"0.5\",'Life Expectancy and Criticality'!AH130))","v":""},{"$f":"IF(Table142[[#This Row],[I.D. Number ]]=\"\",\"\",IF(Table142[[#This Row],[Life Expectency]]=\"0\",\"Yes\",IF((Table1468[[#This Row],[Year of Failure]]-YEAR(TODAY()))<('Life Expectancy and Criticality'!$V130*(1/3)),\"Yes\",\"No\")))","v":""},null,null,null,{"$f":"IF(Table142[[#This Row],[Column2]]=0,\"\",IF('Life Expectancy and Criticality'!AQ130=0,\"0.5\",'Life Expectancy and Criticality'!AQ130))","v":""},0,{"$f":"IF('Data Collection Sheet'!$N133,\"The YEAR OF FAILURE and PROJECTED COST were calculated using an estimated installation date.\",\"\")&IF('Cost Data'!$M133,\"The PROJECTED COST was calculated using an estimated intial price.\",\"\")","v":""}]
[{"$f":"Table13[[#This Row],[I.D. Number ]]","v":""},{"$f":"Table13[[#This Row],[Category]]","v":0},{"$f":"Table13[[#This Row],[Type]]","v":0},{"$f":"Table13[[#This Row],[Description]]","v":0},{"$f":"Table13[[#This Row],[Life Expectancy]]","v":""},null,null,null,null,{"$f":"IF(Table142[[#This Row],[Column12]]=\"\",\"\",IF('Life Expectancy and Criticality'!AH131=0,\"0.5\",'Life Expectancy and Criticality'!AH131))","v":""},{"$f":"IF(Table142[[#This Row],[I.D. Number ]]=\"\",\"\",IF(Table142[[#This Row],[Life Expectency]]=\"0\",\"Yes\",IF((Table1468[[#This Row],[Year of Failure]]-YEAR(TODAY()))<('Life Expectancy and Criticality'!$V131*(1/3)),\"Yes\",\"No\")))","v":""},null,null,null,{"$f":"IF(Table142[[#This Row],[Column2]]=0,\"\",IF('Life Expectancy and Criticality'!AQ131=0,\"0.5\",'Life Expectancy and Criticality'!AQ131))","v":""},{"$f":"IF(J134=\"\",0,IF(O134=\"\",\"\",J134*O134))","v":0},{"$f":"IF('Data Collection Sheet'!$N134,\"The YEAR OF FAILURE and PROJECTED COST were calculated using an estimated installation date.\",\"\")&IF('Cost Data'!$M134,\"The PROJECTED COST was calculated using an estimated intial price.\",\"\")","v":""}]
[{"$f":"Table13[[#This Row],[I.D. Number ]]","v":""},{"$f":"Table13[[#This Row],[Category]]","v":0},{"$f":"Table13[[#This Row],[Type]]","v":0},{"$f":"Table13[[#This Row],[Description]]","v":0},{"$f":"Table13[[#This Row],[Life Expectancy]]","v":""},null,null,null,null,{"$f":"IF(Table142[[#This Row],[Column12]]=\"\",\"\",IF('Life Expectancy and Criticality'!AH132=0,\"0.5\",'Life Expectancy and Criticality'!AH132))","v":""},{"$f":"IF(Table142[[#This Row],[I.D. Number ]]=\"\",\"\",IF(Table142[[#This Row],[Life Expectency]]=\"0\",\"Yes\",IF((Table1468[[#This Row],[Year of Failure]]-YEAR(TODAY()))<('Life Expectancy and Criticality'!$V132*(1/3)),\"Yes\",\"No\")))","v":""},null,null,null,{"$f":"IF(Table142[[#This Row],[Column2]]=0,\"\",IF('Life Expectancy and Criticality'!AQ132=0,\"0.5\",'Life Expectancy and Criticality'!AQ132))","v":""},0,{"$f":"IF('Data Collection Sheet'!$N135,\"The YEAR OF FAILURE and PROJECTED COST were calculated using an estimated installation date.\",\"\")&IF('Cost Data'!$M135,\"The PROJECTED COST was calculated using an estimated intial price.\",\"\")","v":""}]
[{"$f":"Table13[[#This Row],[I.D. Number ]]","v":""},{"$f":"Table13[[#This Row],[Category]]","v":0},{"$f":"Table13[[#This Row],[Type]]","v":0},{"$f":"Table13[[#This Row],[Description]]","v":0},{"$f":"Table13[[#This Row],[Life Expectancy]]","v":""},null,null,null,null,{"$f":"IF(Table142[[#This Row],[Column12]]=\"\",\"\",IF('Life Expectancy and Criticality'!AH133=0,\"0.5\",'Life Expectancy and Criticality'!AH133))","v":""},{"$f":"IF(Table142[[#This Row],[I.D. Number ]]=\"\",\"\",IF(Table142[[#This Row],[Life Expectency]]=\"0\",\"Yes\",IF((Table1468[[#This Row],[Year of Failure]]-YEAR(TODAY()))<('Life Expectancy and Criticality'!$V133*(1/3)),\"Yes\",\"No\")))","v":""},null,null,null,{"$f":"IF(Table142[[#This Row],[Column2]]=0,\"\",IF('Life Expectancy and Criticality'!AQ133=0,\"0.5\",'Life Expectancy and Criticality'!AQ133))","v":""},0,{"$f":"IF('Data Collection Sheet'!$N136,\"The YEAR OF FAILURE and PROJECTED COST were calculated using an estimated installation date.\",\"\")&IF('Cost Data'!$M136,\"The PROJECTED COST was calculated using an estimated intial price.\",\"\")","v":""}]
[{"$f":"Table13[[#This Row],[I.D. Number ]]","v":""},{"$f":"Table13[[#This Row],[Category]]","v":0},{"$f":"Table13[[#This Row],[Type]]","v":0},{"$f":"Table13[[#This Row],[Description]]","v":0},{"$f":"Table13[[#This Row],[Life Expectancy]]","v":""},null,null,null,null,{"$f":"IF(Table142[[#This Row],[Column12]]=\"\",\"\",IF('Life Expectancy and Criticality'!AH134=0,\"0.5\",'Life Expectancy and Criticality'!AH134))","v":""},{"$f":"IF(Table142[[#This Row],[I.D. Number ]]=\"\",\"\",IF(Table142[[#This Row],[Life Expectency]]=\"0\",\"Yes\",IF((Table1468[[#This Row],[Year of Failure]]-YEAR(TODAY()))<('Life Expectancy and Criticality'!$V134*(1/3)),\"Yes\",\"No\")))","v":""},null,null,null,{"$f":"IF(Table142[[#This Row],[Column2]]=0,\"\",IF('Life Expectancy and Criticality'!AQ134=0,\"0.5\",'Life Expectancy and Criticality'!AQ134))","v":""},0,{"$f":"IF('Data Collection Sheet'!$N137,\"The YEAR OF FAILURE and PROJECTED COST were calculated using an estimated installation date.\",\"\")&IF('Cost Data'!$M137,\"The PROJECTED COST was calculated using an estimated intial price.\",\"\")","v":""}]
[{"$f":"Table13[[#This Row],[I.D. Number ]]","v":""},{"$f":"Table13[[#This Row],[Category]]","v":0},{"$f":"Table13[[#This Row],[Type]]","v":0},{"$f":"Table13[[#This Row],[Description]]","v":0},{"$f":"Table13[[#This Row],[Life Expectancy]]","v":""},null,null,null,null,{"$f":"IF(Table142[[#This Row],[Column12]]=\"\",\"\",IF('Life Expectancy and Criticality'!AH135=0,\"0.5\",'Life Expectancy and Criticality'!AH135))","v":""},{"$f":"IF(Table142[[#This Row],[I.D. Number ]]=\"\",\"\",IF(Table142[[#This Row],[Life Expectency]]=\"0\",\"Yes\",IF((Table1468[[#This Row],[Year of Failure]]-YEAR(TODAY()))<('Life Expectancy and Criticality'!$V135*(1/3)),\"Yes\",\"No\")))","v":""},null,null,null,{"$f":"IF(Table142[[#This Row],[Column2]]=0,\"\",IF('Life Expectancy and Criticality'!AQ135=0,\"0.5\",'Life Expectancy and Criticality'!AQ135))","v":""},0,{"$f":"IF('Data Collection Sheet'!$N138,\"The YEAR OF FAILURE and PROJECTED COST were calculated using an estimated installation date.\",\"\")&IF('Cost Data'!$M138,\"The PROJECTED COST was calculated using an estimated intial price.\",\"\")","v":""}]
[{"$f":"Table13[[#This Row],[I.D. Number ]]","v":""},{"$f":"Table13[[#This Row],[Category]]","v":0},{"$f":"Table13[[#This Row],[Type]]","v":0},{"$f":"Table13[[#This Row],[Description]]","v":0},{"$f":"Table13[[#This Row],[Life Expectancy]]","v":""},null,null,null,null,{"$f":"IF(Table142[[#This Row],[Column12]]=\"\",\"\",IF('Life Expectancy and Criticality'!AH136=0,\"0.5\",'Life Expectancy and Criticality'!AH136))","v":""},{"$f":"IF(Table142[[#This Row],[I.D. Number ]]=\"\",\"\",IF(Table142[[#This Row],[Life Expectency]]=\"0\",\"Yes\",IF((Table1468[[#This Row],[Year of Failure]]-YEAR(TODAY()))<('Life Expectancy and Criticality'!$V136*(1/3)),\"Yes\",\"No\")))","v":""},null,null,null,{"$f":"IF(Table142[[#This Row],[Column2]]=0,\"\",IF('Life Expectancy and Criticality'!AQ136=0,\"0.5\",'Life Expectancy and Criticality'!AQ136))","v":""},0,{"$f":"IF('Data Collection Sheet'!$N139,\"The YEAR OF FAILURE and PROJECTED COST were calculated using an estimated installation date.\",\"\")&IF('Cost Data'!$M139,\"The PROJECTED COST was calculated using an estimated intial price.\",\"\")","v":""}]
[{"$f":"Table13[[#This Row],[I.D. Number ]]","v":""},{"$f":"Table13[[#This Row],[Category]]","v":0},{"$f":"Table13[[#This Row],[Type]]","v":0},{"$f":"Table13[[#This Row],[Description]]","v":0},{"$f":"Table13[[#This Row],[Life Expectancy]]","v":""},null,null,null,null,{"$f":"IF(Table142[[#This Row],[Column12]]=\"\",\"\",IF('Life Expectancy and Criticality'!AH137=0,\"0.5\",'Life Expectancy and Criticality'!AH137))","v":""},{"$f":"IF(Table142[[#This Row],[I.D. Number ]]=\"\",\"\",IF(Table142[[#This Row],[Life Expectency]]=\"0\",\"Yes\",IF((Table1468[[#This Row],[Year of Failure]]-YEAR(TODAY()))<('Life Expectancy and Criticality'!$V137*(1/3)),\"Yes\",\"No\")))","v":""},null,null,null,{"$f":"IF(Table142[[#This Row],[Column2]]=0,\"\",IF('Life Expectancy and Criticality'!AQ137=0,\"0.5\",'Life Expectancy and Criticality'!AQ137))","v":""},0,{"$f":"IF('Data Collection Sheet'!$N140,\"The YEAR OF FAILURE and PROJECTED COST were calculated using an estimated installation date.\",\"\")&IF('Cost Data'!$M140,\"The PROJECTED COST was calculated using an estimated intial price.\",\"\")","v":""}]
[{"$f":"Table13[[#This Row],[I.D. Number ]]","v":""},{"$f":"Table13[[#This Row],[Category]]","v":0},{"$f":"Table13[[#This Row],[Type]]","v":0},{"$f":"Table13[[#This Row],[Description]]","v":0},{"$f":"Table13[[#This Row],[Life Expectancy]]","v":""},null,null,null,null,{"$f":"IF(Table142[[#This Row],[Column12]]=\"\",\"\",IF('Life Expectancy and Criticality'!AH138=0,\"0.5\",'Life Expectancy and Criticality'!AH138))","v":""},{"$f":"IF(Table142[[#This Row],[I.D. Number ]]=\"\",\"\",IF(Table142[[#This Row],[Life Expectency]]=\"0\",\"Yes\",IF((Table1468[[#This Row],[Year of Failure]]-YEAR(TODAY()))<('Life Expectancy and Criticality'!$V138*(1/3)),\"Yes\",\"No\")))","v":""},null,null,null,{"$f":"IF(Table142[[#This Row],[Column2]]=0,\"\",IF('Life Expectancy and Criticality'!AQ138=0,\"0.5\",'Life Expectancy and Criticality'!AQ138))","v":""},0,{"$f":"IF('Data Collection Sheet'!$N141,\"The YEAR OF FAILURE and PROJECTED COST were calculated using an estimated installation date.\",\"\")&IF('Cost Data'!$M141,\"The PROJECTED COST was calculated using an estimated intial price.\",\"\")","v":""}]
[{"$f":"Table13[[#This Row],[I.D. Number ]]","v":""},{"$f":"Table13[[#This Row],[Category]]","v":0},{"$f":"Table13[[#This Row],[Type]]","v":0},{"$f":"Table13[[#This Row],[Description]]","v":0},{"$f":"Table13[[#This Row],[Life Expectancy]]","v":""},null,null,null,null,{"$f":"IF(Table142[[#This Row],[Column12]]=\"\",\"\",IF('Life Expectancy and Criticality'!AH139=0,\"0.5\",'Life Expectancy and Criticality'!AH139))","v":""},{"$f":"IF(Table142[[#This Row],[I.D. Number ]]=\"\",\"\",IF(Table142[[#This Row],[Life Expectency]]=\"0\",\"Yes\",IF((Table1468[[#This Row],[Year of Failure]]-YEAR(TODAY()))<('Life Expectancy and Criticality'!$V139*(1/3)),\"Yes\",\"No\")))","v":""},null,null,null,{"$f":"IF(Table142[[#This Row],[Column2]]=0,\"\",IF('Life Expectancy and Criticality'!AQ139=0,\"0.5\",'Life Expectancy and Criticality'!AQ139))","v":""},0,{"$f":"IF('Data Collection Sheet'!$N142,\"The YEAR OF FAILURE and PROJECTED COST were calculated using an estimated installation date.\",\"\")&IF('Cost Data'!$M142,\"The PROJECTED COST was calculated using an estimated intial price.\",\"\")","v":""}]
[{"$f":"Table13[[#This Row],[I.D. Number ]]","v":""},{"$f":"Table13[[#This Row],[Category]]","v":0},{"$f":"Table13[[#This Row],[Type]]","v":0},{"$f":"Table13[[#This Row],[Description]]","v":0},{"$f":"Table13[[#This Row],[Life Expectancy]]","v":""},null,null,null,null,{"$f":"IF(Table142[[#This Row],[Column12]]=\"\",\"\",IF('Life Expectancy and Criticality'!AH140=0,\"0.5\",'Life Expectancy and Criticality'!AH140))","v":""},{"$f":"IF(Table142[[#This Row],[I.D. Number ]]=\"\",\"\",IF(Table142[[#This Row],[Life Expectency]]=\"0\",\"Yes\",IF((Table1468[[#This Row],[Year of Failure]]-YEAR(TODAY()))<('Life Expectancy and Criticality'!$V140*(1/3)),\"Yes\",\"No\")))","v":""},null,null,null,{"$f":"IF(Table142[[#This Row],[Column2]]=0,\"\",IF('Life Expectancy and Criticality'!AQ140=0,\"0.5\",'Life Expectancy and Criticality'!AQ140))","v":""},0,{"$f":"IF('Data Collection Sheet'!$N143,\"The YEAR OF FAILURE and PROJECTED COST were calculated using an estimated installation date.\",\"\")&IF('Cost Data'!$M143,\"The PROJECTED COST was calculated using an estimated intial price.\",\"\")","v":""}]
[{"$f":"Table13[[#This Row],[I.D. Number ]]","v":""},{"$f":"Table13[[#This Row],[Category]]","v":0},{"$f":"Table13[[#This Row],[Type]]","v":0},{"$f":"Table13[[#This Row],[Description]]","v":0},{"$f":"Table13[[#This Row],[Life Expectancy]]","v":""},null,null,null,null,{"$f":"IF(Table142[[#This Row],[Column12]]=\"\",\"\",IF('Life Expectancy and Criticality'!AH141=0,\"0.5\",'Life Expectancy and Criticality'!AH141))","v":""},{"$f":"IF(Table142[[#This Row],[I.D. Number ]]=\"\",\"\",IF(Table142[[#This Row],[Life Expectency]]=\"0\",\"Yes\",IF((Table1468[[#This Row],[Year of Failure]]-YEAR(TODAY()))<('Life Expectancy and Criticality'!$V141*(1/3)),\"Yes\",\"No\")))","v":""},null,null,null,{"$f":"IF(Table142[[#This Row],[Column2]]=0,\"\",IF('Life Expectancy and Criticality'!AQ141=0,\"0.5\",'Life Expectancy and Criticality'!AQ141))","v":""},0,{"$f":"IF('Data Collection Sheet'!$N144,\"The YEAR OF FAILURE and PROJECTED COST were calculated using an estimated installation date.\",\"\")&IF('Cost Data'!$M144,\"The PROJECTED COST was calculated using an estimated intial price.\",\"\")","v":""}]
[{"$f":"Table13[[#This Row],[I.D. Number ]]","v":""},{"$f":"Table13[[#This Row],[Category]]","v":0},{"$f":"Table13[[#This Row],[Type]]","v":0},{"$f":"Table13[[#This Row],[Description]]","v":0},{"$f":"Table13[[#This Row],[Life Expectancy]]","v":""},null,null,null,null,{"$f":"IF(Table142[[#This Row],[Column12]]=\"\",\"\",IF('Life Expectancy and Criticality'!AH142=0,\"0.5\",'Life Expectancy and Criticality'!AH142))","v":""},{"$f":"IF(Table142[[#This Row],[I.D. Number ]]=\"\",\"\",IF(Table142[[#This Row],[Life Expectency]]=\"0\",\"Yes\",IF((Table1468[[#This Row],[Year of Failure]]-YEAR(TODAY()))<('Life Expectancy and Criticality'!$V142*(1/3)),\"Yes\",\"No\")))","v":""},null,null,null,{"$f":"IF(Table142[[#This Row],[Column2]]=0,\"\",IF('Life Expectancy and Criticality'!AQ142=0,\"0.5\",'Life Expectancy and Criticality'!AQ142))","v":""},0,{"$f":"IF('Data Collection Sheet'!$N145,\"The YEAR OF FAILURE and PROJECTED COST were calculated using an estimated installation date.\",\"\")&IF('Cost Data'!$M145,\"The PROJECTED COST was calculated using an estimated intial price.\",\"\")","v":""}]
[{"$f":"Table13[[#This Row],[I.D. Number ]]","v":""},{"$f":"Table13[[#This Row],[Category]]","v":0},{"$f":"Table13[[#This Row],[Type]]","v":0},{"$f":"Table13[[#This Row],[Description]]","v":0},{"$f":"Table13[[#This Row],[Life Expectancy]]","v":""},null,null,null,null,{"$f":"IF(Table142[[#This Row],[Column12]]=\"\",\"\",IF('Life Expectancy and Criticality'!AH143=0,\"0.5\",'Life Expectancy and Criticality'!AH143))","v":""},{"$f":"IF(Table142[[#This Row],[I.D. Number ]]=\"\",\"\",IF(Table142[[#This Row],[Life Expectency]]=\"0\",\"Yes\",IF((Table1468[[#This Row],[Year of Failure]]-YEAR(TODAY()))<('Life Expectancy and Criticality'!$V143*(1/3)),\"Yes\",\"No\")))","v":""},null,null,null,{"$f":"IF(Table142[[#This Row],[Column2]]=0,\"\",IF('Life Expectancy and Criticality'!AQ143=0,\"0.5\",'Life Expectancy and Criticality'!AQ143))","v":""},0,{"$f":"IF('Data Collection Sheet'!$N146,\"The YEAR OF FAILURE and PROJECTED COST were calculated using an estimated installation date.\",\"\")&IF('Cost Data'!$M146,\"The PROJECTED COST was calculated using an estimated intial price.\",\"\")","v":""}]
[{"$f":"Table13[[#This Row],[I.D. Number ]]","v":""},{"$f":"Table13[[#This Row],[Category]]","v":0},{"$f":"Table13[[#This Row],[Type]]","v":0},{"$f":"Table13[[#This Row],[Description]]","v":0},{"$f":"Table13[[#This Row],[Life Expectancy]]","v":""},null,null,null,null,{"$f":"IF(Table142[[#This Row],[Column12]]=\"\",\"\",IF('Life Expectancy and Criticality'!AH144=0,\"0.5\",'Life Expectancy and Criticality'!AH144))","v":""},{"$f":"IF(Table142[[#This Row],[I.D. Number ]]=\"\",\"\",IF(Table142[[#This Row],[Life Expectency]]=\"0\",\"Yes\",IF((Table1468[[#This Row],[Year of Failure]]-YEAR(TODAY()))<('Life Expectancy and Criticality'!$V144*(1/3)),\"Yes\",\"No\")))","v":""},null,null,null,{"$f":"IF(Table142[[#This Row],[Column2]]=0,\"\",IF('Life Expectancy and Criticality'!AQ144=0,\"0.5\",'Life Expectancy and Criticality'!AQ144))","v":""},0,{"$f":"IF('Data Collection Sheet'!$N147,\"The YEAR OF FAILURE and PROJECTED COST were calculated using an estimated installation date.\",\"\")&IF('Cost Data'!$M147,\"The PROJECTED COST was calculated using an estimated intial price.\",\"\")","v":""}]
[{"$f":"Table13[[#This Row],[I.D. Number ]]","v":""},{"$f":"Table13[[#This Row],[Category]]","v":0},{"$f":"Table13[[#This Row],[Type]]","v":0},{"$f":"Table13[[#This Row],[Description]]","v":0},{"$f":"Table13[[#This Row],[Life Expectancy]]","v":""},null,null,null,null,{"$f":"IF(Table142[[#This Row],[Column12]]=\"\",\"\",IF('Life Expectancy and Criticality'!AH145=0,\"0.5\",'Life Expectancy and Criticality'!AH145))","v":""},{"$f":"IF(Table142[[#This Row],[I.D. Number ]]=\"\",\"\",IF(Table142[[#This Row],[Life Expectency]]=\"0\",\"Yes\",IF((Table1468[[#This Row],[Year of Failure]]-YEAR(TODAY()))<('Life Expectancy and Criticality'!$V145*(1/3)),\"Yes\",\"No\")))","v":""},null,null,null,{"$f":"IF(Table142[[#This Row],[Column2]]=0,\"\",IF('Life Expectancy and Criticality'!AQ145=0,\"0.5\",'Life Expectancy and Criticality'!AQ145))","v":""},0,{"$f":"IF('Data Collection Sheet'!$N148,\"The YEAR OF FAILURE and PROJECTED COST were calculated using an estimated installation date.\",\"\")&IF('Cost Data'!$M148,\"The PROJECTED COST was calculated using an estimated intial price.\",\"\")","v":""}]
[{"$f":"Table13[[#This Row],[I.D. Number ]]","v":""},{"$f":"Table13[[#This Row],[Category]]","v":0},{"$f":"Table13[[#This Row],[Type]]","v":0},{"$f":"Table13[[#This Row],[Description]]","v":0},{"$f":"Table13[[#This Row],[Life Expectancy]]","v":""},null,null,null,null,{"$f":"IF(Table142[[#This Row],[Column12]]=\"\",\"\",IF('Life Expectancy and Criticality'!AH146=0,\"0.5\",'Life Expectancy and Criticality'!AH146))","v":""},{"$f":"IF(Table142[[#This Row],[I.D. Number ]]=\"\",\"\",IF(Table142[[#This Row],[Life Expectency]]=\"0\",\"Yes\",IF((Table1468[[#This Row],[Year of Failure]]-YEAR(TODAY()))<('Life Expectancy and Criticality'!$V146*(1/3)),\"Yes\",\"No\")))","v":""},null,null,null,{"$f":"IF(Table142[[#This Row],[Column2]]=0,\"\",IF('Life Expectancy and Criticality'!AQ146=0,\"0.5\",'Life Expectancy and Criticality'!AQ146))","v":""},0,{"$f":"IF('Data Collection Sheet'!$N149,\"The YEAR OF FAILURE and PROJECTED COST were calculated using an estimated installation date.\",\"\")&IF('Cost Data'!$M149,\"The PROJECTED COST was calculated using an estimated intial price.\",\"\")","v":""}]
[{"$f":"Table13[[#This Row],[I.D. Number ]]","v":""},{"$f":"Table13[[#This Row],[Category]]","v":0},{"$f":"Table13[[#This Row],[Type]]","v":0},{"$f":"Table13[[#This Row],[Description]]","v":0},{"$f":"Table13[[#This Row],[Life Expectancy]]","v":""},null,null,null,null,{"$f":"IF(Table142[[#This Row],[Column12]]=\"\",\"\",IF('Life Expectancy and Criticality'!AH147=0,\"0.5\",'Life Expectancy and Criticality'!AH147))","v":""},{"$f":"IF(Table142[[#This Row],[I.D. Number ]]=\"\",\"\",IF(Table142[[#This Row],[Life Expectency]]=\"0\",\"Yes\",IF((Table1468[[#This Row],[Year of Failure]]-YEAR(TODAY()))<('Life Expectancy and Criticality'!$V147*(1/3)),\"Yes\",\"No\")))","v":""},null,null,null,{"$f":"IF(Table142[[#This Row],[Column2]]=0,\"\",IF('Life Expectancy and Criticality'!AQ147=0,\"0.5\",'Life Expectancy and Criticality'!AQ147))","v":""},0,{"$f":"IF('Data Collection Sheet'!$N150,\"The YEAR OF FAILURE and PROJECTED COST were calculated using an estimated installation date.\",\"\")&IF('Cost Data'!$M150,\"The PROJECTED COST was calculated using an estimated intial price.\",\"\")","v":""}]
[{"$f":"Table13[[#This Row],[I.D. Number ]]","v":""},{"$f":"Table13[[#This Row],[Category]]","v":0},{"$f":"Table13[[#This Row],[Type]]","v":0},{"$f":"Table13[[#This Row],[Description]]","v":0},{"$f":"Table13[[#This Row],[Life Expectancy]]","v":""},null,null,null,null,{"$f":"IF(Table142[[#This Row],[Column12]]=\"\",\"\",IF('Life Expectancy and Criticality'!AH148=0,\"0.5\",'Life Expectancy and Criticality'!AH148))","v":""},{"$f":"IF(Table142[[#This Row],[I.D. Number ]]=\"\",\"\",IF(Table142[[#This Row],[Life Expectency]]=\"0\",\"Yes\",IF((Table1468[[#This Row],[Year of Failure]]-YEAR(TODAY()))<('Life Expectancy and Criticality'!$V148*(1/3)),\"Yes\",\"No\")))","v":""},null,null,null,{"$f":"IF(Table142[[#This Row],[Column2]]=0,\"\",IF('Life Expectancy and Criticality'!AQ148=0,\"0.5\",'Life Expectancy and Criticality'!AQ148))","v":""},0,{"$f":"IF('Data Collection Sheet'!$N151,\"The YEAR OF FAILURE and PROJECTED COST were calculated using an estimated installation date.\",\"\")&IF('Cost Data'!$M151,\"The PROJECTED COST was calculated using an estimated intial price.\",\"\")","v":""}]
[{"$f":"Table13[[#This Row],[I.D. Number ]]","v":""},{"$f":"Table13[[#This Row],[Category]]","v":0},{"$f":"Table13[[#This Row],[Type]]","v":0},{"$f":"Table13[[#This Row],[Description]]","v":0},{"$f":"Table13[[#This Row],[Life Expectancy]]","v":""},null,null,null,null,{"$f":"IF(Table142[[#This Row],[Column12]]=\"\",\"\",IF('Life Expectancy and Criticality'!AH149=0,\"0.5\",'Life Expectancy and Criticality'!AH149))","v":""},{"$f":"IF(Table142[[#This Row],[I.D. Number ]]=\"\",\"\",IF(Table142[[#This Row],[Life Expectency]]=\"0\",\"Yes\",IF((Table1468[[#This Row],[Year of Failure]]-YEAR(TODAY()))<('Life Expectancy and Criticality'!$V149*(1/3)),\"Yes\",\"No\")))","v":""},null,null,null,{"$f":"IF(Table142[[#This Row],[Column2]]=0,\"\",IF('Life Expectancy and Criticality'!AQ149=0,\"0.5\",'Life Expectancy and Criticality'!AQ149))","v":""},0,{"$f":"IF('Data Collection Sheet'!$N152,\"The YEAR OF FAILURE and PROJECTED COST were calculated using an estimated installation date.\",\"\")&IF('Cost Data'!$M152,\"The PROJECTED COST was calculated using an estimated intial price.\",\"\")","v":""}]
[{"$f":"Table13[[#This Row],[I.D. Number ]]","v":""},{"$f":"Table13[[#This Row],[Category]]","v":0},{"$f":"Table13[[#This Row],[Type]]","v":0},{"$f":"Table13[[#This Row],[Description]]","v":0},{"$f":"Table13[[#This Row],[Life Expectancy]]","v":""},null,null,null,null,{"$f":"IF(Table142[[#This Row],[Column12]]=\"\",\"\",IF('Life Expectancy and Criticality'!AH150=0,\"0.5\",'Life Expectancy and Criticality'!AH150))","v":""},{"$f":"IF(Table142[[#This Row],[I.D. Number ]]=\"\",\"\",IF(Table142[[#This Row],[Life Expectency]]=\"0\",\"Yes\",IF((Table1468[[#This Row],[Year of Failure]]-YEAR(TODAY()))<('Life Expectancy and Criticality'!$V150*(1/3)),\"Yes\",\"No\")))","v":""},null,null,null,{"$f":"IF(Table142[[#This Row],[Column2]]=0,\"\",IF('Life Expectancy and Criticality'!AQ150=0,\"0.5\",'Life Expectancy and Criticality'!AQ150))","v":""},0,{"$f":"IF('Data Collection Sheet'!$N153,\"The YEAR OF FAILURE and PROJECTED COST were calculated using an estimated installation date.\",\"\")&IF('Cost Data'!$M153,\"The PROJECTED COST was calculated using an estimated intial price.\",\"\")","v":""}]
[{"$f":"Table13[[#This Row],[I.D. Number ]]","v":""},{"$f":"Table13[[#This Row],[Category]]","v":0},{"$f":"Table13[[#This Row],[Type]]","v":0},{"$f":"Table13[[#This Row],[Description]]","v":0},{"$f":"Table13[[#This Row],[Life Expectancy]]","v":""},null,null,null,null,{"$f":"IF(Table142[[#This Row],[Column12]]=\"\",\"\",IF('Life Expectancy and Criticality'!AH151=0,\"0.5\",'Life Expectancy and Criticality'!AH151))","v":""},{"$f":"IF(Table142[[#This Row],[I.D. Number ]]=\"\",\"\",IF(Table142[[#This Row],[Life Expectency]]=\"0\",\"Yes\",IF((Table1468[[#This Row],[Year of Failure]]-YEAR(TODAY()))<('Life Expectancy and Criticality'!$V151*(1/3)),\"Yes\",\"No\")))","v":""},null,null,null,{"$f":"IF(Table142[[#This Row],[Column2]]=0,\"\",IF('Life Expectancy and Criticality'!AQ151=0,\"0.5\",'Life Expectancy and Criticality'!AQ151))","v":""},0,{"$f":"IF('Data Collection Sheet'!$N154,\"The YEAR OF FAILURE and PROJECTED COST were calculated using an estimated installation date.\",\"\")&IF('Cost Data'!$M154,\"The PROJECTED COST was calculated using an estimated intial price.\",\"\")","v":""}]
[{"$f":"Table13[[#This Row],[I.D. Number ]]","v":""},{"$f":"Table13[[#This Row],[Category]]","v":0},{"$f":"Table13[[#This Row],[Type]]","v":0},{"$f":"Table13[[#This Row],[Description]]","v":0},{"$f":"Table13[[#This Row],[Life Expectancy]]","v":""},null,null,null,null,{"$f":"IF(Table142[[#This Row],[Column12]]=\"\",\"\",IF('Life Expectancy and Criticality'!AH152=0,\"0.5\",'Life Expectancy and Criticality'!AH152))","v":""},{"$f":"IF(Table142[[#This Row],[I.D. Number ]]=\"\",\"\",IF(Table142[[#This Row],[Life Expectency]]=\"0\",\"Yes\",IF((Table1468[[#This Row],[Year of Failure]]-YEAR(TODAY()))<('Life Expectancy and Criticality'!$V152*(1/3)),\"Yes\",\"No\")))","v":""},null,null,null,{"$f":"IF(Table142[[#This Row],[Column2]]=0,\"\",IF('Life Expectancy and Criticality'!AQ152=0,\"0.5\",'Life Expectancy and Criticality'!AQ152))","v":""},0,{"$f":"IF('Data Collection Sheet'!$N155,\"The YEAR OF FAILURE and PROJECTED COST were calculated using an estimated installation date.\",\"\")&IF('Cost Data'!$M155,\"The PROJECTED COST was calculated using an estimated intial price.\",\"\")","v":""}]
[{"$f":"Table13[[#This Row],[I.D. Number ]]","v":""},{"$f":"Table13[[#This Row],[Category]]","v":0},{"$f":"Table13[[#This Row],[Type]]","v":0},{"$f":"Table13[[#This Row],[Description]]","v":0},{"$f":"Table13[[#This Row],[Life Expectancy]]","v":""},null,null,null,null,{"$f":"IF(Table142[[#This Row],[Column12]]=\"\",\"\",IF('Life Expectancy and Criticality'!AH153=0,\"0.5\",'Life Expectancy and Criticality'!AH153))","v":""},{"$f":"IF(Table142[[#This Row],[I.D. Number ]]=\"\",\"\",IF(Table142[[#This Row],[Life Expectency]]=\"0\",\"Yes\",IF((Table1468[[#This Row],[Year of Failure]]-YEAR(TODAY()))<('Life Expectancy and Criticality'!$V153*(1/3)),\"Yes\",\"No\")))","v":""},null,null,null,{"$f":"IF(Table142[[#This Row],[Column2]]=0,\"\",IF('Life Expectancy and Criticality'!AQ153=0,\"0.5\",'Life Expectancy and Criticality'!AQ153))","v":""},0,{"$f":"IF('Data Collection Sheet'!$N156,\"The YEAR OF FAILURE and PROJECTED COST were calculated using an estimated installation date.\",\"\")&IF('Cost Data'!$M156,\"The PROJECTED COST was calculated using an estimated intial price.\",\"\")","v":""}]
[{"$f":"Table13[[#This Row],[I.D. Number ]]","v":""},{"$f":"Table13[[#This Row],[Category]]","v":0},{"$f":"Table13[[#This Row],[Type]]","v":0},{"$f":"Table13[[#This Row],[Description]]","v":0},{"$f":"Table13[[#This Row],[Life Expectancy]]","v":""},null,null,null,null,{"$f":"IF(Table142[[#This Row],[Column12]]=\"\",\"\",IF('Life Expectancy and Criticality'!AH154=0,\"0.5\",'Life Expectancy and Criticality'!AH154))","v":""},{"$f":"IF(Table142[[#This Row],[I.D. Number ]]=\"\",\"\",IF(Table142[[#This Row],[Life Expectency]]=\"0\",\"Yes\",IF((Table1468[[#This Row],[Year of Failure]]-YEAR(TODAY()))<('Life Expectancy and Criticality'!$V154*(1/3)),\"Yes\",\"No\")))","v":""},null,null,null,{"$f":"IF(Table142[[#This Row],[Column2]]=0,\"\",IF('Life Expectancy and Criticality'!AQ154=0,\"0.5\",'Life Expectancy and Criticality'!AQ154))","v":""},0,{"$f":"IF('Data Collection Sheet'!$N157,\"The YEAR OF FAILURE and PROJECTED COST were calculated using an estimated installation date.\",\"\")&IF('Cost Data'!$M157,\"The PROJECTED COST was calculated using an estimated intial price.\",\"\")","v":""}]
[{"$f":"Table13[[#This Row],[I.D. Number ]]","v":""},{"$f":"Table13[[#This Row],[Category]]","v":0},{"$f":"Table13[[#This Row],[Type]]","v":0},{"$f":"Table13[[#This Row],[Description]]","v":0},{"$f":"Table13[[#This Row],[Life Expectancy]]","v":""},null,null,null,null,{"$f":"IF(Table142[[#This Row],[Column12]]=\"\",\"\",IF('Life Expectancy and Criticality'!AH155=0,\"0.5\",'Life Expectancy and Criticality'!AH155))","v":""},{"$f":"IF(Table142[[#This Row],[I.D. Number ]]=\"\",\"\",IF(Table142[[#This Row],[Life Expectency]]=\"0\",\"Yes\",IF((Table1468[[#This Row],[Year of Failure]]-YEAR(TODAY()))<('Life Expectancy and Criticality'!$V155*(1/3)),\"Yes\",\"No\")))","v":""},null,null,null,{"$f":"IF(Table142[[#This Row],[Column2]]=0,\"\",IF('Life Expectancy and Criticality'!AQ155=0,\"0.5\",'Life Expectancy and Criticality'!AQ155))","v":""},0,{"$f":"IF('Data Collection Sheet'!$N158,\"The YEAR OF FAILURE and PROJECTED COST were calculated using an estimated installation date.\",\"\")&IF('Cost Data'!$M158,\"The PROJECTED COST was calculated using an estimated intial price.\",\"\")","v":""}]
[{"$f":"Table13[[#This Row],[I.D. Number ]]","v":""},{"$f":"Table13[[#This Row],[Category]]","v":0},{"$f":"Table13[[#This Row],[Type]]","v":0},{"$f":"Table13[[#This Row],[Description]]","v":0},{"$f":"Table13[[#This Row],[Life Expectancy]]","v":""},null,null,null,null,{"$f":"IF(Table142[[#This Row],[Column12]]=\"\",\"\",IF('Life Expectancy and Criticality'!AH156=0,\"0.5\",'Life Expectancy and Criticality'!AH156))","v":""},{"$f":"IF(Table142[[#This Row],[I.D. Number ]]=\"\",\"\",IF(Table142[[#This Row],[Life Expectency]]=\"0\",\"Yes\",IF((Table1468[[#This Row],[Year of Failure]]-YEAR(TODAY()))<('Life Expectancy and Criticality'!$V156*(1/3)),\"Yes\",\"No\")))","v":""},null,null,null,{"$f":"IF(Table142[[#This Row],[Column2]]=0,\"\",IF('Life Expectancy and Criticality'!AQ156=0,\"0.5\",'Life Expectancy and Criticality'!AQ156))","v":""},0,{"$f":"IF('Data Collection Sheet'!$N159,\"The YEAR OF FAILURE and PROJECTED COST were calculated using an estimated installation date.\",\"\")&IF('Cost Data'!$M159,\"The PROJECTED COST was calculated using an estimated intial price.\",\"\")","v":""}]
[{"$f":"Table13[[#This Row],[I.D. Number ]]","v":""},{"$f":"Table13[[#This Row],[Category]]","v":0},{"$f":"Table13[[#This Row],[Type]]","v":0},{"$f":"Table13[[#This Row],[Description]]","v":0},{"$f":"Table13[[#This Row],[Life Expectancy]]","v":""},null,null,null,null,{"$f":"IF(Table142[[#This Row],[Column12]]=\"\",\"\",IF('Life Expectancy and Criticality'!AH157=0,\"0.5\",'Life Expectancy and Criticality'!AH157))","v":""},{"$f":"IF(Table142[[#This Row],[I.D. Number ]]=\"\",\"\",IF(Table142[[#This Row],[Life Expectency]]=\"0\",\"Yes\",IF((Table1468[[#This Row],[Year of Failure]]-YEAR(TODAY()))<('Life Expectancy and Criticality'!$V157*(1/3)),\"Yes\",\"No\")))","v":""},null,null,null,{"$f":"IF(Table142[[#This Row],[Column2]]=0,\"\",IF('Life Expectancy and Criticality'!AQ157=0,\"0.5\",'Life Expectancy and Criticality'!AQ157))","v":""},0,{"$f":"IF('Data Collection Sheet'!$N160,\"The YEAR OF FAILURE and PROJECTED COST were calculated using an estimated installation date.\",\"\")&IF('Cost Data'!$M160,\"The PROJECTED COST was calculated using an estimated intial price.\",\"\")","v":""}]
[{"$f":"Table13[[#This Row],[I.D. Number ]]","v":""},{"$f":"Table13[[#This Row],[Category]]","v":0},{"$f":"Table13[[#This Row],[Type]]","v":0},{"$f":"Table13[[#This Row],[Description]]","v":0},{"$f":"Table13[[#This Row],[Life Expectancy]]","v":""},null,null,null,null,{"$f":"IF(Table142[[#This Row],[Column12]]=\"\",\"\",IF('Life Expectancy and Criticality'!AH158=0,\"0.5\",'Life Expectancy and Criticality'!AH158))","v":""},{"$f":"IF(Table142[[#This Row],[I.D. Number ]]=\"\",\"\",IF(Table142[[#This Row],[Life Expectency]]=\"0\",\"Yes\",IF((Table1468[[#This Row],[Year of Failure]]-YEAR(TODAY()))<('Life Expectancy and Criticality'!$V158*(1/3)),\"Yes\",\"No\")))","v":""},null,null,null,{"$f":"IF(Table142[[#This Row],[Column2]]=0,\"\",IF('Life Expectancy and Criticality'!AQ158=0,\"0.5\",'Life Expectancy and Criticality'!AQ158))","v":""},0,{"$f":"IF('Data Collection Sheet'!$N161,\"The YEAR OF FAILURE and PROJECTED COST were calculated using an estimated installation date.\",\"\")&IF('Cost Data'!$M161,\"The PROJECTED COST was calculated using an estimated intial price.\",\"\")","v":""}]
[{"$f":"Table13[[#This Row],[I.D. Number ]]","v":""},{"$f":"Table13[[#This Row],[Category]]","v":0},{"$f":"Table13[[#This Row],[Type]]","v":0},{"$f":"Table13[[#This Row],[Description]]","v":0},{"$f":"Table13[[#This Row],[Life Expectancy]]","v":""},null,null,null,null,{"$f":"IF(Table142[[#This Row],[Column12]]=\"\",\"\",IF('Life Expectancy and Criticality'!AH159=0,\"0.5\",'Life Expectancy and Criticality'!AH159))","v":""},{"$f":"IF(Table142[[#This Row],[I.D. Number ]]=\"\",\"\",IF(Table142[[#This Row],[Life Expectency]]=\"0\",\"Yes\",IF((Table1468[[#This Row],[Year of Failure]]-YEAR(TODAY()))<('Life Expectancy and Criticality'!$V159*(1/3)),\"Yes\",\"No\")))","v":""},null,null,null,{"$f":"IF(Table142[[#This Row],[Column2]]=0,\"\",IF('Life Expectancy and Criticality'!AQ159=0,\"0.5\",'Life Expectancy and Criticality'!AQ159))","v":""},0,{"$f":"IF('Data Collection Sheet'!$N162,\"The YEAR OF FAILURE and PROJECTED COST were calculated using an estimated installation date.\",\"\")&IF('Cost Data'!$M162,\"The PROJECTED COST was calculated using an estimated intial price.\",\"\")","v":""}]
[{"$f":"Table13[[#This Row],[I.D. Number ]]","v":""},{"$f":"Table13[[#This Row],[Category]]","v":0},{"$f":"Table13[[#This Row],[Type]]","v":0},{"$f":"Table13[[#This Row],[Description]]","v":0},{"$f":"Table13[[#This Row],[Life Expectancy]]","v":""},null,null,null,null,{"$f":"IF(Table142[[#This Row],[Column12]]=\"\",\"\",IF('Life Expectancy and Criticality'!AH160=0,\"0.5\",'Life Expectancy and Criticality'!AH160))","v":""},{"$f":"IF(Table142[[#This Row],[I.D. Number ]]=\"\",\"\",IF(Table142[[#This Row],[Life Expectency]]=\"0\",\"Yes\",IF((Table1468[[#This Row],[Year of Failure]]-YEAR(TODAY()))<('Life Expectancy and Criticality'!$V160*(1/3)),\"Yes\",\"No\")))","v":""},null,null,null,{"$f":"IF(Table142[[#This Row],[Column2]]=0,\"\",IF('Life Expectancy and Criticality'!AQ160=0,\"0.5\",'Life Expectancy and Criticality'!AQ160))","v":""},0,{"$f":"IF('Data Collection Sheet'!$N163,\"The YEAR OF FAILURE and PROJECTED COST were calculated using an estimated installation date.\",\"\")&IF('Cost Data'!$M163,\"The PROJECTED COST was calculated using an estimated intial price.\",\"\")","v":""}]
[{"$f":"Table13[[#This Row],[I.D. Number ]]","v":""},{"$f":"Table13[[#This Row],[Category]]","v":0},{"$f":"Table13[[#This Row],[Type]]","v":0},{"$f":"Table13[[#This Row],[Description]]","v":0},{"$f":"Table13[[#This Row],[Life Expectancy]]","v":""},null,null,null,null,{"$f":"IF(Table142[[#This Row],[Column12]]=\"\",\"\",IF('Life Expectancy and Criticality'!AH161=0,\"0.5\",'Life Expectancy and Criticality'!AH161))","v":""},{"$f":"IF(Table142[[#This Row],[I.D. Number ]]=\"\",\"\",IF(Table142[[#This Row],[Life Expectency]]=\"0\",\"Yes\",IF((Table1468[[#This Row],[Year of Failure]]-YEAR(TODAY()))<('Life Expectancy and Criticality'!$V161*(1/3)),\"Yes\",\"No\")))","v":""},null,null,null,{"$f":"IF(Table142[[#This Row],[Column2]]=0,\"\",IF('Life Expectancy and Criticality'!AQ161=0,\"0.5\",'Life Expectancy and Criticality'!AQ161))","v":""},0,{"$f":"IF('Data Collection Sheet'!$N164,\"The YEAR OF FAILURE and PROJECTED COST were calculated using an estimated installation date.\",\"\")&IF('Cost Data'!$M164,\"The PROJECTED COST was calculated using an estimated intial price.\",\"\")","v":""}]
[{"$f":"Table13[[#This Row],[I.D. Number ]]","v":""},{"$f":"Table13[[#This Row],[Category]]","v":0},{"$f":"Table13[[#This Row],[Type]]","v":0},{"$f":"Table13[[#This Row],[Description]]","v":0},{"$f":"Table13[[#This Row],[Life Expectancy]]","v":""},null,null,null,null,{"$f":"IF(Table142[[#This Row],[Column12]]=\"\",\"\",IF('Life Expectancy and Criticality'!AH162=0,\"0.5\",'Life Expectancy and Criticality'!AH162))","v":""},{"$f":"IF(Table142[[#This Row],[I.D. Number ]]=\"\",\"\",IF(Table142[[#This Row],[Life Expectency]]=\"0\",\"Yes\",IF((Table1468[[#This Row],[Year of Failure]]-YEAR(TODAY()))<('Life Expectancy and Criticality'!$V162*(1/3)),\"Yes\",\"No\")))","v":""},null,null,null,{"$f":"IF(Table142[[#This Row],[Column2]]=0,\"\",IF('Life Expectancy and Criticality'!AQ162=0,\"0.5\",'Life Expectancy and Criticality'!AQ162))","v":""},0,{"$f":"IF('Data Collection Sheet'!$N165,\"The YEAR OF FAILURE and PROJECTED COST were calculated using an estimated installation date.\",\"\")&IF('Cost Data'!$M165,\"The PROJECTED COST was calculated using an estimated intial price.\",\"\")","v":""}]
[{"$f":"Table13[[#This Row],[I.D. Number ]]","v":""},{"$f":"Table13[[#This Row],[Category]]","v":0},{"$f":"Table13[[#This Row],[Type]]","v":0},{"$f":"Table13[[#This Row],[Description]]","v":0},{"$f":"Table13[[#This Row],[Life Expectancy]]","v":""},null,null,null,null,{"$f":"IF(Table142[[#This Row],[Column12]]=\"\",\"\",IF('Life Expectancy and Criticality'!AH163=0,\"0.5\",'Life Expectancy and Criticality'!AH163))","v":""},{"$f":"IF(Table142[[#This Row],[I.D. Number ]]=\"\",\"\",IF(Table142[[#This Row],[Life Expectency]]=\"0\",\"Yes\",IF((Table1468[[#This Row],[Year of Failure]]-YEAR(TODAY()))<('Life Expectancy and Criticality'!$V163*(1/3)),\"Yes\",\"No\")))","v":""},null,null,null,{"$f":"IF(Table142[[#This Row],[Column2]]=0,\"\",IF('Life Expectancy and Criticality'!AQ163=0,\"0.5\",'Life Expectancy and Criticality'!AQ163))","v":""},0,{"$f":"IF('Data Collection Sheet'!$N166,\"The YEAR OF FAILURE and PROJECTED COST were calculated using an estimated installation date.\",\"\")&IF('Cost Data'!$M166,\"The PROJECTED COST was calculated using an estimated intial price.\",\"\")","v":""}]
[{"$f":"Table13[[#This Row],[I.D. Number ]]","v":""},{"$f":"Table13[[#This Row],[Category]]","v":0},{"$f":"Table13[[#This Row],[Type]]","v":0},{"$f":"Table13[[#This Row],[Description]]","v":0},{"$f":"Table13[[#This Row],[Life Expectancy]]","v":""},null,null,null,null,{"$f":"IF(Table142[[#This Row],[Column12]]=\"\",\"\",IF('Life Expectancy and Criticality'!AH164=0,\"0.5\",'Life Expectancy and Criticality'!AH164))","v":""},{"$f":"IF(Table142[[#This Row],[I.D. Number ]]=\"\",\"\",IF(Table142[[#This Row],[Life Expectency]]=\"0\",\"Yes\",IF((Table1468[[#This Row],[Year of Failure]]-YEAR(TODAY()))<('Life Expectancy and Criticality'!$V164*(1/3)),\"Yes\",\"No\")))","v":""},null,null,null,{"$f":"IF(Table142[[#This Row],[Column2]]=0,\"\",IF('Life Expectancy and Criticality'!AQ164=0,\"0.5\",'Life Expectancy and Criticality'!AQ164))","v":""},0,{"$f":"IF('Data Collection Sheet'!$N167,\"The YEAR OF FAILURE and PROJECTED COST were calculated using an estimated installation date.\",\"\")&IF('Cost Data'!$M167,\"The PROJECTED COST was calculated using an estimated intial price.\",\"\")","v":""}]
[{"$f":"Table13[[#This Row],[I.D. Number ]]","v":""},{"$f":"Table13[[#This Row],[Category]]","v":0},{"$f":"Table13[[#This Row],[Type]]","v":0},{"$f":"Table13[[#This Row],[Description]]","v":0},{"$f":"Table13[[#This Row],[Life Expectancy]]","v":""},null,null,null,null,{"$f":"IF(Table142[[#This Row],[Column12]]=\"\",\"\",IF('Life Expectancy and Criticality'!AH165=0,\"0.5\",'Life Expectancy and Criticality'!AH165))","v":""},{"$f":"IF(Table142[[#This Row],[I.D. Number ]]=\"\",\"\",IF(Table142[[#This Row],[Life Expectency]]=\"0\",\"Yes\",IF((Table1468[[#This Row],[Year of Failure]]-YEAR(TODAY()))<('Life Expectancy and Criticality'!$V165*(1/3)),\"Yes\",\"No\")))","v":""},null,null,null,{"$f":"IF(Table142[[#This Row],[Column2]]=0,\"\",IF('Life Expectancy and Criticality'!AQ165=0,\"0.5\",'Life Expectancy and Criticality'!AQ165))","v":""},0,{"$f":"IF('Data Collection Sheet'!$N168,\"The YEAR OF FAILURE and PROJECTED COST were calculated using an estimated installation date.\",\"\")&IF('Cost Data'!$M168,\"The PROJECTED COST was calculated using an estimated intial price.\",\"\")","v":""}]
[{"$f":"Table13[[#This Row],[I.D. Number ]]","v":""},{"$f":"Table13[[#This Row],[Category]]","v":0},{"$f":"Table13[[#This Row],[Type]]","v":0},{"$f":"Table13[[#This Row],[Description]]","v":0},{"$f":"Table13[[#This Row],[Life Expectancy]]","v":""},null,null,null,null,{"$f":"IF(Table142[[#This Row],[Column12]]=\"\",\"\",IF('Life Expectancy and Criticality'!AH166=0,\"0.5\",'Life Expectancy and Criticality'!AH166))","v":""},{"$f":"IF(Table142[[#This Row],[I.D. Number ]]=\"\",\"\",IF(Table142[[#This Row],[Life Expectency]]=\"0\",\"Yes\",IF((Table1468[[#This Row],[Year of Failure]]-YEAR(TODAY()))<('Life Expectancy and Criticality'!$V166*(1/3)),\"Yes\",\"No\")))","v":""},null,null,null,{"$f":"IF(Table142[[#This Row],[Column2]]=0,\"\",IF('Life Expectancy and Criticality'!AQ166=0,\"0.5\",'Life Expectancy and Criticality'!AQ166))","v":""},0,{"$f":"IF('Data Collection Sheet'!$N169,\"The YEAR OF FAILURE and PROJECTED COST were calculated using an estimated installation date.\",\"\")&IF('Cost Data'!$M169,\"The PROJECTED COST was calculated using an estimated intial price.\",\"\")","v":""}]
[{"$f":"Table13[[#This Row],[I.D. Number ]]","v":""},{"$f":"Table13[[#This Row],[Category]]","v":0},{"$f":"Table13[[#This Row],[Type]]","v":0},{"$f":"Table13[[#This Row],[Description]]","v":0},{"$f":"Table13[[#This Row],[Life Expectancy]]","v":""},null,null,null,null,{"$f":"IF(Table142[[#This Row],[Column12]]=\"\",\"\",IF('Life Expectancy and Criticality'!AH167=0,\"0.5\",'Life Expectancy and Criticality'!AH167))","v":""},{"$f":"IF(Table142[[#This Row],[I.D. Number ]]=\"\",\"\",IF(Table142[[#This Row],[Life Expectency]]=\"0\",\"Yes\",IF((Table1468[[#This Row],[Year of Failure]]-YEAR(TODAY()))<('Life Expectancy and Criticality'!$V167*(1/3)),\"Yes\",\"No\")))","v":""},null,null,null,{"$f":"IF(Table142[[#This Row],[Column2]]=0,\"\",IF('Life Expectancy and Criticality'!AQ167=0,\"0.5\",'Life Expectancy and Criticality'!AQ167))","v":""},0,{"$f":"IF('Data Collection Sheet'!$N170,\"The YEAR OF FAILURE and PROJECTED COST were calculated using an estimated installation date.\",\"\")&IF('Cost Data'!$M170,\"The PROJECTED COST was calculated using an estimated intial price.\",\"\")","v":""}]
[{"$f":"Table13[[#This Row],[I.D. Number ]]","v":""},{"$f":"Table13[[#This Row],[Category]]","v":0},{"$f":"Table13[[#This Row],[Type]]","v":0},{"$f":"Table13[[#This Row],[Description]]","v":0},{"$f":"Table13[[#This Row],[Life Expectancy]]","v":""},null,null,null,null,{"$f":"IF(Table142[[#This Row],[Column12]]=\"\",\"\",IF('Life Expectancy and Criticality'!AH168=0,\"0.5\",'Life Expectancy and Criticality'!AH168))","v":""},{"$f":"IF(Table142[[#This Row],[I.D. Number ]]=\"\",\"\",IF(Table142[[#This Row],[Life Expectency]]=\"0\",\"Yes\",IF((Table1468[[#This Row],[Year of Failure]]-YEAR(TODAY()))<('Life Expectancy and Criticality'!$V168*(1/3)),\"Yes\",\"No\")))","v":""},null,null,null,{"$f":"IF(Table142[[#This Row],[Column2]]=0,\"\",IF('Life Expectancy and Criticality'!AQ168=0,\"0.5\",'Life Expectancy and Criticality'!AQ168))","v":""},0,{"$f":"IF('Data Collection Sheet'!$N171,\"The YEAR OF FAILURE and PROJECTED COST were calculated using an estimated installation date.\",\"\")&IF('Cost Data'!$M171,\"The PROJECTED COST was calculated using an estimated intial price.\",\"\")","v":""}]
[{"$f":"Table13[[#This Row],[I.D. Number ]]","v":""},{"$f":"Table13[[#This Row],[Category]]","v":0},{"$f":"Table13[[#This Row],[Type]]","v":0},{"$f":"Table13[[#This Row],[Description]]","v":0},{"$f":"Table13[[#This Row],[Life Expectancy]]","v":""},null,null,null,null,{"$f":"IF(Table142[[#This Row],[Column12]]=\"\",\"\",IF('Life Expectancy and Criticality'!AH169=0,\"0.5\",'Life Expectancy and Criticality'!AH169))","v":""},{"$f":"IF(Table142[[#This Row],[I.D. Number ]]=\"\",\"\",IF(Table142[[#This Row],[Life Expectency]]=\"0\",\"Yes\",IF((Table1468[[#This Row],[Year of Failure]]-YEAR(TODAY()))<('Life Expectancy and Criticality'!$V169*(1/3)),\"Yes\",\"No\")))","v":""},null,null,null,{"$f":"IF(Table142[[#This Row],[Column2]]=0,\"\",IF('Life Expectancy and Criticality'!AQ169=0,\"0.5\",'Life Expectancy and Criticality'!AQ169))","v":""},0,{"$f":"IF('Data Collection Sheet'!$N172,\"The YEAR OF FAILURE and PROJECTED COST were calculated using an estimated installation date.\",\"\")&IF('Cost Data'!$M172,\"The PROJECTED COST was calculated using an estimated intial price.\",\"\")","v":""}]
[{"$f":"Table13[[#This Row],[I.D. Number ]]","v":""},{"$f":"Table13[[#This Row],[Category]]","v":0},{"$f":"Table13[[#This Row],[Type]]","v":0},{"$f":"Table13[[#This Row],[Description]]","v":0},{"$f":"Table13[[#This Row],[Life Expectancy]]","v":""},null,null,null,null,{"$f":"IF(Table142[[#This Row],[Column12]]=\"\",\"\",IF('Life Expectancy and Criticality'!AH170=0,\"0.5\",'Life Expectancy and Criticality'!AH170))","v":""},{"$f":"IF(Table142[[#This Row],[I.D. Number ]]=\"\",\"\",IF(Table142[[#This Row],[Life Expectency]]=\"0\",\"Yes\",IF((Table1468[[#This Row],[Year of Failure]]-YEAR(TODAY()))<('Life Expectancy and Criticality'!$V170*(1/3)),\"Yes\",\"No\")))","v":""},null,null,null,{"$f":"IF(Table142[[#This Row],[Column2]]=0,\"\",IF('Life Expectancy and Criticality'!AQ170=0,\"0.5\",'Life Expectancy and Criticality'!AQ170))","v":""},0,{"$f":"IF('Data Collection Sheet'!$N173,\"The YEAR OF FAILURE and PROJECTED COST were calculated using an estimated installation date.\",\"\")&IF('Cost Data'!$M173,\"The PROJECTED COST was calculated using an estimated intial price.\",\"\")","v":""}]
[{"$f":"Table13[[#This Row],[I.D. Number ]]","v":""},{"$f":"Table13[[#This Row],[Category]]","v":0},{"$f":"Table13[[#This Row],[Type]]","v":0},{"$f":"Table13[[#This Row],[Description]]","v":0},{"$f":"Table13[[#This Row],[Life Expectancy]]","v":""},null,null,null,null,{"$f":"IF(Table142[[#This Row],[Column12]]=\"\",\"\",IF('Life Expectancy and Criticality'!AH171=0,\"0.5\",'Life Expectancy and Criticality'!AH171))","v":""},{"$f":"IF(Table142[[#This Row],[I.D. Number ]]=\"\",\"\",IF(Table142[[#This Row],[Life Expectency]]=\"0\",\"Yes\",IF((Table1468[[#This Row],[Year of Failure]]-YEAR(TODAY()))<('Life Expectancy and Criticality'!$V171*(1/3)),\"Yes\",\"No\")))","v":""},null,null,null,{"$f":"IF(Table142[[#This Row],[Column2]]=0,\"\",IF('Life Expectancy and Criticality'!AQ171=0,\"0.5\",'Life Expectancy and Criticality'!AQ171))","v":""},0,{"$f":"IF('Data Collection Sheet'!$N174,\"The YEAR OF FAILURE and PROJECTED COST were calculated using an estimated installation date.\",\"\")&IF('Cost Data'!$M174,\"The PROJECTED COST was calculated using an estimated intial price.\",\"\")","v":""}]
[{"$f":"Table13[[#This Row],[I.D. Number ]]","v":""},{"$f":"Table13[[#This Row],[Category]]","v":0},{"$f":"Table13[[#This Row],[Type]]","v":0},{"$f":"Table13[[#This Row],[Description]]","v":0},{"$f":"Table13[[#This Row],[Life Expectancy]]","v":""},null,null,null,null,{"$f":"IF(Table142[[#This Row],[Column12]]=\"\",\"\",IF('Life Expectancy and Criticality'!AH172=0,\"0.5\",'Life Expectancy and Criticality'!AH172))","v":""},{"$f":"IF(Table142[[#This Row],[I.D. Number ]]=\"\",\"\",IF(Table142[[#This Row],[Life Expectency]]=\"0\",\"Yes\",IF((Table1468[[#This Row],[Year of Failure]]-YEAR(TODAY()))<('Life Expectancy and Criticality'!$V172*(1/3)),\"Yes\",\"No\")))","v":""},null,null,null,{"$f":"IF(Table142[[#This Row],[Column2]]=0,\"\",IF('Life Expectancy and Criticality'!AQ172=0,\"0.5\",'Life Expectancy and Criticality'!AQ172))","v":""},0,{"$f":"IF('Data Collection Sheet'!$N175,\"The YEAR OF FAILURE and PROJECTED COST were calculated using an estimated installation date.\",\"\")&IF('Cost Data'!$M175,\"The PROJECTED COST was calculated using an estimated intial price.\",\"\")","v":""}]
[{"$f":"Table13[[#This Row],[I.D. Number ]]","v":""},{"$f":"Table13[[#This Row],[Category]]","v":0},{"$f":"Table13[[#This Row],[Type]]","v":0},{"$f":"Table13[[#This Row],[Description]]","v":0},{"$f":"Table13[[#This Row],[Life Expectancy]]","v":""},null,null,null,null,{"$f":"IF(Table142[[#This Row],[Column12]]=\"\",\"\",IF('Life Expectancy and Criticality'!AH173=0,\"0.5\",'Life Expectancy and Criticality'!AH173))","v":""},{"$f":"IF(Table142[[#This Row],[I.D. Number ]]=\"\",\"\",IF(Table142[[#This Row],[Life Expectency]]=\"0\",\"Yes\",IF((Table1468[[#This Row],[Year of Failure]]-YEAR(TODAY()))<('Life Expectancy and Criticality'!$V173*(1/3)),\"Yes\",\"No\")))","v":""},null,null,null,{"$f":"IF(Table142[[#This Row],[Column2]]=0,\"\",IF('Life Expectancy and Criticality'!AQ173=0,\"0.5\",'Life Expectancy and Criticality'!AQ173))","v":""},0,{"$f":"IF('Data Collection Sheet'!$N176,\"The YEAR OF FAILURE and PROJECTED COST were calculated using an estimated installation date.\",\"\")&IF('Cost Data'!$M176,\"The PROJECTED COST was calculated using an estimated intial price.\",\"\")","v":""}]
[{"$f":"Table13[[#This Row],[I.D. Number ]]","v":""},{"$f":"Table13[[#This Row],[Category]]","v":0},{"$f":"Table13[[#This Row],[Type]]","v":0},{"$f":"Table13[[#This Row],[Description]]","v":0},{"$f":"Table13[[#This Row],[Life Expectancy]]","v":""},null,null,null,null,{"$f":"IF(Table142[[#This Row],[Column12]]=\"\",\"\",IF('Life Expectancy and Criticality'!AH174=0,\"0.5\",'Life Expectancy and Criticality'!AH174))","v":""},{"$f":"IF(Table142[[#This Row],[I.D. Number ]]=\"\",\"\",IF(Table142[[#This Row],[Life Expectency]]=\"0\",\"Yes\",IF((Table1468[[#This Row],[Year of Failure]]-YEAR(TODAY()))<('Life Expectancy and Criticality'!$V174*(1/3)),\"Yes\",\"No\")))","v":""},null,null,null,{"$f":"IF(Table142[[#This Row],[Column2]]=0,\"\",IF('Life Expectancy and Criticality'!AQ174=0,\"0.5\",'Life Expectancy and Criticality'!AQ174))","v":""},0,{"$f":"IF('Data Collection Sheet'!$N177,\"The YEAR OF FAILURE and PROJECTED COST were calculated using an estimated installation date.\",\"\")&IF('Cost Data'!$M177,\"The PROJECTED COST was calculated using an estimated intial price.\",\"\")","v":""}]
[{"$f":"Table13[[#This Row],[I.D. Number ]]","v":""},{"$f":"Table13[[#This Row],[Category]]","v":0},{"$f":"Table13[[#This Row],[Type]]","v":0},{"$f":"Table13[[#This Row],[Description]]","v":0},{"$f":"Table13[[#This Row],[Life Expectancy]]","v":""},null,null,null,null,{"$f":"IF(Table142[[#This Row],[Column12]]=\"\",\"\",IF('Life Expectancy and Criticality'!AH175=0,\"0.5\",'Life Expectancy and Criticality'!AH175))","v":""},{"$f":"IF(Table142[[#This Row],[I.D. Number ]]=\"\",\"\",IF(Table142[[#This Row],[Life Expectency]]=\"0\",\"Yes\",IF((Table1468[[#This Row],[Year of Failure]]-YEAR(TODAY()))<('Life Expectancy and Criticality'!$V175*(1/3)),\"Yes\",\"No\")))","v":""},null,null,null,{"$f":"IF(Table142[[#This Row],[Column2]]=0,\"\",IF('Life Expectancy and Criticality'!AQ175=0,\"0.5\",'Life Expectancy and Criticality'!AQ175))","v":""},0,{"$f":"IF('Data Collection Sheet'!$N178,\"The YEAR OF FAILURE and PROJECTED COST were calculated using an estimated installation date.\",\"\")&IF('Cost Data'!$M178,\"The PROJECTED COST was calculated using an estimated intial price.\",\"\")","v":""}]
[{"$f":"Table13[[#This Row],[I.D. Number ]]","v":""},{"$f":"Table13[[#This Row],[Category]]","v":0},{"$f":"Table13[[#This Row],[Type]]","v":0},{"$f":"Table13[[#This Row],[Description]]","v":0},{"$f":"Table13[[#This Row],[Life Expectancy]]","v":""},null,null,null,null,{"$f":"IF(Table142[[#This Row],[Column12]]=\"\",\"\",IF('Life Expectancy and Criticality'!AH176=0,\"0.5\",'Life Expectancy and Criticality'!AH176))","v":""},{"$f":"IF(Table142[[#This Row],[I.D. Number ]]=\"\",\"\",IF(Table142[[#This Row],[Life Expectency]]=\"0\",\"Yes\",IF((Table1468[[#This Row],[Year of Failure]]-YEAR(TODAY()))<('Life Expectancy and Criticality'!$V176*(1/3)),\"Yes\",\"No\")))","v":""},null,null,null,{"$f":"IF(Table142[[#This Row],[Column2]]=0,\"\",IF('Life Expectancy and Criticality'!AQ176=0,\"0.5\",'Life Expectancy and Criticality'!AQ176))","v":""},0,{"$f":"IF('Data Collection Sheet'!$N179,\"The YEAR OF FAILURE and PROJECTED COST were calculated using an estimated installation date.\",\"\")&IF('Cost Data'!$M179,\"The PROJECTED COST was calculated using an estimated intial price.\",\"\")","v":""}]
[{"$f":"Table13[[#This Row],[I.D. Number ]]","v":""},{"$f":"Table13[[#This Row],[Category]]","v":0},{"$f":"Table13[[#This Row],[Type]]","v":0},{"$f":"Table13[[#This Row],[Description]]","v":0},{"$f":"Table13[[#This Row],[Life Expectancy]]","v":""},null,null,null,null,{"$f":"IF(Table142[[#This Row],[Column12]]=\"\",\"\",IF('Life Expectancy and Criticality'!AH177=0,\"0.5\",'Life Expectancy and Criticality'!AH177))","v":""},{"$f":"IF(Table142[[#This Row],[I.D. Number ]]=\"\",\"\",IF(Table142[[#This Row],[Life Expectency]]=\"0\",\"Yes\",IF((Table1468[[#This Row],[Year of Failure]]-YEAR(TODAY()))<('Life Expectancy and Criticality'!$V177*(1/3)),\"Yes\",\"No\")))","v":""},null,null,null,{"$f":"IF(Table142[[#This Row],[Column2]]=0,\"\",IF('Life Expectancy and Criticality'!AQ177=0,\"0.5\",'Life Expectancy and Criticality'!AQ177))","v":""},0,{"$f":"IF('Data Collection Sheet'!$N180,\"The YEAR OF FAILURE and PROJECTED COST were calculated using an estimated installation date.\",\"\")&IF('Cost Data'!$M180,\"The PROJECTED COST was calculated using an estimated intial price.\",\"\")","v":""}]
[{"$f":"Table13[[#This Row],[I.D. Number ]]","v":""},{"$f":"Table13[[#This Row],[Category]]","v":0},{"$f":"Table13[[#This Row],[Type]]","v":0},{"$f":"Table13[[#This Row],[Description]]","v":0},{"$f":"Table13[[#This Row],[Life Expectancy]]","v":""},null,null,null,null,{"$f":"IF(Table142[[#This Row],[Column12]]=\"\",\"\",IF('Life Expectancy and Criticality'!AH178=0,\"0.5\",'Life Expectancy and Criticality'!AH178))","v":""},{"$f":"IF(Table142[[#This Row],[I.D. Number ]]=\"\",\"\",IF(Table142[[#This Row],[Life Expectency]]=\"0\",\"Yes\",IF((Table1468[[#This Row],[Year of Failure]]-YEAR(TODAY()))<('Life Expectancy and Criticality'!$V178*(1/3)),\"Yes\",\"No\")))","v":""},null,null,null,{"$f":"IF(Table142[[#This Row],[Column2]]=0,\"\",IF('Life Expectancy and Criticality'!AQ178=0,\"0.5\",'Life Expectancy and Criticality'!AQ178))","v":""},0,{"$f":"IF('Data Collection Sheet'!$N181,\"The YEAR OF FAILURE and PROJECTED COST were calculated using an estimated installation date.\",\"\")&IF('Cost Data'!$M181,\"The PROJECTED COST was calculated using an estimated intial price.\",\"\")","v":""}]
[{"$f":"Table13[[#This Row],[I.D. Number ]]","v":""},{"$f":"Table13[[#This Row],[Category]]","v":0},{"$f":"Table13[[#This Row],[Type]]","v":0},{"$f":"Table13[[#This Row],[Description]]","v":0},{"$f":"Table13[[#This Row],[Life Expectancy]]","v":""},null,null,null,null,{"$f":"IF(Table142[[#This Row],[Column12]]=\"\",\"\",IF('Life Expectancy and Criticality'!AH179=0,\"0.5\",'Life Expectancy and Criticality'!AH179))","v":""},{"$f":"IF(Table142[[#This Row],[I.D. Number ]]=\"\",\"\",IF(Table142[[#This Row],[Life Expectency]]=\"0\",\"Yes\",IF((Table1468[[#This Row],[Year of Failure]]-YEAR(TODAY()))<('Life Expectancy and Criticality'!$V179*(1/3)),\"Yes\",\"No\")))","v":""},null,null,null,{"$f":"IF(Table142[[#This Row],[Column2]]=0,\"\",IF('Life Expectancy and Criticality'!AQ179=0,\"0.5\",'Life Expectancy and Criticality'!AQ179))","v":""},0,{"$f":"IF('Data Collection Sheet'!$N182,\"The YEAR OF FAILURE and PROJECTED COST were calculated using an estimated installation date.\",\"\")&IF('Cost Data'!$M182,\"The PROJECTED COST was calculated using an estimated intial price.\",\"\")","v":""}]
[{"$f":"Table13[[#This Row],[I.D. Number ]]","v":""},{"$f":"Table13[[#This Row],[Category]]","v":0},{"$f":"Table13[[#This Row],[Type]]","v":0},{"$f":"Table13[[#This Row],[Description]]","v":0},{"$f":"Table13[[#This Row],[Life Expectancy]]","v":""},null,null,null,null,{"$f":"IF(Table142[[#This Row],[Column12]]=\"\",\"\",IF('Life Expectancy and Criticality'!AH180=0,\"0.5\",'Life Expectancy and Criticality'!AH180))","v":""},{"$f":"IF(Table142[[#This Row],[I.D. Number ]]=\"\",\"\",IF(Table142[[#This Row],[Life Expectency]]=\"0\",\"Yes\",IF((Table1468[[#This Row],[Year of Failure]]-YEAR(TODAY()))<('Life Expectancy and Criticality'!$V180*(1/3)),\"Yes\",\"No\")))","v":""},null,null,null,{"$f":"IF(Table142[[#This Row],[Column2]]=0,\"\",IF('Life Expectancy and Criticality'!AQ180=0,\"0.5\",'Life Expectancy and Criticality'!AQ180))","v":""},0,{"$f":"IF('Data Collection Sheet'!$N183,\"The YEAR OF FAILURE and PROJECTED COST were calculated using an estimated installation date.\",\"\")&IF('Cost Data'!$M183,\"The PROJECTED COST was calculated using an estimated intial price.\",\"\")","v":""}]
[{"$f":"Table13[[#This Row],[I.D. Number ]]","v":""},{"$f":"Table13[[#This Row],[Category]]","v":0},{"$f":"Table13[[#This Row],[Type]]","v":0},{"$f":"Table13[[#This Row],[Description]]","v":0},{"$f":"Table13[[#This Row],[Life Expectancy]]","v":""},null,null,null,null,{"$f":"IF(Table142[[#This Row],[Column12]]=\"\",\"\",IF('Life Expectancy and Criticality'!AH181=0,\"0.5\",'Life Expectancy and Criticality'!AH181))","v":""},{"$f":"IF(Table142[[#This Row],[I.D. Number ]]=\"\",\"\",IF(Table142[[#This Row],[Life Expectency]]=\"0\",\"Yes\",IF((Table1468[[#This Row],[Year of Failure]]-YEAR(TODAY()))<('Life Expectancy and Criticality'!$V181*(1/3)),\"Yes\",\"No\")))","v":""},null,null,null,{"$f":"IF(Table142[[#This Row],[Column2]]=0,\"\",IF('Life Expectancy and Criticality'!AQ181=0,\"0.5\",'Life Expectancy and Criticality'!AQ181))","v":""},0,{"$f":"IF('Data Collection Sheet'!$N184,\"The YEAR OF FAILURE and PROJECTED COST were calculated using an estimated installation date.\",\"\")&IF('Cost Data'!$M184,\"The PROJECTED COST was calculated using an estimated intial price.\",\"\")","v":""}]
[{"$f":"Table13[[#This Row],[I.D. Number ]]","v":""},{"$f":"Table13[[#This Row],[Category]]","v":0},{"$f":"Table13[[#This Row],[Type]]","v":0},{"$f":"Table13[[#This Row],[Description]]","v":0},{"$f":"Table13[[#This Row],[Life Expectancy]]","v":""},null,null,null,null,{"$f":"IF(Table142[[#This Row],[Column12]]=\"\",\"\",IF('Life Expectancy and Criticality'!AH182=0,\"0.5\",'Life Expectancy and Criticality'!AH182))","v":""},{"$f":"IF(Table142[[#This Row],[I.D. Number ]]=\"\",\"\",IF(Table142[[#This Row],[Life Expectency]]=\"0\",\"Yes\",IF((Table1468[[#This Row],[Year of Failure]]-YEAR(TODAY()))<('Life Expectancy and Criticality'!$V182*(1/3)),\"Yes\",\"No\")))","v":""},null,null,null,{"$f":"IF(Table142[[#This Row],[Column2]]=0,\"\",IF('Life Expectancy and Criticality'!AQ182=0,\"0.5\",'Life Expectancy and Criticality'!AQ182))","v":""},0,{"$f":"IF('Data Collection Sheet'!$N185,\"The YEAR OF FAILURE and PROJECTED COST were calculated using an estimated installation date.\",\"\")&IF('Cost Data'!$M185,\"The PROJECTED COST was calculated using an estimated intial price.\",\"\")","v":""}]
[{"$f":"Table13[[#This Row],[I.D. Number ]]","v":""},{"$f":"Table13[[#This Row],[Category]]","v":0},{"$f":"Table13[[#This Row],[Type]]","v":0},{"$f":"Table13[[#This Row],[Description]]","v":0},{"$f":"Table13[[#This Row],[Life Expectancy]]","v":""},null,null,null,null,{"$f":"IF(Table142[[#This Row],[Column12]]=\"\",\"\",IF('Life Expectancy and Criticality'!AH183=0,\"0.5\",'Life Expectancy and Criticality'!AH183))","v":""},{"$f":"IF(Table142[[#This Row],[I.D. Number ]]=\"\",\"\",IF(Table142[[#This Row],[Life Expectency]]=\"0\",\"Yes\",IF((Table1468[[#This Row],[Year of Failure]]-YEAR(TODAY()))<('Life Expectancy and Criticality'!$V183*(1/3)),\"Yes\",\"No\")))","v":""},null,null,null,{"$f":"IF(Table142[[#This Row],[Column2]]=0,\"\",IF('Life Expectancy and Criticality'!AQ183=0,\"0.5\",'Life Expectancy and Criticality'!AQ183))","v":""},0,{"$f":"IF('Data Collection Sheet'!$N186,\"The YEAR OF FAILURE and PROJECTED COST were calculated using an estimated installation date.\",\"\")&IF('Cost Data'!$M186,\"The PROJECTED COST was calculated using an estimated intial price.\",\"\")","v":""}]
[{"$f":"Table13[[#This Row],[I.D. Number ]]","v":""},{"$f":"Table13[[#This Row],[Category]]","v":0},{"$f":"Table13[[#This Row],[Type]]","v":0},{"$f":"Table13[[#This Row],[Description]]","v":0},{"$f":"Table13[[#This Row],[Life Expectancy]]","v":""},null,null,null,null,{"$f":"IF(Table142[[#This Row],[Column12]]=\"\",\"\",IF('Life Expectancy and Criticality'!AH184=0,\"0.5\",'Life Expectancy and Criticality'!AH184))","v":""},{"$f":"IF(Table142[[#This Row],[I.D. Number ]]=\"\",\"\",IF(Table142[[#This Row],[Life Expectency]]=\"0\",\"Yes\",IF((Table1468[[#This Row],[Year of Failure]]-YEAR(TODAY()))<('Life Expectancy and Criticality'!$V184*(1/3)),\"Yes\",\"No\")))","v":""},null,null,null,{"$f":"IF(Table142[[#This Row],[Column2]]=0,\"\",IF('Life Expectancy and Criticality'!AQ184=0,\"0.5\",'Life Expectancy and Criticality'!AQ184))","v":""},0,{"$f":"IF('Data Collection Sheet'!$N187,\"The YEAR OF FAILURE and PROJECTED COST were calculated using an estimated installation date.\",\"\")&IF('Cost Data'!$M187,\"The PROJECTED COST was calculated using an estimated intial price.\",\"\")","v":""}]
[{"$f":"Table13[[#This Row],[I.D. Number ]]","v":""},{"$f":"Table13[[#This Row],[Category]]","v":0},{"$f":"Table13[[#This Row],[Type]]","v":0},{"$f":"Table13[[#This Row],[Description]]","v":0},{"$f":"Table13[[#This Row],[Life Expectancy]]","v":""},null,null,null,null,{"$f":"IF(Table142[[#This Row],[Column12]]=\"\",\"\",IF('Life Expectancy and Criticality'!AH185=0,\"0.5\",'Life Expectancy and Criticality'!AH185))","v":""},{"$f":"IF(Table142[[#This Row],[I.D. Number ]]=\"\",\"\",IF(Table142[[#This Row],[Life Expectency]]=\"0\",\"Yes\",IF((Table1468[[#This Row],[Year of Failure]]-YEAR(TODAY()))<('Life Expectancy and Criticality'!$V185*(1/3)),\"Yes\",\"No\")))","v":""},null,null,null,{"$f":"IF(Table142[[#This Row],[Column2]]=0,\"\",IF('Life Expectancy and Criticality'!AQ185=0,\"0.5\",'Life Expectancy and Criticality'!AQ185))","v":""},0,{"$f":"IF('Data Collection Sheet'!$N188,\"The YEAR OF FAILURE and PROJECTED COST were calculated using an estimated installation date.\",\"\")&IF('Cost Data'!$M188,\"The PROJECTED COST was calculated using an estimated intial price.\",\"\")","v":""}]
[{"$f":"Table13[[#This Row],[I.D. Number ]]","v":""},{"$f":"Table13[[#This Row],[Category]]","v":0},{"$f":"Table13[[#This Row],[Type]]","v":0},{"$f":"Table13[[#This Row],[Description]]","v":0},{"$f":"Table13[[#This Row],[Life Expectancy]]","v":""},null,null,null,null,{"$f":"IF(Table142[[#This Row],[Column12]]=\"\",\"\",IF('Life Expectancy and Criticality'!AH186=0,\"0.5\",'Life Expectancy and Criticality'!AH186))","v":""},{"$f":"IF(Table142[[#This Row],[I.D. Number ]]=\"\",\"\",IF(Table142[[#This Row],[Life Expectency]]=\"0\",\"Yes\",IF((Table1468[[#This Row],[Year of Failure]]-YEAR(TODAY()))<('Life Expectancy and Criticality'!$V186*(1/3)),\"Yes\",\"No\")))","v":""},null,null,null,{"$f":"IF(Table142[[#This Row],[Column2]]=0,\"\",IF('Life Expectancy and Criticality'!AQ186=0,\"0.5\",'Life Expectancy and Criticality'!AQ186))","v":""},0,{"$f":"IF('Data Collection Sheet'!$N189,\"The YEAR OF FAILURE and PROJECTED COST were calculated using an estimated installation date.\",\"\")&IF('Cost Data'!$M189,\"The PROJECTED COST was calculated using an estimated intial price.\",\"\")","v":""}]
[{"$f":"Table13[[#This Row],[I.D. Number ]]","v":""},{"$f":"Table13[[#This Row],[Category]]","v":0},{"$f":"Table13[[#This Row],[Type]]","v":0},{"$f":"Table13[[#This Row],[Description]]","v":0},{"$f":"Table13[[#This Row],[Life Expectancy]]","v":""},null,null,null,null,{"$f":"IF(Table142[[#This Row],[Column12]]=\"\",\"\",IF('Life Expectancy and Criticality'!AH187=0,\"0.5\",'Life Expectancy and Criticality'!AH187))","v":""},{"$f":"IF(Table142[[#This Row],[I.D. Number ]]=\"\",\"\",IF(Table142[[#This Row],[Life Expectency]]=\"0\",\"Yes\",IF((Table1468[[#This Row],[Year of Failure]]-YEAR(TODAY()))<('Life Expectancy and Criticality'!$V187*(1/3)),\"Yes\",\"No\")))","v":""},null,null,null,{"$f":"IF(Table142[[#This Row],[Column2]]=0,\"\",IF('Life Expectancy and Criticality'!AQ187=0,\"0.5\",'Life Expectancy and Criticality'!AQ187))","v":""},0,{"$f":"IF('Data Collection Sheet'!$N190,\"The YEAR OF FAILURE and PROJECTED COST were calculated using an estimated installation date.\",\"\")&IF('Cost Data'!$M190,\"The PROJECTED COST was calculated using an estimated intial price.\",\"\")","v":""}]
[{"$f":"Table13[[#This Row],[I.D. Number ]]","v":""},{"$f":"Table13[[#This Row],[Category]]","v":0},{"$f":"Table13[[#This Row],[Type]]","v":0},{"$f":"Table13[[#This Row],[Description]]","v":0},{"$f":"Table13[[#This Row],[Life Expectancy]]","v":""},null,null,null,null,{"$f":"IF(Table142[[#This Row],[Column12]]=\"\",\"\",IF('Life Expectancy and Criticality'!AH188=0,\"0.5\",'Life Expectancy and Criticality'!AH188))","v":""},{"$f":"IF(Table142[[#This Row],[I.D. Number ]]=\"\",\"\",IF(Table142[[#This Row],[Life Expectency]]=\"0\",\"Yes\",IF((Table1468[[#This Row],[Year of Failure]]-YEAR(TODAY()))<('Life Expectancy and Criticality'!$V188*(1/3)),\"Yes\",\"No\")))","v":""},null,null,null,{"$f":"IF(Table142[[#This Row],[Column2]]=0,\"\",IF('Life Expectancy and Criticality'!AQ188=0,\"0.5\",'Life Expectancy and Criticality'!AQ188))","v":""},0,{"$f":"IF('Data Collection Sheet'!$N191,\"The YEAR OF FAILURE and PROJECTED COST were calculated using an estimated installation date.\",\"\")&IF('Cost Data'!$M191,\"The PROJECTED COST was calculated using an estimated intial price.\",\"\")","v":""}]
[{"$f":"Table13[[#This Row],[I.D. Number ]]","v":""},{"$f":"Table13[[#This Row],[Category]]","v":0},{"$f":"Table13[[#This Row],[Type]]","v":0},{"$f":"Table13[[#This Row],[Description]]","v":0},{"$f":"Table13[[#This Row],[Life Expectancy]]","v":""},null,null,null,null,{"$f":"IF(Table142[[#This Row],[Column12]]=\"\",\"\",IF('Life Expectancy and Criticality'!AH189=0,\"0.5\",'Life Expectancy and Criticality'!AH189))","v":""},{"$f":"IF(Table142[[#This Row],[I.D. Number ]]=\"\",\"\",IF(Table142[[#This Row],[Life Expectency]]=\"0\",\"Yes\",IF((Table1468[[#This Row],[Year of Failure]]-YEAR(TODAY()))<('Life Expectancy and Criticality'!$V189*(1/3)),\"Yes\",\"No\")))","v":""},null,null,null,{"$f":"IF(Table142[[#This Row],[Column2]]=0,\"\",IF('Life Expectancy and Criticality'!AQ189=0,\"0.5\",'Life Expectancy and Criticality'!AQ189))","v":""},0,{"$f":"IF('Data Collection Sheet'!$N192,\"The YEAR OF FAILURE and PROJECTED COST were calculated using an estimated installation date.\",\"\")&IF('Cost Data'!$M192,\"The PROJECTED COST was calculated using an estimated intial price.\",\"\")","v":""}]
[{"$f":"Table13[[#This Row],[I.D. Number ]]","v":""},{"$f":"Table13[[#This Row],[Category]]","v":0},{"$f":"Table13[[#This Row],[Type]]","v":0},{"$f":"Table13[[#This Row],[Description]]","v":0},{"$f":"Table13[[#This Row],[Life Expectancy]]","v":""},null,null,null,null,{"$f":"IF(Table142[[#This Row],[Column12]]=\"\",\"\",IF('Life Expectancy and Criticality'!AH190=0,\"0.5\",'Life Expectancy and Criticality'!AH190))","v":""},{"$f":"IF(Table142[[#This Row],[I.D. Number ]]=\"\",\"\",IF(Table142[[#This Row],[Life Expectency]]=\"0\",\"Yes\",IF((Table1468[[#This Row],[Year of Failure]]-YEAR(TODAY()))<('Life Expectancy and Criticality'!$V190*(1/3)),\"Yes\",\"No\")))","v":""},null,null,null,{"$f":"IF(Table142[[#This Row],[Column2]]=0,\"\",IF('Life Expectancy and Criticality'!AQ190=0,\"0.5\",'Life Expectancy and Criticality'!AQ190))","v":""},0,{"$f":"IF('Data Collection Sheet'!$N193,\"The YEAR OF FAILURE and PROJECTED COST were calculated using an estimated installation date.\",\"\")&IF('Cost Data'!$M193,\"The PROJECTED COST was calculated using an estimated intial price.\",\"\")","v":""}]
[{"$f":"Table13[[#This Row],[I.D. Number ]]","v":""},{"$f":"Table13[[#This Row],[Category]]","v":0},{"$f":"Table13[[#This Row],[Type]]","v":0},{"$f":"Table13[[#This Row],[Description]]","v":0},{"$f":"Table13[[#This Row],[Life Expectancy]]","v":""},null,null,null,null,{"$f":"IF(Table142[[#This Row],[Column12]]=\"\",\"\",IF('Life Expectancy and Criticality'!AH191=0,\"0.5\",'Life Expectancy and Criticality'!AH191))","v":""},{"$f":"IF(Table142[[#This Row],[I.D. Number ]]=\"\",\"\",IF(Table142[[#This Row],[Life Expectency]]=\"0\",\"Yes\",IF((Table1468[[#This Row],[Year of Failure]]-YEAR(TODAY()))<('Life Expectancy and Criticality'!$V191*(1/3)),\"Yes\",\"No\")))","v":""},null,null,null,{"$f":"IF(Table142[[#This Row],[Column2]]=0,\"\",IF('Life Expectancy and Criticality'!AQ191=0,\"0.5\",'Life Expectancy and Criticality'!AQ191))","v":""},0,{"$f":"IF('Data Collection Sheet'!$N194,\"The YEAR OF FAILURE and PROJECTED COST were calculated using an estimated installation date.\",\"\")&IF('Cost Data'!$M194,\"The PROJECTED COST was calculated using an estimated intial price.\",\"\")","v":""}]
[{"$f":"Table13[[#This Row],[I.D. Number ]]","v":""},{"$f":"Table13[[#This Row],[Category]]","v":0},{"$f":"Table13[[#This Row],[Type]]","v":0},{"$f":"Table13[[#This Row],[Description]]","v":0},{"$f":"Table13[[#This Row],[Life Expectancy]]","v":""},null,null,null,null,{"$f":"IF(Table142[[#This Row],[Column12]]=\"\",\"\",IF('Life Expectancy and Criticality'!AH192=0,\"0.5\",'Life Expectancy and Criticality'!AH192))","v":""},{"$f":"IF(Table142[[#This Row],[I.D. Number ]]=\"\",\"\",IF(Table142[[#This Row],[Life Expectency]]=\"0\",\"Yes\",IF((Table1468[[#This Row],[Year of Failure]]-YEAR(TODAY()))<('Life Expectancy and Criticality'!$V192*(1/3)),\"Yes\",\"No\")))","v":""},null,null,null,{"$f":"IF(Table142[[#This Row],[Column2]]=0,\"\",IF('Life Expectancy and Criticality'!AQ192=0,\"0.5\",'Life Expectancy and Criticality'!AQ192))","v":""},0,{"$f":"IF('Data Collection Sheet'!$N195,\"The YEAR OF FAILURE and PROJECTED COST were calculated using an estimated installation date.\",\"\")&IF('Cost Data'!$M195,\"The PROJECTED COST was calculated using an estimated intial price.\",\"\")","v":""}]
[{"$f":"Table13[[#This Row],[I.D. Number ]]","v":""},{"$f":"Table13[[#This Row],[Category]]","v":0},{"$f":"Table13[[#This Row],[Type]]","v":0},{"$f":"Table13[[#This Row],[Description]]","v":0},{"$f":"Table13[[#This Row],[Life Expectancy]]","v":""},null,null,null,null,{"$f":"IF(Table142[[#This Row],[Column12]]=\"\",\"\",IF('Life Expectancy and Criticality'!AH193=0,\"0.5\",'Life Expectancy and Criticality'!AH193))","v":""},{"$f":"IF(Table142[[#This Row],[I.D. Number ]]=\"\",\"\",IF(Table142[[#This Row],[Life Expectency]]=\"0\",\"Yes\",IF((Table1468[[#This Row],[Year of Failure]]-YEAR(TODAY()))<('Life Expectancy and Criticality'!$V193*(1/3)),\"Yes\",\"No\")))","v":""},null,null,null,{"$f":"IF(Table142[[#This Row],[Column2]]=0,\"\",IF('Life Expectancy and Criticality'!AQ193=0,\"0.5\",'Life Expectancy and Criticality'!AQ193))","v":""},0,{"$f":"IF('Data Collection Sheet'!$N196,\"The YEAR OF FAILURE and PROJECTED COST were calculated using an estimated installation date.\",\"\")&IF('Cost Data'!$M196,\"The PROJECTED COST was calculated using an estimated intial price.\",\"\")","v":""}]
[{"$f":"Table13[[#This Row],[I.D. Number ]]","v":""},{"$f":"Table13[[#This Row],[Category]]","v":0},{"$f":"Table13[[#This Row],[Type]]","v":0},{"$f":"Table13[[#This Row],[Description]]","v":0},{"$f":"Table13[[#This Row],[Life Expectancy]]","v":""},null,null,null,null,{"$f":"IF(Table142[[#This Row],[Column12]]=\"\",\"\",IF('Life Expectancy and Criticality'!AH194=0,\"0.5\",'Life Expectancy and Criticality'!AH194))","v":""},{"$f":"IF(Table142[[#This Row],[I.D. Number ]]=\"\",\"\",IF(Table142[[#This Row],[Life Expectency]]=\"0\",\"Yes\",IF((Table1468[[#This Row],[Year of Failure]]-YEAR(TODAY()))<('Life Expectancy and Criticality'!$V194*(1/3)),\"Yes\",\"No\")))","v":""},null,null,null,{"$f":"IF(Table142[[#This Row],[Column2]]=0,\"\",IF('Life Expectancy and Criticality'!AQ194=0,\"0.5\",'Life Expectancy and Criticality'!AQ194))","v":""},0,{"$f":"IF('Data Collection Sheet'!$N197,\"The YEAR OF FAILURE and PROJECTED COST were calculated using an estimated installation date.\",\"\")&IF('Cost Data'!$M197,\"The PROJECTED COST was calculated using an estimated intial price.\",\"\")","v":""}]
[{"$f":"Table13[[#This Row],[I.D. Number ]]","v":""},{"$f":"Table13[[#This Row],[Category]]","v":0},{"$f":"Table13[[#This Row],[Type]]","v":0},{"$f":"Table13[[#This Row],[Description]]","v":0},{"$f":"Table13[[#This Row],[Life Expectancy]]","v":""},null,null,null,null,{"$f":"IF(Table142[[#This Row],[Column12]]=\"\",\"\",IF('Life Expectancy and Criticality'!AH195=0,\"0.5\",'Life Expectancy and Criticality'!AH195))","v":""},{"$f":"IF(Table142[[#This Row],[I.D. Number ]]=\"\",\"\",IF(Table142[[#This Row],[Life Expectency]]=\"0\",\"Yes\",IF((Table1468[[#This Row],[Year of Failure]]-YEAR(TODAY()))<('Life Expectancy and Criticality'!$V195*(1/3)),\"Yes\",\"No\")))","v":""},null,null,null,{"$f":"IF(Table142[[#This Row],[Column2]]=0,\"\",IF('Life Expectancy and Criticality'!AQ195=0,\"0.5\",'Life Expectancy and Criticality'!AQ195))","v":""},{"$f":"IF(J198=\"\",0,IF(O198=\"\",\"\",J198*O198))","v":0},{"$f":"IF('Data Collection Sheet'!$N198,\"The YEAR OF FAILURE and PROJECTED COST were calculated using an estimated installation date.\",\"\")&IF('Cost Data'!$M198,\"The PROJECTED COST was calculated using an estimated intial price.\",\"\")","v":""}]
[{"$f":"Table13[[#This Row],[I.D. Number ]]","v":""},{"$f":"Table13[[#This Row],[Category]]","v":0},{"$f":"Table13[[#This Row],[Type]]","v":0},{"$f":"Table13[[#This Row],[Description]]","v":0},{"$f":"Table13[[#This Row],[Life Expectancy]]","v":""},null,null,null,null,{"$f":"IF(Table142[[#This Row],[Column12]]=\"\",\"\",IF('Life Expectancy and Criticality'!AH196=0,\"0.5\",'Life Expectancy and Criticality'!AH196))","v":""},{"$f":"IF(Table142[[#This Row],[I.D. Number ]]=\"\",\"\",IF(Table142[[#This Row],[Life Expectency]]=\"0\",\"Yes\",IF((Table1468[[#This Row],[Year of Failure]]-YEAR(TODAY()))<('Life Expectancy and Criticality'!$V196*(1/3)),\"Yes\",\"No\")))","v":""},null,null,null,{"$f":"IF(Table142[[#This Row],[Column2]]=0,\"\",IF('Life Expectancy and Criticality'!AQ196=0,\"0.5\",'Life Expectancy and Criticality'!AQ196))","v":""},0,{"$f":"IF('Data Collection Sheet'!$N199,\"The YEAR OF FAILURE and PROJECTED COST were calculated using an estimated installation date.\",\"\")&IF('Cost Data'!$M199,\"The PROJECTED COST was calculated using an estimated intial price.\",\"\")","v":""}]
[{"$f":"Table13[[#This Row],[I.D. Number ]]","v":""},{"$f":"Table13[[#This Row],[Category]]","v":0},{"$f":"Table13[[#This Row],[Type]]","v":0},{"$f":"Table13[[#This Row],[Description]]","v":0},{"$f":"Table13[[#This Row],[Life Expectancy]]","v":""},null,null,null,null,{"$f":"IF(Table142[[#This Row],[Column12]]=\"\",\"\",IF('Life Expectancy and Criticality'!AH197=0,\"0.5\",'Life Expectancy and Criticality'!AH197))","v":""},{"$f":"IF(Table142[[#This Row],[I.D. Number ]]=\"\",\"\",IF(Table142[[#This Row],[Life Expectency]]=\"0\",\"Yes\",IF((Table1468[[#This Row],[Year of Failure]]-YEAR(TODAY()))<('Life Expectancy and Criticality'!$V197*(1/3)),\"Yes\",\"No\")))","v":""},null,null,null,{"$f":"IF(Table142[[#This Row],[Column2]]=0,\"\",IF('Life Expectancy and Criticality'!AQ197=0,\"0.5\",'Life Expectancy and Criticality'!AQ197))","v":""},0,{"$f":"IF('Data Collection Sheet'!$N200,\"The YEAR OF FAILURE and PROJECTED COST were calculated using an estimated installation date.\",\"\")&IF('Cost Data'!$M200,\"The PROJECTED COST was calculated using an estimated intial price.\",\"\")","v":""}]
[{"$f":"Table13[[#This Row],[I.D. Number ]]","v":""},{"$f":"Table13[[#This Row],[Category]]","v":0},{"$f":"Table13[[#This Row],[Type]]","v":0},{"$f":"Table13[[#This Row],[Description]]","v":0},{"$f":"Table13[[#This Row],[Life Expectancy]]","v":""},null,null,null,null,{"$f":"IF(Table142[[#This Row],[Column12]]=\"\",\"\",IF('Life Expectancy and Criticality'!AH198=0,\"0.5\",'Life Expectancy and Criticality'!AH198))","v":""},{"$f":"IF(Table142[[#This Row],[I.D. Number ]]=\"\",\"\",IF(Table142[[#This Row],[Life Expectency]]=\"0\",\"Yes\",IF((Table1468[[#This Row],[Year of Failure]]-YEAR(TODAY()))<('Life Expectancy and Criticality'!$V198*(1/3)),\"Yes\",\"No\")))","v":""},null,null,null,{"$f":"IF(Table142[[#This Row],[Column2]]=0,\"\",IF('Life Expectancy and Criticality'!AQ198=0,\"0.5\",'Life Expectancy and Criticality'!AQ198))","v":""},0,{"$f":"IF('Data Collection Sheet'!$N201,\"The YEAR OF FAILURE and PROJECTED COST were calculated using an estimated installation date.\",\"\")&IF('Cost Data'!$M201,\"The PROJECTED COST was calculated using an estimated intial price.\",\"\")","v":""}]
[{"$f":"Table13[[#This Row],[I.D. Number ]]","v":""},{"$f":"Table13[[#This Row],[Category]]","v":0},{"$f":"Table13[[#This Row],[Type]]","v":0},{"$f":"Table13[[#This Row],[Description]]","v":0},{"$f":"Table13[[#This Row],[Life Expectancy]]","v":""},null,null,null,null,{"$f":"IF(Table142[[#This Row],[Column12]]=\"\",\"\",IF('Life Expectancy and Criticality'!AH199=0,\"0.5\",'Life Expectancy and Criticality'!AH199))","v":""},{"$f":"IF(Table142[[#This Row],[I.D. Number ]]=\"\",\"\",IF(Table142[[#This Row],[Life Expectency]]=\"0\",\"Yes\",IF((Table1468[[#This Row],[Year of Failure]]-YEAR(TODAY()))<('Life Expectancy and Criticality'!$V199*(1/3)),\"Yes\",\"No\")))","v":""},null,null,null,{"$f":"IF(Table142[[#This Row],[Column2]]=0,\"\",IF('Life Expectancy and Criticality'!AQ199=0,\"0.5\",'Life Expectancy and Criticality'!AQ199))","v":""},0,{"$f":"IF('Data Collection Sheet'!$N202,\"The YEAR OF FAILURE and PROJECTED COST were calculated using an estimated installation date.\",\"\")&IF('Cost Data'!$M202,\"The PROJECTED COST was calculated using an estimated intial price.\",\"\")","v":""}]
[{"$f":"Table13[[#This Row],[I.D. Number ]]","v":""},{"$f":"Table13[[#This Row],[Category]]","v":0},{"$f":"Table13[[#This Row],[Type]]","v":0},{"$f":"Table13[[#This Row],[Description]]","v":0},{"$f":"Table13[[#This Row],[Life Expectancy]]","v":""},null,null,null,null,{"$f":"IF(Table142[[#This Row],[Column12]]=\"\",\"\",IF('Life Expectancy and Criticality'!AH200=0,\"0.5\",'Life Expectancy and Criticality'!AH200))","v":""},{"$f":"IF(Table142[[#This Row],[I.D. Number ]]=\"\",\"\",IF(Table142[[#This Row],[Life Expectency]]=\"0\",\"Yes\",IF((Table1468[[#This Row],[Year of Failure]]-YEAR(TODAY()))<('Life Expectancy and Criticality'!$V200*(1/3)),\"Yes\",\"No\")))","v":""},null,null,null,{"$f":"IF(Table142[[#This Row],[Column2]]=0,\"\",IF('Life Expectancy and Criticality'!AQ200=0,\"0.5\",'Life Expectancy and Criticality'!AQ200))","v":""},0,{"$f":"IF('Data Collection Sheet'!$N203,\"The YEAR OF FAILURE and PROJECTED COST were calculated using an estimated installation date.\",\"\")&IF('Cost Data'!$M203,\"The PROJECTED COST was calculated using an estimated intial price.\",\"\")","v":""}]
[{"$f":"Table13[[#This Row],[I.D. Number ]]","v":""},{"$f":"Table13[[#This Row],[Category]]","v":0},{"$f":"Table13[[#This Row],[Type]]","v":0},{"$f":"Table13[[#This Row],[Description]]","v":0},{"$f":"Table13[[#This Row],[Life Expectancy]]","v":""},null,null,null,null,{"$f":"IF(Table142[[#This Row],[Column12]]=\"\",\"\",IF('Life Expectancy and Criticality'!AH201=0,\"0.5\",'Life Expectancy and Criticality'!AH201))","v":""},{"$f":"IF(Table142[[#This Row],[I.D. Number ]]=\"\",\"\",IF(Table142[[#This Row],[Life Expectency]]=\"0\",\"Yes\",IF((Table1468[[#This Row],[Year of Failure]]-YEAR(TODAY()))<('Life Expectancy and Criticality'!$V201*(1/3)),\"Yes\",\"No\")))","v":""},null,null,null,{"$f":"IF(Table142[[#This Row],[Column2]]=0,\"\",IF('Life Expectancy and Criticality'!AQ201=0,\"0.5\",'Life Expectancy and Criticality'!AQ201))","v":""},0,{"$f":"IF('Data Collection Sheet'!$N204,\"The YEAR OF FAILURE and PROJECTED COST were calculated using an estimated installation date.\",\"\")&IF('Cost Data'!$M204,\"The PROJECTED COST was calculated using an estimated intial price.\",\"\")","v":""}]
[{"$f":"Table13[[#This Row],[I.D. Number ]]","v":""},{"$f":"Table13[[#This Row],[Category]]","v":0},{"$f":"Table13[[#This Row],[Type]]","v":0},{"$f":"Table13[[#This Row],[Description]]","v":0},{"$f":"Table13[[#This Row],[Life Expectancy]]","v":""},null,null,null,null,{"$f":"IF(Table142[[#This Row],[Column12]]=\"\",\"\",IF('Life Expectancy and Criticality'!AH202=0,\"0.5\",'Life Expectancy and Criticality'!AH202))","v":""},{"$f":"IF(Table142[[#This Row],[I.D. Number ]]=\"\",\"\",IF(Table142[[#This Row],[Life Expectency]]=\"0\",\"Yes\",IF((Table1468[[#This Row],[Year of Failure]]-YEAR(TODAY()))<('Life Expectancy and Criticality'!$V202*(1/3)),\"Yes\",\"No\")))","v":""},null,null,null,{"$f":"IF(Table142[[#This Row],[Column2]]=0,\"\",IF('Life Expectancy and Criticality'!AQ202=0,\"0.5\",'Life Expectancy and Criticality'!AQ202))","v":""},0,{"$f":"IF('Data Collection Sheet'!$N205,\"The YEAR OF FAILURE and PROJECTED COST were calculated using an estimated installation date.\",\"\")&IF('Cost Data'!$M205,\"The PROJECTED COST was calculated using an estimated intial price.\",\"\")","v":""}]
[{"$f":"Table13[[#This Row],[I.D. Number ]]","v":""},{"$f":"Table13[[#This Row],[Category]]","v":0},{"$f":"Table13[[#This Row],[Type]]","v":0},{"$f":"Table13[[#This Row],[Description]]","v":0},{"$f":"Table13[[#This Row],[Life Expectancy]]","v":""},null,null,null,null,{"$f":"IF(Table142[[#This Row],[Column12]]=\"\",\"\",IF('Life Expectancy and Criticality'!AH203=0,\"0.5\",'Life Expectancy and Criticality'!AH203))","v":""},{"$f":"IF(Table142[[#This Row],[I.D. Number ]]=\"\",\"\",IF(Table142[[#This Row],[Life Expectency]]=\"0\",\"Yes\",IF((Table1468[[#This Row],[Year of Failure]]-YEAR(TODAY()))<('Life Expectancy and Criticality'!$V203*(1/3)),\"Yes\",\"No\")))","v":""},null,null,null,{"$f":"IF(Table142[[#This Row],[Column2]]=0,\"\",IF('Life Expectancy and Criticality'!AQ203=0,\"0.5\",'Life Expectancy and Criticality'!AQ203))","v":""},0,{"$f":"IF('Data Collection Sheet'!$N206,\"The YEAR OF FAILURE and PROJECTED COST were calculated using an estimated installation date.\",\"\")&IF('Cost Data'!$M206,\"The PROJECTED COST was calculated using an estimated intial price.\",\"\")","v":""}]
[{"$f":"Table13[[#This Row],[I.D. Number ]]","v":""},{"$f":"Table13[[#This Row],[Category]]","v":0},{"$f":"Table13[[#This Row],[Type]]","v":0},{"$f":"Table13[[#This Row],[Description]]","v":0},{"$f":"Table13[[#This Row],[Life Expectancy]]","v":""},null,null,null,null,{"$f":"IF(Table142[[#This Row],[Column12]]=\"\",\"\",IF('Life Expectancy and Criticality'!AH204=0,\"0.5\",'Life Expectancy and Criticality'!AH204))","v":""},{"$f":"IF(Table142[[#This Row],[I.D. Number ]]=\"\",\"\",IF(Table142[[#This Row],[Life Expectency]]=\"0\",\"Yes\",IF((Table1468[[#This Row],[Year of Failure]]-YEAR(TODAY()))<('Life Expectancy and Criticality'!$V204*(1/3)),\"Yes\",\"No\")))","v":""},null,null,null,{"$f":"IF(Table142[[#This Row],[Column2]]=0,\"\",IF('Life Expectancy and Criticality'!AQ204=0,\"0.5\",'Life Expectancy and Criticality'!AQ204))","v":""},0,{"$f":"IF('Data Collection Sheet'!$N207,\"The YEAR OF FAILURE and PROJECTED COST were calculated using an estimated installation date.\",\"\")&IF('Cost Data'!$M207,\"The PROJECTED COST was calculated using an estimated intial price.\",\"\")","v":""}]
[{"$f":"Table13[[#This Row],[I.D. Number ]]","v":""},{"$f":"Table13[[#This Row],[Category]]","v":0},{"$f":"Table13[[#This Row],[Type]]","v":0},{"$f":"Table13[[#This Row],[Description]]","v":0},{"$f":"Table13[[#This Row],[Life Expectancy]]","v":""},null,null,null,null,{"$f":"IF(Table142[[#This Row],[Column12]]=\"\",\"\",IF('Life Expectancy and Criticality'!AH205=0,\"0.5\",'Life Expectancy and Criticality'!AH205))","v":""},{"$f":"IF(Table142[[#This Row],[I.D. Number ]]=\"\",\"\",IF(Table142[[#This Row],[Life Expectency]]=\"0\",\"Yes\",IF((Table1468[[#This Row],[Year of Failure]]-YEAR(TODAY()))<('Life Expectancy and Criticality'!$V205*(1/3)),\"Yes\",\"No\")))","v":""},null,null,null,{"$f":"IF(Table142[[#This Row],[Column2]]=0,\"\",IF('Life Expectancy and Criticality'!AQ205=0,\"0.5\",'Life Expectancy and Criticality'!AQ205))","v":""},0,{"$f":"IF('Data Collection Sheet'!$N208,\"The YEAR OF FAILURE and PROJECTED COST were calculated using an estimated installation date.\",\"\")&IF('Cost Data'!$M208,\"The PROJECTED COST was calculated using an estimated intial price.\",\"\")","v":""}]
[{"$f":"Table13[[#This Row],[I.D. Number ]]","v":""},{"$f":"Table13[[#This Row],[Category]]","v":0},{"$f":"Table13[[#This Row],[Type]]","v":0},{"$f":"Table13[[#This Row],[Description]]","v":0},{"$f":"Table13[[#This Row],[Life Expectancy]]","v":""},null,null,null,null,{"$f":"IF(Table142[[#This Row],[Column12]]=\"\",\"\",IF('Life Expectancy and Criticality'!AH206=0,\"0.5\",'Life Expectancy and Criticality'!AH206))","v":""},{"$f":"IF(Table142[[#This Row],[I.D. Number ]]=\"\",\"\",IF(Table142[[#This Row],[Life Expectency]]=\"0\",\"Yes\",IF((Table1468[[#This Row],[Year of Failure]]-YEAR(TODAY()))<('Life Expectancy and Criticality'!$V206*(1/3)),\"Yes\",\"No\")))","v":""},null,null,null,{"$f":"IF(Table142[[#This Row],[Column2]]=0,\"\",IF('Life Expectancy and Criticality'!AQ206=0,\"0.5\",'Life Expectancy and Criticality'!AQ206))","v":""},0,{"$f":"IF('Data Collection Sheet'!$N209,\"The YEAR OF FAILURE and PROJECTED COST were calculated using an estimated installation date.\",\"\")&IF('Cost Data'!$M209,\"The PROJECTED COST was calculated using an estimated intial price.\",\"\")","v":""}]
[{"$f":"Table13[[#This Row],[I.D. Number ]]","v":""},{"$f":"Table13[[#This Row],[Category]]","v":0},{"$f":"Table13[[#This Row],[Type]]","v":0},{"$f":"Table13[[#This Row],[Description]]","v":0},{"$f":"Table13[[#This Row],[Life Expectancy]]","v":""},null,null,null,null,{"$f":"IF(Table142[[#This Row],[Column12]]=\"\",\"\",IF('Life Expectancy and Criticality'!AH207=0,\"0.5\",'Life Expectancy and Criticality'!AH207))","v":""},{"$f":"IF(Table142[[#This Row],[I.D. Number ]]=\"\",\"\",IF(Table142[[#This Row],[Life Expectency]]=\"0\",\"Yes\",IF((Table1468[[#This Row],[Year of Failure]]-YEAR(TODAY()))<('Life Expectancy and Criticality'!$V207*(1/3)),\"Yes\",\"No\")))","v":""},null,null,null,{"$f":"IF(Table142[[#This Row],[Column2]]=0,\"\",IF('Life Expectancy and Criticality'!AQ207=0,\"0.5\",'Life Expectancy and Criticality'!AQ207))","v":""},0,{"$f":"IF('Data Collection Sheet'!$N210,\"The YEAR OF FAILURE and PROJECTED COST were calculated using an estimated installation date.\",\"\")&IF('Cost Data'!$M210,\"The PROJECTED COST was calculated using an estimated intial price.\",\"\")","v":""}]
[{"$f":"Table13[[#This Row],[I.D. Number ]]","v":""},{"$f":"Table13[[#This Row],[Category]]","v":0},{"$f":"Table13[[#This Row],[Type]]","v":0},{"$f":"Table13[[#This Row],[Description]]","v":0},{"$f":"Table13[[#This Row],[Life Expectancy]]","v":""},null,null,null,null,{"$f":"IF(Table142[[#This Row],[Column12]]=\"\",\"\",IF('Life Expectancy and Criticality'!AH208=0,\"0.5\",'Life Expectancy and Criticality'!AH208))","v":""},{"$f":"IF(Table142[[#This Row],[I.D. Number ]]=\"\",\"\",IF(Table142[[#This Row],[Life Expectency]]=\"0\",\"Yes\",IF((Table1468[[#This Row],[Year of Failure]]-YEAR(TODAY()))<('Life Expectancy and Criticality'!$V208*(1/3)),\"Yes\",\"No\")))","v":""},null,null,null,{"$f":"IF(Table142[[#This Row],[Column2]]=0,\"\",IF('Life Expectancy and Criticality'!AQ208=0,\"0.5\",'Life Expectancy and Criticality'!AQ208))","v":""},0,{"$f":"IF('Data Collection Sheet'!$N211,\"The YEAR OF FAILURE and PROJECTED COST were calculated using an estimated installation date.\",\"\")&IF('Cost Data'!$M211,\"The PROJECTED COST was calculated using an estimated intial price.\",\"\")","v":""}]
[{"$f":"Table13[[#This Row],[I.D. Number ]]","v":""},{"$f":"Table13[[#This Row],[Category]]","v":0},{"$f":"Table13[[#This Row],[Type]]","v":0},{"$f":"Table13[[#This Row],[Description]]","v":0},{"$f":"Table13[[#This Row],[Life Expectancy]]","v":""},null,null,null,null,{"$f":"IF(Table142[[#This Row],[Column12]]=\"\",\"\",IF('Life Expectancy and Criticality'!AH209=0,\"0.5\",'Life Expectancy and Criticality'!AH209))","v":""},{"$f":"IF(Table142[[#This Row],[I.D. Number ]]=\"\",\"\",IF(Table142[[#This Row],[Life Expectency]]=\"0\",\"Yes\",IF((Table1468[[#This Row],[Year of Failure]]-YEAR(TODAY()))<('Life Expectancy and Criticality'!$V209*(1/3)),\"Yes\",\"No\")))","v":""},null,null,null,{"$f":"IF(Table142[[#This Row],[Column2]]=0,\"\",IF('Life Expectancy and Criticality'!AQ209=0,\"0.5\",'Life Expectancy and Criticality'!AQ209))","v":""},0,{"$f":"IF('Data Collection Sheet'!$N212,\"The YEAR OF FAILURE and PROJECTED COST were calculated using an estimated installation date.\",\"\")&IF('Cost Data'!$M212,\"The PROJECTED COST was calculated using an estimated intial price.\",\"\")","v":""}]
[{"$f":"Table13[[#This Row],[I.D. Number ]]","v":""},{"$f":"Table13[[#This Row],[Category]]","v":0},{"$f":"Table13[[#This Row],[Type]]","v":0},{"$f":"Table13[[#This Row],[Description]]","v":0},{"$f":"Table13[[#This Row],[Life Expectancy]]","v":""},null,null,null,null,{"$f":"IF(Table142[[#This Row],[Column12]]=\"\",\"\",IF('Life Expectancy and Criticality'!AH210=0,\"0.5\",'Life Expectancy and Criticality'!AH210))","v":""},{"$f":"IF(Table142[[#This Row],[I.D. Number ]]=\"\",\"\",IF(Table142[[#This Row],[Life Expectency]]=\"0\",\"Yes\",IF((Table1468[[#This Row],[Year of Failure]]-YEAR(TODAY()))<('Life Expectancy and Criticality'!$V210*(1/3)),\"Yes\",\"No\")))","v":""},null,null,null,{"$f":"IF(Table142[[#This Row],[Column2]]=0,\"\",IF('Life Expectancy and Criticality'!AQ210=0,\"0.5\",'Life Expectancy and Criticality'!AQ210))","v":""},0,{"$f":"IF('Data Collection Sheet'!$N213,\"The YEAR OF FAILURE and PROJECTED COST were calculated using an estimated installation date.\",\"\")&IF('Cost Data'!$M213,\"The PROJECTED COST was calculated using an estimated intial price.\",\"\")","v":""}]
[{"$f":"Table13[[#This Row],[I.D. Number ]]","v":""},{"$f":"Table13[[#This Row],[Category]]","v":0},{"$f":"Table13[[#This Row],[Type]]","v":0},{"$f":"Table13[[#This Row],[Description]]","v":0},{"$f":"Table13[[#This Row],[Life Expectancy]]","v":""},null,null,null,null,{"$f":"IF(Table142[[#This Row],[Column12]]=\"\",\"\",IF('Life Expectancy and Criticality'!AH211=0,\"0.5\",'Life Expectancy and Criticality'!AH211))","v":""},{"$f":"IF(Table142[[#This Row],[I.D. Number ]]=\"\",\"\",IF(Table142[[#This Row],[Life Expectency]]=\"0\",\"Yes\",IF((Table1468[[#This Row],[Year of Failure]]-YEAR(TODAY()))<('Life Expectancy and Criticality'!$V211*(1/3)),\"Yes\",\"No\")))","v":""},null,null,null,{"$f":"IF(Table142[[#This Row],[Column2]]=0,\"\",IF('Life Expectancy and Criticality'!AQ211=0,\"0.5\",'Life Expectancy and Criticality'!AQ211))","v":""},0,{"$f":"IF('Data Collection Sheet'!$N214,\"The YEAR OF FAILURE and PROJECTED COST were calculated using an estimated installation date.\",\"\")&IF('Cost Data'!$M214,\"The PROJECTED COST was calculated using an estimated intial price.\",\"\")","v":""}]
[{"$f":"Table13[[#This Row],[I.D. Number ]]","v":""},{"$f":"Table13[[#This Row],[Category]]","v":0},{"$f":"Table13[[#This Row],[Type]]","v":0},{"$f":"Table13[[#This Row],[Description]]","v":0},{"$f":"Table13[[#This Row],[Life Expectancy]]","v":""},null,null,null,null,{"$f":"IF(Table142[[#This Row],[Column12]]=\"\",\"\",IF('Life Expectancy and Criticality'!AH212=0,\"0.5\",'Life Expectancy and Criticality'!AH212))","v":""},{"$f":"IF(Table142[[#This Row],[I.D. Number ]]=\"\",\"\",IF(Table142[[#This Row],[Life Expectency]]=\"0\",\"Yes\",IF((Table1468[[#This Row],[Year of Failure]]-YEAR(TODAY()))<('Life Expectancy and Criticality'!$V212*(1/3)),\"Yes\",\"No\")))","v":""},null,null,null,{"$f":"IF(Table142[[#This Row],[Column2]]=0,\"\",IF('Life Expectancy and Criticality'!AQ212=0,\"0.5\",'Life Expectancy and Criticality'!AQ212))","v":""},0,{"$f":"IF('Data Collection Sheet'!$N215,\"The YEAR OF FAILURE and PROJECTED COST were calculated using an estimated installation date.\",\"\")&IF('Cost Data'!$M215,\"The PROJECTED COST was calculated using an estimated intial price.\",\"\")","v":""}]
[{"$f":"Table13[[#This Row],[I.D. Number ]]","v":""},{"$f":"Table13[[#This Row],[Category]]","v":0},{"$f":"Table13[[#This Row],[Type]]","v":0},{"$f":"Table13[[#This Row],[Description]]","v":0},{"$f":"Table13[[#This Row],[Life Expectancy]]","v":""},null,null,null,null,{"$f":"IF(Table142[[#This Row],[Column12]]=\"\",\"\",IF('Life Expectancy and Criticality'!AH213=0,\"0.5\",'Life Expectancy and Criticality'!AH213))","v":""},{"$f":"IF(Table142[[#This Row],[I.D. Number ]]=\"\",\"\",IF(Table142[[#This Row],[Life Expectency]]=\"0\",\"Yes\",IF((Table1468[[#This Row],[Year of Failure]]-YEAR(TODAY()))<('Life Expectancy and Criticality'!$V213*(1/3)),\"Yes\",\"No\")))","v":""},null,null,null,{"$f":"IF(Table142[[#This Row],[Column2]]=0,\"\",IF('Life Expectancy and Criticality'!AQ213=0,\"0.5\",'Life Expectancy and Criticality'!AQ213))","v":""},0,{"$f":"IF('Data Collection Sheet'!$N216,\"The YEAR OF FAILURE and PROJECTED COST were calculated using an estimated installation date.\",\"\")&IF('Cost Data'!$M216,\"The PROJECTED COST was calculated using an estimated intial price.\",\"\")","v":""}]
[{"$f":"Table13[[#This Row],[I.D. Number ]]","v":""},{"$f":"Table13[[#This Row],[Category]]","v":0},{"$f":"Table13[[#This Row],[Type]]","v":0},{"$f":"Table13[[#This Row],[Description]]","v":0},{"$f":"Table13[[#This Row],[Life Expectancy]]","v":""},null,null,null,null,{"$f":"IF(Table142[[#This Row],[Column12]]=\"\",\"\",IF('Life Expectancy and Criticality'!AH214=0,\"0.5\",'Life Expectancy and Criticality'!AH214))","v":""},{"$f":"IF(Table142[[#This Row],[I.D. Number ]]=\"\",\"\",IF(Table142[[#This Row],[Life Expectency]]=\"0\",\"Yes\",IF((Table1468[[#This Row],[Year of Failure]]-YEAR(TODAY()))<('Life Expectancy and Criticality'!$V214*(1/3)),\"Yes\",\"No\")))","v":""},null,null,null,{"$f":"IF(Table142[[#This Row],[Column2]]=0,\"\",IF('Life Expectancy and Criticality'!AQ214=0,\"0.5\",'Life Expectancy and Criticality'!AQ214))","v":""},0,{"$f":"IF('Data Collection Sheet'!$N217,\"The YEAR OF FAILURE and PROJECTED COST were calculated using an estimated installation date.\",\"\")&IF('Cost Data'!$M217,\"The PROJECTED COST was calculated using an estimated intial price.\",\"\")","v":""}]
[{"$f":"Table13[[#This Row],[I.D. Number ]]","v":""},{"$f":"Table13[[#This Row],[Category]]","v":0},{"$f":"Table13[[#This Row],[Type]]","v":0},{"$f":"Table13[[#This Row],[Description]]","v":0},{"$f":"Table13[[#This Row],[Life Expectancy]]","v":""},null,null,null,null,{"$f":"IF(Table142[[#This Row],[Column12]]=\"\",\"\",IF('Life Expectancy and Criticality'!AH215=0,\"0.5\",'Life Expectancy and Criticality'!AH215))","v":""},{"$f":"IF(Table142[[#This Row],[I.D. Number ]]=\"\",\"\",IF(Table142[[#This Row],[Life Expectency]]=\"0\",\"Yes\",IF((Table1468[[#This Row],[Year of Failure]]-YEAR(TODAY()))<('Life Expectancy and Criticality'!$V215*(1/3)),\"Yes\",\"No\")))","v":""},null,null,null,{"$f":"IF(Table142[[#This Row],[Column2]]=0,\"\",IF('Life Expectancy and Criticality'!AQ215=0,\"0.5\",'Life Expectancy and Criticality'!AQ215))","v":""},0,{"$f":"IF('Data Collection Sheet'!$N218,\"The YEAR OF FAILURE and PROJECTED COST were calculated using an estimated installation date.\",\"\")&IF('Cost Data'!$M218,\"The PROJECTED COST was calculated using an estimated intial price.\",\"\")","v":""}]
[{"$f":"Table13[[#This Row],[I.D. Number ]]","v":""},{"$f":"Table13[[#This Row],[Category]]","v":0},{"$f":"Table13[[#This Row],[Type]]","v":0},{"$f":"Table13[[#This Row],[Description]]","v":0},{"$f":"Table13[[#This Row],[Life Expectancy]]","v":""},null,null,null,null,{"$f":"IF(Table142[[#This Row],[Column12]]=\"\",\"\",IF('Life Expectancy and Criticality'!AH216=0,\"0.5\",'Life Expectancy and Criticality'!AH216))","v":""},{"$f":"IF(Table142[[#This Row],[I.D. Number ]]=\"\",\"\",IF(Table142[[#This Row],[Life Expectency]]=\"0\",\"Yes\",IF((Table1468[[#This Row],[Year of Failure]]-YEAR(TODAY()))<('Life Expectancy and Criticality'!$V216*(1/3)),\"Yes\",\"No\")))","v":""},null,null,null,{"$f":"IF(Table142[[#This Row],[Column2]]=0,\"\",IF('Life Expectancy and Criticality'!AQ216=0,\"0.5\",'Life Expectancy and Criticality'!AQ216))","v":""},0,{"$f":"IF('Data Collection Sheet'!$N219,\"The YEAR OF FAILURE and PROJECTED COST were calculated using an estimated installation date.\",\"\")&IF('Cost Data'!$M219,\"The PROJECTED COST was calculated using an estimated intial price.\",\"\")","v":""}]
[{"$f":"Table13[[#This Row],[I.D. Number ]]","v":""},{"$f":"Table13[[#This Row],[Category]]","v":0},{"$f":"Table13[[#This Row],[Type]]","v":0},{"$f":"Table13[[#This Row],[Description]]","v":0},{"$f":"Table13[[#This Row],[Life Expectancy]]","v":""},null,null,null,null,{"$f":"IF(Table142[[#This Row],[Column12]]=\"\",\"\",IF('Life Expectancy and Criticality'!AH217=0,\"0.5\",'Life Expectancy and Criticality'!AH217))","v":""},{"$f":"IF(Table142[[#This Row],[I.D. Number ]]=\"\",\"\",IF(Table142[[#This Row],[Life Expectency]]=\"0\",\"Yes\",IF((Table1468[[#This Row],[Year of Failure]]-YEAR(TODAY()))<('Life Expectancy and Criticality'!$V217*(1/3)),\"Yes\",\"No\")))","v":""},null,null,null,{"$f":"IF(Table142[[#This Row],[Column2]]=0,\"\",IF('Life Expectancy and Criticality'!AQ217=0,\"0.5\",'Life Expectancy and Criticality'!AQ217))","v":""},0,{"$f":"IF('Data Collection Sheet'!$N220,\"The YEAR OF FAILURE and PROJECTED COST were calculated using an estimated installation date.\",\"\")&IF('Cost Data'!$M220,\"The PROJECTED COST was calculated using an estimated intial price.\",\"\")","v":""}]
[{"$f":"Table13[[#This Row],[I.D. Number ]]","v":""},{"$f":"Table13[[#This Row],[Category]]","v":0},{"$f":"Table13[[#This Row],[Type]]","v":0},{"$f":"Table13[[#This Row],[Description]]","v":0},{"$f":"Table13[[#This Row],[Life Expectancy]]","v":""},null,null,null,null,{"$f":"IF(Table142[[#This Row],[Column12]]=\"\",\"\",IF('Life Expectancy and Criticality'!AH218=0,\"0.5\",'Life Expectancy and Criticality'!AH218))","v":""},{"$f":"IF(Table142[[#This Row],[I.D. Number ]]=\"\",\"\",IF(Table142[[#This Row],[Life Expectency]]=\"0\",\"Yes\",IF((Table1468[[#This Row],[Year of Failure]]-YEAR(TODAY()))<('Life Expectancy and Criticality'!$V218*(1/3)),\"Yes\",\"No\")))","v":""},null,null,null,{"$f":"IF(Table142[[#This Row],[Column2]]=0,\"\",IF('Life Expectancy and Criticality'!AQ218=0,\"0.5\",'Life Expectancy and Criticality'!AQ218))","v":""},0,{"$f":"IF('Data Collection Sheet'!$N221,\"The YEAR OF FAILURE and PROJECTED COST were calculated using an estimated installation date.\",\"\")&IF('Cost Data'!$M221,\"The PROJECTED COST was calculated using an estimated intial price.\",\"\")","v":""}]
[{"$f":"Table13[[#This Row],[I.D. Number ]]","v":""},{"$f":"Table13[[#This Row],[Category]]","v":0},{"$f":"Table13[[#This Row],[Type]]","v":0},{"$f":"Table13[[#This Row],[Description]]","v":0},{"$f":"Table13[[#This Row],[Life Expectancy]]","v":""},null,null,null,null,{"$f":"IF(Table142[[#This Row],[Column12]]=\"\",\"\",IF('Life Expectancy and Criticality'!AH219=0,\"0.5\",'Life Expectancy and Criticality'!AH219))","v":""},{"$f":"IF(Table142[[#This Row],[I.D. Number ]]=\"\",\"\",IF(Table142[[#This Row],[Life Expectency]]=\"0\",\"Yes\",IF((Table1468[[#This Row],[Year of Failure]]-YEAR(TODAY()))<('Life Expectancy and Criticality'!$V219*(1/3)),\"Yes\",\"No\")))","v":""},null,null,null,{"$f":"IF(Table142[[#This Row],[Column2]]=0,\"\",IF('Life Expectancy and Criticality'!AQ219=0,\"0.5\",'Life Expectancy and Criticality'!AQ219))","v":""},0,{"$f":"IF('Data Collection Sheet'!$N222,\"The YEAR OF FAILURE and PROJECTED COST were calculated using an estimated installation date.\",\"\")&IF('Cost Data'!$M222,\"The PROJECTED COST was calculated using an estimated intial price.\",\"\")","v":""}]
[{"$f":"Table13[[#This Row],[I.D. Number ]]","v":""},{"$f":"Table13[[#This Row],[Category]]","v":0},{"$f":"Table13[[#This Row],[Type]]","v":0},{"$f":"Table13[[#This Row],[Description]]","v":0},{"$f":"Table13[[#This Row],[Life Expectancy]]","v":""},null,null,null,null,{"$f":"IF(Table142[[#This Row],[Column12]]=\"\",\"\",IF('Life Expectancy and Criticality'!AH220=0,\"0.5\",'Life Expectancy and Criticality'!AH220))","v":""},{"$f":"IF(Table142[[#This Row],[I.D. Number ]]=\"\",\"\",IF(Table142[[#This Row],[Life Expectency]]=\"0\",\"Yes\",IF((Table1468[[#This Row],[Year of Failure]]-YEAR(TODAY()))<('Life Expectancy and Criticality'!$V220*(1/3)),\"Yes\",\"No\")))","v":""},null,null,null,{"$f":"IF(Table142[[#This Row],[Column2]]=0,\"\",IF('Life Expectancy and Criticality'!AQ220=0,\"0.5\",'Life Expectancy and Criticality'!AQ220))","v":""},0,{"$f":"IF('Data Collection Sheet'!$N223,\"The YEAR OF FAILURE and PROJECTED COST were calculated using an estimated installation date.\",\"\")&IF('Cost Data'!$M223,\"The PROJECTED COST was calculated using an estimated intial price.\",\"\")","v":""}]
[{"$f":"Table13[[#This Row],[I.D. Number ]]","v":""},{"$f":"Table13[[#This Row],[Category]]","v":0},{"$f":"Table13[[#This Row],[Type]]","v":0},{"$f":"Table13[[#This Row],[Description]]","v":0},{"$f":"Table13[[#This Row],[Life Expectancy]]","v":""},null,null,null,null,{"$f":"IF(Table142[[#This Row],[Column12]]=\"\",\"\",IF('Life Expectancy and Criticality'!AH221=0,\"0.5\",'Life Expectancy and Criticality'!AH221))","v":""},{"$f":"IF(Table142[[#This Row],[I.D. Number ]]=\"\",\"\",IF(Table142[[#This Row],[Life Expectency]]=\"0\",\"Yes\",IF((Table1468[[#This Row],[Year of Failure]]-YEAR(TODAY()))<('Life Expectancy and Criticality'!$V221*(1/3)),\"Yes\",\"No\")))","v":""},null,null,null,{"$f":"IF(Table142[[#This Row],[Column2]]=0,\"\",IF('Life Expectancy and Criticality'!AQ221=0,\"0.5\",'Life Expectancy and Criticality'!AQ221))","v":""},0,{"$f":"IF('Data Collection Sheet'!$N224,\"The YEAR OF FAILURE and PROJECTED COST were calculated using an estimated installation date.\",\"\")&IF('Cost Data'!$M224,\"The PROJECTED COST was calculated using an estimated intial price.\",\"\")","v":""}]
[{"$f":"Table13[[#This Row],[I.D. Number ]]","v":""},{"$f":"Table13[[#This Row],[Category]]","v":0},{"$f":"Table13[[#This Row],[Type]]","v":0},{"$f":"Table13[[#This Row],[Description]]","v":0},{"$f":"Table13[[#This Row],[Life Expectancy]]","v":""},null,null,null,null,{"$f":"IF(Table142[[#This Row],[Column12]]=\"\",\"\",IF('Life Expectancy and Criticality'!AH222=0,\"0.5\",'Life Expectancy and Criticality'!AH222))","v":""},{"$f":"IF(Table142[[#This Row],[I.D. Number ]]=\"\",\"\",IF(Table142[[#This Row],[Life Expectency]]=\"0\",\"Yes\",IF((Table1468[[#This Row],[Year of Failure]]-YEAR(TODAY()))<('Life Expectancy and Criticality'!$V222*(1/3)),\"Yes\",\"No\")))","v":""},null,null,null,{"$f":"IF(Table142[[#This Row],[Column2]]=0,\"\",IF('Life Expectancy and Criticality'!AQ222=0,\"0.5\",'Life Expectancy and Criticality'!AQ222))","v":""},0,{"$f":"IF('Data Collection Sheet'!$N225,\"The YEAR OF FAILURE and PROJECTED COST were calculated using an estimated installation date.\",\"\")&IF('Cost Data'!$M225,\"The PROJECTED COST was calculated using an estimated intial price.\",\"\")","v":""}]
[{"$f":"Table13[[#This Row],[I.D. Number ]]","v":""},{"$f":"Table13[[#This Row],[Category]]","v":0},{"$f":"Table13[[#This Row],[Type]]","v":0},{"$f":"Table13[[#This Row],[Description]]","v":0},{"$f":"Table13[[#This Row],[Life Expectancy]]","v":""},null,null,null,null,{"$f":"IF(Table142[[#This Row],[Column12]]=\"\",\"\",IF('Life Expectancy and Criticality'!AH223=0,\"0.5\",'Life Expectancy and Criticality'!AH223))","v":""},{"$f":"IF(Table142[[#This Row],[I.D. Number ]]=\"\",\"\",IF(Table142[[#This Row],[Life Expectency]]=\"0\",\"Yes\",IF((Table1468[[#This Row],[Year of Failure]]-YEAR(TODAY()))<('Life Expectancy and Criticality'!$V223*(1/3)),\"Yes\",\"No\")))","v":""},null,null,null,{"$f":"IF(Table142[[#This Row],[Column2]]=0,\"\",IF('Life Expectancy and Criticality'!AQ223=0,\"0.5\",'Life Expectancy and Criticality'!AQ223))","v":""},0,{"$f":"IF('Data Collection Sheet'!$N226,\"The YEAR OF FAILURE and PROJECTED COST were calculated using an estimated installation date.\",\"\")&IF('Cost Data'!$M226,\"The PROJECTED COST was calculated using an estimated intial price.\",\"\")","v":""}]
[{"$f":"Table13[[#This Row],[I.D. Number ]]","v":""},{"$f":"Table13[[#This Row],[Category]]","v":0},{"$f":"Table13[[#This Row],[Type]]","v":0},{"$f":"Table13[[#This Row],[Description]]","v":0},{"$f":"Table13[[#This Row],[Life Expectancy]]","v":""},null,null,null,null,{"$f":"IF(Table142[[#This Row],[Column12]]=\"\",\"\",IF('Life Expectancy and Criticality'!AH224=0,\"0.5\",'Life Expectancy and Criticality'!AH224))","v":""},{"$f":"IF(Table142[[#This Row],[I.D. Number ]]=\"\",\"\",IF(Table142[[#This Row],[Life Expectency]]=\"0\",\"Yes\",IF((Table1468[[#This Row],[Year of Failure]]-YEAR(TODAY()))<('Life Expectancy and Criticality'!$V224*(1/3)),\"Yes\",\"No\")))","v":""},null,null,null,{"$f":"IF(Table142[[#This Row],[Column2]]=0,\"\",IF('Life Expectancy and Criticality'!AQ224=0,\"0.5\",'Life Expectancy and Criticality'!AQ224))","v":""},0,{"$f":"IF('Data Collection Sheet'!$N227,\"The YEAR OF FAILURE and PROJECTED COST were calculated using an estimated installation date.\",\"\")&IF('Cost Data'!$M227,\"The PROJECTED COST was calculated using an estimated intial price.\",\"\")","v":""}]
[{"$f":"Table13[[#This Row],[I.D. Number ]]","v":""},{"$f":"Table13[[#This Row],[Category]]","v":0},{"$f":"Table13[[#This Row],[Type]]","v":0},{"$f":"Table13[[#This Row],[Description]]","v":0},{"$f":"Table13[[#This Row],[Life Expectancy]]","v":""},null,null,null,null,{"$f":"IF(Table142[[#This Row],[Column12]]=\"\",\"\",IF('Life Expectancy and Criticality'!AH225=0,\"0.5\",'Life Expectancy and Criticality'!AH225))","v":""},{"$f":"IF(Table142[[#This Row],[I.D. Number ]]=\"\",\"\",IF(Table142[[#This Row],[Life Expectency]]=\"0\",\"Yes\",IF((Table1468[[#This Row],[Year of Failure]]-YEAR(TODAY()))<('Life Expectancy and Criticality'!$V225*(1/3)),\"Yes\",\"No\")))","v":""},null,null,null,{"$f":"IF(Table142[[#This Row],[Column2]]=0,\"\",IF('Life Expectancy and Criticality'!AQ225=0,\"0.5\",'Life Expectancy and Criticality'!AQ225))","v":""},0,{"$f":"IF('Data Collection Sheet'!$N228,\"The YEAR OF FAILURE and PROJECTED COST were calculated using an estimated installation date.\",\"\")&IF('Cost Data'!$M228,\"The PROJECTED COST was calculated using an estimated intial price.\",\"\")","v":""}]
[{"$f":"Table13[[#This Row],[I.D. Number ]]","v":""},{"$f":"Table13[[#This Row],[Category]]","v":0},{"$f":"Table13[[#This Row],[Type]]","v":0},{"$f":"Table13[[#This Row],[Description]]","v":0},{"$f":"Table13[[#This Row],[Life Expectancy]]","v":""},null,null,null,null,{"$f":"IF(Table142[[#This Row],[Column12]]=\"\",\"\",IF('Life Expectancy and Criticality'!AH226=0,\"0.5\",'Life Expectancy and Criticality'!AH226))","v":""},{"$f":"IF(Table142[[#This Row],[I.D. Number ]]=\"\",\"\",IF(Table142[[#This Row],[Life Expectency]]=\"0\",\"Yes\",IF((Table1468[[#This Row],[Year of Failure]]-YEAR(TODAY()))<('Life Expectancy and Criticality'!$V226*(1/3)),\"Yes\",\"No\")))","v":""},null,null,null,{"$f":"IF(Table142[[#This Row],[Column2]]=0,\"\",IF('Life Expectancy and Criticality'!AQ226=0,\"0.5\",'Life Expectancy and Criticality'!AQ226))","v":""},0,{"$f":"IF('Data Collection Sheet'!$N229,\"The YEAR OF FAILURE and PROJECTED COST were calculated using an estimated installation date.\",\"\")&IF('Cost Data'!$M229,\"The PROJECTED COST was calculated using an estimated intial price.\",\"\")","v":""}]
[{"$f":"Table13[[#This Row],[I.D. Number ]]","v":""},{"$f":"Table13[[#This Row],[Category]]","v":0},{"$f":"Table13[[#This Row],[Type]]","v":0},{"$f":"Table13[[#This Row],[Description]]","v":0},{"$f":"Table13[[#This Row],[Life Expectancy]]","v":""},null,null,null,null,{"$f":"IF(Table142[[#This Row],[Column12]]=\"\",\"\",IF('Life Expectancy and Criticality'!AH227=0,\"0.5\",'Life Expectancy and Criticality'!AH227))","v":""},{"$f":"IF(Table142[[#This Row],[I.D. Number ]]=\"\",\"\",IF(Table142[[#This Row],[Life Expectency]]=\"0\",\"Yes\",IF((Table1468[[#This Row],[Year of Failure]]-YEAR(TODAY()))<('Life Expectancy and Criticality'!$V227*(1/3)),\"Yes\",\"No\")))","v":""},null,null,null,{"$f":"IF(Table142[[#This Row],[Column2]]=0,\"\",IF('Life Expectancy and Criticality'!AQ227=0,\"0.5\",'Life Expectancy and Criticality'!AQ227))","v":""},0,{"$f":"IF('Data Collection Sheet'!$N230,\"The YEAR OF FAILURE and PROJECTED COST were calculated using an estimated installation date.\",\"\")&IF('Cost Data'!$M230,\"The PROJECTED COST was calculated using an estimated intial price.\",\"\")","v":""}]
[{"$f":"Table13[[#This Row],[I.D. Number ]]","v":""},{"$f":"Table13[[#This Row],[Category]]","v":0},{"$f":"Table13[[#This Row],[Type]]","v":0},{"$f":"Table13[[#This Row],[Description]]","v":0},{"$f":"Table13[[#This Row],[Life Expectancy]]","v":""},null,null,null,null,{"$f":"IF(Table142[[#This Row],[Column12]]=\"\",\"\",IF('Life Expectancy and Criticality'!AH228=0,\"0.5\",'Life Expectancy and Criticality'!AH228))","v":""},{"$f":"IF(Table142[[#This Row],[I.D. Number ]]=\"\",\"\",IF(Table142[[#This Row],[Life Expectency]]=\"0\",\"Yes\",IF((Table1468[[#This Row],[Year of Failure]]-YEAR(TODAY()))<('Life Expectancy and Criticality'!$V228*(1/3)),\"Yes\",\"No\")))","v":""},null,null,null,{"$f":"IF(Table142[[#This Row],[Column2]]=0,\"\",IF('Life Expectancy and Criticality'!AQ228=0,\"0.5\",'Life Expectancy and Criticality'!AQ228))","v":""},0,{"$f":"IF('Data Collection Sheet'!$N231,\"The YEAR OF FAILURE and PROJECTED COST were calculated using an estimated installation date.\",\"\")&IF('Cost Data'!$M231,\"The PROJECTED COST was calculated using an estimated intial price.\",\"\")","v":""}]
[{"$f":"Table13[[#This Row],[I.D. Number ]]","v":""},{"$f":"Table13[[#This Row],[Category]]","v":0},{"$f":"Table13[[#This Row],[Type]]","v":0},{"$f":"Table13[[#This Row],[Description]]","v":0},{"$f":"Table13[[#This Row],[Life Expectancy]]","v":""},null,null,null,null,{"$f":"IF(Table142[[#This Row],[Column12]]=\"\",\"\",IF('Life Expectancy and Criticality'!AH229=0,\"0.5\",'Life Expectancy and Criticality'!AH229))","v":""},{"$f":"IF(Table142[[#This Row],[I.D. Number ]]=\"\",\"\",IF(Table142[[#This Row],[Life Expectency]]=\"0\",\"Yes\",IF((Table1468[[#This Row],[Year of Failure]]-YEAR(TODAY()))<('Life Expectancy and Criticality'!$V229*(1/3)),\"Yes\",\"No\")))","v":""},null,null,null,{"$f":"IF(Table142[[#This Row],[Column2]]=0,\"\",IF('Life Expectancy and Criticality'!AQ229=0,\"0.5\",'Life Expectancy and Criticality'!AQ229))","v":""},0,{"$f":"IF('Data Collection Sheet'!$N232,\"The YEAR OF FAILURE and PROJECTED COST were calculated using an estimated installation date.\",\"\")&IF('Cost Data'!$M232,\"The PROJECTED COST was calculated using an estimated intial price.\",\"\")","v":""}]
[{"$f":"Table13[[#This Row],[I.D. Number ]]","v":""},{"$f":"Table13[[#This Row],[Category]]","v":0},{"$f":"Table13[[#This Row],[Type]]","v":0},{"$f":"Table13[[#This Row],[Description]]","v":0},{"$f":"Table13[[#This Row],[Life Expectancy]]","v":""},null,null,null,null,{"$f":"IF(Table142[[#This Row],[Column12]]=\"\",\"\",IF('Life Expectancy and Criticality'!AH230=0,\"0.5\",'Life Expectancy and Criticality'!AH230))","v":""},{"$f":"IF(Table142[[#This Row],[I.D. Number ]]=\"\",\"\",IF(Table142[[#This Row],[Life Expectency]]=\"0\",\"Yes\",IF((Table1468[[#This Row],[Year of Failure]]-YEAR(TODAY()))<('Life Expectancy and Criticality'!$V230*(1/3)),\"Yes\",\"No\")))","v":""},null,null,null,{"$f":"IF(Table142[[#This Row],[Column2]]=0,\"\",IF('Life Expectancy and Criticality'!AQ230=0,\"0.5\",'Life Expectancy and Criticality'!AQ230))","v":""},0,{"$f":"IF('Data Collection Sheet'!$N233,\"The YEAR OF FAILURE and PROJECTED COST were calculated using an estimated installation date.\",\"\")&IF('Cost Data'!$M233,\"The PROJECTED COST was calculated using an estimated intial price.\",\"\")","v":""}]
[{"$f":"Table13[[#This Row],[I.D. Number ]]","v":""},{"$f":"Table13[[#This Row],[Category]]","v":0},{"$f":"Table13[[#This Row],[Type]]","v":0},{"$f":"Table13[[#This Row],[Description]]","v":0},{"$f":"Table13[[#This Row],[Life Expectancy]]","v":""},null,null,null,null,{"$f":"IF(Table142[[#This Row],[Column12]]=\"\",\"\",IF('Life Expectancy and Criticality'!AH231=0,\"0.5\",'Life Expectancy and Criticality'!AH231))","v":""},{"$f":"IF(Table142[[#This Row],[I.D. Number ]]=\"\",\"\",IF(Table142[[#This Row],[Life Expectency]]=\"0\",\"Yes\",IF((Table1468[[#This Row],[Year of Failure]]-YEAR(TODAY()))<('Life Expectancy and Criticality'!$V231*(1/3)),\"Yes\",\"No\")))","v":""},null,null,null,{"$f":"IF(Table142[[#This Row],[Column2]]=0,\"\",IF('Life Expectancy and Criticality'!AQ231=0,\"0.5\",'Life Expectancy and Criticality'!AQ231))","v":""},0,{"$f":"IF('Data Collection Sheet'!$N234,\"The YEAR OF FAILURE and PROJECTED COST were calculated using an estimated installation date.\",\"\")&IF('Cost Data'!$M234,\"The PROJECTED COST was calculated using an estimated intial price.\",\"\")","v":""}]
[{"$f":"Table13[[#This Row],[I.D. Number ]]","v":""},{"$f":"Table13[[#This Row],[Category]]","v":0},{"$f":"Table13[[#This Row],[Type]]","v":0},{"$f":"Table13[[#This Row],[Description]]","v":0},{"$f":"Table13[[#This Row],[Life Expectancy]]","v":""},null,null,null,null,{"$f":"IF(Table142[[#This Row],[Column12]]=\"\",\"\",IF('Life Expectancy and Criticality'!AH232=0,\"0.5\",'Life Expectancy and Criticality'!AH232))","v":""},{"$f":"IF(Table142[[#This Row],[I.D. Number ]]=\"\",\"\",IF(Table142[[#This Row],[Life Expectency]]=\"0\",\"Yes\",IF((Table1468[[#This Row],[Year of Failure]]-YEAR(TODAY()))<('Life Expectancy and Criticality'!$V232*(1/3)),\"Yes\",\"No\")))","v":""},null,null,null,{"$f":"IF(Table142[[#This Row],[Column2]]=0,\"\",IF('Life Expectancy and Criticality'!AQ232=0,\"0.5\",'Life Expectancy and Criticality'!AQ232))","v":""},0,{"$f":"IF('Data Collection Sheet'!$N235,\"The YEAR OF FAILURE and PROJECTED COST were calculated using an estimated installation date.\",\"\")&IF('Cost Data'!$M235,\"The PROJECTED COST was calculated using an estimated intial price.\",\"\")","v":""}]
[{"$f":"Table13[[#This Row],[I.D. Number ]]","v":""},{"$f":"Table13[[#This Row],[Category]]","v":0},{"$f":"Table13[[#This Row],[Type]]","v":0},{"$f":"Table13[[#This Row],[Description]]","v":0},{"$f":"Table13[[#This Row],[Life Expectancy]]","v":""},null,null,null,null,{"$f":"IF(Table142[[#This Row],[Column12]]=\"\",\"\",IF('Life Expectancy and Criticality'!AH233=0,\"0.5\",'Life Expectancy and Criticality'!AH233))","v":""},{"$f":"IF(Table142[[#This Row],[I.D. Number ]]=\"\",\"\",IF(Table142[[#This Row],[Life Expectency]]=\"0\",\"Yes\",IF((Table1468[[#This Row],[Year of Failure]]-YEAR(TODAY()))<('Life Expectancy and Criticality'!$V233*(1/3)),\"Yes\",\"No\")))","v":""},null,null,null,{"$f":"IF(Table142[[#This Row],[Column2]]=0,\"\",IF('Life Expectancy and Criticality'!AQ233=0,\"0.5\",'Life Expectancy and Criticality'!AQ233))","v":""},0,{"$f":"IF('Data Collection Sheet'!$N236,\"The YEAR OF FAILURE and PROJECTED COST were calculated using an estimated installation date.\",\"\")&IF('Cost Data'!$M236,\"The PROJECTED COST was calculated using an estimated intial price.\",\"\")","v":""}]
[{"$f":"Table13[[#This Row],[I.D. Number ]]","v":""},{"$f":"Table13[[#This Row],[Category]]","v":0},{"$f":"Table13[[#This Row],[Type]]","v":0},{"$f":"Table13[[#This Row],[Description]]","v":0},{"$f":"Table13[[#This Row],[Life Expectancy]]","v":""},null,null,null,null,{"$f":"IF(Table142[[#This Row],[Column12]]=\"\",\"\",IF('Life Expectancy and Criticality'!AH234=0,\"0.5\",'Life Expectancy and Criticality'!AH234))","v":""},{"$f":"IF(Table142[[#This Row],[I.D. Number ]]=\"\",\"\",IF(Table142[[#This Row],[Life Expectency]]=\"0\",\"Yes\",IF((Table1468[[#This Row],[Year of Failure]]-YEAR(TODAY()))<('Life Expectancy and Criticality'!$V234*(1/3)),\"Yes\",\"No\")))","v":""},null,null,null,{"$f":"IF(Table142[[#This Row],[Column2]]=0,\"\",IF('Life Expectancy and Criticality'!AQ234=0,\"0.5\",'Life Expectancy and Criticality'!AQ234))","v":""},0,{"$f":"IF('Data Collection Sheet'!$N237,\"The YEAR OF FAILURE and PROJECTED COST were calculated using an estimated installation date.\",\"\")&IF('Cost Data'!$M237,\"The PROJECTED COST was calculated using an estimated intial price.\",\"\")","v":""}]
[{"$f":"Table13[[#This Row],[I.D. Number ]]","v":""},{"$f":"Table13[[#This Row],[Category]]","v":0},{"$f":"Table13[[#This Row],[Type]]","v":0},{"$f":"Table13[[#This Row],[Description]]","v":0},{"$f":"Table13[[#This Row],[Life Expectancy]]","v":""},null,null,null,null,{"$f":"IF(Table142[[#This Row],[Column12]]=\"\",\"\",IF('Life Expectancy and Criticality'!AH235=0,\"0.5\",'Life Expectancy and Criticality'!AH235))","v":""},{"$f":"IF(Table142[[#This Row],[I.D. Number ]]=\"\",\"\",IF(Table142[[#This Row],[Life Expectency]]=\"0\",\"Yes\",IF((Table1468[[#This Row],[Year of Failure]]-YEAR(TODAY()))<('Life Expectancy and Criticality'!$V235*(1/3)),\"Yes\",\"No\")))","v":""},null,null,null,{"$f":"IF(Table142[[#This Row],[Column2]]=0,\"\",IF('Life Expectancy and Criticality'!AQ235=0,\"0.5\",'Life Expectancy and Criticality'!AQ235))","v":""},0,{"$f":"IF('Data Collection Sheet'!$N238,\"The YEAR OF FAILURE and PROJECTED COST were calculated using an estimated installation date.\",\"\")&IF('Cost Data'!$M238,\"The PROJECTED COST was calculated using an estimated intial price.\",\"\")","v":""}]
[{"$f":"Table13[[#This Row],[I.D. Number ]]","v":""},{"$f":"Table13[[#This Row],[Category]]","v":0},{"$f":"Table13[[#This Row],[Type]]","v":0},{"$f":"Table13[[#This Row],[Description]]","v":0},{"$f":"Table13[[#This Row],[Life Expectancy]]","v":""},null,null,null,null,{"$f":"IF(Table142[[#This Row],[Column12]]=\"\",\"\",IF('Life Expectancy and Criticality'!AH236=0,\"0.5\",'Life Expectancy and Criticality'!AH236))","v":""},{"$f":"IF(Table142[[#This Row],[I.D. Number ]]=\"\",\"\",IF(Table142[[#This Row],[Life Expectency]]=\"0\",\"Yes\",IF((Table1468[[#This Row],[Year of Failure]]-YEAR(TODAY()))<('Life Expectancy and Criticality'!$V236*(1/3)),\"Yes\",\"No\")))","v":""},null,null,null,{"$f":"IF(Table142[[#This Row],[Column2]]=0,\"\",IF('Life Expectancy and Criticality'!AQ236=0,\"0.5\",'Life Expectancy and Criticality'!AQ236))","v":""},0,{"$f":"IF('Data Collection Sheet'!$N239,\"The YEAR OF FAILURE and PROJECTED COST were calculated using an estimated installation date.\",\"\")&IF('Cost Data'!$M239,\"The PROJECTED COST was calculated using an estimated intial price.\",\"\")","v":""}]
[{"$f":"Table13[[#This Row],[I.D. Number ]]","v":""},{"$f":"Table13[[#This Row],[Category]]","v":0},{"$f":"Table13[[#This Row],[Type]]","v":0},{"$f":"Table13[[#This Row],[Description]]","v":0},{"$f":"Table13[[#This Row],[Life Expectancy]]","v":""},null,null,null,null,{"$f":"IF(Table142[[#This Row],[Column12]]=\"\",\"\",IF('Life Expectancy and Criticality'!AH237=0,\"0.5\",'Life Expectancy and Criticality'!AH237))","v":""},{"$f":"IF(Table142[[#This Row],[I.D. Number ]]=\"\",\"\",IF(Table142[[#This Row],[Life Expectency]]=\"0\",\"Yes\",IF((Table1468[[#This Row],[Year of Failure]]-YEAR(TODAY()))<('Life Expectancy and Criticality'!$V237*(1/3)),\"Yes\",\"No\")))","v":""},null,null,null,{"$f":"IF(Table142[[#This Row],[Column2]]=0,\"\",IF('Life Expectancy and Criticality'!AQ237=0,\"0.5\",'Life Expectancy and Criticality'!AQ237))","v":""},0,{"$f":"IF('Data Collection Sheet'!$N240,\"The YEAR OF FAILURE and PROJECTED COST were calculated using an estimated installation date.\",\"\")&IF('Cost Data'!$M240,\"The PROJECTED COST was calculated using an estimated intial price.\",\"\")","v":""}]
[{"$f":"Table13[[#This Row],[I.D. Number ]]","v":""},{"$f":"Table13[[#This Row],[Category]]","v":0},{"$f":"Table13[[#This Row],[Type]]","v":0},{"$f":"Table13[[#This Row],[Description]]","v":0},{"$f":"Table13[[#This Row],[Life Expectancy]]","v":""},null,null,null,null,{"$f":"IF(Table142[[#This Row],[Column12]]=\"\",\"\",IF('Life Expectancy and Criticality'!AH238=0,\"0.5\",'Life Expectancy and Criticality'!AH238))","v":""},{"$f":"IF(Table142[[#This Row],[I.D. Number ]]=\"\",\"\",IF(Table142[[#This Row],[Life Expectency]]=\"0\",\"Yes\",IF((Table1468[[#This Row],[Year of Failure]]-YEAR(TODAY()))<('Life Expectancy and Criticality'!$V238*(1/3)),\"Yes\",\"No\")))","v":""},null,null,null,{"$f":"IF(Table142[[#This Row],[Column2]]=0,\"\",IF('Life Expectancy and Criticality'!AQ238=0,\"0.5\",'Life Expectancy and Criticality'!AQ238))","v":""},0,{"$f":"IF('Data Collection Sheet'!$N241,\"The YEAR OF FAILURE and PROJECTED COST were calculated using an estimated installation date.\",\"\")&IF('Cost Data'!$M241,\"The PROJECTED COST was calculated using an estimated intial price.\",\"\")","v":""}]
[{"$f":"Table13[[#This Row],[I.D. Number ]]","v":""},{"$f":"Table13[[#This Row],[Category]]","v":0},{"$f":"Table13[[#This Row],[Type]]","v":0},{"$f":"Table13[[#This Row],[Description]]","v":0},{"$f":"Table13[[#This Row],[Life Expectancy]]","v":""},null,null,null,null,{"$f":"IF(Table142[[#This Row],[Column12]]=\"\",\"\",IF('Life Expectancy and Criticality'!AH239=0,\"0.5\",'Life Expectancy and Criticality'!AH239))","v":""},{"$f":"IF(Table142[[#This Row],[I.D. Number ]]=\"\",\"\",IF(Table142[[#This Row],[Life Expectency]]=\"0\",\"Yes\",IF((Table1468[[#This Row],[Year of Failure]]-YEAR(TODAY()))<('Life Expectancy and Criticality'!$V239*(1/3)),\"Yes\",\"No\")))","v":""},null,null,null,{"$f":"IF(Table142[[#This Row],[Column2]]=0,\"\",IF('Life Expectancy and Criticality'!AQ239=0,\"0.5\",'Life Expectancy and Criticality'!AQ239))","v":""},0,{"$f":"IF('Data Collection Sheet'!$N242,\"The YEAR OF FAILURE and PROJECTED COST were calculated using an estimated installation date.\",\"\")&IF('Cost Data'!$M242,\"The PROJECTED COST was calculated using an estimated intial price.\",\"\")","v":""}]
[{"$f":"Table13[[#This Row],[I.D. Number ]]","v":""},{"$f":"Table13[[#This Row],[Category]]","v":0},{"$f":"Table13[[#This Row],[Type]]","v":0},{"$f":"Table13[[#This Row],[Description]]","v":0},{"$f":"Table13[[#This Row],[Life Expectancy]]","v":""},null,null,null,null,{"$f":"IF(Table142[[#This Row],[Column12]]=\"\",\"\",IF('Life Expectancy and Criticality'!AH240=0,\"0.5\",'Life Expectancy and Criticality'!AH240))","v":""},{"$f":"IF(Table142[[#This Row],[I.D. Number ]]=\"\",\"\",IF(Table142[[#This Row],[Life Expectency]]=\"0\",\"Yes\",IF((Table1468[[#This Row],[Year of Failure]]-YEAR(TODAY()))<('Life Expectancy and Criticality'!$V240*(1/3)),\"Yes\",\"No\")))","v":""},null,null,null,{"$f":"IF(Table142[[#This Row],[Column2]]=0,\"\",IF('Life Expectancy and Criticality'!AQ240=0,\"0.5\",'Life Expectancy and Criticality'!AQ240))","v":""},0,{"$f":"IF('Data Collection Sheet'!$N243,\"The YEAR OF FAILURE and PROJECTED COST were calculated using an estimated installation date.\",\"\")&IF('Cost Data'!$M243,\"The PROJECTED COST was calculated using an estimated intial price.\",\"\")","v":""}]
[{"$f":"Table13[[#This Row],[I.D. Number ]]","v":""},{"$f":"Table13[[#This Row],[Category]]","v":0},{"$f":"Table13[[#This Row],[Type]]","v":0},{"$f":"Table13[[#This Row],[Description]]","v":0},{"$f":"Table13[[#This Row],[Life Expectancy]]","v":""},null,null,null,null,{"$f":"IF(Table142[[#This Row],[Column12]]=\"\",\"\",IF('Life Expectancy and Criticality'!AH241=0,\"0.5\",'Life Expectancy and Criticality'!AH241))","v":""},{"$f":"IF(Table142[[#This Row],[I.D. Number ]]=\"\",\"\",IF(Table142[[#This Row],[Life Expectency]]=\"0\",\"Yes\",IF((Table1468[[#This Row],[Year of Failure]]-YEAR(TODAY()))<('Life Expectancy and Criticality'!$V241*(1/3)),\"Yes\",\"No\")))","v":""},null,null,null,{"$f":"IF(Table142[[#This Row],[Column2]]=0,\"\",IF('Life Expectancy and Criticality'!AQ241=0,\"0.5\",'Life Expectancy and Criticality'!AQ241))","v":""},0,{"$f":"IF('Data Collection Sheet'!$N244,\"The YEAR OF FAILURE and PROJECTED COST were calculated using an estimated installation date.\",\"\")&IF('Cost Data'!$M244,\"The PROJECTED COST was calculated using an estimated intial price.\",\"\")","v":""}]
[{"$f":"Table13[[#This Row],[I.D. Number ]]","v":""},{"$f":"Table13[[#This Row],[Category]]","v":0},{"$f":"Table13[[#This Row],[Type]]","v":0},{"$f":"Table13[[#This Row],[Description]]","v":0},{"$f":"Table13[[#This Row],[Life Expectancy]]","v":""},null,null,null,null,{"$f":"IF(Table142[[#This Row],[Column12]]=\"\",\"\",IF('Life Expectancy and Criticality'!AH242=0,\"0.5\",'Life Expectancy and Criticality'!AH242))","v":""},{"$f":"IF(Table142[[#This Row],[I.D. Number ]]=\"\",\"\",IF(Table142[[#This Row],[Life Expectency]]=\"0\",\"Yes\",IF((Table1468[[#This Row],[Year of Failure]]-YEAR(TODAY()))<('Life Expectancy and Criticality'!$V242*(1/3)),\"Yes\",\"No\")))","v":""},null,null,null,{"$f":"IF(Table142[[#This Row],[Column2]]=0,\"\",IF('Life Expectancy and Criticality'!AQ242=0,\"0.5\",'Life Expectancy and Criticality'!AQ242))","v":""},0,{"$f":"IF('Data Collection Sheet'!$N245,\"The YEAR OF FAILURE and PROJECTED COST were calculated using an estimated installation date.\",\"\")&IF('Cost Data'!$M245,\"The PROJECTED COST was calculated using an estimated intial price.\",\"\")","v":""}]
[{"$f":"Table13[[#This Row],[I.D. Number ]]","v":""},{"$f":"Table13[[#This Row],[Category]]","v":0},{"$f":"Table13[[#This Row],[Type]]","v":0},{"$f":"Table13[[#This Row],[Description]]","v":0},{"$f":"Table13[[#This Row],[Life Expectancy]]","v":""},null,null,null,null,{"$f":"IF(Table142[[#This Row],[Column12]]=\"\",\"\",IF('Life Expectancy and Criticality'!AH243=0,\"0.5\",'Life Expectancy and Criticality'!AH243))","v":""},{"$f":"IF(Table142[[#This Row],[I.D. Number ]]=\"\",\"\",IF(Table142[[#This Row],[Life Expectency]]=\"0\",\"Yes\",IF((Table1468[[#This Row],[Year of Failure]]-YEAR(TODAY()))<('Life Expectancy and Criticality'!$V243*(1/3)),\"Yes\",\"No\")))","v":""},null,null,null,{"$f":"IF(Table142[[#This Row],[Column2]]=0,\"\",IF('Life Expectancy and Criticality'!AQ243=0,\"0.5\",'Life Expectancy and Criticality'!AQ243))","v":""},0,{"$f":"IF('Data Collection Sheet'!$N246,\"The YEAR OF FAILURE and PROJECTED COST were calculated using an estimated installation date.\",\"\")&IF('Cost Data'!$M246,\"The PROJECTED COST was calculated using an estimated intial price.\",\"\")","v":""}]

{"sheet":"Most Critical","index":6,"n_rows":248,"n_cols":12,"rows_kept":248,"cut":false,"hidden":false,"merged":[]}
[null,null,null,null,null,null,null,null,null,"Recommendations:","# of Assets"]
[null,null,null,null,null,null,null,null,null,"Immediate Work",{"$f":"COUNTIF($H$8:$H$248,\">=18.75\")+COUNTIF($I$8:$I$248,\"2022\")+COUNTIF($I$8:$I$248,\"2022±5\")","v":0}]
[null,null,null,null,null,null,null,null,null,"Schedule for Rehab/Replace",{"$f":"COUNTIF($H$8:$H$248,\"<18.75\")-COUNTIF($H$8:$H$248,\"<=12.5\")","v":4}]
[null,null,null,null,null,null,null,null,null,"Aggressive Monitoring",{"$f":"COUNTIF($H$8:$H$248,\"<12.5\")-COUNTIF($H$8:$H$248,\"<=6.25\")","v":5}]
[null,null,null,null,null,null,null,null,null,"Sample Monitoring",{"$f":"COUNTIF($H$8:$H$248,\"<6.25\")","v":58}]
[null,null,null,null,null,null,"Summary (by most critical)"]
[null,null,"ID Number","Category","Type","Size","Description","Criticality Score","Estimated Year of Failure","Projected Cost of Replacement","Long-Term Funding Source","Estimated Calculation Disclaimers"]
[1,null,{"$f":"'Calculate Risk'!$A1","v":"PiPV-1970-4"},{"$f":"IF($C8=\"\",\"\",'Calculate Risk'!$B1)","v":"Pipe"},{"$f":"IF($C8=\"\",\"\",'Calculate Risk'!$C1)","v":"PVC"},{"$f":"IF($C8=\"\",\"\",INDEX('Data Collection Sheet'!$D:$D,MATCH('Most Critical'!$C8,'Data Collection Sheet'!$A:$A,0)))","v":"3\""},{"$f":"IF($C8=\"\",\"\",IF(INDEX('Data Collection Sheet'!$E:$E,MATCH('Most Critical'!$C8,'Data Collection Sheet'!$A:$A,0))=\"\",\"\",INDEX('Data Collection Sheet'!$E:$E,MATCH('Most Critical'!$C8,'Data Collection Sheet'!$A:$A,0))))","v":"2,292 linear feet"},{"$f":"IF($C8=\"\",\"\",INDEX('Consequence of Failure'!$P:$P,MATCH('Most Critical'!$C8,'Consequence of Failure'!$A:$A,0)))","v":14},{"$f":"IF($C8=\"\",\"\",INDEX('Data Collection Sheet'!$K:$K,MATCH('Most Critical'!$C8,'Data Collection Sheet'!$A:$A,0)))","v":2010},{"$f":"IF($C8=\"\",\"\",INDEX('Cost Data'!$I:$I,MATCH('Most Critical'!$C8,'Cost Data'!$A:$A,0)))","v":28.167999999999999},{"$f":"IF($C8=\"\",\"\",INDEX('Cost Data'!$K:$K,MATCH('Most Critical'!$C8,'Cost Data'!$A:$A,0)))","v":0},{"$f":"IF($C8=\"\",\"\",'Calculate Risk'!$Q1)","v":"The PROJECTED COST was calculated using an estimated intial price."}]
[2,null,{"$f":"'Calculate Risk'!$A2","v":"PiPV-1994-1"},{"$f":"IF($C9=\"\",\"\",'Calculate Risk'!$B2)","v":"Pipe"},{"$f":"IF($C9=\"\",\"\",'Calculate Risk'!$C2)","v":"PVC"},{"$f":"IF($C9=\"\",\"\",INDEX('Data Collection Sheet'!$D:$D,MATCH('Most Critical'!$C9,'Data Collection Sheet'!$A:$A,0)))","v":"4\""},{"$f":"IF($C9=\"\",\"\",IF(INDEX('Data Collection Sheet'!$E:$E,MATCH('Most Critical'!$C9,'Data Collection Sheet'!$A:$A,0))=\"\",\"\",INDEX('Data Collection Sheet'!$E:$E,MATCH('Most Critical'!$C9,'Data Collection Sheet'!$A:$A,0))))","v":"31500 linrar feet"},{"$f":"IF($C9=\"\",\"\",INDEX('Consequence of Failure'!$P:$P,MATCH('Most Critical'!$C9,'Consequence of Failure'!$A:$A,0)))","v":14},{"$f":"IF($C9=\"\",\"\",INDEX('Data Collection Sheet'!$K:$K,MATCH('Most Critical'!$C9,'Data Collection Sheet'!$A:$A,0)))","v":2034},{"$f":"IF($C9=\"\",\"\",INDEX('Cost Data'!$I:$I,MATCH('Most Critical'!$C9,'Cost Data'!$A:$A,0)))","v":4.8035801154948556},{"$f":"IF($C9=\"\",\"\",INDEX('Cost Data'!$K:$K,MATCH('Most Critical'!$C9,'Cost Data'!$A:$A,0)))","v":0},{"$f":"IF($C9=\"\",\"\",'Calculate Risk'!$Q2)","v":"The PROJECTED COST was calculated using an estimated intial price."}]
[3,null,{"$f":"'Calculate Risk'!$A3","v":"PiPV-1994-2"},{"$f":"IF($C10=\"\",\"\",'Calculate Risk'!$B3)","v":"Pipe"},{"$f":"IF($C10=\"\",\"\",'Calculate Risk'!$C3)","v":"PVC"},{"$f":"IF($C10=\"\",\"\",INDEX('Data Collection Sheet'!$D:$D,MATCH('Most Critical'!$C10,'Data Collection Sheet'!$A:$A,0)))","v":"6\""},{"$f":"IF($C10=\"\",\"\",IF(INDEX('Data Collection Sheet'!$E:$E,MATCH('Most Critical'!$C10,'Data Collection Sheet'!$A:$A,0))=\"\",\"\",INDEX('Data Collection Sheet'!$E:$E,MATCH('Most Critical'!$C10,'Data Collection Sheet'!$A:$A,0))))","v":"74550 linear feet"},{"$f":"IF($C10=\"\",\"\",INDEX('Consequence of Failure'!$P:$P,MATCH('Most Critical'!$C10,'Consequence of Failure'!$A:$A,0)))","v":14},{"$f":"IF($C10=\"\",\"\",INDEX('Data Collection Sheet'!$K:$K,MATCH('Most Critical'!$C10,'Data Collection Sheet'!$A:$A,0)))","v":2034},{"$f":"IF($C10=\"\",\"\",INDEX('Cost Data'!$I:$I,MATCH('Most Critical'!$C10,'Cost Data'!$A:$A,0)))","v":8.0059668591580913},{"$f":"IF($C10=\"\",\"\",INDEX('Cost Data'!$K:$K,MATCH('Most Critical'!$C10,'Cost Data'!$A:$A,0)))","v":0},{"$f":"IF($C10=\"\",\"\",'Calculate Risk'!$Q3)","v":"The PROJECTED COST was calculated using an estimated intial price."}]
[4,null,{"$f":"'Calculate Risk'!$A4","v":"PiPV-1994-5"},{"$f":"IF($C11=\"\",\"\",'Calculate Risk'!$B4)","v":"Pipe"},{"$f":"IF($C11=\"\",\"\",'Calculate Risk'!$C4)","v":"PVC"},{"$f":"IF($C11=\"\",\"\",INDEX('Data Collection Sheet'!$D:$D,MATCH('Most Critical'!$C11,'Data Collection Sheet'!$A:$A,0)))","v":"12\""},{"$f":"IF($C11=\"\",\"\",IF(INDEX('Data Collection Sheet'!$E:$E,MATCH('Most Critical'!$C11,'Data Collection Sheet'!$A:$A,0))=\"\",\"\",INDEX('Data Collection Sheet'!$E:$E,MATCH('Most Critical'!$C11,'Data Collection Sheet'!$A:$A,0))))","v":"40,940 linear feet"},{"$f":"IF($C11=\"\",\"\",INDEX('Consequence of Failure'!$P:$P,MATCH('Most Critical'!$C11,'Consequence of Failure'!$A:$A,0)))","v":14},{"$f":"IF($C11=\"\",\"\",INDEX('Data Collection Sheet'!$K:$K,MATCH('Most Critical'!$C11,'Data Collection Sheet'!$A:$A,0)))","v":2034},{"$f":"IF($C11=\"\",\"\",INDEX('Cost Data'!$I:$I,MATCH('Most Critical'!$C11,'Cost Data'!$A:$A,0)))","v":32.023867436632365},{"$f":"IF($C11=\"\",\"\",INDEX('Cost Data'!$K:$K,MATCH('Most Critical'!$C11,'Cost Data'!$A:$A,0)))","v":0},{"$f":"IF($C11=\"\",\"\",'Calculate Risk'!$Q4)","v":"The PROJECTED COST was calculated using an estimated intial price."}]
[5,null,{"$f":"'Calculate Risk'!$A5","v":"PiPV-1970-2"},{"$f":"IF($C12=\"\",\"\",'Calculate Risk'!$B5)","v":"Pipe"},{"$f":"IF($C12=\"\",\"\",'Calculate Risk'!$C5)","v":"PVC"},{"$f":"IF($C12=\"\",\"\",INDEX('Data Collection Sheet'!$D:$D,MATCH('Most Critical'!$C12,'Data Collection Sheet'!$A:$A,0)))","v":"4\""},{"$f":"IF($C12=\"\",\"\",IF(INDEX('Data Collection Sheet'!$E:$E,MATCH('Most Critical'!$C12,'Data Collection Sheet'!$A:$A,0))=\"\",\"\",INDEX('Data Collection Sheet'!$E:$E,MATCH('Most Critical'!$C12,'Data Collection Sheet'!$A:$A,0))))","v":"39651 linear feet"},{"$f":"IF($C12=\"\",\"\",INDEX('Consequence of Failure'!$P:$P,MATCH('Most Critical'!$C12,'Consequence of Failure'!$A:$A,0)))","v":12},{"$f":"IF($C12=\"\",\"\",INDEX('Data Collection Sheet'!$K:$K,MATCH('Most Critical'!$C12,'Data Collection Sheet'!$A:$A,0)))","v":2010},{"$f":"IF($C12=\"\",\"\",INDEX('Cost Data'!$I:$I,MATCH('Most Critical'!$C12,'Cost Data'!$A:$A,0)))","v":14.084},{"$f":"IF($C12=\"\",\"\",INDEX('Cost Data'!$K:$K,MATCH('Most Critical'!$C12,'Cost Data'!$A:$A,0)))","v":0},{"$f":"IF($C12=\"\",\"\",'Calculate Risk'!$Q5)","v":"The PROJECTED COST was calculated using an estimated intial price."}]
[6,null,{"$f":"'Calculate Risk'!$A6","v":"PiPV-1970-1"},{"$f":"IF($C13=\"\",\"\",'Calculate Risk'!$B6)","v":"Pipe"},{"$f":"IF($C13=\"\",\"\",'Calculate Risk'!$C6)","v":"PVC"},{"$f":"IF($C13=\"\",\"\",INDEX('Data Collection Sheet'!$D:$D,MATCH('Most Critical'!$C13,'Data Collection Sheet'!$A:$A,0)))","v":"6\""},{"$f":"IF($C13=\"\",\"\",IF(INDEX('Data Collection Sheet'!$E:$E,MATCH('Most Critical'!$C13,'Data Collection Sheet'!$A:$A,0))=\"\",\"\",INDEX('Data Collection Sheet'!$E:$E,MATCH('Most Critical'!$C13,'Data Collection Sheet'!$A:$A,0))))","v":"68662 linear feet"},{"$f":"IF($C13=\"\",\"\",INDEX('Consequence of Failure'!$P:$P,MATCH('Most Critical'!$C13,'Consequence of Failure'!$A:$A,0)))","v":10.5},{"$f":"IF($C13=\"\",\"\",INDEX('Data Collection Sheet'!$K:$K,MATCH('Most Critical'!$C13,'Data Collection Sheet'!$A:$A,0)))","v":2010},{"$f":"IF($C13=\"\",\"\",INDEX('Cost Data'!$I:$I,MATCH('Most Critical'!$C13,'Cost Data'!$A:$A,0)))","v":10.06},{"$f":"IF($C13=\"\",\"\",INDEX('Cost Data'!$K:$K,MATCH('Most Critical'!$C13,'Cost Data'!$A:$A,0)))","v":0},{"$f":"IF($C13=\"\",\"\",'Calculate Risk'!$Q6)","v":"The PROJECTED COST was calculated using an estimated intial price."}]
[7,null,{"$f":"'Calculate Risk'!$A7","v":"PiPV-1970-3"},{"$f":"IF($C14=\"\",\"\",'Calculate Risk'!$B7)","v":"Pipe"},{"$f":"IF($C14=\"\",\"\",'Calculate Risk'!$C7)","v":"PVC"},{"$f":"IF($C14=\"\",\"\",INDEX('Data Collection Sheet'!$D:$D,MATCH('Most Critical'!$C14,'Data Collection Sheet'!$A:$A,0)))","v":"2\""},{"$f":"IF($C14=\"\",\"\",IF(INDEX('Data Collection Sheet'!$E:$E,MATCH('Most Critical'!$C14,'Data Collection Sheet'!$A:$A,0))=\"\",\"\",INDEX('Data Collection Sheet'!$E:$E,MATCH('Most Critical'!$C14,'Data Collection Sheet'!$A:$A,0))))","v":"24,923 linear feet"},{"$f":"IF($C14=\"\",\"\",INDEX('Consequence of Failure'!$P:$P,MATCH('Most Critical'!$C14,'Consequence of Failure'!$A:$A,0)))","v":10.5},{"$f":"IF($C14=\"\",\"\",INDEX('Data Collection Sheet'!$K:$K,MATCH('Most Critical'!$C14,'Data Collection Sheet'!$A:$A,0)))","v":2010},{"$f":"IF($C14=\"\",\"\",INDEX('Cost Data'!$I:$I,MATCH('Most Critical'!$C14,'Cost Data'!$A:$A,0)))","v":24.143999999999998},{"$f":"IF($C14=\"\",\"\",INDEX('Cost Data'!$K:$K,MATCH('Most Critical'!$C14,'Cost Data'!$A:$A,0)))","v":0},{"$f":"IF($C14=\"\",\"\",'Calculate Risk'!$Q7)","v":"The PROJECTED COST was calculated using an estimated intial price."}]
[8,null,{"$f":"'Calculate Risk'!$A8","v":"PiPV-1994-3"},{"$f":"IF($C15=\"\",\"\",'Calculate Risk'!$B8)","v":"Pipe"},{"$f":"IF($C15=\"\",\"\",'Calculate Risk'!$C8)","v":"PVC"},{"$f":"IF($C15=\"\",\"\",INDEX('Data Collection Sheet'!$D:$D,MATCH('Most Critical'!$C15,'Data Collection Sheet'!$A:$A,0)))","v":"8\""},{"$f":"IF($C15=\"\",\"\",IF(INDEX('Data Collection Sheet'!$E:$E,MATCH('Most Critical'!$C15,'Data Collection Sheet'!$A:$A,0))=\"\",\"\",INDEX('Data Collection Sheet'!$E:$E,MATCH('Most Critical'!$C15,'Data Collection Sheet'!$A:$A,0))))","v":"29,399 linear feet"},{"$f":"IF($C15=\"\",\"\",INDEX('Consequence of Failure'!$P:$P,MATCH('Most Critical'!$C15,'Consequence of Failure'!$A:$A,0)))","v":10.5},{"$f":"IF($C15=\"\",\"\",INDEX('Data Collection Sheet'!$K:$K,MATCH('Most Critical'!$C15,'Data Collection Sheet'!$A:$A,0)))","v":2034},{"$f":"IF($C15=\"\",\"\",INDEX('Cost Data'!$I:$I,MATCH('Most Critical'!$C15,'Cost Data'!$A:$A,0)))","v":9.6071602309897113},{"$f":"IF($C15=\"\",\"\",INDEX('Cost Data'!$K:$K,MATCH('Most Critical'!$C15,'Cost Data'!$A:$A,0)))","v":0},{"$f":"IF($C15=\"\",\"\",'Calculate Risk'!$Q8)","v":"The PROJECTED COST was calculated using an estimated intial price."}]
[9,null,{"$f":"'Calculate Risk'!$A9","v":"PiPV-1994-4"},{"$f":"IF($C16=\"\",\"\",'Calculate Risk'!$B9)","v":"Pipe"},{"$f":"IF($C16=\"\",\"\",'Calculate Risk'!$C9)","v":"PVC"},{"$f":"IF($C16=\"\",\"\",INDEX('Data Collection Sheet'!$D:$D,MATCH('Most Critical'!$C16,'Data Collection Sheet'!$A:$A,0)))","v":"10\""},{"$f":"IF($C16=\"\",\"\",IF(INDEX('Data Collection Sheet'!$E:$E,MATCH('Most Critical'!$C16,'Data Collection Sheet'!$A:$A,0))=\"\",\"\",INDEX('Data Collection Sheet'!$E:$E,MATCH('Most Critical'!$C16,'Data Collection Sheet'!$A:$A,0))))","v":"5,713 linear feet"},{"$f":"IF($C16=\"\",\"\",INDEX('Consequence of Failure'!$P:$P,MATCH('Most Critical'!$C16,'Consequence of Failure'!$A:$A,0)))","v":10.5},{"$f":"IF($C16=\"\",\"\",INDEX('Data Collection Sheet'!$K:$K,MATCH('Most Critical'!$C16,'Data Collection Sheet'!$A:$A,0)))","v":2034},{"$f":"IF($C16=\"\",\"\",INDEX('Cost Data'!$I:$I,MATCH('Most Critical'!$C16,'Cost Data'!$A:$A,0)))","v":16.011933718316183},{"$f":"IF($C16=\"\",\"\",INDEX('Cost Data'!$K:$K,MATCH('Most Critical'!$C16,'Cost Data'!$A:$A,0)))","v":0},{"$f":"IF($C16=\"\",\"\",'Calculate Risk'!$Q9)","v":"The PROJECTED COST was calculated using an estimated intial price."}]
[10,null,{"$f":"'Calculate Risk'!$A10","v":"CoTe-2022-1"},{"$f":"IF($C17=\"\",\"\",'Calculate Risk'!$B10)","v":"Control"},{"$f":"IF($C17=\"\",\"\",'Calculate Risk'!$C10)","v":"Telemetry "},{"$f":"IF($C17=\"\",\"\",INDEX('Data Collection Sheet'!$D:$D,MATCH('Most Critical'!$C17,'Data Collection Sheet'!$A:$A,0)))","v":0},{"$f":"IF($C17=\"\",\"\",IF(INDEX('Data Collection Sheet'!$E:$E,MATCH('Most Critical'!$C17,'Data Collection Sheet'!$A:$A,0))=\"\",\"\",INDEX('Data Collection Sheet'!$E:$E,MATCH('Most Critical'!$C17,'Data Collection Sheet'!$A:$A,0))))","v":"Plant Control Panel"},{"$f":"IF($C17=\"\",\"\",INDEX('Consequence of Failure'!$P:$P,MATCH('Most Critical'!$C17,'Consequence of Failure'!$A:$A,0)))","v":3.5},{"$f":"IF($C17=\"\",\"\",INDEX('Data Collection Sheet'!$K:$K,MATCH('Most Critical'!$C17,'Data Collection Sheet'!$A:$A,0)))","v":2037},{"$f":"IF($C17=\"\",\"\",INDEX('Cost Data'!$I:$I,MATCH('Most Critical'!$C17,'Cost Data'!$A:$A,0)))","v":118609.92},{"$f":"IF($C17=\"\",\"\",INDEX('Cost Data'!$K:$K,MATCH('Most Critical'!$C17,'Cost Data'!$A:$A,0)))","v":0},{"$f":"IF($C17=\"\",\"\",'Calculate Risk'!$Q10)","v":""}]
[11,null,{"$f":"'Calculate Risk'!$A11","v":"CoTe-2022-2"},{"$f":"IF($C18=\"\",\"\",'Calculate Risk'!$B11)","v":"Control"},{"$f":"IF($C18=\"\",\"\",'Calculate Risk'!$C11)","v":"Telemetry "},{"$f":"IF($C18=\"\",\"\",INDEX('Data Collection Sheet'!$D:$D,MATCH('Most Critical'!$C18,'Data Collection Sheet'!$A:$A,0)))","v":0},{"$f":"IF($C18=\"\",\"\",IF(INDEX('Data Collection Sheet'!$E:$E,MATCH('Most Critical'!$C18,'Data Collection Sheet'!$A:$A,0))=\"\",\"\",INDEX('Data Collection Sheet'!$E:$E,MATCH('Most Critical'!$C18,'Data Collection Sheet'!$A:$A,0))))","v":"Electrical Control Panel"},{"$f":"IF($C18=\"\",\"\",INDEX('Consequence of Failure'!$P:$P,MATCH('Most Critical'!$C18,'Consequence of Failure'!$A:$A,0)))","v":3.5},{"$f":"IF($C18=\"\",\"\",INDEX('Data Collection Sheet'!$K:$K,MATCH('Most Critical'!$C18,'Data Collection Sheet'!$A:$A,0)))","v":2037},{"$f":"IF($C18=\"\",\"\",INDEX('Cost Data'!$I:$I,MATCH('Most Critical'!$C18,'Cost Data'!$A:$A,0)))","v":63866.880000000005},{"$f":"IF($C18=\"\",\"\",INDEX('Cost Data'!$K:$K,MATCH('Most Critical'!$C18,'Cost Data'!$A:$A,0)))","v":0},{"$f":"IF($C18=\"\",\"\",'Calculate Risk'!$Q11)","v":""}]
[12,null,{"$f":"'Calculate Risk'!$A12","v":"SaFe-2022-1"},{"$f":"IF($C19=\"\",\"\",'Calculate Risk'!$B12)","v":"Safety"},{"$f":"IF($C19=\"\",\"\",'Calculate Risk'!$C12)","v":"Fencing"},{"$f":"IF($C19=\"\",\"\",INDEX('Data Collection Sheet'!$D:$D,MATCH('Most Critical'!$C19,'Data Collection Sheet'!$A:$A,0)))","v":0},{"$f":"IF($C19=\"\",\"\",IF(INDEX('Data Collection Sheet'!$E:$E,MATCH('Most Critical'!$C19,'Data Collection Sheet'!$A:$A,0))=\"\",\"\",INDEX('Data Collection Sheet'!$E:$E,MATCH('Most Critical'!$C19,'Data Collection Sheet'!$A:$A,0))))","v":"Chain Link Fencing"},{"$f":"IF($C19=\"\",\"\",INDEX('Consequence of Failure'!$P:$P,MATCH('Most Critical'!$C19,'Consequence of Failure'!$A:$A,0)))","v":3.5},{"$f":"IF($C19=\"\",\"\",INDEX('Data Collection Sheet'!$K:$K,MATCH('Most Critical'!$C19,'Data Collection Sheet'!$A:$A,0)))","v":2032},{"$f":"IF($C19=\"\",\"\",INDEX('Cost Data'!$I:$I,MATCH('Most Critical'!$C19,'Cost Data'!$A:$A,0)))","v":53518.080000000002},{"$f":"IF($C19=\"\",\"\",INDEX('Cost Data'!$K:$K,MATCH('Most Critical'!$C19,'Cost Data'!$A:$A,0)))","v":0},{"$f":"IF($C19=\"\",\"\",'Calculate Risk'!$Q12)","v":""}]
[13,null,{"$f":"'Calculate Risk'!$A13","v":"PuHi-2022-1"},{"$f":"IF($C20=\"\",\"\",'Calculate Risk'!$B13)","v":"Pump"},{"$f":"IF($C20=\"\",\"\",'Calculate Risk'!$C13)","v":"High Service "},{"$f":"IF($C20=\"\",\"\",INDEX('Data Collection Sheet'!$D:$D,MATCH('Most Critical'!$C20,'Data Collection Sheet'!$A:$A,0)))","v":"600 GPM"},{"$f":"IF($C20=\"\",\"\",IF(INDEX('Data Collection Sheet'!$E:$E,MATCH('Most Critical'!$C20,'Data Collection Sheet'!$A:$A,0))=\"\",\"\",INDEX('Data Collection Sheet'!$E:$E,MATCH('Most Critical'!$C20,'Data Collection Sheet'!$A:$A,0))))","v":"Vertical Turbine"},{"$f":"IF($C20=\"\",\"\",INDEX('Consequence of Failure'!$P:$P,MATCH('Most Critical'!$C20,'Consequence of Failure'!$A:$A,0)))","v":2.5},{"$f":"IF($C20=\"\",\"\",INDEX('Data Collection Sheet'!$K:$K,MATCH('Most Critical'!$C20,'Data Collection Sheet'!$A:$A,0)))","v":2037},{"$f":"IF($C20=\"\",\"\",INDEX('Cost Data'!$I:$I,MATCH('Most Critical'!$C20,'Cost Data'!$A:$A,0)))","v":136857.60000000001},{"$f":"IF($C20=\"\",\"\",INDEX('Cost Data'!$K:$K,MATCH('Most Critical'!$C20,'Cost Data'!$A:$A,0)))","v":0},{"$f":"IF($C20=\"\",\"\",'Calculate Risk'!$Q13)","v":""}]
[14,null,{"$f":"'Calculate Risk'!$A14","v":"PuHi-2022-2"},{"$f":"IF($C21=\"\",\"\",'Calculate Risk'!$B14)","v":"Pump"},{"$f":"IF($C21=\"\",\"\",'Calculate Risk'!$C14)","v":"High Service "},{"$f":"IF($C21=\"\",\"\",INDEX('Data Collection Sheet'!$D:$D,MATCH('Most Critical'!$C21,'Data Collection Sheet'!$A:$A,0)))","v":"600 GPM"},{"$f":"IF($C21=\"\",\"\",IF(INDEX('Data Collection Sheet'!$E:$E,MATCH('Most Critical'!$C21,'Data Collection Sheet'!$A:$A,0))=\"\",\"\",INDEX('Data Collection Sheet'!$E:$E,MATCH('Most Critical'!$C21,'Data Collection Sheet'!$A:$A,0))))","v":"Vertical Turbine"},{"$f":"IF($C21=\"\",\"\",INDEX('Consequence of Failure'!$P:$P,MATCH('Most Critical'!$C21,'Consequence of Failure'!$A:$A,0)))","v":2.5},{"$f":"IF($C21=\"\",\"\",INDEX('Data Collection Sheet'!$K:$K,MATCH('Most Critical'!$C21,'Data Collection Sheet'!$A:$A,0)))","v":2037},{"$f":"IF($C21=\"\",\"\",INDEX('Cost Data'!$I:$I,MATCH('Most Critical'!$C21,'Cost Data'!$A:$A,0)))","v":136857.60000000001},{"$f":"IF($C21=\"\",\"\",INDEX('Cost Data'!$K:$K,MATCH('Most Critical'!$C21,'Cost Data'!$A:$A,0)))","v":0},{"$f":"IF($C21=\"\",\"\",'Calculate Risk'!$Q14)","v":""}]
[15,null,{"$f":"'Calculate Risk'!$A15","v":"TrSe-2022-1"},{"$f":"IF($C22=\"\",\"\",'Calculate Risk'!$B15)","v":"Treatment"},{"$f":"IF($C22=\"\",\"\",'Calculate Risk'!$C15)","v":"Sedimentation "},{"$f":"IF($C22=\"\",\"\",INDEX('Data Collection Sheet'!$D:$D,MATCH('Most Critical'!$C22,'Data Collection Sheet'!$A:$A,0)))","v":0},{"$f":"IF($C22=\"\",\"\",IF(INDEX('Data Collection Sheet'!$E:$E,MATCH('Most Critical'!$C22,'Data Collection Sheet'!$A:$A,0))=\"\",\"\",INDEX('Data Collection Sheet'!$E:$E,MATCH('Most Critical'!$C22,'Data Collection Sheet'!$A:$A,0))))","v":"Sediment Pond"},{"$f":"IF($C22=\"\",\"\",INDEX('Consequence of Failure'!$P:$P,MATCH('Most Critical'!$C22,'Consequence of Failure'!$A:$A,0)))","v":2.5},{"$f":"IF($C22=\"\",\"\",INDEX('Data Collection Sheet'!$K:$K,MATCH('Most Critical'!$C22,'Data Collection Sheet'!$A:$A,0)))","v":2042},{"$f":"IF($C22=\"\",\"\",INDEX('Cost Data'!$I:$I,MATCH('Most Critical'!$C22,'Cost Data'!$A:$A,0)))","v":74215.679999999993},{"$f":"IF($C22=\"\",\"\",INDEX('Cost Data'!$K:$K,MATCH('Most Critical'!$C22,'Cost Data'!$A:$A,0)))","v":0},{"$f":"IF($C22=\"\",\"\",'Calculate Risk'!$Q15)","v":""}]
[16,null,{"$f":"'Calculate Risk'!$A16","v":"TrCh-2022-1"},{"$f":"IF($C23=\"\",\"\",'Calculate Risk'!$B16)","v":"Treatment"},{"$f":"IF($C23=\"\",\"\",'Calculate Risk'!$C16)","v":"Chlorination "},{"$f":"IF($C23=\"\",\"\",INDEX('Data Collection Sheet'!$D:$D,MATCH('Most Critical'!$C23,'Data Collection Sheet'!$A:$A,0)))","v":0},{"$f":"IF($C23=\"\",\"\",IF(INDEX('Data Collection Sheet'!$E:$E,MATCH('Most Critical'!$C23,'Data Collection Sheet'!$A:$A,0))=\"\",\"\",INDEX('Data Collection Sheet'!$E:$E,MATCH('Most Critical'!$C23,'Data Collection Sheet'!$A:$A,0))))","v":"Chlorination System"},{"$f":"IF($C23=\"\",\"\",INDEX('Consequence of Failure'!$P:$P,MATCH('Most Critical'!$C23,'Consequence of Failure'!$A:$A,0)))","v":2.5},{"$f":"IF($C23=\"\",\"\",INDEX('Data Collection Sheet'!$K:$K,MATCH('Most Critical'!$C23,'Data Collection Sheet'!$A:$A,0)))","v":2042},{"$f":"IF($C23=\"\",\"\",INDEX('Cost Data'!$I:$I,MATCH('Most Critical'!$C23,'Cost Data'!$A:$A,0)))","v":3180.672},{"$f":"IF($C23=\"\",\"\",INDEX('Cost Data'!$K:$K,MATCH('Most Critical'!$C23,'Cost Data'!$A:$A,0)))","v":0},{"$f":"IF($C23=\"\",\"\",'Calculate Risk'!$Q16)","v":""}]
[17,null,{"$f":"'Calculate Risk'!$A17","v":"PiPV-2011-1"},{"$f":"IF($C24=\"\",\"\",'Calculate Risk'!$B17)","v":"Pipe"},{"$f":"IF($C24=\"\",\"\",'Calculate Risk'!$C17)","v":"PVC"},{"$f":"IF($C24=\"\",\"\",INDEX('Data Collection Sheet'!$D:$D,MATCH('Most Critical'!$C24,'Data Collection Sheet'!$A:$A,0)))","v":"6\""},{"$f":"IF($C24=\"\",\"\",IF(INDEX('Data Collection Sheet'!$E:$E,MATCH('Most Critical'!$C24,'Data Collection Sheet'!$A:$A,0))=\"\",\"\",INDEX('Data Collection Sheet'!$E:$E,MATCH('Most Critical'!$C24,'Data Collection Sheet'!$A:$A,0))))","v":"36,960 linear feet"},{"$f":"IF($C24=\"\",\"\",INDEX('Consequence of Failure'!$P:$P,MATCH('Most Critical'!$C24,'Consequence of Failure'!$A:$A,0)))","v":1.75},{"$f":"IF($C24=\"\",\"\",INDEX('Data Collection Sheet'!$K:$K,MATCH('Most Critical'!$C24,'Data Collection Sheet'!$A:$A,0)))","v":2051},{"$f":"IF($C24=\"\",\"\",INDEX('Cost Data'!$I:$I,MATCH('Most Critical'!$C24,'Cost Data'!$A:$A,0)))","v":17.089836131252305},{"$f":"IF($C24=\"\",\"\",INDEX('Cost Data'!$K:$K,MATCH('Most Critical'!$C24,'Cost Data'!$A:$A,0)))","v":0},{"$f":"IF($C24=\"\",\"\",'Calculate Risk'!$Q17)","v":"The PROJECTED COST was calculated using an estimated intial price."}]
[18,null,{"$f":"'Calculate Risk'!$A18","v":"HyFi-1994-1"},{"$f":"IF($C25=\"\",\"\",'Calculate Risk'!$B18)","v":"Hydrant"},{"$f":"IF($C25=\"\",\"\",'Calculate Risk'!$C18)","v":"Fire "},{"$f":"IF($C25=\"\",\"\",INDEX('Data Collection Sheet'!$D:$D,MATCH('Most Critical'!$C25,'Data Collection Sheet'!$A:$A,0)))","v":0},{"$f":"IF($C25=\"\",\"\",IF(INDEX('Data Collection Sheet'!$E:$E,MATCH('Most Critical'!$C25,'Data Collection Sheet'!$A:$A,0))=\"\",\"\",INDEX('Data Collection Sheet'!$E:$E,MATCH('Most Critical'!$C25,'Data Collection Sheet'!$A:$A,0))))","v":"24 each"},{"$f":"IF($C25=\"\",\"\",INDEX('Consequence of Failure'!$P:$P,MATCH('Most Critical'!$C25,'Consequence of Failure'!$A:$A,0)))","v":1.5},{"$f":"IF($C25=\"\",\"\",INDEX('Data Collection Sheet'!$K:$K,MATCH('Most Critical'!$C25,'Data Collection Sheet'!$A:$A,0)))","v":2034},{"$f":"IF($C25=\"\",\"\",INDEX('Cost Data'!$I:$I,MATCH('Most Critical'!$C25,'Cost Data'!$A:$A,0)))","v":38.428640923958845},{"$f":"IF($C25=\"\",\"\",INDEX('Cost Data'!$K:$K,MATCH('Most Critical'!$C25,'Cost Data'!$A:$A,0)))","v":0},{"$f":"IF($C25=\"\",\"\",'Calculate Risk'!$Q18)","v":"The YEAR OF FAILURE and PROJECTED COST were calculated using an estimated installation date.The PROJECTED COST was calculated using an estimated intial price."}]
[19,null,{"$f":"'Calculate Risk'!$A19","v":"SoWe-2021-2"},{"$f":"IF($C26=\"\",\"\",'Calculate Risk'!$B19)","v":"Source"},{"$f":"IF($C26=\"\",\"\",'Calculate Risk'!$C19)","v":"Well"},{"$f":"IF($C26=\"\",\"\",INDEX('Data Collection Sheet'!$D:$D,MATCH('Most Critical'!$C26,'Data Collection Sheet'!$A:$A,0)))","v":0},{"$f":"IF($C26=\"\",\"\",IF(INDEX('Data Collection Sheet'!$E:$E,MATCH('Most Critical'!$C26,'Data Collection Sheet'!$A:$A,0))=\"\",\"\",INDEX('Data Collection Sheet'!$E:$E,MATCH('Most Critical'!$C26,'Data Collection Sheet'!$A:$A,0))))","v":"Well 2"},{"$f":"IF($C26=\"\",\"\",INDEX('Consequence of Failure'!$P:$P,MATCH('Most Critical'!$C26,'Consequence of Failure'!$A:$A,0)))","v":1.5},{"$f":"IF($C26=\"\",\"\",INDEX('Data Collection Sheet'!$K:$K,MATCH('Most Critical'!$C26,'Data Collection Sheet'!$A:$A,0)))","v":2071},{"$f":"IF($C26=\"\",\"\",INDEX('Cost Data'!$I:$I,MATCH('Most Critical'!$C26,'Cost Data'!$A:$A,0)))","v":1400109.8496000001},{"$f":"IF($C26=\"\",\"\",INDEX('Cost Data'!$K:$K,MATCH('Most Critical'!$C26,'Cost Data'!$A:$A,0)))","v":0},{"$f":"IF($C26=\"\",\"\",'Calculate Risk'!$Q19)","v":""}]
[20,null,{"$f":"'Calculate Risk'!$A20","v":"WTP-2022-1"},{"$f":"IF($C27=\"\",\"\",'Calculate Risk'!$B20)","v":"Building"},{"$f":"IF($C27=\"\",\"\",'Calculate Risk'!$C20)","v":"Treatment Plant"},{"$f":"IF($C27=\"\",\"\",INDEX('Data Collection Sheet'!$D:$D,MATCH('Most Critical'!$C27,'Data Collection Sheet'!$A:$A,0)))","v":0},{"$f":"IF($C27=\"\",\"\",IF(INDEX('Data Collection Sheet'!$E:$E,MATCH('Most Critical'!$C27,'Data Collection Sheet'!$A:$A,0))=\"\",\"\",INDEX('Data Collection Sheet'!$E:$E,MATCH('Most Critical'!$C27,'Data Collection Sheet'!$A:$A,0))))","v":"400 Sq Ft Treatment Plant Room"},{"$f":"IF($C27=\"\",\"\",INDEX('Consequence of Failure'!$P:$P,MATCH('Most Critical'!$C27,'Consequence of Failure'!$A:$A,0)))","v":1.5},{"$f":"IF($C27=\"\",\"\",INDEX('Data Collection Sheet'!$K:$K,MATCH('Most Critical'!$C27,'Data Collection Sheet'!$A:$A,0)))","v":2072},{"$f":"IF($C27=\"\",\"\",INDEX('Cost Data'!$I:$I,MATCH('Most Critical'!$C27,'Cost Data'!$A:$A,0)))","v":331034.88},{"$f":"IF($C27=\"\",\"\",INDEX('Cost Data'!$K:$K,MATCH('Most Critical'!$C27,'Cost Data'!$A:$A,0)))","v":0},{"$f":"IF($C27=\"\",\"\",'Calculate Risk'!$Q20)","v":""}]
[21,null,{"$f":"'Calculate Risk'!$A21","v":"TaEl-1994-1"},{"$f":"IF($C28=\"\",\"\",'Calculate Risk'!$B21)","v":"Tank"},{"$f":"IF($C28=\"\",\"\",'Calculate Risk'!$C21)","v":"Elevated Storage Tank"},{"$f":"IF($C28=\"\",\"\",INDEX('Data Collection Sheet'!$D:$D,MATCH('Most Critical'!$C28,'Data Collection Sheet'!$A:$A,0)))","v":"100,000 Gallon"},{"$f":"IF($C28=\"\",\"\",IF(INDEX('Data Collection Sheet'!$E:$E,MATCH('Most Critical'!$C28,'Data Collection Sheet'!$A:$A,0))=\"\",\"\",INDEX('Data Collection Sheet'!$E:$E,MATCH('Most Critical'!$C28,'Data Collection Sheet'!$A:$A,0))))","v":"Tank"},{"$f":"IF($C28=\"\",\"\",INDEX('Consequence of Failure'!$P:$P,MATCH('Most Critical'!$C28,'Consequence of Failure'!$A:$A,0)))","v":1},{"$f":"IF($C28=\"\",\"\",INDEX('Data Collection Sheet'!$K:$K,MATCH('Most Critical'!$C28,'Data Collection Sheet'!$A:$A,0)))","v":2019},{"$f":"IF($C28=\"\",\"\",INDEX('Cost Data'!$I:$I,MATCH('Most Critical'!$C28,'Cost Data'!$A:$A,0)))","v":381417.6},{"$f":"IF($C28=\"\",\"\",INDEX('Cost Data'!$K:$K,MATCH('Most Critical'!$C28,'Cost Data'!$A:$A,0)))","v":0},{"$f":"IF($C28=\"\",\"\",'Calculate Risk'!$Q21)","v":""}]
[22,null,{"$f":"'Calculate Risk'!$A22","v":"TaEl-1994-2"},{"$f":"IF($C29=\"\",\"\",'Calculate Risk'!$B22)","v":"Tank"},{"$f":"IF($C29=\"\",\"\",'Calculate Risk'!$C22)","v":"Elevated Storage Tank"},{"$f":"IF($C29=\"\",\"\",INDEX('Data Collection Sheet'!$D:$D,MATCH('Most Critical'!$C29,'Data Collection Sheet'!$A:$A,0)))","v":"100,000 Gallon"},{"$f":"IF($C29=\"\",\"\",IF(INDEX('Data Collection Sheet'!$E:$E,MATCH('Most Critical'!$C29,'Data Collection Sheet'!$A:$A,0))=\"\",\"\",INDEX('Data Collection Sheet'!$E:$E,MATCH('Most Critical'!$C29,'Data Collection Sheet'!$A:$A,0))))","v":"Tank"},{"$f":"IF($C29=\"\",\"\",INDEX('Consequence of Failure'!$P:$P,MATCH('Most Critical'!$C29,'Consequence of Failure'!$A:$A,0)))","v":1},{"$f":"IF($C29=\"\",\"\",INDEX('Data Collection Sheet'!$K:$K,MATCH('Most Critical'!$C29,'Data Collection Sheet'!$A:$A,0)))","v":2019},{"$f":"IF($C29=\"\",\"\",INDEX('Cost Data'!$I:$I,MATCH('Most Critical'!$C29,'Cost Data'!$A:$A,0)))","v":381417.6},{"$f":"IF($C29=\"\",\"\",INDEX('Cost Data'!$K:$K,MATCH('Most Critical'!$C29,'Cost Data'!$A:$A,0)))","v":0},{"$f":"IF($C29=\"\",\"\",'Calculate Risk'!$Q22)","v":""}]
[23,null,{"$f":"'Calculate Risk'!$A23","v":"SoWe-2021-1"},{"$f":"IF($C30=\"\",\"\",'Calculate Risk'!$B23)","v":"Source"},{"$f":"IF($C30=\"\",\"\",'Calculate Risk'!$C23)","v":"Well"},{"$f":"IF($C30=\"\",\"\",INDEX('Data Collection Sheet'!$D:$D,MATCH('Most Critical'!$C30,'Data Collection Sheet'!$A:$A,0)))","v":0},{"$f":"IF($C30=\"\",\"\",IF(INDEX('Data Collection Sheet'!$E:$E,MATCH('Most Critical'!$C30,'Data Collection Sheet'!$A:$A,0))=\"\",\"\",INDEX('Data Collection Sheet'!$E:$E,MATCH('Most Critical'!$C30,'Data Collection Sheet'!$A:$A,0))))","v":"Well 1"},{"$f":"IF($C30=\"\",\"\",INDEX('Consequence of Failure'!$P:$P,MATCH('Most Critical'!$C30,'Consequence of Failure'!$A:$A,0)))","v":0.75},{"$f":"IF($C30=\"\",\"\",INDEX('Data Collection Sheet'!$K:$K,MATCH('Most Critical'!$C30,'Data Collection Sheet'!$A:$A,0)))","v":2071},{"$f":"IF($C30=\"\",\"\",INDEX('Cost Data'!$I:$I,MATCH('Most Critical'!$C30,'Cost Data'!$A:$A,0)))","v":1400109.8496000001},{"$f":"IF($C30=\"\",\"\",INDEX('Cost Data'!$K:$K,MATCH('Most Critical'!$C30,'Cost Data'!$A:$A,0)))","v":0},{"$f":"IF($C30=\"\",\"\",'Calculate Risk'!$Q23)","v":""}]
[24,null,{"$f":"'Calculate Risk'!$A24","v":"PuTr-2021-1"},{"$f":"IF($C31=\"\",\"\",'Calculate Risk'!$B24)","v":"Pump"},{"$f":"IF($C31=\"\",\"\",'Calculate Risk'!$C24)","v":"Transfer "},{"$f":"IF($C31=\"\",\"\",INDEX('Data Collection Sheet'!$D:$D,MATCH('Most Critical'!$C31,'Data Collection Sheet'!$A:$A,0)))","v":"600 GPM"},{"$f":"IF($C31=\"\",\"\",IF(INDEX('Data Collection Sheet'!$E:$E,MATCH('Most Critical'!$C31,'Data Collection Sheet'!$A:$A,0))=\"\",\"\",INDEX('Data Collection Sheet'!$E:$E,MATCH('Most Critical'!$C31,'Data Collection Sheet'!$A:$A,0))))","v":"Well 1 Pump"},{"$f":"IF($C31=\"\",\"\",INDEX('Consequence of Failure'!$P:$P,MATCH('Most Critical'!$C31,'Consequence of Failure'!$A:$A,0)))","v":0.75},{"$f":"IF($C31=\"\",\"\",INDEX('Data Collection Sheet'!$K:$K,MATCH('Most Critical'!$C31,'Data Collection Sheet'!$A:$A,0)))","v":2036},{"$f":"IF($C31=\"\",\"\",INDEX('Cost Data'!$I:$I,MATCH('Most Critical'!$C31,'Cost Data'!$A:$A,0)))","v":156532.10496},{"$f":"IF($C31=\"\",\"\",INDEX('Cost Data'!$K:$K,MATCH('Most Critical'!$C31,'Cost Data'!$A:$A,0)))","v":0},{"$f":"IF($C31=\"\",\"\",'Calculate Risk'!$Q24)","v":""}]
[25,null,{"$f":"'Calculate Risk'!$A25","v":"PuTr-2021-2"},{"$f":"IF($C32=\"\",\"\",'Calculate Risk'!$B25)","v":"Pump"},{"$f":"IF($C32=\"\",\"\",'Calculate Risk'!$C25)","v":"Transfer "},{"$f":"IF($C32=\"\",\"\",INDEX('Data Collection Sheet'!$D:$D,MATCH('Most Critical'!$C32,'Data Collection Sheet'!$A:$A,0)))","v":"600 GPM"},{"$f":"IF($C32=\"\",\"\",IF(INDEX('Data Collection Sheet'!$E:$E,MATCH('Most Critical'!$C32,'Data Collection Sheet'!$A:$A,0))=\"\",\"\",INDEX('Data Collection Sheet'!$E:$E,MATCH('Most Critical'!$C32,'Data Collection Sheet'!$A:$A,0))))","v":"Well 2 Pump"},{"$f":"IF($C32=\"\",\"\",INDEX('Consequence of Failure'!$P:$P,MATCH('Most Critical'!$C32,'Consequence of Failure'!$A:$A,0)))","v":0.75},{"$f":"IF($C32=\"\",\"\",INDEX('Data Collection Sheet'!$K:$K,MATCH('Most Critical'!$C32,'Data Collection Sheet'!$A:$A,0)))","v":2036},{"$f":"IF($C32=\"\",\"\",INDEX('Cost Data'!$I:$I,MATCH('Most Critical'!$C32,'Cost Data'!$A:$A,0)))","v":156532.10496},{"$f":"IF($C32=\"\",\"\",INDEX('Cost Data'!$K:$K,MATCH('Most Critical'!$C32,'Cost Data'!$A:$A,0)))","v":0},{"$f":"IF($C32=\"\",\"\",'Calculate Risk'!$Q25)","v":""}]
[26,null,{"$f":"'Calculate Risk'!$A26","v":"MeWe-2021-1"},{"$f":"IF($C33=\"\",\"\",'Calculate Risk'!$B26)","v":"Meter"},{"$f":"IF($C33=\"\",\"\",'Calculate Risk'!$C26)","v":"Well "},{"$f":"IF($C33=\"\",\"\",INDEX('Data Collection Sheet'!$D:$D,MATCH('Most Critical'!$C33,'Data Collection Sheet'!$A:$A,0)))","v":0},{"$f":"IF($C33=\"\",\"\",IF(INDEX('Data Collection Sheet'!$E:$E,MATCH('Most Critical'!$C33,'Data Collection Sheet'!$A:$A,0))=\"\",\"\",INDEX('Data Collection Sheet'!$E:$E,MATCH('Most Critical'!$C33,'Data Collection Sheet'!$A:$A,0))))","v":"Master Meter, Well 1"},{"$f":"IF($C33=\"\",\"\",INDEX('Consequence of Failure'!$P:$P,MATCH('Most Critical'!$C33,'Consequence of Failure'!$A:$A,0)))","v":0.75},{"$f":"IF($C33=\"\",\"\",INDEX('Data Collection Sheet'!$K:$K,MATCH('Most Critical'!$C33,'Data Collection Sheet'!$A:$A,0)))","v":2036},{"$f":"IF($C33=\"\",\"\",INDEX('Cost Data'!$I:$I,MATCH('Most Critical'!$C33,'Cost Data'!$A:$A,0)))","v":9207.77088},{"$f":"IF($C33=\"\",\"\",INDEX('Cost Data'!$K:$K,MATCH('Most Critical'!$C33,'Cost Data'!$A:$A,0)))","v":0},{"$f":"IF($C33=\"\",\"\",'Calculate Risk'!$Q26)","v":""}]
[27,null,{"$f":"'Calculate Risk'!$A27","v":"MeWe-2021-2"},{"$f":"IF($C34=\"\",\"\",'Calculate Risk'!$B27)","v":"Meter"},{"$f":"IF($C34=\"\",\"\",'Calculate Risk'!$C27)","v":"Well "},{"$f":"IF($C34=\"\",\"\",INDEX('Data Collection Sheet'!$D:$D,MATCH('Most Critical'!$C34,'Data Collection Sheet'!$A:$A,0)))","v":0},{"$f":"IF($C34=\"\",\"\",IF(INDEX('Data Collection Sheet'!$E:$E,MATCH('Most Critical'!$C34,'Data Collection Sheet'!$A:$A,0))=\"\",\"\",INDEX('Data Collection Sheet'!$E:$E,MATCH('Most Critical'!$C34,'Data Collection Sheet'!$A:$A,0))))","v":"Master Meter, Well 2"},{"$f":"IF($C34=\"\",\"\",INDEX('Consequence of Failure'!$P:$P,MATCH('Most Critical'!$C34,'Consequence of Failure'!$A:$A,0)))","v":0.75},{"$f":"IF($C34=\"\",\"\",INDEX('Data Collection Sheet'!$K:$K,MATCH('Most Critical'!$C34,'Data Collection Sheet'!$A:$A,0)))","v":2036},{"$f":"IF($C34=\"\",\"\",INDEX('Cost Data'!$I:$I,MATCH('Most Critical'!$C34,'Cost Data'!$A:$A,0)))","v":9207.77088},{"$f":"IF($C34=\"\",\"\",INDEX('Cost Data'!$K:$K,MATCH('Most Critical'!$C34,'Cost Data'!$A:$A,0)))","v":0},{"$f":"IF($C34=\"\",\"\",'Calculate Risk'!$Q27)","v":""}]
[28,null,{"$f":"'Calculate Risk'!$A28","v":"TaCl-2022-1"},{"$f":"IF($C35=\"\",\"\",'Calculate Risk'!$B28)","v":"Tank"},{"$f":"IF($C35=\"\",\"\",'Calculate Risk'!$C28)","v":"Clear Well"},{"$f":"IF($C35=\"\",\"\",INDEX('Data Collection Sheet'!$D:$D,MATCH('Most Critical'!$C35,'Data Collection Sheet'!$A:$A,0)))","v":"30,000 Gallon"},{"$f":"IF($C35=\"\",\"\",IF(INDEX('Data Collection Sheet'!$E:$E,MATCH('Most Critical'!$C35,'Data Collection Sheet'!$A:$A,0))=\"\",\"\",INDEX('Data Collection Sheet'!$E:$E,MATCH('Most Critical'!$C35,'Data Collection Sheet'!$A:$A,0))))","v":"Water Treatment Clear well"},{"$f":"IF($C35=\"\",\"\",INDEX('Consequence of Failure'!$P:$P,MATCH('Most Critical'!$C35,'Consequence of Failure'!$A:$A,0)))","v":0.5},{"$f":"IF($C35=\"\",\"\",INDEX('Data Collection Sheet'!$K:$K,MATCH('Most Critical'!$C35,'Data Collection Sheet'!$A:$A,0)))","v":2072},{"$f":"IF($C35=\"\",\"\",INDEX('Cost Data'!$I:$I,MATCH('Most Critical'!$C35,'Cost Data'!$A:$A,0)))","v":2920896},{"$f":"IF($C35=\"\",\"\",INDEX('Cost Data'!$K:$K,MATCH('Most Critical'!$C35,'Cost Data'!$A:$A,0)))","v":0},{"$f":"IF($C35=\"\",\"\",'Calculate Risk'!$Q28)","v":""}]
[29,null,{"$f":"'Calculate Risk'!$A29","v":"TrFi-2022-1"},{"$f":"IF($C36=\"\",\"\",'Calculate Risk'!$B29)","v":"Treatment"},{"$f":"IF($C36=\"\",\"\",'Calculate Risk'!$C29)","v":"Filtration"},{"$f":"IF($C36=\"\",\"\",INDEX('Data Collection Sheet'!$D:$D,MATCH('Most Critical'!$C36,'Data Collection Sheet'!$A:$A,0)))","v":"10\" Dia"},{"$f":"IF($C36=\"\",\"\",IF(INDEX('Data Collection Sheet'!$E:$E,MATCH('Most Critical'!$C36,'Data Collection Sheet'!$A:$A,0))=\"\",\"\",INDEX('Data Collection Sheet'!$E:$E,MATCH('Most Critical'!$C36,'Data Collection Sheet'!$A:$A,0))))","v":"Qty 3 Pressure Filter"},{"$f":"IF($C36=\"\",\"\",INDEX('Consequence of Failure'!$P:$P,MATCH('Most Critical'!$C36,'Consequence of Failure'!$A:$A,0)))","v":0.5},{"$f":"IF($C36=\"\",\"\",INDEX('Data Collection Sheet'!$K:$K,MATCH('Most Critical'!$C36,'Data Collection Sheet'!$A:$A,0)))","v":2042},{"$f":"IF($C36=\"\",\"\",INDEX('Cost Data'!$I:$I,MATCH('Most Critical'!$C36,'Cost Data'!$A:$A,0)))","v":233249.28},{"$f":"IF($C36=\"\",\"\",INDEX('Cost Data'!$K:$K,MATCH('Most Critical'!$C36,'Cost Data'!$A:$A,0)))","v":0},{"$f":"IF($C36=\"\",\"\",'Calculate Risk'!$Q29)","v":""}]
[30,null,{"$f":"'Calculate Risk'!$A30","v":"MeMa-2024-6"},{"$f":"IF($C37=\"\",\"\",'Calculate Risk'!$B30)","v":"Meter"},{"$f":"IF($C37=\"\",\"\",'Calculate Risk'!$C30)","v":"Master "},{"$f":"IF($C37=\"\",\"\",INDEX('Data Collection Sheet'!$D:$D,MATCH('Most Critical'!$C37,'Data Collection Sheet'!$A:$A,0)))","v":0},{"$f":"IF($C37=\"\",\"\",IF(INDEX('Data Collection Sheet'!$E:$E,MATCH('Most Critical'!$C37,'Data Collection Sheet'!$A:$A,0))=\"\",\"\",INDEX('Data Collection Sheet'!$E:$E,MATCH('Most Critical'!$C37,'Data Collection Sheet'!$A:$A,0))))","v":"Assembly 8 - Qty 1"},{"$f":"IF($C37=\"\",\"\",INDEX('Consequence of Failure'!$P:$P,MATCH('Most Critical'!$C37,'Consequence of Failure'!$A:$A,0)))","v":0.5},{"$f":"IF($C37=\"\",\"\",INDEX('Data Collection Sheet'!$K:$K,MATCH('Most Critical'!$C37,'Data Collection Sheet'!$A:$A,0)))","v":2039},{"$f":"IF($C37=\"\",\"\",INDEX('Cost Data'!$I:$I,MATCH('Most Critical'!$C37,'Cost Data'!$A:$A,0)))","v":18867.54},{"$f":"IF($C37=\"\",\"\",INDEX('Cost Data'!$K:$K,MATCH('Most Critical'!$C37,'Cost Data'!$A:$A,0)))","v":0},{"$f":"IF($C37=\"\",\"\",'Calculate Risk'!$Q30)","v":""}]
[31,null,{"$f":"'Calculate Risk'!$A31","v":"MeMa-2024-7"},{"$f":"IF($C38=\"\",\"\",'Calculate Risk'!$B31)","v":"Meter"},{"$f":"IF($C38=\"\",\"\",'Calculate Risk'!$C31)","v":"Master "},{"$f":"IF($C38=\"\",\"\",INDEX('Data Collection Sheet'!$D:$D,MATCH('Most Critical'!$C38,'Data Collection Sheet'!$A:$A,0)))","v":0},{"$f":"IF($C38=\"\",\"\",IF(INDEX('Data Collection Sheet'!$E:$E,MATCH('Most Critical'!$C38,'Data Collection Sheet'!$A:$A,0))=\"\",\"\",INDEX('Data Collection Sheet'!$E:$E,MATCH('Most Critical'!$C38,'Data Collection Sheet'!$A:$A,0))))","v":"Assembly 11 - Qty 1"},{"$f":"IF($C38=\"\",\"\",INDEX('Consequence of Failure'!$P:$P,MATCH('Most Critical'!$C38,'Consequence of Failure'!$A:$A,0)))","v":0.5},{"$f":"IF($C38=\"\",\"\",INDEX('Data Collection Sheet'!$K:$K,MATCH('Most Critical'!$C38,'Data Collection Sheet'!$A:$A,0)))","v":2039},{"$f":"IF($C38=\"\",\"\",INDEX('Cost Data'!$I:$I,MATCH('Most Critical'!$C38,'Cost Data'!$A:$A,0)))","v":23669.63},{"$f":"IF($C38=\"\",\"\",INDEX('Cost Data'!$K:$K,MATCH('Most Critical'!$C38,'Cost Data'!$A:$A,0)))","v":0},{"$f":"IF($C38=\"\",\"\",'Calculate Risk'!$Q31)","v":""}]
[32,null,{"$f":"'Calculate Risk'!$A32","v":"MeMa-2024-8"},{"$f":"IF($C39=\"\",\"\",'Calculate Risk'!$B32)","v":"Meter"},{"$f":"IF($C39=\"\",\"\",'Calculate Risk'!$C32)","v":"Master "},{"$f":"IF($C39=\"\",\"\",INDEX('Data Collection Sheet'!$D:$D,MATCH('Most Critical'!$C39,'Data Collection Sheet'!$A:$A,0)))","v":0},{"$f":"IF($C39=\"\",\"\",IF(INDEX('Data Collection Sheet'!$E:$E,MATCH('Most Critical'!$C39,'Data Collection Sheet'!$A:$A,0))=\"\",\"\",INDEX('Data Collection Sheet'!$E:$E,MATCH('Most Critical'!$C39,'Data Collection Sheet'!$A:$A,0))))","v":"Assembly 12 - Qty 1"},{"$f":"IF($C39=\"\",\"\",INDEX('Consequence of Failure'!$P:$P,MATCH('Most Critical'!$C39,'Consequence of Failure'!$A:$A,0)))","v":0.5},{"$f":"IF($C39=\"\",\"\",INDEX('Data Collection Sheet'!$K:$K,MATCH('Most Critical'!$C39,'Data Collection Sheet'!$A:$A,0)))","v":2039},{"$f":"IF($C39=\"\",\"\",INDEX('Cost Data'!$I:$I,MATCH('Most Critical'!$C39,'Cost Data'!$A:$A,0)))","v":20736.62},{"$f":"IF($C39=\"\",\"\",INDEX('Cost Data'!$K:$K,MATCH('Most Critical'!$C39,'Cost Data'!$A:$A,0)))","v":0},{"$f":"IF($C39=\"\",\"\",'Calculate Risk'!$Q32)","v":""}]
[33,null,{"$f":"'Calculate Risk'!$A33","v":"MeMa-2024-9"},{"$f":"IF($C40=\"\",\"\",'Calculate Risk'!$B33)","v":"Meter"},{"$f":"IF($C40=\"\",\"\",'Calculate Risk'!$C33)","v":"Master "},{"$f":"IF($C40=\"\",\"\",INDEX('Data Collection Sheet'!$D:$D,MATCH('Most Critical'!$C40,'Data Collection Sheet'!$A:$A,0)))","v":0},{"$f":"IF($C40=\"\",\"\",IF(INDEX('Data Collection Sheet'!$E:$E,MATCH('Most Critical'!$C40,'Data Collection Sheet'!$A:$A,0))=\"\",\"\",INDEX('Data Collection Sheet'!$E:$E,MATCH('Most Critical'!$C40,'Data Collection Sheet'!$A:$A,0))))","v":"Assembly 13 - Qty 1"},{"$f":"IF($C40=\"\",\"\",INDEX('Consequence of Failure'!$P:$P,MATCH('Most Critical'!$C40,'Consequence of Failure'!$A:$A,0)))","v":0.5},{"$f":"IF($C40=\"\",\"\",INDEX('Data Collection Sheet'!$K:$K,MATCH('Most Critical'!$C40,'Data Collection Sheet'!$A:$A,0)))","v":2039},{"$f":"IF($C40=\"\",\"\",INDEX('Cost Data'!$I:$I,MATCH('Most Critical'!$C40,'Cost Data'!$A:$A,0)))","v":19896.330000000002},{"$f":"IF($C40=\"\",\"\",INDEX('Cost Data'!$K:$K,MATCH('Most Critical'!$C40,'Cost Data'!$A:$A,0)))","v":0},{"$f":"IF($C40=\"\",\"\",'Calculate Risk'!$Q33)","v":""}]
[34,null,{"$f":"'Calculate Risk'!$A34","v":"MeMa-2024-10"},{"$f":"IF($C41=\"\",\"\",'Calculate Risk'!$B34)","v":"Meter"},{"$f":"IF($C41=\"\",\"\",'Calculate Risk'!$C34)","v":"Master "},{"$f":"IF($C41=\"\",\"\",INDEX('Data Collection Sheet'!$D:$D,MATCH('Most Critical'!$C41,'Data Collection Sheet'!$A:$A,0)))","v":0},{"$f":"IF($C41=\"\",\"\",IF(INDEX('Data Collection Sheet'!$E:$E,MATCH('Most Critical'!$C41,'Data Collection Sheet'!$A:$A,0))=\"\",\"\",INDEX('Data Collection Sheet'!$E:$E,MATCH('Most Critical'!$C41,'Data Collection Sheet'!$A:$A,0))))","v":"Assembly 14 - Qty 1"},{"$f":"IF($C41=\"\",\"\",INDEX('Consequence of Failure'!$P:$P,MATCH('Most Critical'!$C41,'Consequence of Failure'!$A:$A,0)))","v":0.5},{"$f":"IF($C41=\"\",\"\",INDEX('Data Collection Sheet'!$K:$K,MATCH('Most Critical'!$C41,'Data Collection Sheet'!$A:$A,0)))","v":2039},{"$f":"IF($C41=\"\",\"\",INDEX('Cost Data'!$I:$I,MATCH('Most Critical'!$C41,'Cost Data'!$A:$A,0)))","v":17441.509999999998},{"$f":"IF($C41=\"\",\"\",INDEX('Cost Data'!$K:$K,MATCH('Most Critical'!$C41,'Cost Data'!$A:$A,0)))","v":0},{"$f":"IF($C41=\"\",\"\",'Calculate Risk'!$Q34)","v":""}]
[35,null,{"$f":"'Calculate Risk'!$A35","v":"MeMa-2024-11"},{"$f":"IF($C42=\"\",\"\",'Calculate Risk'!$B35)","v":"Meter"},{"$f":"IF($C42=\"\",\"\",'Calculate Risk'!$C35)","v":"Master "},{"$f":"IF($C42=\"\",\"\",INDEX('Data Collection Sheet'!$D:$D,MATCH('Most Critical'!$C42,'Data Collection Sheet'!$A:$A,0)))","v":0},{"$f":"IF($C42=\"\",\"\",IF(INDEX('Data Collection Sheet'!$E:$E,MATCH('Most Critical'!$C42,'Data Collection Sheet'!$A:$A,0))=\"\",\"\",INDEX('Data Collection Sheet'!$E:$E,MATCH('Most Critical'!$C42,'Data Collection Sheet'!$A:$A,0))))","v":"Assembly 15, 16, 17, 18 - Qty 4"},{"$f":"IF($C42=\"\",\"\",INDEX('Consequence of Failure'!$P:$P,MATCH('Most Critical'!$C42,'Consequence of Failure'!$A:$A,0)))","v":0.5},{"$f":"IF($C42=\"\",\"\",INDEX('Data Collection Sheet'!$K:$K,MATCH('Most Critical'!$C42,'Data Collection Sheet'!$A:$A,0)))","v":2039},{"$f":"IF($C42=\"\",\"\",INDEX('Cost Data'!$I:$I,MATCH('Most Critical'!$C42,'Cost Data'!$A:$A,0)))","v":19986.86},{"$f":"IF($C42=\"\",\"\",INDEX('Cost Data'!$K:$K,MATCH('Most Critical'!$C42,'Cost Data'!$A:$A,0)))","v":0},{"$f":"IF($C42=\"\",\"\",'Calculate Risk'!$Q35)","v":""}]
[36,null,{"$f":"'Calculate Risk'!$A36","v":"MeMa-2024-12"},{"$f":"IF($C43=\"\",\"\",'Calculate Risk'!$B36)","v":"Meter"},{"$f":"IF($C43=\"\",\"\",'Calculate Risk'!$C36)","v":"Master "},{"$f":"IF($C43=\"\",\"\",INDEX('Data Collection Sheet'!$D:$D,MATCH('Most Critical'!$C43,'Data Collection Sheet'!$A:$A,0)))","v":0},{"$f":"IF($C43=\"\",\"\",IF(INDEX('Data Collection Sheet'!$E:$E,MATCH('Most Critical'!$C43,'Data Collection Sheet'!$A:$A,0))=\"\",\"\",INDEX('Data Collection Sheet'!$E:$E,MATCH('Most Critical'!$C43,'Data Collection Sheet'!$A:$A,0))))","v":"Assembly 20 - Qty 1"},{"$f":"IF($C43=\"\",\"\",INDEX('Consequence of Failure'!$P:$P,MATCH('Most Critical'!$C43,'Consequence of Failure'!$A:$A,0)))","v":0.5},{"$f":"IF($C43=\"\",\"\",INDEX('Data Collection Sheet'!$K:$K,MATCH('Most Critical'!$C43,'Data Collection Sheet'!$A:$A,0)))","v":2039},{"$f":"IF($C43=\"\",\"\",INDEX('Cost Data'!$I:$I,MATCH('Most Critical'!$C43,'Cost Data'!$A:$A,0)))","v":8719.16},{"$f":"IF($C43=\"\",\"\",INDEX('Cost Data'!$K:$K,MATCH('Most Critical'!$C43,'Cost Data'!$A:$A,0)))","v":0},{"$f":"IF($C43=\"\",\"\",'Calculate Risk'!$Q36)","v":""}]
[37,null,{"$f":"'Calculate Risk'!$A37","v":"VaGa-2024-1"},{"$f":"IF($C44=\"\",\"\",'Calculate Risk'!$B37)","v":"Valve"},{"$f":"IF($C44=\"\",\"\",'Calculate Risk'!$C37)","v":"Gate "},{"$f":"IF($C44=\"\",\"\",INDEX('Data Collection Sheet'!$D:$D,MATCH('Most Critical'!$C44,'Data Collection Sheet'!$A:$A,0)))","v":"10\""},{"$f":"IF($C44=\"\",\"\",IF(INDEX('Data Collection Sheet'!$E:$E,MATCH('Most Critical'!$C44,'Data Collection Sheet'!$A:$A,0))=\"\",\"\",INDEX('Data Collection Sheet'!$E:$E,MATCH('Most Critical'!$C44,'Data Collection Sheet'!$A:$A,0))))","v":"Qty 3"},{"$f":"IF($C44=\"\",\"\",INDEX('Consequence of Failure'!$P:$P,MATCH('Most Critical'!$C44,'Consequence of Failure'!$A:$A,0)))","v":0.5},{"$f":"IF($C44=\"\",\"\",INDEX('Data Collection Sheet'!$K:$K,MATCH('Most Critical'!$C44,'Data Collection Sheet'!$A:$A,0)))","v":2044},{"$f":"IF($C44=\"\",\"\",INDEX('Cost Data'!$I:$I,MATCH('Most Critical'!$C44,'Cost Data'!$A:$A,0)))","v":4700},{"$f":"IF($C44=\"\",\"\",INDEX('Cost Data'!$K:$K,MATCH('Most Critical'!$C44,'Cost Data'!$A:$A,0)))","v":0},{"$f":"IF($C44=\"\",\"\",'Calculate Risk'!$Q37)","v":""}]
[38,null,{"$f":"'Calculate Risk'!$A38","v":"VaGa-2024-2"},{"$f":"IF($C45=\"\",\"\",'Calculate Risk'!$B38)","v":"Valve"},{"$f":"IF($C45=\"\",\"\",'Calculate Risk'!$C38)","v":"Gate "},{"$f":"IF($C45=\"\",\"\",INDEX('Data Collection Sheet'!$D:$D,MATCH('Most Critical'!$C45,'Data Collection Sheet'!$A:$A,0)))","v":"8\""},{"$f":"IF($C45=\"\",\"\",IF(INDEX('Data Collection Sheet'!$E:$E,MATCH('Most Critical'!$C45,'Data Collection Sheet'!$A:$A,0))=\"\",\"\",INDEX('Data Collection Sheet'!$E:$E,MATCH('Most Critical'!$C45,'Data Collection Sheet'!$A:$A,0))))","v":"Qty 1"},{"$f":"IF($C45=\"\",\"\",INDEX('Consequence of Failure'!$P:$P,MATCH('Most Critical'!$C45,'Consequence of Failure'!$A:$A,0)))","v":0.5},{"$f":"IF($C45=\"\",\"\",INDEX('Data Collection Sheet'!$K:$K,MATCH('Most Critical'!$C45,'Data Collection Sheet'!$A:$A,0)))","v":2044},{"$f":"IF($C45=\"\",\"\",INDEX('Cost Data'!$I:$I,MATCH('Most Critical'!$C45,'Cost Data'!$A:$A,0)))","v":4700},{"$f":"IF($C45=\"\",\"\",INDEX('Cost Data'!$K:$K,MATCH('Most Critical'!$C45,'Cost Data'!$A:$A,0)))","v":0},{"$f":"IF($C45=\"\",\"\",'Calculate Risk'!$Q38)","v":""}]
[39,null,{"$f":"'Calculate Risk'!$A39","v":"VaGa-2024-3"},{"$f":"IF($C46=\"\",\"\",'Calculate Risk'!$B39)","v":"Valve"},{"$f":"IF($C46=\"\",\"\",'Calculate Risk'!$C39)","v":"Gate "},{"$f":"IF($C46=\"\",\"\",INDEX('Data Collection Sheet'!$D:$D,MATCH('Most Critical'!$C46,'Data Collection Sheet'!$A:$A,0)))","v":"6\""},{"$f":"IF($C46=\"\",\"\",IF(INDEX('Data Collection Sheet'!$E:$E,MATCH('Most Critical'!$C46,'Data Collection Sheet'!$A:$A,0))=\"\",\"\",INDEX('Data Collection Sheet'!$E:$E,MATCH('Most Critical'!$C46,'Data Collection Sheet'!$A:$A,0))))","v":"Qty 2"},{"$f":"IF($C46=\"\",\"\",INDEX('Consequence of Failure'!$P:$P,MATCH('Most Critical'!$C46,'Consequence of Failure'!$A:$A,0)))","v":0.5},{"$f":"IF($C46=\"\",\"\",INDEX('Data Collection Sheet'!$K:$K,MATCH('Most Critical'!$C46,'Data Collection Sheet'!$A:$A,0)))","v":2044},{"$f":"IF($C46=\"\",\"\",INDEX('Cost Data'!$I:$I,MATCH('Most Critical'!$C46,'Cost Data'!$A:$A,0)))","v":4704.1099999999997},{"$f":"IF($C46=\"\",\"\",INDEX('Cost Data'!$K:$K,MATCH('Most Critical'!$C46,'Cost Data'!$A:$A,0)))","v":0},{"$f":"IF($C46=\"\",\"\",'Calculate Risk'!$Q39)","v":""}]
[40,null,{"$f":"'Calculate Risk'!$A40","v":"VaGa-2024-4"},{"$f":"IF($C47=\"\",\"\",'Calculate Risk'!$B40)","v":"Valve"},{"$f":"IF($C47=\"\",\"\",'Calculate Risk'!$C40)","v":"Gate "},{"$f":"IF($C47=\"\",\"\",INDEX('Data Collection Sheet'!$D:$D,MATCH('Most Critical'!$C47,'Data Collection Sheet'!$A:$A,0)))","v":"4\""},{"$f":"IF($C47=\"\",\"\",IF(INDEX('Data Collection Sheet'!$E:$E,MATCH('Most Critical'!$C47,'Data Collection Sheet'!$A:$A,0))=\"\",\"\",INDEX('Data Collection Sheet'!$E:$E,MATCH('Most Critical'!$C47,'Data Collection Sheet'!$A:$A,0))))","v":"Qty 3"},{"$f":"IF($C47=\"\",\"\",INDEX('Consequence of Failure'!$P:$P,MATCH('Most Critical'!$C47,'Consequence of Failure'!$A:$A,0)))","v":0.5},{"$f":"IF($C47=\"\",\"\",INDEX('Data Collection Sheet'!$K:$K,MATCH('Most Critical'!$C47,'Data Collection Sheet'!$A:$A,0)))","v":2044},{"$f":"IF($C47=\"\",\"\",INDEX('Cost Data'!$I:$I,MATCH('Most Critical'!$C47,'Cost Data'!$A:$A,0)))","v":3182.22},{"$f":"IF($C47=\"\",\"\",INDEX('Cost Data'!$K:$K,MATCH('Most Critical'!$C47,'Cost Data'!$A:$A,0)))","v":0},{"$f":"IF($C47=\"\",\"\",'Calculate Risk'!$Q40)","v":""}]
[41,null,{"$f":"'Calculate Risk'!$A41","v":"VaPr-2024-1"},{"$f":"IF($C48=\"\",\"\",'Calculate Risk'!$B41)","v":"Valve"},{"$f":"IF($C48=\"\",\"\",'Calculate Risk'!$C41)","v":"Pressure Relief (PRV)"},{"$f":"IF($C48=\"\",\"\",INDEX('Data Collection Sheet'!$D:$D,MATCH('Most Critical'!$C48,'Data Collection Sheet'!$A:$A,0)))","v":0},{"$f":"IF($C48=\"\",\"\",IF(INDEX('Data Collection Sheet'!$E:$E,MATCH('Most Critical'!$C48,'Data Collection Sheet'!$A:$A,0))=\"\",\"\",INDEX('Data Collection Sheet'!$E:$E,MATCH('Most Critical'!$C48,'Data Collection Sheet'!$A:$A,0))))","v":"PRV-8"},{"$f":"IF($C48=\"\",\"\",INDEX('Consequence of Failure'!$P:$P,MATCH('Most Critical'!$C48,'Consequence of Failure'!$A:$A,0)))","v":0.5},{"$f":"IF($C48=\"\",\"\",INDEX('Data Collection Sheet'!$K:$K,MATCH('Most Critical'!$C48,'Data Collection Sheet'!$A:$A,0)))","v":2044},{"$f":"IF($C48=\"\",\"\",INDEX('Cost Data'!$I:$I,MATCH('Most Critical'!$C48,'Cost Data'!$A:$A,0)))","v":7500},{"$f":"IF($C48=\"\",\"\",INDEX('Cost Data'!$K:$K,MATCH('Most Critical'!$C48,'Cost Data'!$A:$A,0)))","v":0},{"$f":"IF($C48=\"\",\"\",'Calculate Risk'!$Q41)","v":""}]
[42,null,{"$f":"'Calculate Risk'!$A42","v":"VaPr-2024-2"},{"$f":"IF($C49=\"\",\"\",'Calculate Risk'!$B42)","v":"Valve"},{"$f":"IF($C49=\"\",\"\",'Calculate Risk'!$C42)","v":"Pressure Relief (PRV)"},{"$f":"IF($C49=\"\",\"\",INDEX('Data Collection Sheet'!$D:$D,MATCH('Most Critical'!$C49,'Data Collection Sheet'!$A:$A,0)))","v":0},{"$f":"IF($C49=\"\",\"\",IF(INDEX('Data Collection Sheet'!$E:$E,MATCH('Most Critical'!$C49,'Data Collection Sheet'!$A:$A,0))=\"\",\"\",INDEX('Data Collection Sheet'!$E:$E,MATCH('Most Critical'!$C49,'Data Collection Sheet'!$A:$A,0))))","v":"Residential - Qty 4"},{"$f":"IF($C49=\"\",\"\",INDEX('Consequence of Failure'!$P:$P,MATCH('Most Critical'!$C49,'Consequence of Failure'!$A:$A,0)))","v":0.5},{"$f":"IF($C49=\"\",\"\",INDEX('Data Collection Sheet'!$K:$K,MATCH('Most Critical'!$C49,'Data Collection Sheet'!$A:$A,0)))","v":2044},{"$f":"IF($C49=\"\",\"\",INDEX('Cost Data'!$I:$I,MATCH('Most Critical'!$C49,'Cost Data'!$A:$A,0)))","v":85},{"$f":"IF($C49=\"\",\"\",INDEX('Cost Data'!$K:$K,MATCH('Most Critical'!$C49,'Cost Data'!$A:$A,0)))","v":0},{"$f":"IF($C49=\"\",\"\",'Calculate Risk'!$Q42)","v":""}]
[43,null,{"$f":"'Calculate Risk'!$A43","v":"VaGa-2024-5"},{"$f":"IF($C50=\"\",\"\",'Calculate Risk'!$B43)","v":"Valve"},{"$f":"IF($C50=\"\",\"\",'Calculate Risk'!$C43)","v":"Gate "},{"$f":"IF($C50=\"\",\"\",INDEX('Data Collection Sheet'!$D:$D,MATCH('Most Critical'!$C50,'Data Collection Sheet'!$A:$A,0)))","v":"6\""},{"$f":"IF($C50=\"\",\"\",IF(INDEX('Data Collection Sheet'!$E:$E,MATCH('Most Critical'!$C50,'Data Collection Sheet'!$A:$A,0))=\"\",\"\",INDEX('Data Collection Sheet'!$E:$E,MATCH('Most Critical'!$C50,'Data Collection Sheet'!$A:$A,0))))","v":"Flush Valve"},{"$f":"IF($C50=\"\",\"\",INDEX('Consequence of Failure'!$P:$P,MATCH('Most Critical'!$C50,'Consequence of Failure'!$A:$A,0)))","v":0.5},{"$f":"IF($C50=\"\",\"\",INDEX('Data Collection Sheet'!$K:$K,MATCH('Most Critical'!$C50,'Data Collection Sheet'!$A:$A,0)))","v":2044},{"$f":"IF($C50=\"\",\"\",INDEX('Cost Data'!$I:$I,MATCH('Most Critical'!$C50,'Cost Data'!$A:$A,0)))","v":5100},{"$f":"IF($C50=\"\",\"\",INDEX('Cost Data'!$K:$K,MATCH('Most Critical'!$C50,'Cost Data'!$A:$A,0)))","v":0},{"$f":"IF($C50=\"\",\"\",'Calculate Risk'!$Q43)","v":""}]
[44,null,{"$f":"'Calculate Risk'!$A44","v":"CoSC-2024-1"},{"$f":"IF($C51=\"\",\"\",'Calculate Risk'!$B44)","v":"Control"},{"$f":"IF($C51=\"\",\"\",'Calculate Risk'!$C44)","v":"SCADA "},{"$f":"IF($C51=\"\",\"\",INDEX('Data Collection Sheet'!$D:$D,MATCH('Most Critical'!$C51,'Data Collection Sheet'!$A:$A,0)))","v":0},{"$f":"IF($C51=\"\",\"\",IF(INDEX('Data Collection Sheet'!$E:$E,MATCH('Most Critical'!$C51,'Data Collection Sheet'!$A:$A,0))=\"\",\"\",INDEX('Data Collection Sheet'!$E:$E,MATCH('Most Critical'!$C51,'Data Collection Sheet'!$A:$A,0))))","v":"Automated Meter Reading System"},{"$f":"IF($C51=\"\",\"\",INDEX('Consequence of Failure'!$P:$P,MATCH('Most Critical'!$C51,'Consequence of Failure'!$A:$A,0)))","v":0.5},{"$f":"IF($C51=\"\",\"\",INDEX('Data Collection Sheet'!$K:$K,MATCH('Most Critical'!$C51,'Data Collection Sheet'!$A:$A,0)))","v":2039},{"$f":"IF($C51=\"\",\"\",INDEX('Cost Data'!$I:$I,MATCH('Most Critical'!$C51,'Cost Data'!$A:$A,0)))","v":15000},{"$f":"IF($C51=\"\",\"\",INDEX('Cost Data'!$K:$K,MATCH('Most Critical'!$C51,'Cost Data'!$A:$A,0)))","v":0},{"$f":"IF($C51=\"\",\"\",'Calculate Risk'!$Q44)","v":""}]
[45,null,{"$f":"'Calculate Risk'!$A45","v":"MeRe-2024-1"},{"$f":"IF($C52=\"\",\"\",'Calculate Risk'!$B45)","v":"Meter"},{"$f":"IF($C52=\"\",\"\",'Calculate Risk'!$C45)","v":"Residential "},{"$f":"IF($C52=\"\",\"\",INDEX('Data Collection Sheet'!$D:$D,MATCH('Most Critical'!$C52,'Data Collection Sheet'!$A:$A,0)))","v":0},{"$f":"IF($C52=\"\",\"\",IF(INDEX('Data Collection Sheet'!$E:$E,MATCH('Most Critical'!$C52,'Data Collection Sheet'!$A:$A,0))=\"\",\"\",INDEX('Data Collection Sheet'!$E:$E,MATCH('Most Critical'!$C52,'Data Collection Sheet'!$A:$A,0))))","v":"5/8\" x 3/4\" Meters - Qty 932"},{"$f":"IF($C52=\"\",\"\",INDEX('Consequence of Failure'!$P:$P,MATCH('Most Critical'!$C52,'Consequence of Failure'!$A:$A,0)))","v":0.5},{"$f":"IF($C52=\"\",\"\",INDEX('Data Collection Sheet'!$K:$K,MATCH('Most Critical'!$C52,'Data Collection Sheet'!$A:$A,0)))","v":2039},{"$f":"IF($C52=\"\",\"\",INDEX('Cost Data'!$I:$I,MATCH('Most Critical'!$C52,'Cost Data'!$A:$A,0)))","v":325},{"$f":"IF($C52=\"\",\"\",INDEX('Cost Data'!$K:$K,MATCH('Most Critical'!$C52,'Cost Data'!$A:$A,0)))","v":0},{"$f":"IF($C52=\"\",\"\",'Calculate Risk'!$Q45)","v":""}]
[46,null,{"$f":"'Calculate Risk'!$A46","v":"MeCu-2024-1"},{"$f":"IF($C53=\"\",\"\",'Calculate Risk'!$B46)","v":"Meter"},{"$f":"IF($C53=\"\",\"\",'Calculate Risk'!$C46)","v":"Customer "},{"$f":"IF($C53=\"\",\"\",INDEX('Data Collection Sheet'!$D:$D,MATCH('Most Critical'!$C53,'Data Collection Sheet'!$A:$A,0)))","v":0},{"$f":"IF($C53=\"\",\"\",IF(INDEX('Data Collection Sheet'!$E:$E,MATCH('Most Critical'!$C53,'Data Collection Sheet'!$A:$A,0))=\"\",\"\",INDEX('Data Collection Sheet'!$E:$E,MATCH('Most Critical'!$C53,'Data Collection Sheet'!$A:$A,0))))","v":"Meters - Qty 8"},{"$f":"IF($C53=\"\",\"\",INDEX('Consequence of Failure'!$P:$P,MATCH('Most Critical'!$C53,'Consequence of Failure'!$A:$A,0)))","v":0.5},{"$f":"IF($C53=\"\",\"\",INDEX('Data Collection Sheet'!$K:$K,MATCH('Most Critical'!$C53,'Data Collection Sheet'!$A:$A,0)))","v":2039},{"$f":"IF($C53=\"\",\"\",INDEX('Cost Data'!$I:$I,MATCH('Most Critical'!$C53,'Cost Data'!$A:$A,0)))","v":425},{"$f":"IF($C53=\"\",\"\",INDEX('Cost Data'!$K:$K,MATCH('Most Critical'!$C53,'Cost Data'!$A:$A,0)))","v":0},{"$f":"IF($C53=\"\",\"\",'Calculate Risk'!$Q46)","v":""}]
[47,null,{"$f":"'Calculate Risk'!$A47","v":"VaPr-2024-3"},{"$f":"IF($C54=\"\",\"\",'Calculate Risk'!$B47)","v":"Valve"},{"$f":"IF($C54=\"\",\"\",'Calculate Risk'!$C47)","v":"Pressure Relief (PRV)"},{"$f":"IF($C54=\"\",\"\",INDEX('Data Collection Sheet'!$D:$D,MATCH('Most Critical'!$C54,'Data Collection Sheet'!$A:$A,0)))","v":0},{"$f":"IF($C54=\"\",\"\",IF(INDEX('Data Collection Sheet'!$E:$E,MATCH('Most Critical'!$C54,'Data Collection Sheet'!$A:$A,0))=\"\",\"\",INDEX('Data Collection Sheet'!$E:$E,MATCH('Most Critical'!$C54,'Data Collection Sheet'!$A:$A,0))))","v":"PRV-7"},{"$f":"IF($C54=\"\",\"\",INDEX('Consequence of Failure'!$P:$P,MATCH('Most Critical'!$C54,'Consequence of Failure'!$A:$A,0)))","v":0.5},{"$f":"IF($C54=\"\",\"\",INDEX('Data Collection Sheet'!$K:$K,MATCH('Most Critical'!$C54,'Data Collection Sheet'!$A:$A,0)))","v":2044},{"$f":"IF($C54=\"\",\"\",INDEX('Cost Data'!$I:$I,MATCH('Most Critical'!$C54,'Cost Data'!$A:$A,0)))","v":7500},{"$f":"IF($C54=\"\",\"\",INDEX('Cost Data'!$K:$K,MATCH('Most Critical'!$C54,'Cost Data'!$A:$A,0)))","v":0},{"$f":"IF($C54=\"\",\"\",'Calculate Risk'!$Q47)","v":""}]
[48,null,{"$f":"'Calculate Risk'!$A48","v":"VaGa-2024-6"},{"$f":"IF($C55=\"\",\"\",'Calculate Risk'!$B48)","v":"Valve"},{"$f":"IF($C55=\"\",\"\",'Calculate Risk'!$C48)","v":"Gate "},{"$f":"IF($C55=\"\",\"\",INDEX('Data Collection Sheet'!$D:$D,MATCH('Most Critical'!$C55,'Data Collection Sheet'!$A:$A,0)))","v":"4\""},{"$f":"IF($C55=\"\",\"\",IF(INDEX('Data Collection Sheet'!$E:$E,MATCH('Most Critical'!$C55,'Data Collection Sheet'!$A:$A,0))=\"\",\"\",INDEX('Data Collection Sheet'!$E:$E,MATCH('Most Critical'!$C55,'Data Collection Sheet'!$A:$A,0))))","v":"Qty - 2"},{"$f":"IF($C55=\"\",\"\",INDEX('Consequence of Failure'!$P:$P,MATCH('Most Critical'!$C55,'Consequence of Failure'!$A:$A,0)))","v":0.5},{"$f":"IF($C55=\"\",\"\",INDEX('Data Collection Sheet'!$K:$K,MATCH('Most Critical'!$C55,'Data Collection Sheet'!$A:$A,0)))","v":2044},{"$f":"IF($C55=\"\",\"\",INDEX('Cost Data'!$I:$I,MATCH('Most Critical'!$C55,'Cost Data'!$A:$A,0)))","v":4500},{"$f":"IF($C55=\"\",\"\",INDEX('Cost Data'!$K:$K,MATCH('Most Critical'!$C55,'Cost Data'!$A:$A,0)))","v":0},{"$f":"IF($C55=\"\",\"\",'Calculate Risk'!$Q48)","v":"The PROJECTED COST was calculated using an estimated intial price."}]
[49,null,{"$f":"'Calculate Risk'!$A49","v":"PiPV-2024-4"},{"$f":"IF($C56=\"\",\"\",'Calculate Risk'!$B49)","v":"Pipe"},{"$f":"IF($C56=\"\",\"\",'Calculate Risk'!$C49)","v":"PVC"},{"$f":"IF($C56=\"\",\"\",INDEX('Data Collection Sheet'!$D:$D,MATCH('Most Critical'!$C56,'Data Collection Sheet'!$A:$A,0)))","v":"8\""},{"$f":"IF($C56=\"\",\"\",IF(INDEX('Data Collection Sheet'!$E:$E,MATCH('Most Critical'!$C56,'Data Collection Sheet'!$A:$A,0))=\"\",\"\",INDEX('Data Collection Sheet'!$E:$E,MATCH('Most Critical'!$C56,'Data Collection Sheet'!$A:$A,0))))","v":"HDPE, DR11, 200psi - 4195 linear ft"},{"$f":"IF($C56=\"\",\"\",INDEX('Consequence of Failure'!$P:$P,MATCH('Most Critical'!$C56,'Consequence of Failure'!$A:$A,0)))","v":0.5},{"$f":"IF($C56=\"\",\"\",INDEX('Data Collection Sheet'!$K:$K,MATCH('Most Critical'!$C56,'Data Collection Sheet'!$A:$A,0)))","v":2104},{"$f":"IF($C56=\"\",\"\",INDEX('Cost Data'!$I:$I,MATCH('Most Critical'!$C56,'Cost Data'!$A:$A,0)))","v":39},{"$f":"IF($C56=\"\",\"\",INDEX('Cost Data'!$K:$K,MATCH('Most Critical'!$C56,'Cost Data'!$A:$A,0)))","v":0},{"$f":"IF($C56=\"\",\"\",'Calculate Risk'!$Q49)","v":""}]
[50,null,{"$f":"'Calculate Risk'!$A50","v":"VaGa-2024-7"},{"$f":"IF($C57=\"\",\"\",'Calculate Risk'!$B50)","v":"Valve"},{"$f":"IF($C57=\"\",\"\",'Calculate Risk'!$C50)","v":"Gate "},{"$f":"IF($C57=\"\",\"\",INDEX('Data Collection Sheet'!$D:$D,MATCH('Most Critical'!$C57,'Data Collection Sheet'!$A:$A,0)))","v":"8\""},{"$f":"IF($C57=\"\",\"\",IF(INDEX('Data Collection Sheet'!$E:$E,MATCH('Most Critical'!$C57,'Data Collection Sheet'!$A:$A,0))=\"\",\"\",INDEX('Data Collection Sheet'!$E:$E,MATCH('Most Critical'!$C57,'Data Collection Sheet'!$A:$A,0))))","v":""},{"$f":"IF($C57=\"\",\"\",INDEX('Consequence of Failure'!$P:$P,MATCH('Most Critical'!$C57,'Consequence of Failure'!$A:$A,0)))","v":0.5},{"$f":"IF($C57=\"\",\"\",INDEX('Data Collection Sheet'!$K:$K,MATCH('Most Critical'!$C57,'Data Collection Sheet'!$A:$A,0)))","v":2044},{"$f":"IF($C57=\"\",\"\",INDEX('Cost Data'!$I:$I,MATCH('Most Critical'!$C57,'Cost Data'!$A:$A,0)))","v":4500},{"$f":"IF($C57=\"\",\"\",INDEX('Cost Data'!$K:$K,MATCH('Most Critical'!$C57,'Cost Data'!$A:$A,0)))","v":0},{"$f":"IF($C57=\"\",\"\",'Calculate Risk'!$Q50)","v":""}]
[51,null,{"$f":"'Calculate Risk'!$A51","v":"VaPr-2024-4"},{"$f":"IF($C58=\"\",\"\",'Calculate Risk'!$B51)","v":"Valve"},{"$f":"IF($C58=\"\",\"\",'Calculate Risk'!$C51)","v":"Pressure Relief (PRV)"},{"$f":"IF($C58=\"\",\"\",INDEX('Data Collection Sheet'!$D:$D,MATCH('Most Critical'!$C58,'Data Collection Sheet'!$A:$A,0)))","v":0},{"$f":"IF($C58=\"\",\"\",IF(INDEX('Data Collection Sheet'!$E:$E,MATCH('Most Critical'!$C58,'Data Collection Sheet'!$A:$A,0))=\"\",\"\",INDEX('Data Collection Sheet'!$E:$E,MATCH('Most Critical'!$C58,'Data Collection Sheet'!$A:$A,0))))","v":"PRV-1 thru PRV-6 + PRV-9 - Qty 7"},{"$f":"IF($C58=\"\",\"\",INDEX('Consequence of Failure'!$P:$P,MATCH('Most Critical'!$C58,'Consequence of Failure'!$A:$A,0)))","v":0.5},{"$f":"IF($C58=\"\",\"\",INDEX('Data Collection Sheet'!$K:$K,MATCH('Most Critical'!$C58,'Data Collection Sheet'!$A:$A,0)))","v":2044},{"$f":"IF($C58=\"\",\"\",INDEX('Cost Data'!$I:$I,MATCH('Most Critical'!$C58,'Cost Data'!$A:$A,0)))","v":7500},{"$f":"IF($C58=\"\",\"\",INDEX('Cost Data'!$K:$K,MATCH('Most Critical'!$C58,'Cost Data'!$A:$A,0)))","v":0},{"$f":"IF($C58=\"\",\"\",'Calculate Risk'!$Q51)","v":""}]
[52,null,{"$f":"'Calculate Risk'!$A52","v":"VaGa-2024-8"},{"$f":"IF($C59=\"\",\"\",'Calculate Risk'!$B52)","v":"Valve"},{"$f":"IF($C59=\"\",\"\",'Calculate Risk'!$C52)","v":"Gate "},{"$f":"IF($C59=\"\",\"\",INDEX('Data Collection Sheet'!$D:$D,MATCH('Most Critical'!$C59,'Data Collection Sheet'!$A:$A,0)))","v":"6\""},{"$f":"IF($C59=\"\",\"\",IF(INDEX('Data Collection Sheet'!$E:$E,MATCH('Most Critical'!$C59,'Data Collection Sheet'!$A:$A,0))=\"\",\"\",INDEX('Data Collection Sheet'!$E:$E,MATCH('Most Critical'!$C59,'Data Collection Sheet'!$A:$A,0))))","v":"Gate Valve System"},{"$f":"IF($C59=\"\",\"\",INDEX('Consequence of Failure'!$P:$P,MATCH('Most Critical'!$C59,'Consequence of Failure'!$A:$A,0)))","v":0.5},{"$f":"IF($C59=\"\",\"\",INDEX('Data Collection Sheet'!$K:$K,MATCH('Most Critical'!$C59,'Data Collection Sheet'!$A:$A,0)))","v":2044},{"$f":"IF($C59=\"\",\"\",INDEX('Cost Data'!$I:$I,MATCH('Most Critical'!$C59,'Cost Data'!$A:$A,0)))","v":4500},{"$f":"IF($C59=\"\",\"\",INDEX('Cost Data'!$K:$K,MATCH('Most Critical'!$C59,'Cost Data'!$A:$A,0)))","v":0},{"$f":"IF($C59=\"\",\"\",'Calculate Risk'!$Q52)","v":""}]
[53,null,{"$f":"'Calculate Risk'!$A53","v":"TrFi-2022-2"},{"$f":"IF($C60=\"\",\"\",'Calculate Risk'!$B53)","v":"Treatment"},{"$f":"IF($C60=\"\",\"\",'Calculate Risk'!$C53)","v":"Filtration"},{"$f":"IF($C60=\"\",\"\",INDEX('Data Collection Sheet'!$D:$D,MATCH('Most Critical'!$C60,'Data Collection Sheet'!$A:$A,0)))","v":0},{"$f":"IF($C60=\"\",\"\",IF(INDEX('Data Collection Sheet'!$E:$E,MATCH('Most Critical'!$C60,'Data Collection Sheet'!$A:$A,0))=\"\",\"\",INDEX('Data Collection Sheet'!$E:$E,MATCH('Most Critical'!$C60,'Data Collection Sheet'!$A:$A,0))))","v":"Cascade Aerator"},{"$f":"IF($C60=\"\",\"\",INDEX('Consequence of Failure'!$P:$P,MATCH('Most Critical'!$C60,'Consequence of Failure'!$A:$A,0)))","v":0.25},{"$f":"IF($C60=\"\",\"\",INDEX('Data Collection Sheet'!$K:$K,MATCH('Most Critical'!$C60,'Data Collection Sheet'!$A:$A,0)))","v":2042},{"$f":"IF($C60=\"\",\"\",INDEX('Cost Data'!$I:$I,MATCH('Most Critical'!$C60,'Cost Data'!$A:$A,0)))","v":167515.39199999999},{"$f":"IF($C60=\"\",\"\",INDEX('Cost Data'!$K:$K,MATCH('Most Critical'!$C60,'Cost Data'!$A:$A,0)))","v":0},{"$f":"IF($C60=\"\",\"\",'Calculate Risk'!$Q53)","v":""}]
[54,null,{"$f":"'Calculate Risk'!$A54","v":"PuMe-2022-1"},{"$f":"IF($C61=\"\",\"\",'Calculate Risk'!$B54)","v":"Pump"},{"$f":"IF($C61=\"\",\"\",'Calculate Risk'!$C54)","v":"Metering "},{"$f":"IF($C61=\"\",\"\",INDEX('Data Collection Sheet'!$D:$D,MATCH('Most Critical'!$C61,'Data Collection Sheet'!$A:$A,0)))","v":0},{"$f":"IF($C61=\"\",\"\",IF(INDEX('Data Collection Sheet'!$E:$E,MATCH('Most Critical'!$C61,'Data Collection Sheet'!$A:$A,0))=\"\",\"\",INDEX('Data Collection Sheet'!$E:$E,MATCH('Most Critical'!$C61,'Data Collection Sheet'!$A:$A,0))))","v":"Phosphate Feed Pump"},{"$f":"IF($C61=\"\",\"\",INDEX('Consequence of Failure'!$P:$P,MATCH('Most Critical'!$C61,'Consequence of Failure'!$A:$A,0)))","v":0.25},{"$f":"IF($C61=\"\",\"\",INDEX('Data Collection Sheet'!$K:$K,MATCH('Most Critical'!$C61,'Data Collection Sheet'!$A:$A,0)))","v":2037},{"$f":"IF($C61=\"\",\"\",INDEX('Cost Data'!$I:$I,MATCH('Most Critical'!$C61,'Cost Data'!$A:$A,0)))","v":2737.152},{"$f":"IF($C61=\"\",\"\",INDEX('Cost Data'!$K:$K,MATCH('Most Critical'!$C61,'Cost Data'!$A:$A,0)))","v":0},{"$f":"IF($C61=\"\",\"\",'Calculate Risk'!$Q54)","v":""}]
[55,null,{"$f":"'Calculate Risk'!$A55","v":"PuMe-2022-2"},{"$f":"IF($C62=\"\",\"\",'Calculate Risk'!$B55)","v":"Pump"},{"$f":"IF($C62=\"\",\"\",'Calculate Risk'!$C55)","v":"Metering "},{"$f":"IF($C62=\"\",\"\",INDEX('Data Collection Sheet'!$D:$D,MATCH('Most Critical'!$C62,'Data Collection Sheet'!$A:$A,0)))","v":0},{"$f":"IF($C62=\"\",\"\",IF(INDEX('Data Collection Sheet'!$E:$E,MATCH('Most Critical'!$C62,'Data Collection Sheet'!$A:$A,0))=\"\",\"\",INDEX('Data Collection Sheet'!$E:$E,MATCH('Most Critical'!$C62,'Data Collection Sheet'!$A:$A,0))))","v":"Caustic Feed Pump"},{"$f":"IF($C62=\"\",\"\",INDEX('Consequence of Failure'!$P:$P,MATCH('Most Critical'!$C62,'Consequence of Failure'!$A:$A,0)))","v":0.25},{"$f":"IF($C62=\"\",\"\",INDEX('Data Collection Sheet'!$K:$K,MATCH('Most Critical'!$C62,'Data Collection Sheet'!$A:$A,0)))","v":2037},{"$f":"IF($C62=\"\",\"\",INDEX('Cost Data'!$I:$I,MATCH('Most Critical'!$C62,'Cost Data'!$A:$A,0)))","v":2737.152},{"$f":"IF($C62=\"\",\"\",INDEX('Cost Data'!$K:$K,MATCH('Most Critical'!$C62,'Cost Data'!$A:$A,0)))","v":0},{"$f":"IF($C62=\"\",\"\",'Calculate Risk'!$Q55)","v":""}]
[56,null,{"$f":"'Calculate Risk'!$A56","v":"PuMe-2022-3"},{"$f":"IF($C63=\"\",\"\",'Calculate Risk'!$B56)","v":"Pump"},{"$f":"IF($C63=\"\",\"\",'Calculate Risk'!$C56)","v":"Metering "},{"$f":"IF($C63=\"\",\"\",INDEX('Data Collection Sheet'!$D:$D,MATCH('Most Critical'!$C63,'Data Collection Sheet'!$A:$A,0)))","v":0},{"$f":"IF($C63=\"\",\"\",IF(INDEX('Data Collection Sheet'!$E:$E,MATCH('Most Critical'!$C63,'Data Collection Sheet'!$A:$A,0))=\"\",\"\",INDEX('Data Collection Sheet'!$E:$E,MATCH('Most Critical'!$C63,'Data Collection Sheet'!$A:$A,0))))","v":"Pot Perm Feed Pump"},{"$f":"IF($C63=\"\",\"\",INDEX('Consequence of Failure'!$P:$P,MATCH('Most Critical'!$C63,'Consequence of Failure'!$A:$A,0)))","v":0.25},{"$f":"IF($C63=\"\",\"\",INDEX('Data Collection Sheet'!$K:$K,MATCH('Most Critical'!$C63,'Data Collection Sheet'!$A:$A,0)))","v":2037},{"$f":"IF($C63=\"\",\"\",INDEX('Cost Data'!$I:$I,MATCH('Most Critical'!$C63,'Cost Data'!$A:$A,0)))","v":2737.152},{"$f":"IF($C63=\"\",\"\",INDEX('Cost Data'!$K:$K,MATCH('Most Critical'!$C63,'Cost Data'!$A:$A,0)))","v":0},{"$f":"IF($C63=\"\",\"\",'Calculate Risk'!$Q56)","v":""}]
[57,null,{"$f":"'Calculate Risk'!$A57","v":"MeSo-2022-1"},{"$f":"IF($C64=\"\",\"\",'Calculate Risk'!$B57)","v":"Meter"},{"$f":"IF($C64=\"\",\"\",'Calculate Risk'!$C57)","v":"Source "},{"$f":"IF($C64=\"\",\"\",INDEX('Data Collection Sheet'!$D:$D,MATCH('Most Critical'!$C64,'Data Collection Sheet'!$A:$A,0)))","v":0},{"$f":"IF($C64=\"\",\"\",IF(INDEX('Data Collection Sheet'!$E:$E,MATCH('Most Critical'!$C64,'Data Collection Sheet'!$A:$A,0))=\"\",\"\",INDEX('Data Collection Sheet'!$E:$E,MATCH('Most Critical'!$C64,'Data Collection Sheet'!$A:$A,0))))","v":"Tank Meter Controller"},{"$f":"IF($C64=\"\",\"\",INDEX('Consequence of Failure'!$P:$P,MATCH('Most Critical'!$C64,'Consequence of Failure'!$A:$A,0)))","v":0.25},{"$f":"IF($C64=\"\",\"\",INDEX('Data Collection Sheet'!$K:$K,MATCH('Most Critical'!$C64,'Data Collection Sheet'!$A:$A,0)))","v":2034},{"$f":"IF($C64=\"\",\"\",INDEX('Cost Data'!$I:$I,MATCH('Most Critical'!$C64,'Cost Data'!$A:$A,0)))","v":1976.8320000000001},{"$f":"IF($C64=\"\",\"\",INDEX('Cost Data'!$K:$K,MATCH('Most Critical'!$C64,'Cost Data'!$A:$A,0)))","v":0},{"$f":"IF($C64=\"\",\"\",'Calculate Risk'!$Q57)","v":""}]
[58,null,{"$f":"'Calculate Risk'!$A58","v":"HyFi-2022-1"},{"$f":"IF($C65=\"\",\"\",'Calculate Risk'!$B58)","v":"Hydrant"},{"$f":"IF($C65=\"\",\"\",'Calculate Risk'!$C58)","v":"Fire "},{"$f":"IF($C65=\"\",\"\",INDEX('Data Collection Sheet'!$D:$D,MATCH('Most Critical'!$C65,'Data Collection Sheet'!$A:$A,0)))","v":0},{"$f":"IF($C65=\"\",\"\",IF(INDEX('Data Collection Sheet'!$E:$E,MATCH('Most Critical'!$C65,'Data Collection Sheet'!$A:$A,0))=\"\",\"\",INDEX('Data Collection Sheet'!$E:$E,MATCH('Most Critical'!$C65,'Data Collection Sheet'!$A:$A,0))))","v":"Fire Hydrant"},{"$f":"IF($C65=\"\",\"\",INDEX('Consequence of Failure'!$P:$P,MATCH('Most Critical'!$C65,'Consequence of Failure'!$A:$A,0)))","v":0.25},{"$f":"IF($C65=\"\",\"\",INDEX('Data Collection Sheet'!$K:$K,MATCH('Most Critical'!$C65,'Data Collection Sheet'!$A:$A,0)))","v":2072},{"$f":"IF($C65=\"\",\"\",INDEX('Cost Data'!$I:$I,MATCH('Most Critical'!$C65,'Cost Data'!$A:$A,0)))","v":11683.584000000001},{"$f":"IF($C65=\"\",\"\",INDEX('Cost Data'!$K:$K,MATCH('Most Critical'!$C65,'Cost Data'!$A:$A,0)))","v":0},{"$f":"IF($C65=\"\",\"\",'Calculate Risk'!$Q58)","v":""}]
[59,null,{"$f":"'Calculate Risk'!$A59","v":"PiPV-2024-1"},{"$f":"IF($C66=\"\",\"\",'Calculate Risk'!$B59)","v":"Pipe"},{"$f":"IF($C66=\"\",\"\",'Calculate Risk'!$C59)","v":"PVC"},{"$f":"IF($C66=\"\",\"\",INDEX('Data Collection Sheet'!$D:$D,MATCH('Most Critical'!$C66,'Data Collection Sheet'!$A:$A,0)))","v":"8\""},{"$f":"IF($C66=\"\",\"\",IF(INDEX('Data Collection Sheet'!$E:$E,MATCH('Most Critical'!$C66,'Data Collection Sheet'!$A:$A,0))=\"\",\"\",INDEX('Data Collection Sheet'!$E:$E,MATCH('Most Critical'!$C66,'Data Collection Sheet'!$A:$A,0))))","v":"HDPE, DR11, 200 psi, 4545 linear feet"},{"$f":"IF($C66=\"\",\"\",INDEX('Consequence of Failure'!$P:$P,MATCH('Most Critical'!$C66,'Consequence of Failure'!$A:$A,0)))","v":0.25},{"$f":"IF($C66=\"\",\"\",INDEX('Data Collection Sheet'!$K:$K,MATCH('Most Critical'!$C66,'Data Collection Sheet'!$A:$A,0)))","v":2104},{"$f":"IF($C66=\"\",\"\",INDEX('Cost Data'!$I:$I,MATCH('Most Critical'!$C66,'Cost Data'!$A:$A,0)))","v":31.87},{"$f":"IF($C66=\"\",\"\",INDEX('Cost Data'!$K:$K,MATCH('Most Critical'!$C66,'Cost Data'!$A:$A,0)))","v":0},{"$f":"IF($C66=\"\",\"\",'Calculate Risk'!$Q59)","v":""}]
[60,null,{"$f":"'Calculate Risk'!$A60","v":"PiPV-2024-2"},{"$f":"IF($C67=\"\",\"\",'Calculate Risk'!$B60)","v":"Pipe"},{"$f":"IF($C67=\"\",\"\",'Calculate Risk'!$C60)","v":"PVC"},{"$f":"IF($C67=\"\",\"\",INDEX('Data Collection Sheet'!$D:$D,MATCH('Most Critical'!$C67,'Data Collection Sheet'!$A:$A,0)))","v":"6\""},{"$f":"IF($C67=\"\",\"\",IF(INDEX('Data Collection Sheet'!$E:$E,MATCH('Most Critical'!$C67,'Data Collection Sheet'!$A:$A,0))=\"\",\"\",INDEX('Data Collection Sheet'!$E:$E,MATCH('Most Critical'!$C67,'Data Collection Sheet'!$A:$A,0))))","v":"HDPE, DR11, 200 psi, 4820 linear feet"},{"$f":"IF($C67=\"\",\"\",INDEX('Consequence of Failure'!$P:$P,MATCH('Most Critical'!$C67,'Consequence of Failure'!$A:$A,0)))","v":0.25},{"$f":"IF($C67=\"\",\"\",INDEX('Data Collection Sheet'!$K:$K,MATCH('Most Critical'!$C67,'Data Collection Sheet'!$A:$A,0)))","v":2104},{"$f":"IF($C67=\"\",\"\",INDEX('Cost Data'!$I:$I,MATCH('Most Critical'!$C67,'Cost Data'!$A:$A,0)))","v":21.99},{"$f":"IF($C67=\"\",\"\",INDEX('Cost Data'!$K:$K,MATCH('Most Critical'!$C67,'Cost Data'!$A:$A,0)))","v":0},{"$f":"IF($C67=\"\",\"\",'Calculate Risk'!$Q60)","v":""}]
[61,null,{"$f":"'Calculate Risk'!$A61","v":"PiPV-2024-3"},{"$f":"IF($C68=\"\",\"\",'Calculate Risk'!$B61)","v":"Pipe"},{"$f":"IF($C68=\"\",\"\",'Calculate Risk'!$C61)","v":"PVC"},{"$f":"IF($C68=\"\",\"\",INDEX('Data Collection Sheet'!$D:$D,MATCH('Most Critical'!$C68,'Data Collection Sheet'!$A:$A,0)))","v":"10\""},{"$f":"IF($C68=\"\",\"\",IF(INDEX('Data Collection Sheet'!$E:$E,MATCH('Most Critical'!$C68,'Data Collection Sheet'!$A:$A,0))=\"\",\"\",INDEX('Data Collection Sheet'!$E:$E,MATCH('Most Critical'!$C68,'Data Collection Sheet'!$A:$A,0))))","v":"HDPE, DR11, 200 psi, 10,400 linear feet"},{"$f":"IF($C68=\"\",\"\",INDEX('Consequence of Failure'!$P:$P,MATCH('Most Critical'!$C68,'Consequence of Failure'!$A:$A,0)))","v":0.25},{"$f":"IF($C68=\"\",\"\",INDEX('Data Collection Sheet'!$K:$K,MATCH('Most Critical'!$C68,'Data Collection Sheet'!$A:$A,0)))","v":2104},{"$f":"IF($C68=\"\",\"\",INDEX('Cost Data'!$I:$I,MATCH('Most Critical'!$C68,'Cost Data'!$A:$A,0)))","v":41.75},{"$f":"IF($C68=\"\",\"\",INDEX('Cost Data'!$K:$K,MATCH('Most Critical'!$C68,'Cost Data'!$A:$A,0)))","v":0},{"$f":"IF($C68=\"\",\"\",'Calculate Risk'!$Q61)","v":""}]
[62,null,{"$f":"'Calculate Risk'!$A62","v":"HyFi-2024-1"},{"$f":"IF($C69=\"\",\"\",'Calculate Risk'!$B62)","v":"Hydrant"},{"$f":"IF($C69=\"\",\"\",'Calculate Risk'!$C62)","v":"Fire "},{"$f":"IF($C69=\"\",\"\",INDEX('Data Collection Sheet'!$D:$D,MATCH('Most Critical'!$C69,'Data Collection Sheet'!$A:$A,0)))","v":0},{"$f":"IF($C69=\"\",\"\",IF(INDEX('Data Collection Sheet'!$E:$E,MATCH('Most Critical'!$C69,'Data Collection Sheet'!$A:$A,0))=\"\",\"\",INDEX('Data Collection Sheet'!$E:$E,MATCH('Most Critical'!$C69,'Data Collection Sheet'!$A:$A,0))))","v":"Qty 5 Fire Hydrants"},{"$f":"IF($C69=\"\",\"\",INDEX('Consequence of Failure'!$P:$P,MATCH('Most Critical'!$C69,'Consequence of Failure'!$A:$A,0)))","v":0.25},{"$f":"IF($C69=\"\",\"\",INDEX('Data Collection Sheet'!$K:$K,MATCH('Most Critical'!$C69,'Data Collection Sheet'!$A:$A,0)))","v":2074},{"$f":"IF($C69=\"\",\"\",INDEX('Cost Data'!$I:$I,MATCH('Most Critical'!$C69,'Cost Data'!$A:$A,0)))","v":3000},{"$f":"IF($C69=\"\",\"\",INDEX('Cost Data'!$K:$K,MATCH('Most Critical'!$C69,'Cost Data'!$A:$A,0)))","v":0},{"$f":"IF($C69=\"\",\"\",'Calculate Risk'!$Q62)","v":""}]
[63,null,{"$f":"'Calculate Risk'!$A63","v":"MeMa-2024-1"},{"$f":"IF($C70=\"\",\"\",'Calculate Risk'!$B63)","v":"Meter"},{"$f":"IF($C70=\"\",\"\",'Calculate Risk'!$C63)","v":"Master "},{"$f":"IF($C70=\"\",\"\",INDEX('Data Collection Sheet'!$D:$D,MATCH('Most Critical'!$C70,'Data Collection Sheet'!$A:$A,0)))","v":0},{"$f":"IF($C70=\"\",\"\",IF(INDEX('Data Collection Sheet'!$E:$E,MATCH('Most Critical'!$C70,'Data Collection Sheet'!$A:$A,0))=\"\",\"\",INDEX('Data Collection Sheet'!$E:$E,MATCH('Most Critical'!$C70,'Data Collection Sheet'!$A:$A,0))))","v":"Assembly 1, 2, 9 and 10 - Qty 4"},{"$f":"IF($C70=\"\",\"\",INDEX('Consequence of Failure'!$P:$P,MATCH('Most Critical'!$C70,'Consequence of Failure'!$A:$A,0)))","v":0.25},{"$f":"IF($C70=\"\",\"\",INDEX('Data Collection Sheet'!$K:$K,MATCH('Most Critical'!$C70,'Data Collection Sheet'!$A:$A,0)))","v":2039},{"$f":"IF($C70=\"\",\"\",INDEX('Cost Data'!$I:$I,MATCH('Most Critical'!$C70,'Cost Data'!$A:$A,0)))","v":21000},{"$f":"IF($C70=\"\",\"\",INDEX('Cost Data'!$K:$K,MATCH('Most Critical'!$C70,'Cost Data'!$A:$A,0)))","v":0},{"$f":"IF($C70=\"\",\"\",'Calculate Risk'!$Q63)","v":""}]
[64,null,{"$f":"'Calculate Risk'!$A64","v":"MeMa-2024-2"},{"$f":"IF($C71=\"\",\"\",'Calculate Risk'!$B64)","v":"Meter"},{"$f":"IF($C71=\"\",\"\",'Calculate Risk'!$C64)","v":"Master "},{"$f":"IF($C71=\"\",\"\",INDEX('Data Collection Sheet'!$D:$D,MATCH('Most Critical'!$C71,'Data Collection Sheet'!$A:$A,0)))","v":0},{"$f":"IF($C71=\"\",\"\",IF(INDEX('Data Collection Sheet'!$E:$E,MATCH('Most Critical'!$C71,'Data Collection Sheet'!$A:$A,0))=\"\",\"\",INDEX('Data Collection Sheet'!$E:$E,MATCH('Most Critical'!$C71,'Data Collection Sheet'!$A:$A,0))))","v":"Assembly 3 - Qty 1"},{"$f":"IF($C71=\"\",\"\",INDEX('Consequence of Failure'!$P:$P,MATCH('Most Critical'!$C71,'Consequence of Failure'!$A:$A,0)))","v":0.25},{"$f":"IF($C71=\"\",\"\",INDEX('Data Collection Sheet'!$K:$K,MATCH('Most Critical'!$C71,'Data Collection Sheet'!$A:$A,0)))","v":2039},{"$f":"IF($C71=\"\",\"\",INDEX('Cost Data'!$I:$I,MATCH('Most Critical'!$C71,'Cost Data'!$A:$A,0)))","v":18000},{"$f":"IF($C71=\"\",\"\",INDEX('Cost Data'!$K:$K,MATCH('Most Critical'!$C71,'Cost Data'!$A:$A,0)))","v":0},{"$f":"IF($C71=\"\",\"\",'Calculate Risk'!$Q64)","v":""}]
[65,null,{"$f":"'Calculate Risk'!$A65","v":"MeMa-2024-3"},{"$f":"IF($C72=\"\",\"\",'Calculate Risk'!$B65)","v":"Meter"},{"$f":"IF($C72=\"\",\"\",'Calculate Risk'!$C65)","v":"Master "},{"$f":"IF($C72=\"\",\"\",INDEX('Data Collection Sheet'!$D:$D,MATCH('Most Critical'!$C72,'Data Collection Sheet'!$A:$A,0)))","v":0},{"$f":"IF($C72=\"\",\"\",IF(INDEX('Data Collection Sheet'!$E:$E,MATCH('Most Critical'!$C72,'Data Collection Sheet'!$A:$A,0))=\"\",\"\",INDEX('Data Collection Sheet'!$E:$E,MATCH('Most Critical'!$C72,'Data Collection Sheet'!$A:$A,0))))","v":"Assembly 4 & 6 - Qty 2"},{"$f":"IF($C72=\"\",\"\",INDEX('Consequence of Failure'!$P:$P,MATCH('Most Critical'!$C72,'Consequence of Failure'!$A:$A,0)))","v":0.25},{"$f":"IF($C72=\"\",\"\",INDEX('Data Collection Sheet'!$K:$K,MATCH('Most Critical'!$C72,'Data Collection Sheet'!$A:$A,0)))","v":2039},{"$f":"IF($C72=\"\",\"\",INDEX('Cost Data'!$I:$I,MATCH('Most Critical'!$C72,'Cost Data'!$A:$A,0)))","v":20766.439999999999},{"$f":"IF($C72=\"\",\"\",INDEX('Cost Data'!$K:$K,MATCH('Most Critical'!$C72,'Cost Data'!$A:$A,0)))","v":0},{"$f":"IF($C72=\"\",\"\",'Calculate Risk'!$Q65)","v":""}]
[66,null,{"$f":"'Calculate Risk'!$A66","v":"MeMa-2024-4"},{"$f":"IF($C73=\"\",\"\",'Calculate Risk'!$B66)","v":"Meter"},{"$f":"IF($C73=\"\",\"\",'Calculate Risk'!$C66)","v":"Master "},{"$f":"IF($C73=\"\",\"\",INDEX('Data Collection Sheet'!$D:$D,MATCH('Most Critical'!$C73,'Data Collection Sheet'!$A:$A,0)))","v":0},{"$f":"IF($C73=\"\",\"\",IF(INDEX('Data Collection Sheet'!$E:$E,MATCH('Most Critical'!$C73,'Data Collection Sheet'!$A:$A,0))=\"\",\"\",INDEX('Data Collection Sheet'!$E:$E,MATCH('Most Critical'!$C73,'Data Collection Sheet'!$A:$A,0))))","v":"Assembly 5 & 19 - Qty 2"},{"$f":"IF($C73=\"\",\"\",INDEX('Consequence of Failure'!$P:$P,MATCH('Most Critical'!$C73,'Consequence of Failure'!$A:$A,0)))","v":0.25},{"$f":"IF($C73=\"\",\"\",INDEX('Data Collection Sheet'!$K:$K,MATCH('Most Critical'!$C73,'Data Collection Sheet'!$A:$A,0)))","v":2039},{"$f":"IF($C73=\"\",\"\",INDEX('Cost Data'!$I:$I,MATCH('Most Critical'!$C73,'Cost Data'!$A:$A,0)))","v":20006.03},{"$f":"IF($C73=\"\",\"\",INDEX('Cost Data'!$K:$K,MATCH('Most Critical'!$C73,'Cost Data'!$A:$A,0)))","v":0},{"$f":"IF($C73=\"\",\"\",'Calculate Risk'!$Q66)","v":""}]
[67,null,{"$f":"'Calculate Risk'!$A67","v":"MeMa-2024-5"},{"$f":"IF($C74=\"\",\"\",'Calculate Risk'!$B67)","v":"Meter"},{"$f":"IF($C74=\"\",\"\",'Calculate Risk'!$C67)","v":"Master "},{"$f":"IF($C74=\"\",\"\",INDEX('Data Collection Sheet'!$D:$D,MATCH('Most Critical'!$C74,'Data Collection Sheet'!$A:$A,0)))","v":0},{"$f":"IF($C74=\"\",\"\",IF(INDEX('Data Collection Sheet'!$E:$E,MATCH('Most Critical'!$C74,'Data Collection Sheet'!$A:$A,0))=\"\",\"\",INDEX('Data Collection Sheet'!$E:$E,MATCH('Most Critical'!$C74,'Data Collection Sheet'!$A:$A,0))))","v":"Assembly 7 - Qty 1"},{"$f":"IF($C74=\"\",\"\",INDEX('Consequence of Failure'!$P:$P,MATCH('Most Critical'!$C74,'Consequence of Failure'!$A:$A,0)))","v":0.25},{"$f":"IF($C74=\"\",\"\",INDEX('Data Collection Sheet'!$K:$K,MATCH('Most Critical'!$C74,'Data Collection Sheet'!$A:$A,0)))","v":2039},{"$f":"IF($C74=\"\",\"\",INDEX('Cost Data'!$I:$I,MATCH('Most Critical'!$C74,'Cost Data'!$A:$A,0)))","v":17441.509999999998},{"$f":"IF($C74=\"\",\"\",INDEX('Cost Data'!$K:$K,MATCH('Most Critical'!$C74,'Cost Data'!$A:$A,0)))","v":0},{"$f":"IF($C74=\"\",\"\",'Calculate Risk'!$Q67)","v":""}]
[68,null,{"$f":"'Calculate Risk'!$A68","v":""},{"$f":"IF($C75=\"\",\"\",'Calculate Risk'!$B68)","v":""},{"$f":"IF($C75=\"\",\"\",'Calculate Risk'!$C68)","v":""},{"$f":"IF($C75=\"\",\"\",INDEX('Data Collection Sheet'!$D:$D,MATCH('Most Critical'!$C75,'Data Collection Sheet'!$A:$A,0)))","v":""},{"$f":"IF($C75=\"\",\"\",IF(INDEX('Data Collection Sheet'!$E:$E,MATCH('Most Critical'!$C75,'Data Collection Sheet'!$A:$A,0))=\"\",\"\",INDEX('Data Collection Sheet'!$E:$E,MATCH('Most Critical'!$C75,'Data Collection Sheet'!$A:$A,0))))","v":""},{"$f":"IF($C75=\"\",\"\",INDEX('Consequence of Failure'!$P:$P,MATCH('Most Critical'!$C75,'Consequence of Failure'!$A:$A,0)))","v":""},{"$f":"IF($C75=\"\",\"\",INDEX('Data Collection Sheet'!$K:$K,MATCH('Most Critical'!$C75,'Data Collection Sheet'!$A:$A,0)))","v":""},{"$f":"IF($C75=\"\",\"\",INDEX('Cost Data'!$I:$I,MATCH('Most Critical'!$C75,'Cost Data'!$A:$A,0)))","v":""},{"$f":"IF($C75=\"\",\"\",INDEX('Cost Data'!$K:$K,MATCH('Most Critical'!$C75,'Cost Data'!$A:$A,0)))","v":""},{"$f":"IF($C75=\"\",\"\",'Calculate Risk'!$Q68)","v":""}]
[69,null,{"$f":"'Calculate Risk'!$A69","v":""},{"$f":"IF($C76=\"\",\"\",'Calculate Risk'!$B69)","v":""},{"$f":"IF($C76=\"\",\"\",'Calculate Risk'!$C69)","v":""},{"$f":"IF($C76=\"\",\"\",INDEX('Data Collection Sheet'!$D:$D,MATCH('Most Critical'!$C76,'Data Collection Sheet'!$A:$A,0)))","v":""},{"$f":"IF($C76=\"\",\"\",IF(INDEX('Data Collection Sheet'!$E:$E,MATCH('Most Critical'!$C76,'Data Collection Sheet'!$A:$A,0))=\"\",\"\",INDEX('Data Collection Sheet'!$E:$E,MATCH('Most Critical'!$C76,'Data Collection Sheet'!$A:$A,0))))","v":""},{"$f":"IF($C76=\"\",\"\",INDEX('Consequence of Failure'!$P:$P,MATCH('Most Critical'!$C76,'Consequence of Failure'!$A:$A,0)))","v":""},{"$f":"IF($C76=\"\",\"\",INDEX('Data Collection Sheet'!$K:$K,MATCH('Most Critical'!$C76,'Data Collection Sheet'!$A:$A,0)))","v":""},{"$f":"IF($C76=\"\",\"\",INDEX('Cost Data'!$I:$I,MATCH('Most Critical'!$C76,'Cost Data'!$A:$A,0)))","v":""},{"$f":"IF($C76=\"\",\"\",INDEX('Cost Data'!$K:$K,MATCH('Most Critical'!$C76,'Cost Data'!$A:$A,0)))","v":""},{"$f":"IF($C76=\"\",\"\",'Calculate Risk'!$Q69)","v":""}]
[70,null,{"$f":"'Calculate Risk'!$A70","v":""},{"$f":"IF($C77=\"\",\"\",'Calculate Risk'!$B70)","v":""},{"$f":"IF($C77=\"\",\"\",'Calculate Risk'!$C70)","v":""},{"$f":"IF($C77=\"\",\"\",INDEX('Data Collection Sheet'!$D:$D,MATCH('Most Critical'!$C77,'Data Collection Sheet'!$A:$A,0)))","v":""},{"$f":"IF($C77=\"\",\"\",IF(INDEX('Data Collection Sheet'!$E:$E,MATCH('Most Critical'!$C77,'Data Collection Sheet'!$A:$A,0))=\"\",\"\",INDEX('Data Collection Sheet'!$E:$E,MATCH('Most Critical'!$C77,'Data Collection Sheet'!$A:$A,0))))","v":""},{"$f":"IF($C77=\"\",\"\",INDEX('Consequence of Failure'!$P:$P,MATCH('Most Critical'!$C77,'Consequence of Failure'!$A:$A,0)))","v":""},{"$f":"IF($C77=\"\",\"\",INDEX('Data Collection Sheet'!$K:$K,MATCH('Most Critical'!$C77,'Data Collection Sheet'!$A:$A,0)))","v":""},{"$f":"IF($C77=\"\",\"\",INDEX('Cost Data'!$I:$I,MATCH('Most Critical'!$C77,'Cost Data'!$A:$A,0)))","v":""},{"$f":"IF($C77=\"\",\"\",INDEX('Cost Data'!$K:$K,MATCH('Most Critical'!$C77,'Cost Data'!$A:$A,0)))","v":""},{"$f":"IF($C77=\"\",\"\",'Calculate Risk'!$Q70)","v":""}]
[71,null,{"$f":"'Calculate Risk'!$A71","v":""},{"$f":"IF($C78=\"\",\"\",'Calculate Risk'!$B71)","v":""},{"$f":"IF($C78=\"\",\"\",'Calculate Risk'!$C71)","v":""},{"$f":"IF($C78=\"\",\"\",INDEX('Data Collection Sheet'!$D:$D,MATCH('Most Critical'!$C78,'Data Collection Sheet'!$A:$A,0)))","v":""},{"$f":"IF($C78=\"\",\"\",IF(INDEX('Data Collection Sheet'!$E:$E,MATCH('Most Critical'!$C78,'Data Collection Sheet'!$A:$A,0))=\"\",\"\",INDEX('Data Collection Sheet'!$E:$E,MATCH('Most Critical'!$C78,'Data Collection Sheet'!$A:$A,0))))","v":""},{"$f":"IF($C78=\"\",\"\",INDEX('Consequence of Failure'!$P:$P,MATCH('Most Critical'!$C78,'Consequence of Failure'!$A:$A,0)))","v":""},{"$f":"IF($C78=\"\",\"\",INDEX('Data Collection Sheet'!$K:$K,MATCH('Most Critical'!$C78,'Data Collection Sheet'!$A:$A,0)))","v":""},{"$f":"IF($C78=\"\",\"\",INDEX('Cost Data'!$I:$I,MATCH('Most Critical'!$C78,'Cost Data'!$A:$A,0)))","v":""},{"$f":"IF($C78=\"\",\"\",INDEX('Cost Data'!$K:$K,MATCH('Most Critical'!$C78,'Cost Data'!$A:$A,0)))","v":""},{"$f":"IF($C78=\"\",\"\",'Calculate Risk'!$Q71)","v":""}]
[72,null,{"$f":"'Calculate Risk'!$A72","v":""},{"$f":"IF($C79=\"\",\"\",'Calculate Risk'!$B72)","v":""},{"$f":"IF($C79=\"\",\"\",'Calculate Risk'!$C72)","v":""},{"$f":"IF($C79=\"\",\"\",INDEX('Data Collection Sheet'!$D:$D,MATCH('Most Critical'!$C79,'Data Collection Sheet'!$A:$A,0)))","v":""},{"$f":"IF($C79=\"\",\"\",IF(INDEX('Data Collection Sheet'!$E:$E,MATCH('Most Critical'!$C79,'Data Collection Sheet'!$A:$A,0))=\"\",\"\",INDEX('Data Collection Sheet'!$E:$E,MATCH('Most Critical'!$C79,'Data Collection Sheet'!$A:$A,0))))","v":""},{"$f":"IF($C79=\"\",\"\",INDEX('Consequence of Failure'!$P:$P,MATCH('Most Critical'!$C79,'Consequence of Failure'!$A:$A,0)))","v":""},{"$f":"IF($C79=\"\",\"\",INDEX('Data Collection Sheet'!$K:$K,MATCH('Most Critical'!$C79,'Data Collection Sheet'!$A:$A,0)))","v":""},{"$f":"IF($C79=\"\",\"\",INDEX('Cost Data'!$I:$I,MATCH('Most Critical'!$C79,'Cost Data'!$A:$A,0)))","v":""},{"$f":"IF($C79=\"\",\"\",INDEX('Cost Data'!$K:$K,MATCH('Most Critical'!$C79,'Cost Data'!$A:$A,0)))","v":""},{"$f":"IF($C79=\"\",\"\",'Calculate Risk'!$Q72)","v":""}]
[73,null,{"$f":"'Calculate Risk'!$A73","v":""},{"$f":"IF($C80=\"\",\"\",'Calculate Risk'!$B73)","v":""},{"$f":"IF($C80=\"\",\"\",'Calculate Risk'!$C73)","v":""},{"$f":"IF($C80=\"\",\"\",INDEX('Data Collection Sheet'!$D:$D,MATCH('Most Critical'!$C80,'Data Collection Sheet'!$A:$A,0)))","v":""},{"$f":"IF($C80=\"\",\"\",IF(INDEX('Data Collection Sheet'!$E:$E,MATCH('Most Critical'!$C80,'Data Collection Sheet'!$A:$A,0))=\"\",\"\",INDEX('Data Collection Sheet'!$E:$E,MATCH('Most Critical'!$C80,'Data Collection Sheet'!$A:$A,0))))","v":""},{"$f":"IF($C80=\"\",\"\",INDEX('Consequence of Failure'!$P:$P,MATCH('Most Critical'!$C80,'Consequence of Failure'!$A:$A,0)))","v":""},{"$f":"IF($C80=\"\",\"\",INDEX('Data Collection Sheet'!$K:$K,MATCH('Most Critical'!$C80,'Data Collection Sheet'!$A:$A,0)))","v":""},{"$f":"IF($C80=\"\",\"\",INDEX('Cost Data'!$I:$I,MATCH('Most Critical'!$C80,'Cost Data'!$A:$A,0)))","v":""},{"$f":"IF($C80=\"\",\"\",INDEX('Cost Data'!$K:$K,MATCH('Most Critical'!$C80,'Cost Data'!$A:$A,0)))","v":""},{"$f":"IF($C80=\"\",\"\",'Calculate Risk'!$Q73)","v":""}]
[74,null,{"$f":"'Calculate Risk'!$A74","v":""},{"$f":"IF($C81=\"\",\"\",'Calculate Risk'!$B74)","v":""},{"$f":"IF($C81=\"\",\"\",'Calculate Risk'!$C74)","v":""},{"$f":"IF($C81=\"\",\"\",INDEX('Data Collection Sheet'!$D:$D,MATCH('Most Critical'!$C81,'Data Collection Sheet'!$A:$A,0)))","v":""},{"$f":"IF($C81=\"\",\"\",IF(INDEX('Data Collection Sheet'!$E:$E,MATCH('Most Critical'!$C81,'Data Collection Sheet'!$A:$A,0))=\"\",\"\",INDEX('Data Collection Sheet'!$E:$E,MATCH('Most Critical'!$C81,'Data Collection Sheet'!$A:$A,0))))","v":""},{"$f":"IF($C81=\"\",\"\",INDEX('Consequence of Failure'!$P:$P,MATCH('Most Critical'!$C81,'Consequence of Failure'!$A:$A,0)))","v":""},{"$f":"IF($C81=\"\",\"\",INDEX('Data Collection Sheet'!$K:$K,MATCH('Most Critical'!$C81,'Data Collection Sheet'!$A:$A,0)))","v":""},{"$f":"IF($C81=\"\",\"\",INDEX('Cost Data'!$I:$I,MATCH('Most Critical'!$C81,'Cost Data'!$A:$A,0)))","v":""},{"$f":"IF($C81=\"\",\"\",INDEX('Cost Data'!$K:$K,MATCH('Most Critical'!$C81,'Cost Data'!$A:$A,0)))","v":""},{"$f":"IF($C81=\"\",\"\",'Calculate Risk'!$Q74)","v":""}]
[75,null,{"$f":"'Calculate Risk'!$A75","v":""},{"$f":"IF($C82=\"\",\"\",'Calculate Risk'!$B75)","v":""},{"$f":"IF($C82=\"\",\"\",'Calculate Risk'!$C75)","v":""},{"$f":"IF($C82=\"\",\"\",INDEX('Data Collection Sheet'!$D:$D,MATCH('Most Critical'!$C82,'Data Collection Sheet'!$A:$A,0)))","v":""},{"$f":"IF($C82=\"\",\"\",IF(INDEX('Data Collection Sheet'!$E:$E,MATCH('Most Critical'!$C82,'Data Collection Sheet'!$A:$A,0))=\"\",\"\",INDEX('Data Collection Sheet'!$E:$E,MATCH('Most Critical'!$C82,'Data Collection Sheet'!$A:$A,0))))","v":""},{"$f":"IF($C82=\"\",\"\",INDEX('Consequence of Failure'!$P:$P,MATCH('Most Critical'!$C82,'Consequence of Failure'!$A:$A,0)))","v":""},{"$f":"IF($C82=\"\",\"\",INDEX('Data Collection Sheet'!$K:$K,MATCH('Most Critical'!$C82,'Data Collection Sheet'!$A:$A,0)))","v":""},{"$f":"IF($C82=\"\",\"\",INDEX('Cost Data'!$I:$I,MATCH('Most Critical'!$C82,'Cost Data'!$A:$A,0)))","v":""},{"$f":"IF($C82=\"\",\"\",INDEX('Cost Data'!$K:$K,MATCH('Most Critical'!$C82,'Cost Data'!$A:$A,0)))","v":""},{"$f":"IF($C82=\"\",\"\",'Calculate Risk'!$Q75)","v":""}]
[76,null,{"$f":"'Calculate Risk'!$A76","v":""},{"$f":"IF($C83=\"\",\"\",'Calculate Risk'!$B76)","v":""},{"$f":"IF($C83=\"\",\"\",'Calculate Risk'!$C76)","v":""},{"$f":"IF($C83=\"\",\"\",INDEX('Data Collection Sheet'!$D:$D,MATCH('Most Critical'!$C83,'Data Collection Sheet'!$A:$A,0)))","v":""},{"$f":"IF($C83=\"\",\"\",IF(INDEX('Data Collection Sheet'!$E:$E,MATCH('Most Critical'!$C83,'Data Collection Sheet'!$A:$A,0))=\"\",\"\",INDEX('Data Collection Sheet'!$E:$E,MATCH('Most Critical'!$C83,'Data Collection Sheet'!$A:$A,0))))","v":""},{"$f":"IF($C83=\"\",\"\",INDEX('Consequence of Failure'!$P:$P,MATCH('Most Critical'!$C83,'Consequence of Failure'!$A:$A,0)))","v":""},{"$f":"IF($C83=\"\",\"\",INDEX('Data Collection Sheet'!$K:$K,MATCH('Most Critical'!$C83,'Data Collection Sheet'!$A:$A,0)))","v":""},{"$f":"IF($C83=\"\",\"\",INDEX('Cost Data'!$I:$I,MATCH('Most Critical'!$C83,'Cost Data'!$A:$A,0)))","v":""},{"$f":"IF($C83=\"\",\"\",INDEX('Cost Data'!$K:$K,MATCH('Most Critical'!$C83,'Cost Data'!$A:$A,0)))","v":""},{"$f":"IF($C83=\"\",\"\",'Calculate Risk'!$Q76)","v":""}]
[77,null,{"$f":"'Calculate Risk'!$A77","v":""},{"$f":"IF($C84=\"\",\"\",'Calculate Risk'!$B77)","v":""},{"$f":"IF($C84=\"\",\"\",'Calculate Risk'!$C77)","v":""},{"$f":"IF($C84=\"\",\"\",INDEX('Data Collection Sheet'!$D:$D,MATCH('Most Critical'!$C84,'Data Collection Sheet'!$A:$A,0)))","v":""},{"$f":"IF($C84=\"\",\"\",IF(INDEX('Data Collection Sheet'!$E:$E,MATCH('Most Critical'!$C84,'Data Collection Sheet'!$A:$A,0))=\"\",\"\",INDEX('Data Collection Sheet'!$E:$E,MATCH('Most Critical'!$C84,'Data Collection Sheet'!$A:$A,0))))","v":""},{"$f":"IF($C84=\"\",\"\",INDEX('Consequence of Failure'!$P:$P,MATCH('Most Critical'!$C84,'Consequence of Failure'!$A:$A,0)))","v":""},{"$f":"IF($C84=\"\",\"\",INDEX('Data Collection Sheet'!$K:$K,MATCH('Most Critical'!$C84,'Data Collection Sheet'!$A:$A,0)))","v":""},{"$f":"IF($C84=\"\",\"\",INDEX('Cost Data'!$I:$I,MATCH('Most Critical'!$C84,'Cost Data'!$A:$A,0)))","v":""},{"$f":"IF($C84=\"\",\"\",INDEX('Cost Data'!$K:$K,MATCH('Most Critical'!$C84,'Cost Data'!$A:$A,0)))","v":""},{"$f":"IF($C84=\"\",\"\",'Calculate Risk'!$Q77)","v":""}]
[78,null,{"$f":"'Calculate Risk'!$A78","v":""},{"$f":"IF($C85=\"\",\"\",'Calculate Risk'!$B78)","v":""},{"$f":"IF($C85=\"\",\"\",'Calculate Risk'!$C78)","v":""},{"$f":"IF($C85=\"\",\"\",INDEX('Data Collection Sheet'!$D:$D,MATCH('Most Critical'!$C85,'Data Collection Sheet'!$A:$A,0)))","v":""},{"$f":"IF($C85=\"\",\"\",IF(INDEX('Data Collection Sheet'!$E:$E,MATCH('Most Critical'!$C85,'Data Collection Sheet'!$A:$A,0))=\"\",\"\",INDEX('Data Collection Sheet'!$E:$E,MATCH('Most Critical'!$C85,'Data Collection Sheet'!$A:$A,0))))","v":""},{"$f":"IF($C85=\"\",\"\",INDEX('Consequence of Failure'!$P:$P,MATCH('Most Critical'!$C85,'Consequence of Failure'!$A:$A,0)))","v":""},{"$f":"IF($C85=\"\",\"\",INDEX('Data Collection Sheet'!$K:$K,MATCH('Most Critical'!$C85,'Data Collection Sheet'!$A:$A,0)))","v":""},{"$f":"IF($C85=\"\",\"\",INDEX('Cost Data'!$I:$I,MATCH('Most Critical'!$C85,'Cost Data'!$A:$A,0)))","v":""},{"$f":"IF($C85=\"\",\"\",INDEX('Cost Data'!$K:$K,MATCH('Most Critical'!$C85,'Cost Data'!$A:$A,0)))","v":""},{"$f":"IF($C85=\"\",\"\",'Calculate Risk'!$Q78)","v":""}]
[79,null,{"$f":"'Calculate Risk'!$A79","v":""},{"$f":"IF($C86=\"\",\"\",'Calculate Risk'!$B79)","v":""},{"$f":"IF($C86=\"\",\"\",'Calculate Risk'!$C79)","v":""},{"$f":"IF($C86=\"\",\"\",INDEX('Data Collection Sheet'!$D:$D,MATCH('Most Critical'!$C86,'Data Collection Sheet'!$A:$A,0)))","v":""},{"$f":"IF($C86=\"\",\"\",IF(INDEX('Data Collection Sheet'!$E:$E,MATCH('Most Critical'!$C86,'Data Collection Sheet'!$A:$A,0))=\"\",\"\",INDEX('Data Collection Sheet'!$E:$E,MATCH('Most Critical'!$C86,'Data Collection Sheet'!$A:$A,0))))","v":""},{"$f":"IF($C86=\"\",\"\",INDEX('Consequence of Failure'!$P:$P,MATCH('Most Critical'!$C86,'Consequence of Failure'!$A:$A,0)))","v":""},{"$f":"IF($C86=\"\",\"\",INDEX('Data Collection Sheet'!$K:$K,MATCH('Most Critical'!$C86,'Data Collection Sheet'!$A:$A,0)))","v":""},{"$f":"IF($C86=\"\",\"\",INDEX('Cost Data'!$I:$I,MATCH('Most Critical'!$C86,'Cost Data'!$A:$A,0)))","v":""},{"$f":"IF($C86=\"\",\"\",INDEX('Cost Data'!$K:$K,MATCH('Most Critical'!$C86,'Cost Data'!$A:$A,0)))","v":""},{"$f":"IF($C86=\"\",\"\",'Calculate Risk'!$Q79)","v":""}]
[80,null,{"$f":"'Calculate Risk'!$A80","v":""},{"$f":"IF($C87=\"\",\"\",'Calculate Risk'!$B80)","v":""},{"$f":"IF($C87=\"\",\"\",'Calculate Risk'!$C80)","v":""},{"$f":"IF($C87=\"\",\"\",INDEX('Data Collection Sheet'!$D:$D,MATCH('Most Critical'!$C87,'Data Collection Sheet'!$A:$A,0)))","v":""},{"$f":"IF($C87=\"\",\"\",IF(INDEX('Data Collection Sheet'!$E:$E,MATCH('Most Critical'!$C87,'Data Collection Sheet'!$A:$A,0))=\"\",\"\",INDEX('Data Collection Sheet'!$E:$E,MATCH('Most Critical'!$C87,'Data Collection Sheet'!$A:$A,0))))","v":""},{"$f":"IF($C87=\"\",\"\",INDEX('Consequence of Failure'!$P:$P,MATCH('Most Critical'!$C87,'Consequence of Failure'!$A:$A,0)))","v":""},{"$f":"IF($C87=\"\",\"\",INDEX('Data Collection Sheet'!$K:$K,MATCH('Most Critical'!$C87,'Data Collection Sheet'!$A:$A,0)))","v":""},{"$f":"IF($C87=\"\",\"\",INDEX('Cost Data'!$I:$I,MATCH('Most Critical'!$C87,'Cost Data'!$A:$A,0)))","v":""},{"$f":"IF($C87=\"\",\"\",INDEX('Cost Data'!$K:$K,MATCH('Most Critical'!$C87,'Cost Data'!$A:$A,0)))","v":""},{"$f":"IF($C87=\"\",\"\",'Calculate Risk'!$Q80)","v":""}]
[81,null,{"$f":"'Calculate Risk'!$A81","v":""},{"$f":"IF($C88=\"\",\"\",'Calculate Risk'!$B81)","v":""},{"$f":"IF($C88=\"\",\"\",'Calculate Risk'!$C81)","v":""},{"$f":"IF($C88=\"\",\"\",INDEX('Data Collection Sheet'!$D:$D,MATCH('Most Critical'!$C88,'Data Collection Sheet'!$A:$A,0)))","v":""},{"$f":"IF($C88=\"\",\"\",IF(INDEX('Data Collection Sheet'!$E:$E,MATCH('Most Critical'!$C88,'Data Collection Sheet'!$A:$A,0))=\"\",\"\",INDEX('Data Collection Sheet'!$E:$E,MATCH('Most Critical'!$C88,'Data Collection Sheet'!$A:$A,0))))","v":""},{"$f":"IF($C88=\"\",\"\",INDEX('Consequence of Failure'!$P:$P,MATCH('Most Critical'!$C88,'Consequence of Failure'!$A:$A,0)))","v":""},{"$f":"IF($C88=\"\",\"\",INDEX('Data Collection Sheet'!$K:$K,MATCH('Most Critical'!$C88,'Data Collection Sheet'!$A:$A,0)))","v":""},{"$f":"IF($C88=\"\",\"\",INDEX('Cost Data'!$I:$I,MATCH('Most Critical'!$C88,'Cost Data'!$A:$A,0)))","v":""},{"$f":"IF($C88=\"\",\"\",INDEX('Cost Data'!$K:$K,MATCH('Most Critical'!$C88,'Cost Data'!$A:$A,0)))","v":""},{"$f":"IF($C88=\"\",\"\",'Calculate Risk'!$Q81)","v":""}]
[82,null,{"$f":"'Calculate Risk'!$A82","v":""},{"$f":"IF($C89=\"\",\"\",'Calculate Risk'!$B82)","v":""},{"$f":"IF($C89=\"\",\"\",'Calculate Risk'!$C82)","v":""},{"$f":"IF($C89=\"\",\"\",INDEX('Data Collection Sheet'!$D:$D,MATCH('Most Critical'!$C89,'Data Collection Sheet'!$A:$A,0)))","v":""},{"$f":"IF($C89=\"\",\"\",IF(INDEX('Data Collection Sheet'!$E:$E,MATCH('Most Critical'!$C89,'Data Collection Sheet'!$A:$A,0))=\"\",\"\",INDEX('Data Collection Sheet'!$E:$E,MATCH('Most Critical'!$C89,'Data Collection Sheet'!$A:$A,0))))","v":""},{"$f":"IF($C89=\"\",\"\",INDEX('Consequence of Failure'!$P:$P,MATCH('Most Critical'!$C89,'Consequence of Failure'!$A:$A,0)))","v":""},{"$f":"IF($C89=\"\",\"\",INDEX('Data Collection Sheet'!$K:$K,MATCH('Most Critical'!$C89,'Data Collection Sheet'!$A:$A,0)))","v":""},{"$f":"IF($C89=\"\",\"\",INDEX('Cost Data'!$I:$I,MATCH('Most Critical'!$C89,'Cost Data'!$A:$A,0)))","v":""},{"$f":"IF($C89=\"\",\"\",INDEX('Cost Data'!$K:$K,MATCH('Most Critical'!$C89,'Cost Data'!$A:$A,0)))","v":""},{"$f":"IF($C89=\"\",\"\",'Calculate Risk'!$Q82)","v":""}]
[83,null,{"$f":"'Calculate Risk'!$A83","v":""},{"$f":"IF($C90=\"\",\"\",'Calculate Risk'!$B83)","v":""},{"$f":"IF($C90=\"\",\"\",'Calculate Risk'!$C83)","v":""},{"$f":"IF($C90=\"\",\"\",INDEX('Data Collection Sheet'!$D:$D,MATCH('Most Critical'!$C90,'Data Collection Sheet'!$A:$A,0)))","v":""},{"$f":"IF($C90=\"\",\"\",IF(INDEX('Data Collection Sheet'!$E:$E,MATCH('Most Critical'!$C90,'Data Collection Sheet'!$A:$A,0))=\"\",\"\",INDEX('Data Collection Sheet'!$E:$E,MATCH('Most Critical'!$C90,'Data Collection Sheet'!$A:$A,0))))","v":""},{"$f":"IF($C90=\"\",\"\",INDEX('Consequence of Failure'!$P:$P,MATCH('Most Critical'!$C90,'Consequence of Failure'!$A:$A,0)))","v":""},{"$f":"IF($C90=\"\",\"\",INDEX('Data Collection Sheet'!$K:$K,MATCH('Most Critical'!$C90,'Data Collection Sheet'!$A:$A,0)))","v":""},{"$f":"IF($C90=\"\",\"\",INDEX('Cost Data'!$I:$I,MATCH('Most Critical'!$C90,'Cost Data'!$A:$A,0)))","v":""},{"$f":"IF($C90=\"\",\"\",INDEX('Cost Data'!$K:$K,MATCH('Most Critical'!$C90,'Cost Data'!$A:$A,0)))","v":""},{"$f":"IF($C90=\"\",\"\",'Calculate Risk'!$Q83)","v":""}]
[84,null,{"$f":"'Calculate Risk'!$A84","v":""},{"$f":"IF($C91=\"\",\"\",'Calculate Risk'!$B84)","v":""},{"$f":"IF($C91=\"\",\"\",'Calculate Risk'!$C84)","v":""},{"$f":"IF($C91=\"\",\"\",INDEX('Data Collection Sheet'!$D:$D,MATCH('Most Critical'!$C91,'Data Collection Sheet'!$A:$A,0)))","v":""},{"$f":"IF($C91=\"\",\"\",IF(INDEX('Data Collection Sheet'!$E:$E,MATCH('Most Critical'!$C91,'Data Collection Sheet'!$A:$A,0))=\"\",\"\",INDEX('Data Collection Sheet'!$E:$E,MATCH('Most Critical'!$C91,'Data Collection Sheet'!$A:$A,0))))","v":""},{"$f":"IF($C91=\"\",\"\",INDEX('Consequence of Failure'!$P:$P,MATCH('Most Critical'!$C91,'Consequence of Failure'!$A:$A,0)))","v":""},{"$f":"IF($C91=\"\",\"\",INDEX('Data Collection Sheet'!$K:$K,MATCH('Most Critical'!$C91,'Data Collection Sheet'!$A:$A,0)))","v":""},{"$f":"IF($C91=\"\",\"\",INDEX('Cost Data'!$I:$I,MATCH('Most Critical'!$C91,'Cost Data'!$A:$A,0)))","v":""},{"$f":"IF($C91=\"\",\"\",INDEX('Cost Data'!$K:$K,MATCH('Most Critical'!$C91,'Cost Data'!$A:$A,0)))","v":""},{"$f":"IF($C91=\"\",\"\",'Calculate Risk'!$Q84)","v":""}]
[85,null,{"$f":"'Calculate Risk'!$A85","v":""},{"$f":"IF($C92=\"\",\"\",'Calculate Risk'!$B85)","v":""},{"$f":"IF($C92=\"\",\"\",'Calculate Risk'!$C85)","v":""},{"$f":"IF($C92=\"\",\"\",INDEX('Data Collection Sheet'!$D:$D,MATCH('Most Critical'!$C92,'Data Collection Sheet'!$A:$A,0)))","v":""},{"$f":"IF($C92=\"\",\"\",IF(INDEX('Data Collection Sheet'!$E:$E,MATCH('Most Critical'!$C92,'Data Collection Sheet'!$A:$A,0))=\"\",\"\",INDEX('Data Collection Sheet'!$E:$E,MATCH('Most Critical'!$C92,'Data Collection Sheet'!$A:$A,0))))","v":""},{"$f":"IF($C92=\"\",\"\",INDEX('Consequence of Failure'!$P:$P,MATCH('Most Critical'!$C92,'Consequence of Failure'!$A:$A,0)))","v":""},{"$f":"IF($C92=\"\",\"\",INDEX('Data Collection Sheet'!$K:$K,MATCH('Most Critical'!$C92,'Data Collection Sheet'!$A:$A,0)))","v":""},{"$f":"IF($C92=\"\",\"\",INDEX('Cost Data'!$I:$I,MATCH('Most Critical'!$C92,'Cost Data'!$A:$A,0)))","v":""},{"$f":"IF($C92=\"\",\"\",INDEX('Cost Data'!$K:$K,MATCH('Most Critical'!$C92,'Cost Data'!$A:$A,0)))","v":""},{"$f":"IF($C92=\"\",\"\",'Calculate Risk'!$Q85)","v":""}]
[86,null,{"$f":"'Calculate Risk'!$A86","v":""},{"$f":"IF($C93=\"\",\"\",'Calculate Risk'!$B86)","v":""},{"$f":"IF($C93=\"\",\"\",'Calculate Risk'!$C86)","v":""},{"$f":"IF($C93=\"\",\"\",INDEX('Data Collection Sheet'!$D:$D,MATCH('Most Critical'!$C93,'Data Collection Sheet'!$A:$A,0)))","v":""},{"$f":"IF($C93=\"\",\"\",IF(INDEX('Data Collection Sheet'!$E:$E,MATCH('Most Critical'!$C93,'Data Collection Sheet'!$A:$A,0))=\"\",\"\",INDEX('Data Collection Sheet'!$E:$E,MATCH('Most Critical'!$C93,'Data Collection Sheet'!$A:$A,0))))","v":""},{"$f":"IF($C93=\"\",\"\",INDEX('Consequence of Failure'!$P:$P,MATCH('Most Critical'!$C93,'Consequence of Failure'!$A:$A,0)))","v":""},{"$f":"IF($C93=\"\",\"\",INDEX('Data Collection Sheet'!$K:$K,MATCH('Most Critical'!$C93,'Data Collection Sheet'!$A:$A,0)))","v":""},{"$f":"IF($C93=\"\",\"\",INDEX('Cost Data'!$I:$I,MATCH('Most Critical'!$C93,'Cost Data'!$A:$A,0)))","v":""},{"$f":"IF($C93=\"\",\"\",INDEX('Cost Data'!$K:$K,MATCH('Most Critical'!$C93,'Cost Data'!$A:$A,0)))","v":""},{"$f":"IF($C93=\"\",\"\",'Calculate Risk'!$Q86)","v":""}]
[87,null,{"$f":"'Calculate Risk'!$A87","v":""},{"$f":"IF($C94=\"\",\"\",'Calculate Risk'!$B87)","v":""},{"$f":"IF($C94=\"\",\"\",'Calculate Risk'!$C87)","v":""},{"$f":"IF($C94=\"\",\"\",INDEX('Data Collection Sheet'!$D:$D,MATCH('Most Critical'!$C94,'Data Collection Sheet'!$A:$A,0)))","v":""},{"$f":"IF($C94=\"\",\"\",IF(INDEX('Data Collection Sheet'!$E:$E,MATCH('Most Critical'!$C94,'Data Collection Sheet'!$A:$A,0))=\"\",\"\",INDEX('Data Collection Sheet'!$E:$E,MATCH('Most Critical'!$C94,'Data Collection Sheet'!$A:$A,0))))","v":""},{"$f":"IF($C94=\"\",\"\",INDEX('Consequence of Failure'!$P:$P,MATCH('Most Critical'!$C94,'Consequence of Failure'!$A:$A,0)))","v":""},{"$f":"IF($C94=\"\",\"\",INDEX('Data Collection Sheet'!$K:$K,MATCH('Most Critical'!$C94,'Data Collection Sheet'!$A:$A,0)))","v":""},{"$f":"IF($C94=\"\",\"\",INDEX('Cost Data'!$I:$I,MATCH('Most Critical'!$C94,'Cost Data'!$A:$A,0)))","v":""},{"$f":"IF($C94=\"\",\"\",INDEX('Cost Data'!$K:$K,MATCH('Most Critical'!$C94,'Cost Data'!$A:$A,0)))","v":""},{"$f":"IF($C94=\"\",\"\",'Calculate Risk'!$Q87)","v":""}]
[88,null,{"$f":"'Calculate Risk'!$A88","v":""},{"$f":"IF($C95=\"\",\"\",'Calculate Risk'!$B88)","v":""},{"$f":"IF($C95=\"\",\"\",'Calculate Risk'!$C88)","v":""},{"$f":"IF($C95=\"\",\"\",INDEX('Data Collection Sheet'!$D:$D,MATCH('Most Critical'!$C95,'Data Collection Sheet'!$A:$A,0)))","v":""},{"$f":"IF($C95=\"\",\"\",IF(INDEX('Data Collection Sheet'!$E:$E,MATCH('Most Critical'!$C95,'Data Collection Sheet'!$A:$A,0))=\"\",\"\",INDEX('Data Collection Sheet'!$E:$E,MATCH('Most Critical'!$C95,'Data Collection Sheet'!$A:$A,0))))","v":""},{"$f":"IF($C95=\"\",\"\",INDEX('Consequence of Failure'!$P:$P,MATCH('Most Critical'!$C95,'Consequence of Failure'!$A:$A,0)))","v":""},{"$f":"IF($C95=\"\",\"\",INDEX('Data Collection Sheet'!$K:$K,MATCH('Most Critical'!$C95,'Data Collection Sheet'!$A:$A,0)))","v":""},{"$f":"IF($C95=\"\",\"\",INDEX('Cost Data'!$I:$I,MATCH('Most Critical'!$C95,'Cost Data'!$A:$A,0)))","v":""},{"$f":"IF($C95=\"\",\"\",INDEX('Cost Data'!$K:$K,MATCH('Most Critical'!$C95,'Cost Data'!$A:$A,0)))","v":""},{"$f":"IF($C95=\"\",\"\",'Calculate Risk'!$Q88)","v":""}]
[89,null,{"$f":"'Calculate Risk'!$A89","v":""},{"$f":"IF($C96=\"\",\"\",'Calculate Risk'!$B89)","v":""},{"$f":"IF($C96=\"\",\"\",'Calculate Risk'!$C89)","v":""},{"$f":"IF($C96=\"\",\"\",INDEX('Data Collection Sheet'!$D:$D,MATCH('Most Critical'!$C96,'Data Collection Sheet'!$A:$A,0)))","v":""},{"$f":"IF($C96=\"\",\"\",IF(INDEX('Data Collection Sheet'!$E:$E,MATCH('Most Critical'!$C96,'Data Collection Sheet'!$A:$A,0))=\"\",\"\",INDEX('Data Collection Sheet'!$E:$E,MATCH('Most Critical'!$C96,'Data Collection Sheet'!$A:$A,0))))","v":""},{"$f":"IF($C96=\"\",\"\",INDEX('Consequence of Failure'!$P:$P,MATCH('Most Critical'!$C96,'Consequence of Failure'!$A:$A,0)))","v":""},{"$f":"IF($C96=\"\",\"\",INDEX('Data Collection Sheet'!$K:$K,MATCH('Most Critical'!$C96,'Data Collection Sheet'!$A:$A,0)))","v":""},{"$f":"IF($C96=\"\",\"\",INDEX('Cost Data'!$I:$I,MATCH('Most Critical'!$C96,'Cost Data'!$A:$A,0)))","v":""},{"$f":"IF($C96=\"\",\"\",INDEX('Cost Data'!$K:$K,MATCH('Most Critical'!$C96,'Cost Data'!$A:$A,0)))","v":""},{"$f":"IF($C96=\"\",\"\",'Calculate Risk'!$Q89)","v":""}]
[90,null,{"$f":"'Calculate Risk'!$A90","v":""},{"$f":"IF($C97=\"\",\"\",'Calculate Risk'!$B90)","v":""},{"$f":"IF($C97=\"\",\"\",'Calculate Risk'!$C90)","v":""},{"$f":"IF($C97=\"\",\"\",INDEX('Data Collection Sheet'!$D:$D,MATCH('Most Critical'!$C97,'Data Collection Sheet'!$A:$A,0)))","v":""},{"$f":"IF($C97=\"\",\"\",IF(INDEX('Data Collection Sheet'!$E:$E,MATCH('Most Critical'!$C97,'Data Collection Sheet'!$A:$A,0))=\"\",\"\",INDEX('Data Collection Sheet'!$E:$E,MATCH('Most Critical'!$C97,'Data Collection Sheet'!$A:$A,0))))","v":""},{"$f":"IF($C97=\"\",\"\",INDEX('Consequence of Failure'!$P:$P,MATCH('Most Critical'!$C97,'Consequence of Failure'!$A:$A,0)))","v":""},{"$f":"IF($C97=\"\",\"\",INDEX('Data Collection Sheet'!$K:$K,MATCH('Most Critical'!$C97,'Data Collection Sheet'!$A:$A,0)))","v":""},{"$f":"IF($C97=\"\",\"\",INDEX('Cost Data'!$I:$I,MATCH('Most Critical'!$C97,'Cost Data'!$A:$A,0)))","v":""},{"$f":"IF($C97=\"\",\"\",INDEX('Cost Data'!$K:$K,MATCH('Most Critical'!$C97,'Cost Data'!$A:$A,0)))","v":""},{"$f":"IF($C97=\"\",\"\",'Calculate Risk'!$Q90)","v":""}]
[91,null,{"$f":"'Calculate Risk'!$A91","v":""},{"$f":"IF($C98=\"\",\"\",'Calculate Risk'!$B91)","v":""},{"$f":"IF($C98=\"\",\"\",'Calculate Risk'!$C91)","v":""},{"$f":"IF($C98=\"\",\"\",INDEX('Data Collection Sheet'!$D:$D,MATCH('Most Critical'!$C98,'Data Collection Sheet'!$A:$A,0)))","v":""},{"$f":"IF($C98=\"\",\"\",IF(INDEX('Data Collection Sheet'!$E:$E,MATCH('Most Critical'!$C98,'Data Collection Sheet'!$A:$A,0))=\"\",\"\",INDEX('Data Collection Sheet'!$E:$E,MATCH('Most Critical'!$C98,'Data Collection Sheet'!$A:$A,0))))","v":""},{"$f":"IF($C98=\"\",\"\",INDEX('Consequence of Failure'!$P:$P,MATCH('Most Critical'!$C98,'Consequence of Failure'!$A:$A,0)))","v":""},{"$f":"IF($C98=\"\",\"\",INDEX('Data Collection Sheet'!$K:$K,MATCH('Most Critical'!$C98,'Data Collection Sheet'!$A:$A,0)))","v":""},{"$f":"IF($C98=\"\",\"\",INDEX('Cost Data'!$I:$I,MATCH('Most Critical'!$C98,'Cost Data'!$A:$A,0)))","v":""},{"$f":"IF($C98=\"\",\"\",INDEX('Cost Data'!$K:$K,MATCH('Most Critical'!$C98,'Cost Data'!$A:$A,0)))","v":""},{"$f":"IF($C98=\"\",\"\",'Calculate Risk'!$Q91)","v":""}]
[92,null,{"$f":"'Calculate Risk'!$A92","v":""},{"$f":"IF($C99=\"\",\"\",'Calculate Risk'!$B92)","v":""},{"$f":"IF($C99=\"\",\"\",'Calculate Risk'!$C92)","v":""},{"$f":"IF($C99=\"\",\"\",INDEX('Data Collection Sheet'!$D:$D,MATCH('Most Critical'!$C99,'Data Collection Sheet'!$A:$A,0)))","v":""},{"$f":"IF($C99=\"\",\"\",IF(INDEX('Data Collection Sheet'!$E:$E,MATCH('Most Critical'!$C99,'Data Collection Sheet'!$A:$A,0))=\"\",\"\",INDEX('Data Collection Sheet'!$E:$E,MATCH('Most Critical'!$C99,'Data Collection Sheet'!$A:$A,0))))","v":""},{"$f":"IF($C99=\"\",\"\",INDEX('Consequence of Failure'!$P:$P,MATCH('Most Critical'!$C99,'Consequence of Failure'!$A:$A,0)))","v":""},{"$f":"IF($C99=\"\",\"\",INDEX('Data Collection Sheet'!$K:$K,MATCH('Most Critical'!$C99,'Data Collection Sheet'!$A:$A,0)))","v":""},{"$f":"IF($C99=\"\",\"\",INDEX('Cost Data'!$I:$I,MATCH('Most Critical'!$C99,'Cost Data'!$A:$A,0)))","v":""},{"$f":"IF($C99=\"\",\"\",INDEX('Cost Data'!$K:$K,MATCH('Most Critical'!$C99,'Cost Data'!$A:$A,0)))","v":""},{"$f":"IF($C99=\"\",\"\",'Calculate Risk'!$Q92)","v":""}]
[93,null,{"$f":"'Calculate Risk'!$A93","v":""},{"$f":"IF($C100=\"\",\"\",'Calculate Risk'!$B93)","v":""},{"$f":"IF($C100=\"\",\"\",'Calculate Risk'!$C93)","v":""},{"$f":"IF($C100=\"\",\"\",INDEX('Data Collection Sheet'!$D:$D,MATCH('Most Critical'!$C100,'Data Collection Sheet'!$A:$A,0)))","v":""},{"$f":"IF($C100=\"\",\"\",IF(INDEX('Data Collection Sheet'!$E:$E,MATCH('Most Critical'!$C100,'Data Collection Sheet'!$A:$A,0))=\"\",\"\",INDEX('Data Collection Sheet'!$E:$E,MATCH('Most Critical'!$C100,'Data Collection Sheet'!$A:$A,0))))","v":""},{"$f":"IF($C100=\"\",\"\",INDEX('Consequence of Failure'!$P:$P,MATCH('Most Critical'!$C100,'Consequence of Failure'!$A:$A,0)))","v":""},{"$f":"IF($C100=\"\",\"\",INDEX('Data Collection Sheet'!$K:$K,MATCH('Most Critical'!$C100,'Data Collection Sheet'!$A:$A,0)))","v":""},{"$f":"IF($C100=\"\",\"\",INDEX('Cost Data'!$I:$I,MATCH('Most Critical'!$C100,'Cost Data'!$A:$A,0)))","v":""},{"$f":"IF($C100=\"\",\"\",INDEX('Cost Data'!$K:$K,MATCH('Most Critical'!$C100,'Cost Data'!$A:$A,0)))","v":""},{"$f":"IF($C100=\"\",\"\",'Calculate Risk'!$Q93)","v":""}]
[94,null,{"$f":"'Calculate Risk'!$A94","v":""},{"$f":"IF($C101=\"\",\"\",'Calculate Risk'!$B94)","v":""},{"$f":"IF($C101=\"\",\"\",'Calculate Risk'!$C94)","v":""},{"$f":"IF($C101=\"\",\"\",INDEX('Data Collection Sheet'!$D:$D,MATCH('Most Critical'!$C101,'Data Collection Sheet'!$A:$A,0)))","v":""},{"$f":"IF($C101=\"\",\"\",IF(INDEX('Data Collection Sheet'!$E:$E,MATCH('Most Critical'!$C101,'Data Collection Sheet'!$A:$A,0))=\"\",\"\",INDEX('Data Collection Sheet'!$E:$E,MATCH('Most Critical'!$C101,'Data Collection Sheet'!$A:$A,0))))","v":""},{"$f":"IF($C101=\"\",\"\",INDEX('Consequence of Failure'!$P:$P,MATCH('Most Critical'!$C101,'Consequence of Failure'!$A:$A,0)))","v":""},{"$f":"IF($C101=\"\",\"\",INDEX('Data Collection Sheet'!$K:$K,MATCH('Most Critical'!$C101,'Data Collection Sheet'!$A:$A,0)))","v":""},{"$f":"IF($C101=\"\",\"\",INDEX('Cost Data'!$I:$I,MATCH('Most Critical'!$C101,'Cost Data'!$A:$A,0)))","v":""},{"$f":"IF($C101=\"\",\"\",INDEX('Cost Data'!$K:$K,MATCH('Most Critical'!$C101,'Cost Data'!$A:$A,0)))","v":""},{"$f":"IF($C101=\"\",\"\",'Calculate Risk'!$Q94)","v":""}]
[95,null,{"$f":"'Calculate Risk'!$A95","v":""},{"$f":"IF($C102=\"\",\"\",'Calculate Risk'!$B95)","v":""},{"$f":"IF($C102=\"\",\"\",'Calculate Risk'!$C95)","v":""},{"$f":"IF($C102=\"\",\"\",INDEX('Data Collection Sheet'!$D:$D,MATCH('Most Critical'!$C102,'Data Collection Sheet'!$A:$A,0)))","v":""},{"$f":"IF($C102=\"\",\"\",IF(INDEX('Data Collection Sheet'!$E:$E,MATCH('Most Critical'!$C102,'Data Collection Sheet'!$A:$A,0))=\"\",\"\",INDEX('Data Collection Sheet'!$E:$E,MATCH('Most Critical'!$C102,'Data Collection Sheet'!$A:$A,0))))","v":""},{"$f":"IF($C102=\"\",\"\",INDEX('Consequence of Failure'!$P:$P,MATCH('Most Critical'!$C102,'Consequence of Failure'!$A:$A,0)))","v":""},{"$f":"IF($C102=\"\",\"\",INDEX('Data Collection Sheet'!$K:$K,MATCH('Most Critical'!$C102,'Data Collection Sheet'!$A:$A,0)))","v":""},{"$f":"IF($C102=\"\",\"\",INDEX('Cost Data'!$I:$I,MATCH('Most Critical'!$C102,'Cost Data'!$A:$A,0)))","v":""},{"$f":"IF($C102=\"\",\"\",INDEX('Cost Data'!$K:$K,MATCH('Most Critical'!$C102,'Cost Data'!$A:$A,0)))","v":""},{"$f":"IF($C102=\"\",\"\",'Calculate Risk'!$Q95)","v":""}]
[96,null,{"$f":"'Calculate Risk'!$A96","v":""},{"$f":"IF($C103=\"\",\"\",'Calculate Risk'!$B96)","v":""},{"$f":"IF($C103=\"\",\"\",'Calculate Risk'!$C96)","v":""},{"$f":"IF($C103=\"\",\"\",INDEX('Data Collection Sheet'!$D:$D,MATCH('Most Critical'!$C103,'Data Collection Sheet'!$A:$A,0)))","v":""},{"$f":"IF($C103=\"\",\"\",IF(INDEX('Data Collection Sheet'!$E:$E,MATCH('Most Critical'!$C103,'Data Collection Sheet'!$A:$A,0))=\"\",\"\",INDEX('Data Collection Sheet'!$E:$E,MATCH('Most Critical'!$C103,'Data Collection Sheet'!$A:$A,0))))","v":""},{"$f":"IF($C103=\"\",\"\",INDEX('Consequence of Failure'!$P:$P,MATCH('Most Critical'!$C103,'Consequence of Failure'!$A:$A,0)))","v":""},{"$f":"IF($C103=\"\",\"\",INDEX('Data Collection Sheet'!$K:$K,MATCH('Most Critical'!$C103,'Data Collection Sheet'!$A:$A,0)))","v":""},{"$f":"IF($C103=\"\",\"\",INDEX('Cost Data'!$I:$I,MATCH('Most Critical'!$C103,'Cost Data'!$A:$A,0)))","v":""},{"$f":"IF($C103=\"\",\"\",INDEX('Cost Data'!$K:$K,MATCH('Most Critical'!$C103,'Cost Data'!$A:$A,0)))","v":""},{"$f":"IF($C103=\"\",\"\",'Calculate Risk'!$Q96)","v":""}]
[97,null,{"$f":"'Calculate Risk'!$A97","v":""},{"$f":"IF($C104=\"\",\"\",'Calculate Risk'!$B97)","v":""},{"$f":"IF($C104=\"\",\"\",'Calculate Risk'!$C97)","v":""},{"$f":"IF($C104=\"\",\"\",INDEX('Data Collection Sheet'!$D:$D,MATCH('Most Critical'!$C104,'Data Collection Sheet'!$A:$A,0)))","v":""},{"$f":"IF($C104=\"\",\"\",IF(INDEX('Data Collection Sheet'!$E:$E,MATCH('Most Critical'!$C104,'Data Collection Sheet'!$A:$A,0))=\"\",\"\",INDEX('Data Collection Sheet'!$E:$E,MATCH('Most Critical'!$C104,'Data Collection Sheet'!$A:$A,0))))","v":""},{"$f":"IF($C104=\"\",\"\",INDEX('Consequence of Failure'!$P:$P,MATCH('Most Critical'!$C104,'Consequence of Failure'!$A:$A,0)))","v":""},{"$f":"IF($C104=\"\",\"\",INDEX('Data Collection Sheet'!$K:$K,MATCH('Most Critical'!$C104,'Data Collection Sheet'!$A:$A,0)))","v":""},{"$f":"IF($C104=\"\",\"\",INDEX('Cost Data'!$I:$I,MATCH('Most Critical'!$C104,'Cost Data'!$A:$A,0)))","v":""},{"$f":"IF($C104=\"\",\"\",INDEX('Cost Data'!$K:$K,MATCH('Most Critical'!$C104,'Cost Data'!$A:$A,0)))","v":""},{"$f":"IF($C104=\"\",\"\",'Calculate Risk'!$Q97)","v":""}]
[98,null,{"$f":"'Calculate Risk'!$A98","v":""},{"$f":"IF($C105=\"\",\"\",'Calculate Risk'!$B98)","v":""},{"$f":"IF($C105=\"\",\"\",'Calculate Risk'!$C98)","v":""},{"$f":"IF($C105=\"\",\"\",INDEX('Data Collection Sheet'!$D:$D,MATCH('Most Critical'!$C105,'Data Collection Sheet'!$A:$A,0)))","v":""},{"$f":"IF($C105=\"\",\"\",IF(INDEX('Data Collection Sheet'!$E:$E,MATCH('Most Critical'!$C105,'Data Collection Sheet'!$A:$A,0))=\"\",\"\",INDEX('Data Collection Sheet'!$E:$E,MATCH('Most Critical'!$C105,'Data Collection Sheet'!$A:$A,0))))","v":""},{"$f":"IF($C105=\"\",\"\",INDEX('Consequence of Failure'!$P:$P,MATCH('Most Critical'!$C105,'Consequence of Failure'!$A:$A,0)))","v":""},{"$f":"IF($C105=\"\",\"\",INDEX('Data Collection Sheet'!$K:$K,MATCH('Most Critical'!$C105,'Data Collection Sheet'!$A:$A,0)))","v":""},{"$f":"IF($C105=\"\",\"\",INDEX('Cost Data'!$I:$I,MATCH('Most Critical'!$C105,'Cost Data'!$A:$A,0)))","v":""},{"$f":"IF($C105=\"\",\"\",INDEX('Cost Data'!$K:$K,MATCH('Most Critical'!$C105,'Cost Data'!$A:$A,0)))","v":""},{"$f":"IF($C105=\"\",\"\",'Calculate Risk'!$Q98)","v":""}]
[99,null,{"$f":"'Calculate Risk'!$A99","v":""},{"$f":"IF($C106=\"\",\"\",'Calculate Risk'!$B99)","v":""},{"$f":"IF($C106=\"\",\"\",'Calculate Risk'!$C99)","v":""},{"$f":"IF($C106=\"\",\"\",INDEX('Data Collection Sheet'!$D:$D,MATCH('Most Critical'!$C106,'Data Collection Sheet'!$A:$A,0)))","v":""},{"$f":"IF($C106=\"\",\"\",IF(INDEX('Data Collection Sheet'!$E:$E,MATCH('Most Critical'!$C106,'Data Collection Sheet'!$A:$A,0))=\"\",\"\",INDEX('Data Collection Sheet'!$E:$E,MATCH('Most Critical'!$C106,'Data Collection Sheet'!$A:$A,0))))","v":""},{"$f":"IF($C106=\"\",\"\",INDEX('Consequence of Failure'!$P:$P,MATCH('Most Critical'!$C106,'Consequence of Failure'!$A:$A,0)))","v":""},{"$f":"IF($C106=\"\",\"\",INDEX('Data Collection Sheet'!$K:$K,MATCH('Most Critical'!$C106,'Data Collection Sheet'!$A:$A,0)))","v":""},{"$f":"IF($C106=\"\",\"\",INDEX('Cost Data'!$I:$I,MATCH('Most Critical'!$C106,'Cost Data'!$A:$A,0)))","v":""},{"$f":"IF($C106=\"\",\"\",INDEX('Cost Data'!$K:$K,MATCH('Most Critical'!$C106,'Cost Data'!$A:$A,0)))","v":""},{"$f":"IF($C106=\"\",\"\",'Calculate Risk'!$Q99)","v":""}]
[100,null,{"$f":"'Calculate Risk'!$A100","v":""},{"$f":"IF($C107=\"\",\"\",'Calculate Risk'!$B100)","v":""},{"$f":"IF($C107=\"\",\"\",'Calculate Risk'!$C100)","v":""},{"$f":"IF($C107=\"\",\"\",INDEX('Data Collection Sheet'!$D:$D,MATCH('Most Critical'!$C107,'Data Collection Sheet'!$A:$A,0)))","v":""},{"$f":"IF($C107=\"\",\"\",IF(INDEX('Data Collection Sheet'!$E:$E,MATCH('Most Critical'!$C107,'Data Collection Sheet'!$A:$A,0))=\"\",\"\",INDEX('Data Collection Sheet'!$E:$E,MATCH('Most Critical'!$C107,'Data Collection Sheet'!$A:$A,0))))","v":""},{"$f":"IF($C107=\"\",\"\",INDEX('Consequence of Failure'!$P:$P,MATCH('Most Critical'!$C107,'Consequence of Failure'!$A:$A,0)))","v":""},{"$f":"IF($C107=\"\",\"\",INDEX('Data Collection Sheet'!$K:$K,MATCH('Most Critical'!$C107,'Data Collection Sheet'!$A:$A,0)))","v":""},{"$f":"IF($C107=\"\",\"\",INDEX('Cost Data'!$I:$I,MATCH('Most Critical'!$C107,'Cost Data'!$A:$A,0)))","v":""},{"$f":"IF($C107=\"\",\"\",INDEX('Cost Data'!$K:$K,MATCH('Most Critical'!$C107,'Cost Data'!$A:$A,0)))","v":""},{"$f":"IF($C107=\"\",\"\",'Calculate Risk'!$Q100)","v":""}]
[101,null,{"$f":"'Calculate Risk'!$A101","v":""},{"$f":"IF($C108=\"\",\"\",'Calculate Risk'!$B101)","v":""},{"$f":"IF($C108=\"\",\"\",'Calculate Risk'!$C101)","v":""},{"$f":"IF($C108=\"\",\"\",INDEX('Data Collection Sheet'!$D:$D,MATCH('Most Critical'!$C108,'Data Collection Sheet'!$A:$A,0)))","v":""},{"$f":"IF($C108=\"\",\"\",IF(INDEX('Data Collection Sheet'!$E:$E,MATCH('Most Critical'!$C108,'Data Collection Sheet'!$A:$A,0))=\"\",\"\",INDEX('Data Collection Sheet'!$E:$E,MATCH('Most Critical'!$C108,'Data Collection Sheet'!$A:$A,0))))","v":""},{"$f":"IF($C108=\"\",\"\",INDEX('Consequence of Failure'!$P:$P,MATCH('Most Critical'!$C108,'Consequence of Failure'!$A:$A,0)))","v":""},{"$f":"IF($C108=\"\",\"\",INDEX('Data Collection Sheet'!$K:$K,MATCH('Most Critical'!$C108,'Data Collection Sheet'!$A:$A,0)))","v":""},{"$f":"IF($C108=\"\",\"\",INDEX('Cost Data'!$I:$I,MATCH('Most Critical'!$C108,'Cost Data'!$A:$A,0)))","v":""},{"$f":"IF($C108=\"\",\"\",INDEX('Cost Data'!$K:$K,MATCH('Most Critical'!$C108,'Cost Data'!$A:$A,0)))","v":""},{"$f":"IF($C108=\"\",\"\",'Calculate Risk'!$Q101)","v":""}]
[102,null,{"$f":"'Calculate Risk'!$A102","v":""},{"$f":"IF($C109=\"\",\"\",'Calculate Risk'!$B102)","v":""},{"$f":"IF($C109=\"\",\"\",'Calculate Risk'!$C102)","v":""},{"$f":"IF($C109=\"\",\"\",INDEX('Data Collection Sheet'!$D:$D,MATCH('Most Critical'!$C109,'Data Collection Sheet'!$A:$A,0)))","v":""},{"$f":"IF($C109=\"\",\"\",IF(INDEX('Data Collection Sheet'!$E:$E,MATCH('Most Critical'!$C109,'Data Collection Sheet'!$A:$A,0))=\"\",\"\",INDEX('Data Collection Sheet'!$E:$E,MATCH('Most Critical'!$C109,'Data Collection Sheet'!$A:$A,0))))","v":""},{"$f":"IF($C109=\"\",\"\",INDEX('Consequence of Failure'!$P:$P,MATCH('Most Critical'!$C109,'Consequence of Failure'!$A:$A,0)))","v":""},{"$f":"IF($C109=\"\",\"\",INDEX('Data Collection Sheet'!$K:$K,MATCH('Most Critical'!$C109,'Data Collection Sheet'!$A:$A,0)))","v":""},{"$f":"IF($C109=\"\",\"\",INDEX('Cost Data'!$I:$I,MATCH('Most Critical'!$C109,'Cost Data'!$A:$A,0)))","v":""},{"$f":"IF($C109=\"\",\"\",INDEX('Cost Data'!$K:$K,MATCH('Most Critical'!$C109,'Cost Data'!$A:$A,0)))","v":""},{"$f":"IF($C109=\"\",\"\",'Calculate Risk'!$Q102)","v":""}]
[103,null,{"$f":"'Calculate Risk'!$A103","v":""},{"$f":"IF($C110=\"\",\"\",'Calculate Risk'!$B103)","v":""},{"$f":"IF($C110=\"\",\"\",'Calculate Risk'!$C103)","v":""},{"$f":"IF($C110=\"\",\"\",INDEX('Data Collection Sheet'!$D:$D,MATCH('Most Critical'!$C110,'Data Collection Sheet'!$A:$A,0)))","v":""},{"$f":"IF($C110=\"\",\"\",IF(INDEX('Data Collection Sheet'!$E:$E,MATCH('Most Critical'!$C110,'Data Collection Sheet'!$A:$A,0))=\"\",\"\",INDEX('Data Collection Sheet'!$E:$E,MATCH('Most Critical'!$C110,'Data Collection Sheet'!$A:$A,0))))","v":""},{"$f":"IF($C110=\"\",\"\",INDEX('Consequence of Failure'!$P:$P,MATCH('Most Critical'!$C110,'Consequence of Failure'!$A:$A,0)))","v":""},{"$f":"IF($C110=\"\",\"\",INDEX('Data Collection Sheet'!$K:$K,MATCH('Most Critical'!$C110,'Data Collection Sheet'!$A:$A,0)))","v":""},{"$f":"IF($C110=\"\",\"\",INDEX('Cost Data'!$I:$I,MATCH('Most Critical'!$C110,'Cost Data'!$A:$A,0)))","v":""},{"$f":"IF($C110=\"\",\"\",INDEX('Cost Data'!$K:$K,MATCH('Most Critical'!$C110,'Cost Data'!$A:$A,0)))","v":""},{"$f":"IF($C110=\"\",\"\",'Calculate Risk'!$Q103)","v":""}]
[104,null,{"$f":"'Calculate Risk'!$A104","v":""},{"$f":"IF($C111=\"\",\"\",'Calculate Risk'!$B104)","v":""},{"$f":"IF($C111=\"\",\"\",'Calculate Risk'!$C104)","v":""},{"$f":"IF($C111=\"\",\"\",INDEX('Data Collection Sheet'!$D:$D,MATCH('Most Critical'!$C111,'Data Collection Sheet'!$A:$A,0)))","v":""},{"$f":"IF($C111=\"\",\"\",IF(INDEX('Data Collection Sheet'!$E:$E,MATCH('Most Critical'!$C111,'Data Collection Sheet'!$A:$A,0))=\"\",\"\",INDEX('Data Collection Sheet'!$E:$E,MATCH('Most Critical'!$C111,'Data Collection Sheet'!$A:$A,0))))","v":""},{"$f":"IF($C111=\"\",\"\",INDEX('Consequence of Failure'!$P:$P,MATCH('Most Critical'!$C111,'Consequence of Failure'!$A:$A,0)))","v":""},{"$f":"IF($C111=\"\",\"\",INDEX('Data Collection Sheet'!$K:$K,MATCH('Most Critical'!$C111,'Data Collection Sheet'!$A:$A,0)))","v":""},{"$f":"IF($C111=\"\",\"\",INDEX('Cost Data'!$I:$I,MATCH('Most Critical'!$C111,'Cost Data'!$A:$A,0)))","v":""},{"$f":"IF($C111=\"\",\"\",INDEX('Cost Data'!$K:$K,MATCH('Most Critical'!$C111,'Cost Data'!$A:$A,0)))","v":""},{"$f":"IF($C111=\"\",\"\",'Calculate Risk'!$Q104)","v":""}]
[105,null,{"$f":"'Calculate Risk'!$A105","v":""},{"$f":"IF($C112=\"\",\"\",'Calculate Risk'!$B105)","v":""},{"$f":"IF($C112=\"\",\"\",'Calculate Risk'!$C105)","v":""},{"$f":"IF($C112=\"\",\"\",INDEX('Data Collection Sheet'!$D:$D,MATCH('Most Critical'!$C112,'Data Collection Sheet'!$A:$A,0)))","v":""},{"$f":"IF($C112=\"\",\"\",IF(INDEX('Data Collection Sheet'!$E:$E,MATCH('Most Critical'!$C112,'Data Collection Sheet'!$A:$A,0))=\"\",\"\",INDEX('Data Collection Sheet'!$E:$E,MATCH('Most Critical'!$C112,'Data Collection Sheet'!$A:$A,0))))","v":""},{"$f":"IF($C112=\"\",\"\",INDEX('Consequence of Failure'!$P:$P,MATCH('Most Critical'!$C112,'Consequence of Failure'!$A:$A,0)))","v":""},{"$f":"IF($C112=\"\",\"\",INDEX('Data Collection Sheet'!$K:$K,MATCH('Most Critical'!$C112,'Data Collection Sheet'!$A:$A,0)))","v":""},{"$f":"IF($C112=\"\",\"\",INDEX('Cost Data'!$I:$I,MATCH('Most Critical'!$C112,'Cost Data'!$A:$A,0)))","v":""},{"$f":"IF($C112=\"\",\"\",INDEX('Cost Data'!$K:$K,MATCH('Most Critical'!$C112,'Cost Data'!$A:$A,0)))","v":""},{"$f":"IF($C112=\"\",\"\",'Calculate Risk'!$Q105)","v":""}]
[106,null,{"$f":"'Calculate Risk'!$A106","v":""},{"$f":"IF($C113=\"\",\"\",'Calculate Risk'!$B106)","v":""},{"$f":"IF($C113=\"\",\"\",'Calculate Risk'!$C106)","v":""},{"$f":"IF($C113=\"\",\"\",INDEX('Data Collection Sheet'!$D:$D,MATCH('Most Critical'!$C113,'Data Collection Sheet'!$A:$A,0)))","v":""},{"$f":"IF($C113=\"\",\"\",IF(INDEX('Data Collection Sheet'!$E:$E,MATCH('Most Critical'!$C113,'Data Collection Sheet'!$A:$A,0))=\"\",\"\",INDEX('Data Collection Sheet'!$E:$E,MATCH('Most Critical'!$C113,'Data Collection Sheet'!$A:$A,0))))","v":""},{"$f":"IF($C113=\"\",\"\",INDEX('Consequence of Failure'!$P:$P,MATCH('Most Critical'!$C113,'Consequence of Failure'!$A:$A,0)))","v":""},{"$f":"IF($C113=\"\",\"\",INDEX('Data Collection Sheet'!$K:$K,MATCH('Most Critical'!$C113,'Data Collection Sheet'!$A:$A,0)))","v":""},{"$f":"IF($C113=\"\",\"\",INDEX('Cost Data'!$I:$I,MATCH('Most Critical'!$C113,'Cost Data'!$A:$A,0)))","v":""},{"$f":"IF($C113=\"\",\"\",INDEX('Cost Data'!$K:$K,MATCH('Most Critical'!$C113,'Cost Data'!$A:$A,0)))","v":""},{"$f":"IF($C113=\"\",\"\",'Calculate Risk'!$Q106)","v":""}]
[107,null,{"$f":"'Calculate Risk'!$A107","v":""},{"$f":"IF($C114=\"\",\"\",'Calculate Risk'!$B107)","v":""},{"$f":"IF($C114=\"\",\"\",'Calculate Risk'!$C107)","v":""},{"$f":"IF($C114=\"\",\"\",INDEX('Data Collection Sheet'!$D:$D,MATCH('Most Critical'!$C114,'Data Collection Sheet'!$A:$A,0)))","v":""},{"$f":"IF($C114=\"\",\"\",IF(INDEX('Data Collection Sheet'!$E:$E,MATCH('Most Critical'!$C114,'Data Collection Sheet'!$A:$A,0))=\"\",\"\",INDEX('Data Collection Sheet'!$E:$E,MATCH('Most Critical'!$C114,'Data Collection Sheet'!$A:$A,0))))","v":""},{"$f":"IF($C114=\"\",\"\",INDEX('Consequence of Failure'!$P:$P,MATCH('Most Critical'!$C114,'Consequence of Failure'!$A:$A,0)))","v":""},{"$f":"IF($C114=\"\",\"\",INDEX('Data Collection Sheet'!$K:$K,MATCH('Most Critical'!$C114,'Data Collection Sheet'!$A:$A,0)))","v":""},{"$f":"IF($C114=\"\",\"\",INDEX('Cost Data'!$I:$I,MATCH('Most Critical'!$C114,'Cost Data'!$A:$A,0)))","v":""},{"$f":"IF($C114=\"\",\"\",INDEX('Cost Data'!$K:$K,MATCH('Most Critical'!$C114,'Cost Data'!$A:$A,0)))","v":""},{"$f":"IF($C114=\"\",\"\",'Calculate Risk'!$Q107)","v":""}]
[108,null,{"$f":"'Calculate Risk'!$A108","v":""},{"$f":"IF($C115=\"\",\"\",'Calculate Risk'!$B108)","v":""},{"$f":"IF($C115=\"\",\"\",'Calculate Risk'!$C108)","v":""},{"$f":"IF($C115=\"\",\"\",INDEX('Data Collection Sheet'!$D:$D,MATCH('Most Critical'!$C115,'Data Collection Sheet'!$A:$A,0)))","v":""},{"$f":"IF($C115=\"\",\"\",IF(INDEX('Data Collection Sheet'!$E:$E,MATCH('Most Critical'!$C115,'Data Collection Sheet'!$A:$A,0))=\"\",\"\",INDEX('Data Collection Sheet'!$E:$E,MATCH('Most Critical'!$C115,'Data Collection Sheet'!$A:$A,0))))","v":""},{"$f":"IF($C115=\"\",\"\",INDEX('Consequence of Failure'!$P:$P,MATCH('Most Critical'!$C115,'Consequence of Failure'!$A:$A,0)))","v":""},{"$f":"IF($C115=\"\",\"\",INDEX('Data Collection Sheet'!$K:$K,MATCH('Most Critical'!$C115,'Data Collection Sheet'!$A:$A,0)))","v":""},{"$f":"IF($C115=\"\",\"\",INDEX('Cost Data'!$I:$I,MATCH('Most Critical'!$C115,'Cost Data'!$A:$A,0)))","v":""},{"$f":"IF($C115=\"\",\"\",INDEX('Cost Data'!$K:$K,MATCH('Most Critical'!$C115,'Cost Data'!$A:$A,0)))","v":""},{"$f":"IF($C115=\"\",\"\",'Calculate Risk'!$Q108)","v":""}]
[109,null,{"$f":"'Calculate Risk'!$A109","v":""},{"$f":"IF($C116=\"\",\"\",'Calculate Risk'!$B109)","v":""},{"$f":"IF($C116=\"\",\"\",'Calculate Risk'!$C109)","v":""},{"$f":"IF($C116=\"\",\"\",INDEX('Data Collection Sheet'!$D:$D,MATCH('Most Critical'!$C116,'Data Collection Sheet'!$A:$A,0)))","v":""},{"$f":"IF($C116=\"\",\"\",IF(INDEX('Data Collection Sheet'!$E:$E,MATCH('Most Critical'!$C116,'Data Collection Sheet'!$A:$A,0))=\"\",\"\",INDEX('Data Collection Sheet'!$E:$E,MATCH('Most Critical'!$C116,'Data Collection Sheet'!$A:$A,0))))","v":""},{"$f":"IF($C116=\"\",\"\",INDEX('Consequence of Failure'!$P:$P,MATCH('Most Critical'!$C116,'Consequence of Failure'!$A:$A,0)))","v":""},{"$f":"IF($C116=\"\",\"\",INDEX('Data Collection Sheet'!$K:$K,MATCH('Most Critical'!$C116,'Data Collection Sheet'!$A:$A,0)))","v":""},{"$f":"IF($C116=\"\",\"\",INDEX('Cost Data'!$I:$I,MATCH('Most Critical'!$C116,'Cost Data'!$A:$A,0)))","v":""},{"$f":"IF($C116=\"\",\"\",INDEX('Cost Data'!$K:$K,MATCH('Most Critical'!$C116,'Cost Data'!$A:$A,0)))","v":""},{"$f":"IF($C116=\"\",\"\",'Calculate Risk'!$Q109)","v":""}]
[110,null,{"$f":"'Calculate Risk'!$A110","v":""},{"$f":"IF($C117=\"\",\"\",'Calculate Risk'!$B110)","v":""},{"$f":"IF($C117=\"\",\"\",'Calculate Risk'!$C110)","v":""},{"$f":"IF($C117=\"\",\"\",INDEX('Data Collection Sheet'!$D:$D,MATCH('Most Critical'!$C117,'Data Collection Sheet'!$A:$A,0)))","v":""},{"$f":"IF($C117=\"\",\"\",IF(INDEX('Data Collection Sheet'!$E:$E,MATCH('Most Critical'!$C117,'Data Collection Sheet'!$A:$A,0))=\"\",\"\",INDEX('Data Collection Sheet'!$E:$E,MATCH('Most Critical'!$C117,'Data Collection Sheet'!$A:$A,0))))","v":""},{"$f":"IF($C117=\"\",\"\",INDEX('Consequence of Failure'!$P:$P,MATCH('Most Critical'!$C117,'Consequence of Failure'!$A:$A,0)))","v":""},{"$f":"IF($C117=\"\",\"\",INDEX('Data Collection Sheet'!$K:$K,MATCH('Most Critical'!$C117,'Data Collection Sheet'!$A:$A,0)))","v":""},{"$f":"IF($C117=\"\",\"\",INDEX('Cost Data'!$I:$I,MATCH('Most Critical'!$C117,'Cost Data'!$A:$A,0)))","v":""},{"$f":"IF($C117=\"\",\"\",INDEX('Cost Data'!$K:$K,MATCH('Most Critical'!$C117,'Cost Data'!$A:$A,0)))","v":""},{"$f":"IF($C117=\"\",\"\",'Calculate Risk'!$Q110)","v":""}]
[111,null,{"$f":"'Calculate Risk'!$A111","v":""},{"$f":"IF($C118=\"\",\"\",'Calculate Risk'!$B111)","v":""},{"$f":"IF($C118=\"\",\"\",'Calculate Risk'!$C111)","v":""},{"$f":"IF($C118=\"\",\"\",INDEX('Data Collection Sheet'!$D:$D,MATCH('Most Critical'!$C118,'Data Collection Sheet'!$A:$A,0)))","v":""},{"$f":"IF($C118=\"\",\"\",IF(INDEX('Data Collection Sheet'!$E:$E,MATCH('Most Critical'!$C118,'Data Collection Sheet'!$A:$A,0))=\"\",\"\",INDEX('Data Collection Sheet'!$E:$E,MATCH('Most Critical'!$C118,'Data Collection Sheet'!$A:$A,0))))","v":""},{"$f":"IF($C118=\"\",\"\",INDEX('Consequence of Failure'!$P:$P,MATCH('Most Critical'!$C118,'Consequence of Failure'!$A:$A,0)))","v":""},{"$f":"IF($C118=\"\",\"\",INDEX('Data Collection Sheet'!$K:$K,MATCH('Most Critical'!$C118,'Data Collection Sheet'!$A:$A,0)))","v":""},{"$f":"IF($C118=\"\",\"\",INDEX('Cost Data'!$I:$I,MATCH('Most Critical'!$C118,'Cost Data'!$A:$A,0)))","v":""},{"$f":"IF($C118=\"\",\"\",INDEX('Cost Data'!$K:$K,MATCH('Most Critical'!$C118,'Cost Data'!$A:$A,0)))","v":""},{"$f":"IF($C118=\"\",\"\",'Calculate Risk'!$Q111)","v":""}]
[112,null,{"$f":"'Calculate Risk'!$A112","v":""},{"$f":"IF($C119=\"\",\"\",'Calculate Risk'!$B112)","v":""},{"$f":"IF($C119=\"\",\"\",'Calculate Risk'!$C112)","v":""},{"$f":"IF($C119=\"\",\"\",INDEX('Data Collection Sheet'!$D:$D,MATCH('Most Critical'!$C119,'Data Collection Sheet'!$A:$A,0)))","v":""},{"$f":"IF($C119=\"\",\"\",IF(INDEX('Data Collection Sheet'!$E:$E,MATCH('Most Critical'!$C119,'Data Collection Sheet'!$A:$A,0))=\"\",\"\",INDEX('Data Collection Sheet'!$E:$E,MATCH('Most Critical'!$C119,'Data Collection Sheet'!$A:$A,0))))","v":""},{"$f":"IF($C119=\"\",\"\",INDEX('Consequence of Failure'!$P:$P,MATCH('Most Critical'!$C119,'Consequence of Failure'!$A:$A,0)))","v":""},{"$f":"IF($C119=\"\",\"\",INDEX('Data Collection Sheet'!$K:$K,MATCH('Most Critical'!$C119,'Data Collection Sheet'!$A:$A,0)))","v":""},{"$f":"IF($C119=\"\",\"\",INDEX('Cost Data'!$I:$I,MATCH('Most Critical'!$C119,'Cost Data'!$A:$A,0)))","v":""},{"$f":"IF($C119=\"\",\"\",INDEX('Cost Data'!$K:$K,MATCH('Most Critical'!$C119,'Cost Data'!$A:$A,0)))","v":""},{"$f":"IF($C119=\"\",\"\",'Calculate Risk'!$Q112)","v":""}]
[113,null,{"$f":"'Calculate Risk'!$A113","v":""},{"$f":"IF($C120=\"\",\"\",'Calculate Risk'!$B113)","v":""},{"$f":"IF($C120=\"\",\"\",'Calculate Risk'!$C113)","v":""},{"$f":"IF($C120=\"\",\"\",INDEX('Data Collection Sheet'!$D:$D,MATCH('Most Critical'!$C120,'Data Collection Sheet'!$A:$A,0)))","v":""},{"$f":"IF($C120=\"\",\"\",IF(INDEX('Data Collection Sheet'!$E:$E,MATCH('Most Critical'!$C120,'Data Collection Sheet'!$A:$A,0))=\"\",\"\",INDEX('Data Collection Sheet'!$E:$E,MATCH('Most Critical'!$C120,'Data Collection Sheet'!$A:$A,0))))","v":""},{"$f":"IF($C120=\"\",\"\",INDEX('Consequence of Failure'!$P:$P,MATCH('Most Critical'!$C120,'Consequence of Failure'!$A:$A,0)))","v":""},{"$f":"IF($C120=\"\",\"\",INDEX('Data Collection Sheet'!$K:$K,MATCH('Most Critical'!$C120,'Data Collection Sheet'!$A:$A,0)))","v":""},{"$f":"IF($C120=\"\",\"\",INDEX('Cost Data'!$I:$I,MATCH('Most Critical'!$C120,'Cost Data'!$A:$A,0)))","v":""},{"$f":"IF($C120=\"\",\"\",INDEX('Cost Data'!$K:$K,MATCH('Most Critical'!$C120,'Cost Data'!$A:$A,0)))","v":""},{"$f":"IF($C120=\"\",\"\",'Calculate Risk'!$Q113)","v":""}]
[114,null,{"$f":"'Calculate Risk'!$A114","v":""},{"$f":"IF($C121=\"\",\"\",'Calculate Risk'!$B114)","v":""},{"$f":"IF($C121=\"\",\"\",'Calculate Risk'!$C114)","v":""},{"$f":"IF($C121=\"\",\"\",INDEX('Data Collection Sheet'!$D:$D,MATCH('Most Critical'!$C121,'Data Collection Sheet'!$A:$A,0)))","v":""},{"$f":"IF($C121=\"\",\"\",IF(INDEX('Data Collection Sheet'!$E:$E,MATCH('Most Critical'!$C121,'Data Collection Sheet'!$A:$A,0))=\"\",\"\",INDEX('Data Collection Sheet'!$E:$E,MATCH('Most Critical'!$C121,'Data Collection Sheet'!$A:$A,0))))","v":""},{"$f":"IF($C121=\"\",\"\",INDEX('Consequence of Failure'!$P:$P,MATCH('Most Critical'!$C121,'Consequence of Failure'!$A:$A,0)))","v":""},{"$f":"IF($C121=\"\",\"\",INDEX('Data Collection Sheet'!$K:$K,MATCH('Most Critical'!$C121,'Data Collection Sheet'!$A:$A,0)))","v":""},{"$f":"IF($C121=\"\",\"\",INDEX('Cost Data'!$I:$I,MATCH('Most Critical'!$C121,'Cost Data'!$A:$A,0)))","v":""},{"$f":"IF($C121=\"\",\"\",INDEX('Cost Data'!$K:$K,MATCH('Most Critical'!$C121,'Cost Data'!$A:$A,0)))","v":""},{"$f":"IF($C121=\"\",\"\",'Calculate Risk'!$Q114)","v":""}]
[115,null,{"$f":"'Calculate Risk'!$A115","v":""},{"$f":"IF($C122=\"\",\"\",'Calculate Risk'!$B115)","v":""},{"$f":"IF($C122=\"\",\"\",'Calculate Risk'!$C115)","v":""},{"$f":"IF($C122=\"\",\"\",INDEX('Data Collection Sheet'!$D:$D,MATCH('Most Critical'!$C122,'Data Collection Sheet'!$A:$A,0)))","v":""},{"$f":"IF($C122=\"\",\"\",IF(INDEX('Data Collection Sheet'!$E:$E,MATCH('Most Critical'!$C122,'Data Collection Sheet'!$A:$A,0))=\"\",\"\",INDEX('Data Collection Sheet'!$E:$E,MATCH('Most Critical'!$C122,'Data Collection Sheet'!$A:$A,0))))","v":""},{"$f":"IF($C122=\"\",\"\",INDEX('Consequence of Failure'!$P:$P,MATCH('Most Critical'!$C122,'Consequence of Failure'!$A:$A,0)))","v":""},{"$f":"IF($C122=\"\",\"\",INDEX('Data Collection Sheet'!$K:$K,MATCH('Most Critical'!$C122,'Data Collection Sheet'!$A:$A,0)))","v":""},{"$f":"IF($C122=\"\",\"\",INDEX('Cost Data'!$I:$I,MATCH('Most Critical'!$C122,'Cost Data'!$A:$A,0)))","v":""},{"$f":"IF($C122=\"\",\"\",INDEX('Cost Data'!$K:$K,MATCH('Most Critical'!$C122,'Cost Data'!$A:$A,0)))","v":""},{"$f":"IF($C122=\"\",\"\",'Calculate Risk'!$Q115)","v":""}]
[116,null,{"$f":"'Calculate Risk'!$A116","v":""},{"$f":"IF($C123=\"\",\"\",'Calculate Risk'!$B116)","v":""},{"$f":"IF($C123=\"\",\"\",'Calculate Risk'!$C116)","v":""},{"$f":"IF($C123=\"\",\"\",INDEX('Data Collection Sheet'!$D:$D,MATCH('Most Critical'!$C123,'Data Collection Sheet'!$A:$A,0)))","v":""},{"$f":"IF($C123=\"\",\"\",IF(INDEX('Data Collection Sheet'!$E:$E,MATCH('Most Critical'!$C123,'Data Collection Sheet'!$A:$A,0))=\"\",\"\",INDEX('Data Collection Sheet'!$E:$E,MATCH('Most Critical'!$C123,'Data Collection Sheet'!$A:$A,0))))","v":""},{"$f":"IF($C123=\"\",\"\",INDEX('Consequence of Failure'!$P:$P,MATCH('Most Critical'!$C123,'Consequence of Failure'!$A:$A,0)))","v":""},{"$f":"IF($C123=\"\",\"\",INDEX('Data Collection Sheet'!$K:$K,MATCH('Most Critical'!$C123,'Data Collection Sheet'!$A:$A,0)))","v":""},{"$f":"IF($C123=\"\",\"\",INDEX('Cost Data'!$I:$I,MATCH('Most Critical'!$C123,'Cost Data'!$A:$A,0)))","v":""},{"$f":"IF($C123=\"\",\"\",INDEX('Cost Data'!$K:$K,MATCH('Most Critical'!$C123,'Cost Data'!$A:$A,0)))","v":""},{"$f":"IF($C123=\"\",\"\",'Calculate Risk'!$Q116)","v":""}]
[117,null,{"$f":"'Calculate Risk'!$A117","v":""},{"$f":"IF($C124=\"\",\"\",'Calculate Risk'!$B117)","v":""},{"$f":"IF($C124=\"\",\"\",'Calculate Risk'!$C117)","v":""},{"$f":"IF($C124=\"\",\"\",INDEX('Data Collection Sheet'!$D:$D,MATCH('Most Critical'!$C124,'Data Collection Sheet'!$A:$A,0)))","v":""},{"$f":"IF($C124=\"\",\"\",IF(INDEX('Data Collection Sheet'!$E:$E,MATCH('Most Critical'!$C124,'Data Collection Sheet'!$A:$A,0))=\"\",\"\",INDEX('Data Collection Sheet'!$E:$E,MATCH('Most Critical'!$C124,'Data Collection Sheet'!$A:$A,0))))","v":""},{"$f":"IF($C124=\"\",\"\",INDEX('Consequence of Failure'!$P:$P,MATCH('Most Critical'!$C124,'Consequence of Failure'!$A:$A,0)))","v":""},{"$f":"IF($C124=\"\",\"\",INDEX('Data Collection Sheet'!$K:$K,MATCH('Most Critical'!$C124,'Data Collection Sheet'!$A:$A,0)))","v":""},{"$f":"IF($C124=\"\",\"\",INDEX('Cost Data'!$I:$I,MATCH('Most Critical'!$C124,'Cost Data'!$A:$A,0)))","v":""},{"$f":"IF($C124=\"\",\"\",INDEX('Cost Data'!$K:$K,MATCH('Most Critical'!$C124,'Cost Data'!$A:$A,0)))","v":""},{"$f":"IF($C124=\"\",\"\",'Calculate Risk'!$Q117)","v":""}]
[118,null,{"$f":"'Calculate Risk'!$A118","v":""},{"$f":"IF($C125=\"\",\"\",'Calculate Risk'!$B118)","v":""},{"$f":"IF($C125=\"\",\"\",'Calculate Risk'!$C118)","v":""},{"$f":"IF($C125=\"\",\"\",INDEX('Data Collection Sheet'!$D:$D,MATCH('Most Critical'!$C125,'Data Collection Sheet'!$A:$A,0)))","v":""},{"$f":"IF($C125=\"\",\"\",IF(INDEX('Data Collection Sheet'!$E:$E,MATCH('Most Critical'!$C125,'Data Collection Sheet'!$A:$A,0))=\"\",\"\",INDEX('Data Collection Sheet'!$E:$E,MATCH('Most Critical'!$C125,'Data Collection Sheet'!$A:$A,0))))","v":""},{"$f":"IF($C125=\"\",\"\",INDEX('Consequence of Failure'!$P:$P,MATCH('Most Critical'!$C125,'Consequence of Failure'!$A:$A,0)))","v":""},{"$f":"IF($C125=\"\",\"\",INDEX('Data Collection Sheet'!$K:$K,MATCH('Most Critical'!$C125,'Data Collection Sheet'!$A:$A,0)))","v":""},{"$f":"IF($C125=\"\",\"\",INDEX('Cost Data'!$I:$I,MATCH('Most Critical'!$C125,'Cost Data'!$A:$A,0)))","v":""},{"$f":"IF($C125=\"\",\"\",INDEX('Cost Data'!$K:$K,MATCH('Most Critical'!$C125,'Cost Data'!$A:$A,0)))","v":""},{"$f":"IF($C125=\"\",\"\",'Calculate Risk'!$Q118)","v":""}]
[119,null,{"$f":"'Calculate Risk'!$A119","v":""},{"$f":"IF($C126=\"\",\"\",'Calculate Risk'!$B119)","v":""},{"$f":"IF($C126=\"\",\"\",'Calculate Risk'!$C119)","v":""},{"$f":"IF($C126=\"\",\"\",INDEX('Data Collection Sheet'!$D:$D,MATCH('Most Critical'!$C126,'Data Collection Sheet'!$A:$A,0)))","v":""},{"$f":"IF($C126=\"\",\"\",IF(INDEX('Data Collection Sheet'!$E:$E,MATCH('Most Critical'!$C126,'Data Collection Sheet'!$A:$A,0))=\"\",\"\",INDEX('Data Collection Sheet'!$E:$E,MATCH('Most Critical'!$C126,'Data Collection Sheet'!$A:$A,0))))","v":""},{"$f":"IF($C126=\"\",\"\",INDEX('Consequence of Failure'!$P:$P,MATCH('Most Critical'!$C126,'Consequence of Failure'!$A:$A,0)))","v":""},{"$f":"IF($C126=\"\",\"\",INDEX('Data Collection Sheet'!$K:$K,MATCH('Most Critical'!$C126,'Data Collection Sheet'!$A:$A,0)))","v":""},{"$f":"IF($C126=\"\",\"\",INDEX('Cost Data'!$I:$I,MATCH('Most Critical'!$C126,'Cost Data'!$A:$A,0)))","v":""},{"$f":"IF($C126=\"\",\"\",INDEX('Cost Data'!$K:$K,MATCH('Most Critical'!$C126,'Cost Data'!$A:$A,0)))","v":""},{"$f":"IF($C126=\"\",\"\",'Calculate Risk'!$Q119)","v":""}]
[120,null,{"$f":"'Calculate Risk'!$A120","v":""},{"$f":"IF($C127=\"\",\"\",'Calculate Risk'!$B120)","v":""},{"$f":"IF($C127=\"\",\"\",'Calculate Risk'!$C120)","v":""},{"$f":"IF($C127=\"\",\"\",INDEX('Data Collection Sheet'!$D:$D,MATCH('Most Critical'!$C127,'Data Collection Sheet'!$A:$A,0)))","v":""},{"$f":"IF($C127=\"\",\"\",IF(INDEX('Data Collection Sheet'!$E:$E,MATCH('Most Critical'!$C127,'Data Collection Sheet'!$A:$A,0))=\"\",\"\",INDEX('Data Collection Sheet'!$E:$E,MATCH('Most Critical'!$C127,'Data Collection Sheet'!$A:$A,0))))","v":""},{"$f":"IF($C127=\"\",\"\",INDEX('Consequence of Failure'!$P:$P,MATCH('Most Critical'!$C127,'Consequence of Failure'!$A:$A,0)))","v":""},{"$f":"IF($C127=\"\",\"\",INDEX('Data Collection Sheet'!$K:$K,MATCH('Most Critical'!$C127,'Data Collection Sheet'!$A:$A,0)))","v":""},{"$f":"IF($C127=\"\",\"\",INDEX('Cost Data'!$I:$I,MATCH('Most Critical'!$C127,'Cost Data'!$A:$A,0)))","v":""},{"$f":"IF($C127=\"\",\"\",INDEX('Cost Data'!$K:$K,MATCH('Most Critical'!$C127,'Cost Data'!$A:$A,0)))","v":""},{"$f":"IF($C127=\"\",\"\",'Calculate Risk'!$Q120)","v":""}]
[121,null,{"$f":"'Calculate Risk'!$A121","v":""},{"$f":"IF($C128=\"\",\"\",'Calculate Risk'!$B121)","v":""},{"$f":"IF($C128=\"\",\"\",'Calculate Risk'!$C121)","v":""},{"$f":"IF($C128=\"\",\"\",INDEX('Data Collection Sheet'!$D:$D,MATCH('Most Critical'!$C128,'Data Collection Sheet'!$A:$A,0)))","v":""},{"$f":"IF($C128=\"\",\"\",IF(INDEX('Data Collection Sheet'!$E:$E,MATCH('Most Critical'!$C128,'Data Collection Sheet'!$A:$A,0))=\"\",\"\",INDEX('Data Collection Sheet'!$E:$E,MATCH('Most Critical'!$C128,'Data Collection Sheet'!$A:$A,0))))","v":""},{"$f":"IF($C128=\"\",\"\",INDEX('Consequence of Failure'!$P:$P,MATCH('Most Critical'!$C128,'Consequence of Failure'!$A:$A,0)))","v":""},{"$f":"IF($C128=\"\",\"\",INDEX('Data Collection Sheet'!$K:$K,MATCH('Most Critical'!$C128,'Data Collection Sheet'!$A:$A,0)))","v":""},{"$f":"IF($C128=\"\",\"\",INDEX('Cost Data'!$I:$I,MATCH('Most Critical'!$C128,'Cost Data'!$A:$A,0)))","v":""},{"$f":"IF($C128=\"\",\"\",INDEX('Cost Data'!$K:$K,MATCH('Most Critical'!$C128,'Cost Data'!$A:$A,0)))","v":""},{"$f":"IF($C128=\"\",\"\",'Calculate Risk'!$Q121)","v":""}]
[122,null,{"$f":"'Calculate Risk'!$A122","v":""},{"$f":"IF($C129=\"\",\"\",'Calculate Risk'!$B122)","v":""},{"$f":"IF($C129=\"\",\"\",'Calculate Risk'!$C122)","v":""},{"$f":"IF($C129=\"\",\"\",INDEX('Data Collection Sheet'!$D:$D,MATCH('Most Critical'!$C129,'Data Collection Sheet'!$A:$A,0)))","v":""},{"$f":"IF($C129=\"\",\"\",IF(INDEX('Data Collection Sheet'!$E:$E,MATCH('Most Critical'!$C129,'Data Collection Sheet'!$A:$A,0))=\"\",\"\",INDEX('Data Collection Sheet'!$E:$E,MATCH('Most Critical'!$C129,'Data Collection Sheet'!$A:$A,0))))","v":""},{"$f":"IF($C129=\"\",\"\",INDEX('Consequence of Failure'!$P:$P,MATCH('Most Critical'!$C129,'Consequence of Failure'!$A:$A,0)))","v":""},{"$f":"IF($C129=\"\",\"\",INDEX('Data Collection Sheet'!$K:$K,MATCH('Most Critical'!$C129,'Data Collection Sheet'!$A:$A,0)))","v":""},{"$f":"IF($C129=\"\",\"\",INDEX('Cost Data'!$I:$I,MATCH('Most Critical'!$C129,'Cost Data'!$A:$A,0)))","v":""},{"$f":"IF($C129=\"\",\"\",INDEX('Cost Data'!$K:$K,MATCH('Most Critical'!$C129,'Cost Data'!$A:$A,0)))","v":""},{"$f":"IF($C129=\"\",\"\",'Calculate Risk'!$Q122)","v":""}]
[123,null,{"$f":"'Calculate Risk'!$A123","v":""},{"$f":"IF($C130=\"\",\"\",'Calculate Risk'!$B123)","v":""},{"$f":"IF($C130=\"\",\"\",'Calculate Risk'!$C123)","v":""},{"$f":"IF($C130=\"\",\"\",INDEX('Data Collection Sheet'!$D:$D,MATCH('Most Critical'!$C130,'Data Collection Sheet'!$A:$A,0)))","v":""},{"$f":"IF($C130=\"\",\"\",IF(INDEX('Data Collection Sheet'!$E:$E,MATCH('Most Critical'!$C130,'Data Collection Sheet'!$A:$A,0))=\"\",\"\",INDEX('Data Collection Sheet'!$E:$E,MATCH('Most Critical'!$C130,'Data Collection Sheet'!$A:$A,0))))","v":""},{"$f":"IF($C130=\"\",\"\",INDEX('Consequence of Failure'!$P:$P,MATCH('Most Critical'!$C130,'Consequence of Failure'!$A:$A,0)))","v":""},{"$f":"IF($C130=\"\",\"\",INDEX('Data Collection Sheet'!$K:$K,MATCH('Most Critical'!$C130,'Data Collection Sheet'!$A:$A,0)))","v":""},{"$f":"IF($C130=\"\",\"\",INDEX('Cost Data'!$I:$I,MATCH('Most Critical'!$C130,'Cost Data'!$A:$A,0)))","v":""},{"$f":"IF($C130=\"\",\"\",INDEX('Cost Data'!$K:$K,MATCH('Most Critical'!$C130,'Cost Data'!$A:$A,0)))","v":""},{"$f":"IF($C130=\"\",\"\",'Calculate Risk'!$Q123)","v":""}]
[124,null,{"$f":"'Calculate Risk'!$A124","v":""},{"$f":"IF($C131=\"\",\"\",'Calculate Risk'!$B124)","v":""},{"$f":"IF($C131=\"\",\"\",'Calculate Risk'!$C124)","v":""},{"$f":"IF($C131=\"\",\"\",INDEX('Data Collection Sheet'!$D:$D,MATCH('Most Critical'!$C131,'Data Collection Sheet'!$A:$A,0)))","v":""},{"$f":"IF($C131=\"\",\"\",IF(INDEX('Data Collection Sheet'!$E:$E,MATCH('Most Critical'!$C131,'Data Collection Sheet'!$A:$A,0))=\"\",\"\",INDEX('Data Collection Sheet'!$E:$E,MATCH('Most Critical'!$C131,'Data Collection Sheet'!$A:$A,0))))","v":""},{"$f":"IF($C131=\"\",\"\",INDEX('Consequence of Failure'!$P:$P,MATCH('Most Critical'!$C131,'Consequence of Failure'!$A:$A,0)))","v":""},{"$f":"IF($C131=\"\",\"\",INDEX('Data Collection Sheet'!$K:$K,MATCH('Most Critical'!$C131,'Data Collection Sheet'!$A:$A,0)))","v":""},{"$f":"IF($C131=\"\",\"\",INDEX('Cost Data'!$I:$I,MATCH('Most Critical'!$C131,'Cost Data'!$A:$A,0)))","v":""},{"$f":"IF($C131=\"\",\"\",INDEX('Cost Data'!$K:$K,MATCH('Most Critical'!$C131,'Cost Data'!$A:$A,0)))","v":""},{"$f":"IF($C131=\"\",\"\",'Calculate Risk'!$Q124)","v":""}]
[125,null,{"$f":"'Calculate Risk'!$A125","v":""},{"$f":"IF($C132=\"\",\"\",'Calculate Risk'!$B125)","v":""},{"$f":"IF($C132=\"\",\"\",'Calculate Risk'!$C125)","v":""},{"$f":"IF($C132=\"\",\"\",INDEX('Data Collection Sheet'!$D:$D,MATCH('Most Critical'!$C132,'Data Collection Sheet'!$A:$A,0)))","v":""},{"$f":"IF($C132=\"\",\"\",IF(INDEX('Data Collection Sheet'!$E:$E,MATCH('Most Critical'!$C132,'Data Collection Sheet'!$A:$A,0))=\"\",\"\",INDEX('Data Collection Sheet'!$E:$E,MATCH('Most Critical'!$C132,'Data Collection Sheet'!$A:$A,0))))","v":""},{"$f":"IF($C132=\"\",\"\",INDEX('Consequence of Failure'!$P:$P,MATCH('Most Critical'!$C132,'Consequence of Failure'!$A:$A,0)))","v":""},{"$f":"IF($C132=\"\",\"\",INDEX('Data Collection Sheet'!$K:$K,MATCH('Most Critical'!$C132,'Data Collection Sheet'!$A:$A,0)))","v":""},{"$f":"IF($C132=\"\",\"\",INDEX('Cost Data'!$I:$I,MATCH('Most Critical'!$C132,'Cost Data'!$A:$A,0)))","v":""},{"$f":"IF($C132=\"\",\"\",INDEX('Cost Data'!$K:$K,MATCH('Most Critical'!$C132,'Cost Data'!$A:$A,0)))","v":""},{"$f":"IF($C132=\"\",\"\",'Calculate Risk'!$Q125)","v":""}]
[126,null,{"$f":"'Calculate Risk'!$A126","v":""},{"$f":"IF($C133=\"\",\"\",'Calculate Risk'!$B126)","v":""},{"$f":"IF($C133=\"\",\"\",'Calculate Risk'!$C126)","v":""},{"$f":"IF($C133=\"\",\"\",INDEX('Data Collection Sheet'!$D:$D,MATCH('Most Critical'!$C133,'Data Collection Sheet'!$A:$A,0)))","v":""},{"$f":"IF($C133=\"\",\"\",IF(INDEX('Data Collection Sheet'!$E:$E,MATCH('Most Critical'!$C133,'Data Collection Sheet'!$A:$A,0))=\"\",\"\",INDEX('Data Collection Sheet'!$E:$E,MATCH('Most Critical'!$C133,'Data Collection Sheet'!$A:$A,0))))","v":""},{"$f":"IF($C133=\"\",\"\",INDEX('Consequence of Failure'!$P:$P,MATCH('Most Critical'!$C133,'Consequence of Failure'!$A:$A,0)))","v":""},{"$f":"IF($C133=\"\",\"\",INDEX('Data Collection Sheet'!$K:$K,MATCH('Most Critical'!$C133,'Data Collection Sheet'!$A:$A,0)))","v":""},{"$f":"IF($C133=\"\",\"\",INDEX('Cost Data'!$I:$I,MATCH('Most Critical'!$C133,'Cost Data'!$A:$A,0)))","v":""},{"$f":"IF($C133=\"\",\"\",INDEX('Cost Data'!$K:$K,MATCH('Most Critical'!$C133,'Cost Data'!$A:$A,0)))","v":""},{"$f":"IF($C133=\"\",\"\",'Calculate Risk'!$Q126)","v":""}]
[127,null,{"$f":"'Calculate Risk'!$A127","v":""},{"$f":"IF($C134=\"\",\"\",'Calculate Risk'!$B127)","v":""},{"$f":"IF($C134=\"\",\"\",'Calculate Risk'!$C127)","v":""},{"$f":"IF($C134=\"\",\"\",INDEX('Data Collection Sheet'!$D:$D,MATCH('Most Critical'!$C134,'Data Collection Sheet'!$A:$A,0)))","v":""},{"$f":"IF($C134=\"\",\"\",IF(INDEX('Data Collection Sheet'!$E:$E,MATCH('Most Critical'!$C134,'Data Collection Sheet'!$A:$A,0))=\"\",\"\",INDEX('Data Collection Sheet'!$E:$E,MATCH('Most Critical'!$C134,'Data Collection Sheet'!$A:$A,0))))","v":""},{"$f":"IF($C134=\"\",\"\",INDEX('Consequence of Failure'!$P:$P,MATCH('Most Critical'!$C134,'Consequence of Failure'!$A:$A,0)))","v":""},{"$f":"IF($C134=\"\",\"\",INDEX('Data Collection Sheet'!$K:$K,MATCH('Most Critical'!$C134,'Data Collection Sheet'!$A:$A,0)))","v":""},{"$f":"IF($C134=\"\",\"\",INDEX('Cost Data'!$I:$I,MATCH('Most Critical'!$C134,'Cost Data'!$A:$A,0)))","v":""},{"$f":"IF($C134=\"\",\"\",INDEX('Cost Data'!$K:$K,MATCH('Most Critical'!$C134,'Cost Data'!$A:$A,0)))","v":""},{"$f":"IF($C134=\"\",\"\",'Calculate Risk'!$Q127)","v":""}]
[128,null,{"$f":"'Calculate Risk'!$A128","v":""},{"$f":"IF($C135=\"\",\"\",'Calculate Risk'!$B128)","v":""},{"$f":"IF($C135=\"\",\"\",'Calculate Risk'!$C128)","v":""},{"$f":"IF($C135=\"\",\"\",INDEX('Data Collection Sheet'!$D:$D,MATCH('Most Critical'!$C135,'Data Collection Sheet'!$A:$A,0)))","v":""},{"$f":"IF($C135=\"\",\"\",IF(INDEX('Data Collection Sheet'!$E:$E,MATCH('Most Critical'!$C135,'Data Collection Sheet'!$A:$A,0))=\"\",\"\",INDEX('Data Collection Sheet'!$E:$E,MATCH('Most Critical'!$C135,'Data Collection Sheet'!$A:$A,0))))","v":""},{"$f":"IF($C135=\"\",\"\",INDEX('Consequence of Failure'!$P:$P,MATCH('Most Critical'!$C135,'Consequence of Failure'!$A:$A,0)))","v":""},{"$f":"IF($C135=\"\",\"\",INDEX('Data Collection Sheet'!$K:$K,MATCH('Most Critical'!$C135,'Data Collection Sheet'!$A:$A,0)))","v":""},{"$f":"IF($C135=\"\",\"\",INDEX('Cost Data'!$I:$I,MATCH('Most Critical'!$C135,'Cost Data'!$A:$A,0)))","v":""},{"$f":"IF($C135=\"\",\"\",INDEX('Cost Data'!$K:$K,MATCH('Most Critical'!$C135,'Cost Data'!$A:$A,0)))","v":""},{"$f":"IF($C135=\"\",\"\",'Calculate Risk'!$Q128)","v":""}]
[129,null,{"$f":"'Calculate Risk'!$A129","v":""},{"$f":"IF($C136=\"\",\"\",'Calculate Risk'!$B129)","v":""},{"$f":"IF($C136=\"\",\"\",'Calculate Risk'!$C129)","v":""},{"$f":"IF($C136=\"\",\"\",INDEX('Data Collection Sheet'!$D:$D,MATCH('Most Critical'!$C136,'Data Collection Sheet'!$A:$A,0)))","v":""},{"$f":"IF($C136=\"\",\"\",IF(INDEX('Data Collection Sheet'!$E:$E,MATCH('Most Critical'!$C136,'Data Collection Sheet'!$A:$A,0))=\"\",\"\",INDEX('Data Collection Sheet'!$E:$E,MATCH('Most Critical'!$C136,'Data Collection Sheet'!$A:$A,0))))","v":""},{"$f":"IF($C136=\"\",\"\",INDEX('Consequence of Failure'!$P:$P,MATCH('Most Critical'!$C136,'Consequence of Failure'!$A:$A,0)))","v":""},{"$f":"IF($C136=\"\",\"\",INDEX('Data Collection Sheet'!$K:$K,MATCH('Most Critical'!$C136,'Data Collection Sheet'!$A:$A,0)))","v":""},{"$f":"IF($C136=\"\",\"\",INDEX('Cost Data'!$I:$I,MATCH('Most Critical'!$C136,'Cost Data'!$A:$A,0)))","v":""},{"$f":"IF($C136=\"\",\"\",INDEX('Cost Data'!$K:$K,MATCH('Most Critical'!$C136,'Cost Data'!$A:$A,0)))","v":""},{"$f":"IF($C136=\"\",\"\",'Calculate Risk'!$Q129)","v":""}]
[130,null,{"$f":"'Calculate Risk'!$A130","v":""},{"$f":"IF($C137=\"\",\"\",'Calculate Risk'!$B130)","v":""},{"$f":"IF($C137=\"\",\"\",'Calculate Risk'!$C130)","v":""},{"$f":"IF($C137=\"\",\"\",INDEX('Data Collection Sheet'!$D:$D,MATCH('Most Critical'!$C137,'Data Collection Sheet'!$A:$A,0)))","v":""},{"$f":"IF($C137=\"\",\"\",IF(INDEX('Data Collection Sheet'!$E:$E,MATCH('Most Critical'!$C137,'Data Collection Sheet'!$A:$A,0))=\"\",\"\",INDEX('Data Collection Sheet'!$E:$E,MATCH('Most Critical'!$C137,'Data Collection Sheet'!$A:$A,0))))","v":""},{"$f":"IF($C137=\"\",\"\",INDEX('Consequence of Failure'!$P:$P,MATCH('Most Critical'!$C137,'Consequence of Failure'!$A:$A,0)))","v":""},{"$f":"IF($C137=\"\",\"\",INDEX('Data Collection Sheet'!$K:$K,MATCH('Most Critical'!$C137,'Data Collection Sheet'!$A:$A,0)))","v":""},{"$f":"IF($C137=\"\",\"\",INDEX('Cost Data'!$I:$I,MATCH('Most Critical'!$C137,'Cost Data'!$A:$A,0)))","v":""},{"$f":"IF($C137=\"\",\"\",INDEX('Cost Data'!$K:$K,MATCH('Most Critical'!$C137,'Cost Data'!$A:$A,0)))","v":""},{"$f":"IF($C137=\"\",\"\",'Calculate Risk'!$Q130)","v":""}]
[131,null,{"$f":"'Calculate Risk'!$A131","v":""},{"$f":"IF($C138=\"\",\"\",'Calculate Risk'!$B131)","v":""},{"$f":"IF($C138=\"\",\"\",'Calculate Risk'!$C131)","v":""},{"$f":"IF($C138=\"\",\"\",INDEX('Data Collection Sheet'!$D:$D,MATCH('Most Critical'!$C138,'Data Collection Sheet'!$A:$A,0)))","v":""},{"$f":"IF($C138=\"\",\"\",IF(INDEX('Data Collection Sheet'!$E:$E,MATCH('Most Critical'!$C138,'Data Collection Sheet'!$A:$A,0))=\"\",\"\",INDEX('Data Collection Sheet'!$E:$E,MATCH('Most Critical'!$C138,'Data Collection Sheet'!$A:$A,0))))","v":""},{"$f":"IF($C138=\"\",\"\",INDEX('Consequence of Failure'!$P:$P,MATCH('Most Critical'!$C138,'Consequence of Failure'!$A:$A,0)))","v":""},{"$f":"IF($C138=\"\",\"\",INDEX('Data Collection Sheet'!$K:$K,MATCH('Most Critical'!$C138,'Data Collection Sheet'!$A:$A,0)))","v":""},{"$f":"IF($C138=\"\",\"\",INDEX('Cost Data'!$I:$I,MATCH('Most Critical'!$C138,'Cost Data'!$A:$A,0)))","v":""},{"$f":"IF($C138=\"\",\"\",INDEX('Cost Data'!$K:$K,MATCH('Most Critical'!$C138,'Cost Data'!$A:$A,0)))","v":""},{"$f":"IF($C138=\"\",\"\",'Calculate Risk'!$Q131)","v":""}]
[132,null,{"$f":"'Calculate Risk'!$A132","v":""},{"$f":"IF($C139=\"\",\"\",'Calculate Risk'!$B132)","v":""},{"$f":"IF($C139=\"\",\"\",'Calculate Risk'!$C132)","v":""},{"$f":"IF($C139=\"\",\"\",INDEX('Data Collection Sheet'!$D:$D,MATCH('Most Critical'!$C139,'Data Collection Sheet'!$A:$A,0)))","v":""},{"$f":"IF($C139=\"\",\"\",IF(INDEX('Data Collection Sheet'!$E:$E,MATCH('Most Critical'!$C139,'Data Collection Sheet'!$A:$A,0))=\"\",\"\",INDEX('Data Collection Sheet'!$E:$E,MATCH('Most Critical'!$C139,'Data Collection Sheet'!$A:$A,0))))","v":""},{"$f":"IF($C139=\"\",\"\",INDEX('Consequence of Failure'!$P:$P,MATCH('Most Critical'!$C139,'Consequence of Failure'!$A:$A,0)))","v":""},{"$f":"IF($C139=\"\",\"\",INDEX('Data Collection Sheet'!$K:$K,MATCH('Most Critical'!$C139,'Data Collection Sheet'!$A:$A,0)))","v":""},{"$f":"IF($C139=\"\",\"\",INDEX('Cost Data'!$I:$I,MATCH('Most Critical'!$C139,'Cost Data'!$A:$A,0)))","v":""},{"$f":"IF($C139=\"\",\"\",INDEX('Cost Data'!$K:$K,MATCH('Most Critical'!$C139,'Cost Data'!$A:$A,0)))","v":""},{"$f":"IF($C139=\"\",\"\",'Calculate Risk'!$Q132)","v":""}]
[133,null,{"$f":"'Calculate Risk'!$A133","v":""},{"$f":"IF($C140=\"\",\"\",'Calculate Risk'!$B133)","v":""},{"$f":"IF($C140=\"\",\"\",'Calculate Risk'!$C133)","v":""},{"$f":"IF($C140=\"\",\"\",INDEX('Data Collection Sheet'!$D:$D,MATCH('Most Critical'!$C140,'Data Collection Sheet'!$A:$A,0)))","v":""},{"$f":"IF($C140=\"\",\"\",IF(INDEX('Data Collection Sheet'!$E:$E,MATCH('Most Critical'!$C140,'Data Collection Sheet'!$A:$A,0))=\"\",\"\",INDEX('Data Collection Sheet'!$E:$E,MATCH('Most Critical'!$C140,'Data Collection Sheet'!$A:$A,0))))","v":""},{"$f":"IF($C140=\"\",\"\",INDEX('Consequence of Failure'!$P:$P,MATCH('Most Critical'!$C140,'Consequence of Failure'!$A:$A,0)))","v":""},{"$f":"IF($C140=\"\",\"\",INDEX('Data Collection Sheet'!$K:$K,MATCH('Most Critical'!$C140,'Data Collection Sheet'!$A:$A,0)))","v":""},{"$f":"IF($C140=\"\",\"\",INDEX('Cost Data'!$I:$I,MATCH('Most Critical'!$C140,'Cost Data'!$A:$A,0)))","v":""},{"$f":"IF($C140=\"\",\"\",INDEX('Cost Data'!$K:$K,MATCH('Most Critical'!$C140,'Cost Data'!$A:$A,0)))","v":""},{"$f":"IF($C140=\"\",\"\",'Calculate Risk'!$Q133)","v":""}]
[134,null,{"$f":"'Calculate Risk'!$A134","v":""},{"$f":"IF($C141=\"\",\"\",'Calculate Risk'!$B134)","v":""},{"$f":"IF($C141=\"\",\"\",'Calculate Risk'!$C134)","v":""},{"$f":"IF($C141=\"\",\"\",INDEX('Data Collection Sheet'!$D:$D,MATCH('Most Critical'!$C141,'Data Collection Sheet'!$A:$A,0)))","v":""},{"$f":"IF($C141=\"\",\"\",IF(INDEX('Data Collection Sheet'!$E:$E,MATCH('Most Critical'!$C141,'Data Collection Sheet'!$A:$A,0))=\"\",\"\",INDEX('Data Collection Sheet'!$E:$E,MATCH('Most Critical'!$C141,'Data Collection Sheet'!$A:$A,0))))","v":""},{"$f":"IF($C141=\"\",\"\",INDEX('Consequence of Failure'!$P:$P,MATCH('Most Critical'!$C141,'Consequence of Failure'!$A:$A,0)))","v":""},{"$f":"IF($C141=\"\",\"\",INDEX('Data Collection Sheet'!$K:$K,MATCH('Most Critical'!$C141,'Data Collection Sheet'!$A:$A,0)))","v":""},{"$f":"IF($C141=\"\",\"\",INDEX('Cost Data'!$I:$I,MATCH('Most Critical'!$C141,'Cost Data'!$A:$A,0)))","v":""},{"$f":"IF($C141=\"\",\"\",INDEX('Cost Data'!$K:$K,MATCH('Most Critical'!$C141,'Cost Data'!$A:$A,0)))","v":""},{"$f":"IF($C141=\"\",\"\",'Calculate Risk'!$Q134)","v":""}]
[135,null,{"$f":"'Calculate Risk'!$A135","v":""},{"$f":"IF($C142=\"\",\"\",'Calculate Risk'!$B135)","v":""},{"$f":"IF($C142=\"\",\"\",'Calculate Risk'!$C135)","v":""},{"$f":"IF($C142=\"\",\"\",INDEX('Data Collection Sheet'!$D:$D,MATCH('Most Critical'!$C142,'Data Collection Sheet'!$A:$A,0)))","v":""},{"$f":"IF($C142=\"\",\"\",IF(INDEX('Data Collection Sheet'!$E:$E,MATCH('Most Critical'!$C142,'Data Collection Sheet'!$A:$A,0))=\"\",\"\",INDEX('Data Collection Sheet'!$E:$E,MATCH('Most Critical'!$C142,'Data Collection Sheet'!$A:$A,0))))","v":""},{"$f":"IF($C142=\"\",\"\",INDEX('Consequence of Failure'!$P:$P,MATCH('Most Critical'!$C142,'Consequence of Failure'!$A:$A,0)))","v":""},{"$f":"IF($C142=\"\",\"\",INDEX('Data Collection Sheet'!$K:$K,MATCH('Most Critical'!$C142,'Data Collection Sheet'!$A:$A,0)))","v":""},{"$f":"IF($C142=\"\",\"\",INDEX('Cost Data'!$I:$I,MATCH('Most Critical'!$C142,'Cost Data'!$A:$A,0)))","v":""},{"$f":"IF($C142=\"\",\"\",INDEX('Cost Data'!$K:$K,MATCH('Most Critical'!$C142,'Cost Data'!$A:$A,0)))","v":""},{"$f":"IF($C142=\"\",\"\",'Calculate Risk'!$Q135)","v":""}]
[136,null,{"$f":"'Calculate Risk'!$A136","v":""},{"$f":"IF($C143=\"\",\"\",'Calculate Risk'!$B136)","v":""},{"$f":"IF($C143=\"\",\"\",'Calculate Risk'!$C136)","v":""},{"$f":"IF($C143=\"\",\"\",INDEX('Data Collection Sheet'!$D:$D,MATCH('Most Critical'!$C143,'Data Collection Sheet'!$A:$A,0)))","v":""},{"$f":"IF($C143=\"\",\"\",IF(INDEX('Data Collection Sheet'!$E:$E,MATCH('Most Critical'!$C143,'Data Collection Sheet'!$A:$A,0))=\"\",\"\",INDEX('Data Collection Sheet'!$E:$E,MATCH('Most Critical'!$C143,'Data Collection Sheet'!$A:$A,0))))","v":""},{"$f":"IF($C143=\"\",\"\",INDEX('Consequence of Failure'!$P:$P,MATCH('Most Critical'!$C143,'Consequence of Failure'!$A:$A,0)))","v":""},{"$f":"IF($C143=\"\",\"\",INDEX('Data Collection Sheet'!$K:$K,MATCH('Most Critical'!$C143,'Data Collection Sheet'!$A:$A,0)))","v":""},{"$f":"IF($C143=\"\",\"\",INDEX('Cost Data'!$I:$I,MATCH('Most Critical'!$C143,'Cost Data'!$A:$A,0)))","v":""},{"$f":"IF($C143=\"\",\"\",INDEX('Cost Data'!$K:$K,MATCH('Most Critical'!$C143,'Cost Data'!$A:$A,0)))","v":""},{"$f":"IF($C143=\"\",\"\",'Calculate Risk'!$Q136)","v":""}]
[137,null,{"$f":"'Calculate Risk'!$A137","v":""},{"$f":"IF($C144=\"\",\"\",'Calculate Risk'!$B137)","v":""},{"$f":"IF($C144=\"\",\"\",'Calculate Risk'!$C137)","v":""},{"$f":"IF($C144=\"\",\"\",INDEX('Data Collection Sheet'!$D:$D,MATCH('Most Critical'!$C144,'Data Collection Sheet'!$A:$A,0)))","v":""},{"$f":"IF($C144=\"\",\"\",IF(INDEX('Data Collection Sheet'!$E:$E,MATCH('Most Critical'!$C144,'Data Collection Sheet'!$A:$A,0))=\"\",\"\",INDEX('Data Collection Sheet'!$E:$E,MATCH('Most Critical'!$C144,'Data Collection Sheet'!$A:$A,0))))","v":""},{"$f":"IF($C144=\"\",\"\",INDEX('Consequence of Failure'!$P:$P,MATCH('Most Critical'!$C144,'Consequence of Failure'!$A:$A,0)))","v":""},{"$f":"IF($C144=\"\",\"\",INDEX('Data Collection Sheet'!$K:$K,MATCH('Most Critical'!$C144,'Data Collection Sheet'!$A:$A,0)))","v":""},{"$f":"IF($C144=\"\",\"\",INDEX('Cost Data'!$I:$I,MATCH('Most Critical'!$C144,'Cost Data'!$A:$A,0)))","v":""},{"$f":"IF($C144=\"\",\"\",INDEX('Cost Data'!$K:$K,MATCH('Most Critical'!$C144,'Cost Data'!$A:$A,0)))","v":""},{"$f":"IF($C144=\"\",\"\",'Calculate Risk'!$Q137)","v":""}]
[138,null,{"$f":"'Calculate Risk'!$A138","v":""},{"$f":"IF($C145=\"\",\"\",'Calculate Risk'!$B138)","v":""},{"$f":"IF($C145=\"\",\"\",'Calculate Risk'!$C138)","v":""},{"$f":"IF($C145=\"\",\"\",INDEX('Data Collection Sheet'!$D:$D,MATCH('Most Critical'!$C145,'Data Collection Sheet'!$A:$A,0)))","v":""},{"$f":"IF($C145=\"\",\"\",IF(INDEX('Data Collection Sheet'!$E:$E,MATCH('Most Critical'!$C145,'Data Collection Sheet'!$A:$A,0))=\"\",\"\",INDEX('Data Collection Sheet'!$E:$E,MATCH('Most Critical'!$C145,'Data Collection Sheet'!$A:$A,0))))","v":""},{"$f":"IF($C145=\"\",\"\",INDEX('Consequence of Failure'!$P:$P,MATCH('Most Critical'!$C145,'Consequence of Failure'!$A:$A,0)))","v":""},{"$f":"IF($C145=\"\",\"\",INDEX('Data Collection Sheet'!$K:$K,MATCH('Most Critical'!$C145,'Data Collection Sheet'!$A:$A,0)))","v":""},{"$f":"IF($C145=\"\",\"\",INDEX('Cost Data'!$I:$I,MATCH('Most Critical'!$C145,'Cost Data'!$A:$A,0)))","v":""},{"$f":"IF($C145=\"\",\"\",INDEX('Cost Data'!$K:$K,MATCH('Most Critical'!$C145,'Cost Data'!$A:$A,0)))","v":""},{"$f":"IF($C145=\"\",\"\",'Calculate Risk'!$Q138)","v":""}]
[139,null,{"$f":"'Calculate Risk'!$A139","v":""},{"$f":"IF($C146=\"\",\"\",'Calculate Risk'!$B139)","v":""},{"$f":"IF($C146=\"\",\"\",'Calculate Risk'!$C139)","v":""},{"$f":"IF($C146=\"\",\"\",INDEX('Data Collection Sheet'!$D:$D,MATCH('Most Critical'!$C146,'Data Collection Sheet'!$A:$A,0)))","v":""},{"$f":"IF($C146=\"\",\"\",IF(INDEX('Data Collection Sheet'!$E:$E,MATCH('Most Critical'!$C146,'Data Collection Sheet'!$A:$A,0))=\"\",\"\",INDEX('Data Collection Sheet'!$E:$E,MATCH('Most Critical'!$C146,'Data Collection Sheet'!$A:$A,0))))","v":""},{"$f":"IF($C146=\"\",\"\",INDEX('Consequence of Failure'!$P:$P,MATCH('Most Critical'!$C146,'Consequence of Failure'!$A:$A,0)))","v":""},{"$f":"IF($C146=\"\",\"\",INDEX('Data Collection Sheet'!$K:$K,MATCH('Most Critical'!$C146,'Data Collection Sheet'!$A:$A,0)))","v":""},{"$f":"IF($C146=\"\",\"\",INDEX('Cost Data'!$I:$I,MATCH('Most Critical'!$C146,'Cost Data'!$A:$A,0)))","v":""},{"$f":"IF($C146=\"\",\"\",INDEX('Cost Data'!$K:$K,MATCH('Most Critical'!$C146,'Cost Data'!$A:$A,0)))","v":""},{"$f":"IF($C146=\"\",\"\",'Calculate Risk'!$Q139)","v":""}]
[140,null,{"$f":"'Calculate Risk'!$A140","v":""},{"$f":"IF($C147=\"\",\"\",'Calculate Risk'!$B140)","v":""},{"$f":"IF($C147=\"\",\"\",'Calculate Risk'!$C140)","v":""},{"$f":"IF($C147=\"\",\"\",INDEX('Data Collection Sheet'!$D:$D,MATCH('Most Critical'!$C147,'Data Collection Sheet'!$A:$A,0)))","v":""},{"$f":"IF($C147=\"\",\"\",IF(INDEX('Data Collection Sheet'!$E:$E,MATCH('Most Critical'!$C147,'Data Collection Sheet'!$A:$A,0))=\"\",\"\",INDEX('Data Collection Sheet'!$E:$E,MATCH('Most Critical'!$C147,'Data Collection Sheet'!$A:$A,0))))","v":""},{"$f":"IF($C147=\"\",\"\",INDEX('Consequence of Failure'!$P:$P,MATCH('Most Critical'!$C147,'Consequence of Failure'!$A:$A,0)))","v":""},{"$f":"IF($C147=\"\",\"\",INDEX('Data Collection Sheet'!$K:$K,MATCH('Most Critical'!$C147,'Data Collection Sheet'!$A:$A,0)))","v":""},{"$f":"IF($C147=\"\",\"\",INDEX('Cost Data'!$I:$I,MATCH('Most Critical'!$C147,'Cost Data'!$A:$A,0)))","v":""},{"$f":"IF($C147=\"\",\"\",INDEX('Cost Data'!$K:$K,MATCH('Most Critical'!$C147,'Cost Data'!$A:$A,0)))","v":""},{"$f":"IF($C147=\"\",\"\",'Calculate Risk'!$Q140)","v":""}]
[141,null,{"$f":"'Calculate Risk'!$A141","v":""},{"$f":"IF($C148=\"\",\"\",'Calculate Risk'!$B141)","v":""},{"$f":"IF($C148=\"\",\"\",'Calculate Risk'!$C141)","v":""},{"$f":"IF($C148=\"\",\"\",INDEX('Data Collection Sheet'!$D:$D,MATCH('Most Critical'!$C148,'Data Collection Sheet'!$A:$A,0)))","v":""},{"$f":"IF($C148=\"\",\"\",IF(INDEX('Data Collection Sheet'!$E:$E,MATCH('Most Critical'!$C148,'Data Collection Sheet'!$A:$A,0))=\"\",\"\",INDEX('Data Collection Sheet'!$E:$E,MATCH('Most Critical'!$C148,'Data Collection Sheet'!$A:$A,0))))","v":""},{"$f":"IF($C148=\"\",\"\",INDEX('Consequence of Failure'!$P:$P,MATCH('Most Critical'!$C148,'Consequence of Failure'!$A:$A,0)))","v":""},{"$f":"IF($C148=\"\",\"\",INDEX('Data Collection Sheet'!$K:$K,MATCH('Most Critical'!$C148,'Data Collection Sheet'!$A:$A,0)))","v":""},{"$f":"IF($C148=\"\",\"\",INDEX('Cost Data'!$I:$I,MATCH('Most Critical'!$C148,'Cost Data'!$A:$A,0)))","v":""},{"$f":"IF($C148=\"\",\"\",INDEX('Cost Data'!$K:$K,MATCH('Most Critical'!$C148,'Cost Data'!$A:$A,0)))","v":""},{"$f":"IF($C148=\"\",\"\",'Calculate Risk'!$Q141)","v":""}]
[142,null,{"$f":"'Calculate Risk'!$A142","v":""},{"$f":"IF($C149=\"\",\"\",'Calculate Risk'!$B142)","v":""},{"$f":"IF($C149=\"\",\"\",'Calculate Risk'!$C142)","v":""},{"$f":"IF($C149=\"\",\"\",INDEX('Data Collection Sheet'!$D:$D,MATCH('Most Critical'!$C149,'Data Collection Sheet'!$A:$A,0)))","v":""},{"$f":"IF($C149=\"\",\"\",IF(INDEX('Data Collection Sheet'!$E:$E,MATCH('Most Critical'!$C149,'Data Collection Sheet'!$A:$A,0))=\"\",\"\",INDEX('Data Collection Sheet'!$E:$E,MATCH('Most Critical'!$C149,'Data Collection Sheet'!$A:$A,0))))","v":""},{"$f":"IF($C149=\"\",\"\",INDEX('Consequence of Failure'!$P:$P,MATCH('Most Critical'!$C149,'Consequence of Failure'!$A:$A,0)))","v":""},{"$f":"IF($C149=\"\",\"\",INDEX('Data Collection Sheet'!$K:$K,MATCH('Most Critical'!$C149,'Data Collection Sheet'!$A:$A,0)))","v":""},{"$f":"IF($C149=\"\",\"\",INDEX('Cost Data'!$I:$I,MATCH('Most Critical'!$C149,'Cost Data'!$A:$A,0)))","v":""},{"$f":"IF($C149=\"\",\"\",INDEX('Cost Data'!$K:$K,MATCH('Most Critical'!$C149,'Cost Data'!$A:$A,0)))","v":""},{"$f":"IF($C149=\"\",\"\",'Calculate Risk'!$Q142)","v":""}]
[143,null,{"$f":"'Calculate Risk'!$A143","v":""},{"$f":"IF($C150=\"\",\"\",'Calculate Risk'!$B143)","v":""},{"$f":"IF($C150=\"\",\"\",'Calculate Risk'!$C143)","v":""},{"$f":"IF($C150=\"\",\"\",INDEX('Data Collection Sheet'!$D:$D,MATCH('Most Critical'!$C150,'Data Collection Sheet'!$A:$A,0)))","v":""},{"$f":"IF($C150=\"\",\"\",IF(INDEX('Data Collection Sheet'!$E:$E,MATCH('Most Critical'!$C150,'Data Collection Sheet'!$A:$A,0))=\"\",\"\",INDEX('Data Collection Sheet'!$E:$E,MATCH('Most Critical'!$C150,'Data Collection Sheet'!$A:$A,0))))","v":""},{"$f":"IF($C150=\"\",\"\",INDEX('Consequence of Failure'!$P:$P,MATCH('Most Critical'!$C150,'Consequence of Failure'!$A:$A,0)))","v":""},{"$f":"IF($C150=\"\",\"\",INDEX('Data Collection Sheet'!$K:$K,MATCH('Most Critical'!$C150,'Data Collection Sheet'!$A:$A,0)))","v":""},{"$f":"IF($C150=\"\",\"\",INDEX('Cost Data'!$I:$I,MATCH('Most Critical'!$C150,'Cost Data'!$A:$A,0)))","v":""},{"$f":"IF($C150=\"\",\"\",INDEX('Cost Data'!$K:$K,MATCH('Most Critical'!$C150,'Cost Data'!$A:$A,0)))","v":""},{"$f":"IF($C150=\"\",\"\",'Calculate Risk'!$Q143)","v":""}]
[144,null,{"$f":"'Calculate Risk'!$A144","v":""},{"$f":"IF($C151=\"\",\"\",'Calculate Risk'!$B144)","v":""},{"$f":"IF($C151=\"\",\"\",'Calculate Risk'!$C144)","v":""},{"$f":"IF($C151=\"\",\"\",INDEX('Data Collection Sheet'!$D:$D,MATCH('Most Critical'!$C151,'Data Collection Sheet'!$A:$A,0)))","v":""},{"$f":"IF($C151=\"\",\"\",IF(INDEX('Data Collection Sheet'!$E:$E,MATCH('Most Critical'!$C151,'Data Collection Sheet'!$A:$A,0))=\"\",\"\",INDEX('Data Collection Sheet'!$E:$E,MATCH('Most Critical'!$C151,'Data Collection Sheet'!$A:$A,0))))","v":""},{"$f":"IF($C151=\"\",\"\",INDEX('Consequence of Failure'!$P:$P,MATCH('Most Critical'!$C151,'Consequence of Failure'!$A:$A,0)))","v":""},{"$f":"IF($C151=\"\",\"\",INDEX('Data Collection Sheet'!$K:$K,MATCH('Most Critical'!$C151,'Data Collection Sheet'!$A:$A,0)))","v":""},{"$f":"IF($C151=\"\",\"\",INDEX('Cost Data'!$I:$I,MATCH('Most Critical'!$C151,'Cost Data'!$A:$A,0)))","v":""},{"$f":"IF($C151=\"\",\"\",INDEX('Cost Data'!$K:$K,MATCH('Most Critical'!$C151,'Cost Data'!$A:$A,0)))","v":""},{"$f":"IF($C151=\"\",\"\",'Calculate Risk'!$Q144)","v":""}]
[145,null,{"$f":"'Calculate Risk'!$A145","v":""},{"$f":"IF($C152=\"\",\"\",'Calculate Risk'!$B145)","v":""},{"$f":"IF($C152=\"\",\"\",'Calculate Risk'!$C145)","v":""},{"$f":"IF($C152=\"\",\"\",INDEX('Data Collection Sheet'!$D:$D,MATCH('Most Critical'!$C152,'Data Collection Sheet'!$A:$A,0)))","v":""},{"$f":"IF($C152=\"\",\"\",IF(INDEX('Data Collection Sheet'!$E:$E,MATCH('Most Critical'!$C152,'Data Collection Sheet'!$A:$A,0))=\"\",\"\",INDEX('Data Collection Sheet'!$E:$E,MATCH('Most Critical'!$C152,'Data Collection Sheet'!$A:$A,0))))","v":""},{"$f":"IF($C152=\"\",\"\",INDEX('Consequence of Failure'!$P:$P,MATCH('Most Critical'!$C152,'Consequence of Failure'!$A:$A,0)))","v":""},{"$f":"IF($C152=\"\",\"\",INDEX('Data Collection Sheet'!$K:$K,MATCH('Most Critical'!$C152,'Data Collection Sheet'!$A:$A,0)))","v":""},{"$f":"IF($C152=\"\",\"\",INDEX('Cost Data'!$I:$I,MATCH('Most Critical'!$C152,'Cost Data'!$A:$A,0)))","v":""},{"$f":"IF($C152=\"\",\"\",INDEX('Cost Data'!$K:$K,MATCH('Most Critical'!$C152,'Cost Data'!$A:$A,0)))","v":""},{"$f":"IF($C152=\"\",\"\",'Calculate Risk'!$Q145)","v":""}]
[146,null,{"$f":"'Calculate Risk'!$A146","v":""},{"$f":"IF($C153=\"\",\"\",'Calculate Risk'!$B146)","v":""},{"$f":"IF($C153=\"\",\"\",'Calculate Risk'!$C146)","v":""},{"$f":"IF($C153=\"\",\"\",INDEX('Data Collection Sheet'!$D:$D,MATCH('Most Critical'!$C153,'Data Collection Sheet'!$A:$A,0)))","v":""},{"$f":"IF($C153=\"\",\"\",IF(INDEX('Data Collection Sheet'!$E:$E,MATCH('Most Critical'!$C153,'Data Collection Sheet'!$A:$A,0))=\"\",\"\",INDEX('Data Collection Sheet'!$E:$E,MATCH('Most Critical'!$C153,'Data Collection Sheet'!$A:$A,0))))","v":""},{"$f":"IF($C153=\"\",\"\",INDEX('Consequence of Failure'!$P:$P,MATCH('Most Critical'!$C153,'Consequence of Failure'!$A:$A,0)))","v":""},{"$f":"IF($C153=\"\",\"\",INDEX('Data Collection Sheet'!$K:$K,MATCH('Most Critical'!$C153,'Data Collection Sheet'!$A:$A,0)))","v":""},{"$f":"IF($C153=\"\",\"\",INDEX('Cost Data'!$I:$I,MATCH('Most Critical'!$C153,'Cost Data'!$A:$A,0)))","v":""},{"$f":"IF($C153=\"\",\"\",INDEX('Cost Data'!$K:$K,MATCH('Most Critical'!$C153,'Cost Data'!$A:$A,0)))","v":""},{"$f":"IF($C153=\"\",\"\",'Calculate Risk'!$Q146)","v":""}]
[147,null,{"$f":"'Calculate Risk'!$A147","v":""},{"$f":"IF($C154=\"\",\"\",'Calculate Risk'!$B147)","v":""},{"$f":"IF($C154=\"\",\"\",'Calculate Risk'!$C147)","v":""},{"$f":"IF($C154=\"\",\"\",INDEX('Data Collection Sheet'!$D:$D,MATCH('Most Critical'!$C154,'Data Collection Sheet'!$A:$A,0)))","v":""},{"$f":"IF($C154=\"\",\"\",IF(INDEX('Data Collection Sheet'!$E:$E,MATCH('Most Critical'!$C154,'Data Collection Sheet'!$A:$A,0))=\"\",\"\",INDEX('Data Collection Sheet'!$E:$E,MATCH('Most Critical'!$C154,'Data Collection Sheet'!$A:$A,0))))","v":""},{"$f":"IF($C154=\"\",\"\",INDEX('Consequence of Failure'!$P:$P,MATCH('Most Critical'!$C154,'Consequence of Failure'!$A:$A,0)))","v":""},{"$f":"IF($C154=\"\",\"\",INDEX('Data Collection Sheet'!$K:$K,MATCH('Most Critical'!$C154,'Data Collection Sheet'!$A:$A,0)))","v":""},{"$f":"IF($C154=\"\",\"\",INDEX('Cost Data'!$I:$I,MATCH('Most Critical'!$C154,'Cost Data'!$A:$A,0)))","v":""},{"$f":"IF($C154=\"\",\"\",INDEX('Cost Data'!$K:$K,MATCH('Most Critical'!$C154,'Cost Data'!$A:$A,0)))","v":""},{"$f":"IF($C154=\"\",\"\",'Calculate Risk'!$Q147)","v":""}]
[148,null,{"$f":"'Calculate Risk'!$A148","v":""},{"$f":"IF($C155=\"\",\"\",'Calculate Risk'!$B148)","v":""},{"$f":"IF($C155=\"\",\"\",'Calculate Risk'!$C148)","v":""},{"$f":"IF($C155=\"\",\"\",INDEX('Data Collection Sheet'!$D:$D,MATCH('Most Critical'!$C155,'Data Collection Sheet'!$A:$A,0)))","v":""},{"$f":"IF($C155=\"\",\"\",IF(INDEX('Data Collection Sheet'!$E:$E,MATCH('Most Critical'!$C155,'Data Collection Sheet'!$A:$A,0))=\"\",\"\",INDEX('Data Collection Sheet'!$E:$E,MATCH('Most Critical'!$C155,'Data Collection Sheet'!$A:$A,0))))","v":""},{"$f":"IF($C155=\"\",\"\",INDEX('Consequence of Failure'!$P:$P,MATCH('Most Critical'!$C155,'Consequence of Failure'!$A:$A,0)))","v":""},{"$f":"IF($C155=\"\",\"\",INDEX('Data Collection Sheet'!$K:$K,MATCH('Most Critical'!$C155,'Data Collection Sheet'!$A:$A,0)))","v":""},{"$f":"IF($C155=\"\",\"\",INDEX('Cost Data'!$I:$I,MATCH('Most Critical'!$C155,'Cost Data'!$A:$A,0)))","v":""},{"$f":"IF($C155=\"\",\"\",INDEX('Cost Data'!$K:$K,MATCH('Most Critical'!$C155,'Cost Data'!$A:$A,0)))","v":""},{"$f":"IF($C155=\"\",\"\",'Calculate Risk'!$Q148)","v":""}]
[149,null,{"$f":"'Calculate Risk'!$A149","v":""},{"$f":"IF($C156=\"\",\"\",'Calculate Risk'!$B149)","v":""},{"$f":"IF($C156=\"\",\"\",'Calculate Risk'!$C149)","v":""},{"$f":"IF($C156=\"\",\"\",INDEX('Data Collection Sheet'!$D:$D,MATCH('Most Critical'!$C156,'Data Collection Sheet'!$A:$A,0)))","v":""},{"$f":"IF($C156=\"\",\"\",IF(INDEX('Data Collection Sheet'!$E:$E,MATCH('Most Critical'!$C156,'Data Collection Sheet'!$A:$A,0))=\"\",\"\",INDEX('Data Collection Sheet'!$E:$E,MATCH('Most Critical'!$C156,'Data Collection Sheet'!$A:$A,0))))","v":""},{"$f":"IF($C156=\"\",\"\",INDEX('Consequence of Failure'!$P:$P,MATCH('Most Critical'!$C156,'Consequence of Failure'!$A:$A,0)))","v":""},{"$f":"IF($C156=\"\",\"\",INDEX('Data Collection Sheet'!$K:$K,MATCH('Most Critical'!$C156,'Data Collection Sheet'!$A:$A,0)))","v":""},{"$f":"IF($C156=\"\",\"\",INDEX('Cost Data'!$I:$I,MATCH('Most Critical'!$C156,'Cost Data'!$A:$A,0)))","v":""},{"$f":"IF($C156=\"\",\"\",INDEX('Cost Data'!$K:$K,MATCH('Most Critical'!$C156,'Cost Data'!$A:$A,0)))","v":""},{"$f":"IF($C156=\"\",\"\",'Calculate Risk'!$Q149)","v":""}]
[150,null,{"$f":"'Calculate Risk'!$A150","v":""},{"$f":"IF($C157=\"\",\"\",'Calculate Risk'!$B150)","v":""},{"$f":"IF($C157=\"\",\"\",'Calculate Risk'!$C150)","v":""},{"$f":"IF($C157=\"\",\"\",INDEX('Data Collection Sheet'!$D:$D,MATCH('Most Critical'!$C157,'Data Collection Sheet'!$A:$A,0)))","v":""},{"$f":"IF($C157=\"\",\"\",IF(INDEX('Data Collection Sheet'!$E:$E,MATCH('Most Critical'!$C157,'Data Collection Sheet'!$A:$A,0))=\"\",\"\",INDEX('Data Collection Sheet'!$E:$E,MATCH('Most Critical'!$C157,'Data Collection Sheet'!$A:$A,0))))","v":""},{"$f":"IF($C157=\"\",\"\",INDEX('Consequence of Failure'!$P:$P,MATCH('Most Critical'!$C157,'Consequence of Failure'!$A:$A,0)))","v":""},{"$f":"IF($C157=\"\",\"\",INDEX('Data Collection Sheet'!$K:$K,MATCH('Most Critical'!$C157,'Data Collection Sheet'!$A:$A,0)))","v":""},{"$f":"IF($C157=\"\",\"\",INDEX('Cost Data'!$I:$I,MATCH('Most Critical'!$C157,'Cost Data'!$A:$A,0)))","v":""},{"$f":"IF($C157=\"\",\"\",INDEX('Cost Data'!$K:$K,MATCH('Most Critical'!$C157,'Cost Data'!$A:$A,0)))","v":""},{"$f":"IF($C157=\"\",\"\",'Calculate Risk'!$Q150)","v":""}]
[151,null,{"$f":"'Calculate Risk'!$A151","v":""},{"$f":"IF($C158=\"\",\"\",'Calculate Risk'!$B151)","v":""},{"$f":"IF($C158=\"\",\"\",'Calculate Risk'!$C151)","v":""},{"$f":"IF($C158=\"\",\"\",INDEX('Data Collection Sheet'!$D:$D,MATCH('Most Critical'!$C158,'Data Collection Sheet'!$A:$A,0)))","v":""},{"$f":"IF($C158=\"\",\"\",IF(INDEX('Data Collection Sheet'!$E:$E,MATCH('Most Critical'!$C158,'Data Collection Sheet'!$A:$A,0))=\"\",\"\",INDEX('Data Collection Sheet'!$E:$E,MATCH('Most Critical'!$C158,'Data Collection Sheet'!$A:$A,0))))","v":""},{"$f":"IF($C158=\"\",\"\",INDEX('Consequence of Failure'!$P:$P,MATCH('Most Critical'!$C158,'Consequence of Failure'!$A:$A,0)))","v":""},{"$f":"IF($C158=\"\",\"\",INDEX('Data Collection Sheet'!$K:$K,MATCH('Most Critical'!$C158,'Data Collection Sheet'!$A:$A,0)))","v":""},{"$f":"IF($C158=\"\",\"\",INDEX('Cost Data'!$I:$I,MATCH('Most Critical'!$C158,'Cost Data'!$A:$A,0)))","v":""},{"$f":"IF($C158=\"\",\"\",INDEX('Cost Data'!$K:$K,MATCH('Most Critical'!$C158,'Cost Data'!$A:$A,0)))","v":""},{"$f":"IF($C158=\"\",\"\",'Calculate Risk'!$Q151)","v":""}]
[152,null,{"$f":"'Calculate Risk'!$A152","v":""},{"$f":"IF($C159=\"\",\"\",'Calculate Risk'!$B152)","v":""},{"$f":"IF($C159=\"\",\"\",'Calculate Risk'!$C152)","v":""},{"$f":"IF($C159=\"\",\"\",INDEX('Data Collection Sheet'!$D:$D,MATCH('Most Critical'!$C159,'Data Collection Sheet'!$A:$A,0)))","v":""},{"$f":"IF($C159=\"\",\"\",IF(INDEX('Data Collection Sheet'!$E:$E,MATCH('Most Critical'!$C159,'Data Collection Sheet'!$A:$A,0))=\"\",\"\",INDEX('Data Collection Sheet'!$E:$E,MATCH('Most Critical'!$C159,'Data Collection Sheet'!$A:$A,0))))","v":""},{"$f":"IF($C159=\"\",\"\",INDEX('Consequence of Failure'!$P:$P,MATCH('Most Critical'!$C159,'Consequence of Failure'!$A:$A,0)))","v":""},{"$f":"IF($C159=\"\",\"\",INDEX('Data Collection Sheet'!$K:$K,MATCH('Most Critical'!$C159,'Data Collection Sheet'!$A:$A,0)))","v":""},{"$f":"IF($C159=\"\",\"\",INDEX('Cost Data'!$I:$I,MATCH('Most Critical'!$C159,'Cost Data'!$A:$A,0)))","v":""},{"$f":"IF($C159=\"\",\"\",INDEX('Cost Data'!$K:$K,MATCH('Most Critical'!$C159,'Cost Data'!$A:$A,0)))","v":""},{"$f":"IF($C159=\"\",\"\",'Calculate Risk'!$Q152)","v":""}]
[153,null,{"$f":"'Calculate Risk'!$A153","v":""},{"$f":"IF($C160=\"\",\"\",'Calculate Risk'!$B153)","v":""},{"$f":"IF($C160=\"\",\"\",'Calculate Risk'!$C153)","v":""},{"$f":"IF($C160=\"\",\"\",INDEX('Data Collection Sheet'!$D:$D,MATCH('Most Critical'!$C160,'Data Collection Sheet'!$A:$A,0)))","v":""},{"$f":"IF($C160=\"\",\"\",IF(INDEX('Data Collection Sheet'!$E:$E,MATCH('Most Critical'!$C160,'Data Collection Sheet'!$A:$A,0))=\"\",\"\",INDEX('Data Collection Sheet'!$E:$E,MATCH('Most Critical'!$C160,'Data Collection Sheet'!$A:$A,0))))","v":""},{"$f":"IF($C160=\"\",\"\",INDEX('Consequence of Failure'!$P:$P,MATCH('Most Critical'!$C160,'Consequence of Failure'!$A:$A,0)))","v":""},{"$f":"IF($C160=\"\",\"\",INDEX('Data Collection Sheet'!$K:$K,MATCH('Most Critical'!$C160,'Data Collection Sheet'!$A:$A,0)))","v":""},{"$f":"IF($C160=\"\",\"\",INDEX('Cost Data'!$I:$I,MATCH('Most Critical'!$C160,'Cost Data'!$A:$A,0)))","v":""},{"$f":"IF($C160=\"\",\"\",INDEX('Cost Data'!$K:$K,MATCH('Most Critical'!$C160,'Cost Data'!$A:$A,0)))","v":""},{"$f":"IF($C160=\"\",\"\",'Calculate Risk'!$Q153)","v":""}]
[154,null,{"$f":"'Calculate Risk'!$A154","v":""},{"$f":"IF($C161=\"\",\"\",'Calculate Risk'!$B154)","v":""},{"$f":"IF($C161=\"\",\"\",'Calculate Risk'!$C154)","v":""},{"$f":"IF($C161=\"\",\"\",INDEX('Data Collection Sheet'!$D:$D,MATCH('Most Critical'!$C161,'Data Collection Sheet'!$A:$A,0)))","v":""},{"$f":"IF($C161=\"\",\"\",IF(INDEX('Data Collection Sheet'!$E:$E,MATCH('Most Critical'!$C161,'Data Collection Sheet'!$A:$A,0))=\"\",\"\",INDEX('Data Collection Sheet'!$E:$E,MATCH('Most Critical'!$C161,'Data Collection Sheet'!$A:$A,0))))","v":""},{"$f":"IF($C161=\"\",\"\",INDEX('Consequence of Failure'!$P:$P,MATCH('Most Critical'!$C161,'Consequence of Failure'!$A:$A,0)))","v":""},{"$f":"IF($C161=\"\",\"\",INDEX('Data Collection Sheet'!$K:$K,MATCH('Most Critical'!$C161,'Data Collection Sheet'!$A:$A,0)))","v":""},{"$f":"IF($C161=\"\",\"\",INDEX('Cost Data'!$I:$I,MATCH('Most Critical'!$C161,'Cost Data'!$A:$A,0)))","v":""},{"$f":"IF($C161=\"\",\"\",INDEX('Cost Data'!$K:$K,MATCH('Most Critical'!$C161,'Cost Data'!$A:$A,0)))","v":""},{"$f":"IF($C161=\"\",\"\",'Calculate Risk'!$Q154)","v":""}]
[155,null,{"$f":"'Calculate Risk'!$A155","v":""},{"$f":"IF($C162=\"\",\"\",'Calculate Risk'!$B155)","v":""},{"$f":"IF($C162=\"\",\"\",'Calculate Risk'!$C155)","v":""},{"$f":"IF($C162=\"\",\"\",INDEX('Data Collection Sheet'!$D:$D,MATCH('Most Critical'!$C162,'Data Collection Sheet'!$A:$A,0)))","v":""},{"$f":"IF($C162=\"\",\"\",IF(INDEX('Data Collection Sheet'!$E:$E,MATCH('Most Critical'!$C162,'Data Collection Sheet'!$A:$A,0))=\"\",\"\",INDEX('Data Collection Sheet'!$E:$E,MATCH('Most Critical'!$C162,'Data Collection Sheet'!$A:$A,0))))","v":""},{"$f":"IF($C162=\"\",\"\",INDEX('Consequence of Failure'!$P:$P,MATCH('Most Critical'!$C162,'Consequence of Failure'!$A:$A,0)))","v":""},{"$f":"IF($C162=\"\",\"\",INDEX('Data Collection Sheet'!$K:$K,MATCH('Most Critical'!$C162,'Data Collection Sheet'!$A:$A,0)))","v":""},{"$f":"IF($C162=\"\",\"\",INDEX('Cost Data'!$I:$I,MATCH('Most Critical'!$C162,'Cost Data'!$A:$A,0)))","v":""},{"$f":"IF($C162=\"\",\"\",INDEX('Cost Data'!$K:$K,MATCH('Most Critical'!$C162,'Cost Data'!$A:$A,0)))","v":""},{"$f":"IF($C162=\"\",\"\",'Calculate Risk'!$Q155)","v":""}]
[156,null,{"$f":"'Calculate Risk'!$A156","v":""},{"$f":"IF($C163=\"\",\"\",'Calculate Risk'!$B156)","v":""},{"$f":"IF($C163=\"\",\"\",'Calculate Risk'!$C156)","v":""},{"$f":"IF($C163=\"\",\"\",INDEX('Data Collection Sheet'!$D:$D,MATCH('Most Critical'!$C163,'Data Collection Sheet'!$A:$A,0)))","v":""},{"$f":"IF($C163=\"\",\"\",IF(INDEX('Data Collection Sheet'!$E:$E,MATCH('Most Critical'!$C163,'Data Collection Sheet'!$A:$A,0))=\"\",\"\",INDEX('Data Collection Sheet'!$E:$E,MATCH('Most Critical'!$C163,'Data Collection Sheet'!$A:$A,0))))","v":""},{"$f":"IF($C163=\"\",\"\",INDEX('Consequence of Failure'!$P:$P,MATCH('Most Critical'!$C163,'Consequence of Failure'!$A:$A,0)))","v":""},{"$f":"IF($C163=\"\",\"\",INDEX('Data Collection Sheet'!$K:$K,MATCH('Most Critical'!$C163,'Data Collection Sheet'!$A:$A,0)))","v":""},{"$f":"IF($C163=\"\",\"\",INDEX('Cost Data'!$I:$I,MATCH('Most Critical'!$C163,'Cost Data'!$A:$A,0)))","v":""},{"$f":"IF($C163=\"\",\"\",INDEX('Cost Data'!$K:$K,MATCH('Most Critical'!$C163,'Cost Data'!$A:$A,0)))","v":""},{"$f":"IF($C163=\"\",\"\",'Calculate Risk'!$Q156)","v":""}]
[157,null,{"$f":"'Calculate Risk'!$A157","v":""},{"$f":"IF($C164=\"\",\"\",'Calculate Risk'!$B157)","v":""},{"$f":"IF($C164=\"\",\"\",'Calculate Risk'!$C157)","v":""},{"$f":"IF($C164=\"\",\"\",INDEX('Data Collection Sheet'!$D:$D,MATCH('Most Critical'!$C164,'Data Collection Sheet'!$A:$A,0)))","v":""},{"$f":"IF($C164=\"\",\"\",IF(INDEX('Data Collection Sheet'!$E:$E,MATCH('Most Critical'!$C164,'Data Collection Sheet'!$A:$A,0))=\"\",\"\",INDEX('Data Collection Sheet'!$E:$E,MATCH('Most Critical'!$C164,'Data Collection Sheet'!$A:$A,0))))","v":""},{"$f":"IF($C164=\"\",\"\",INDEX('Consequence of Failure'!$P:$P,MATCH('Most Critical'!$C164,'Consequence of Failure'!$A:$A,0)))","v":""},{"$f":"IF($C164=\"\",\"\",INDEX('Data Collection Sheet'!$K:$K,MATCH('Most Critical'!$C164,'Data Collection Sheet'!$A:$A,0)))","v":""},{"$f":"IF($C164=\"\",\"\",INDEX('Cost Data'!$I:$I,MATCH('Most Critical'!$C164,'Cost Data'!$A:$A,0)))","v":""},{"$f":"IF($C164=\"\",\"\",INDEX('Cost Data'!$K:$K,MATCH('Most Critical'!$C164,'Cost Data'!$A:$A,0)))","v":""},{"$f":"IF($C164=\"\",\"\",'Calculate Risk'!$Q157)","v":""}]
[158,null,{"$f":"'Calculate Risk'!$A158","v":""},{"$f":"IF($C165=\"\",\"\",'Calculate Risk'!$B158)","v":""},{"$f":"IF($C165=\"\",\"\",'Calculate Risk'!$C158)","v":""},{"$f":"IF($C165=\"\",\"\",INDEX('Data Collection Sheet'!$D:$D,MATCH('Most Critical'!$C165,'Data Collection Sheet'!$A:$A,0)))","v":""},{"$f":"IF($C165=\"\",\"\",IF(INDEX('Data Collection Sheet'!$E:$E,MATCH('Most Critical'!$C165,'Data Collection Sheet'!$A:$A,0))=\"\",\"\",INDEX('Data Collection Sheet'!$E:$E,MATCH('Most Critical'!$C165,'Data Collection Sheet'!$A:$A,0))))","v":""},{"$f":"IF($C165=\"\",\"\",INDEX('Consequence of Failure'!$P:$P,MATCH('Most Critical'!$C165,'Consequence of Failure'!$A:$A,0)))","v":""},{"$f":"IF($C165=\"\",\"\",INDEX('Data Collection Sheet'!$K:$K,MATCH('Most Critical'!$C165,'Data Collection Sheet'!$A:$A,0)))","v":""},{"$f":"IF($C165=\"\",\"\",INDEX('Cost Data'!$I:$I,MATCH('Most Critical'!$C165,'Cost Data'!$A:$A,0)))","v":""},{"$f":"IF($C165=\"\",\"\",INDEX('Cost Data'!$K:$K,MATCH('Most Critical'!$C165,'Cost Data'!$A:$A,0)))","v":""},{"$f":"IF($C165=\"\",\"\",'Calculate Risk'!$Q158)","v":""}]
[159,null,{"$f":"'Calculate Risk'!$A159","v":""},{"$f":"IF($C166=\"\",\"\",'Calculate Risk'!$B159)","v":""},{"$f":"IF($C166=\"\",\"\",'Calculate Risk'!$C159)","v":""},{"$f":"IF($C166=\"\",\"\",INDEX('Data Collection Sheet'!$D:$D,MATCH('Most Critical'!$C166,'Data Collection Sheet'!$A:$A,0)))","v":""},{"$f":"IF($C166=\"\",\"\",IF(INDEX('Data Collection Sheet'!$E:$E,MATCH('Most Critical'!$C166,'Data Collection Sheet'!$A:$A,0))=\"\",\"\",INDEX('Data Collection Sheet'!$E:$E,MATCH('Most Critical'!$C166,'Data Collection Sheet'!$A:$A,0))))","v":""},{"$f":"IF($C166=\"\",\"\",INDEX('Consequence of Failure'!$P:$P,MATCH('Most Critical'!$C166,'Consequence of Failure'!$A:$A,0)))","v":""},{"$f":"IF($C166=\"\",\"\",INDEX('Data Collection Sheet'!$K:$K,MATCH('Most Critical'!$C166,'Data Collection Sheet'!$A:$A,0)))","v":""},{"$f":"IF($C166=\"\",\"\",INDEX('Cost Data'!$I:$I,MATCH('Most Critical'!$C166,'Cost Data'!$A:$A,0)))","v":""},{"$f":"IF($C166=\"\",\"\",INDEX('Cost Data'!$K:$K,MATCH('Most Critical'!$C166,'Cost Data'!$A:$A,0)))","v":""},{"$f":"IF($C166=\"\",\"\",'Calculate Risk'!$Q159)","v":""}]
[160,null,{"$f":"'Calculate Risk'!$A160","v":""},{"$f":"IF($C167=\"\",\"\",'Calculate Risk'!$B160)","v":""},{"$f":"IF($C167=\"\",\"\",'Calculate Risk'!$C160)","v":""},{"$f":"IF($C167=\"\",\"\",INDEX('Data Collection Sheet'!$D:$D,MATCH('Most Critical'!$C167,'Data Collection Sheet'!$A:$A,0)))","v":""},{"$f":"IF($C167=\"\",\"\",IF(INDEX('Data Collection Sheet'!$E:$E,MATCH('Most Critical'!$C167,'Data Collection Sheet'!$A:$A,0))=\"\",\"\",INDEX('Data Collection Sheet'!$E:$E,MATCH('Most Critical'!$C167,'Data Collection Sheet'!$A:$A,0))))","v":""},{"$f":"IF($C167=\"\",\"\",INDEX('Consequence of Failure'!$P:$P,MATCH('Most Critical'!$C167,'Consequence of Failure'!$A:$A,0)))","v":""},{"$f":"IF($C167=\"\",\"\",INDEX('Data Collection Sheet'!$K:$K,MATCH('Most Critical'!$C167,'Data Collection Sheet'!$A:$A,0)))","v":""},{"$f":"IF($C167=\"\",\"\",INDEX('Cost Data'!$I:$I,MATCH('Most Critical'!$C167,'Cost Data'!$A:$A,0)))","v":""},{"$f":"IF($C167=\"\",\"\",INDEX('Cost Data'!$K:$K,MATCH('Most Critical'!$C167,'Cost Data'!$A:$A,0)))","v":""},{"$f":"IF($C167=\"\",\"\",'Calculate Risk'!$Q160)","v":""}]
[161,null,{"$f":"'Calculate Risk'!$A161","v":""},{"$f":"IF($C168=\"\",\"\",'Calculate Risk'!$B161)","v":""},{"$f":"IF($C168=\"\",\"\",'Calculate Risk'!$C161)","v":""},{"$f":"IF($C168=\"\",\"\",INDEX('Data Collection Sheet'!$D:$D,MATCH('Most Critical'!$C168,'Data Collection Sheet'!$A:$A,0)))","v":""},{"$f":"IF($C168=\"\",\"\",IF(INDEX('Data Collection Sheet'!$E:$E,MATCH('Most Critical'!$C168,'Data Collection Sheet'!$A:$A,0))=\"\",\"\",INDEX('Data Collection Sheet'!$E:$E,MATCH('Most Critical'!$C168,'Data Collection Sheet'!$A:$A,0))))","v":""},{"$f":"IF($C168=\"\",\"\",INDEX('Consequence of Failure'!$P:$P,MATCH('Most Critical'!$C168,'Consequence of Failure'!$A:$A,0)))","v":""},{"$f":"IF($C168=\"\",\"\",INDEX('Data Collection Sheet'!$K:$K,MATCH('Most Critical'!$C168,'Data Collection Sheet'!$A:$A,0)))","v":""},{"$f":"IF($C168=\"\",\"\",INDEX('Cost Data'!$I:$I,MATCH('Most Critical'!$C168,'Cost Data'!$A:$A,0)))","v":""},{"$f":"IF($C168=\"\",\"\",INDEX('Cost Data'!$K:$K,MATCH('Most Critical'!$C168,'Cost Data'!$A:$A,0)))","v":""},{"$f":"IF($C168=\"\",\"\",'Calculate Risk'!$Q161)","v":""}]
[162,null,{"$f":"'Calculate Risk'!$A162","v":""},{"$f":"IF($C169=\"\",\"\",'Calculate Risk'!$B162)","v":""},{"$f":"IF($C169=\"\",\"\",'Calculate Risk'!$C162)","v":""},{"$f":"IF($C169=\"\",\"\",INDEX('Data Collection Sheet'!$D:$D,MATCH('Most Critical'!$C169,'Data Collection Sheet'!$A:$A,0)))","v":""},{"$f":"IF($C169=\"\",\"\",IF(INDEX('Data Collection Sheet'!$E:$E,MATCH('Most Critical'!$C169,'Data Collection Sheet'!$A:$A,0))=\"\",\"\",INDEX('Data Collection Sheet'!$E:$E,MATCH('Most Critical'!$C169,'Data Collection Sheet'!$A:$A,0))))","v":""},{"$f":"IF($C169=\"\",\"\",INDEX('Consequence of Failure'!$P:$P,MATCH('Most Critical'!$C169,'Consequence of Failure'!$A:$A,0)))","v":""},{"$f":"IF($C169=\"\",\"\",INDEX('Data Collection Sheet'!$K:$K,MATCH('Most Critical'!$C169,'Data Collection Sheet'!$A:$A,0)))","v":""},{"$f":"IF($C169=\"\",\"\",INDEX('Cost Data'!$I:$I,MATCH('Most Critical'!$C169,'Cost Data'!$A:$A,0)))","v":""},{"$f":"IF($C169=\"\",\"\",INDEX('Cost Data'!$K:$K,MATCH('Most Critical'!$C169,'Cost Data'!$A:$A,0)))","v":""},{"$f":"IF($C169=\"\",\"\",'Calculate Risk'!$Q162)","v":""}]
[163,null,{"$f":"'Calculate Risk'!$A163","v":""},{"$f":"IF($C170=\"\",\"\",'Calculate Risk'!$B163)","v":""},{"$f":"IF($C170=\"\",\"\",'Calculate Risk'!$C163)","v":""},{"$f":"IF($C170=\"\",\"\",INDEX('Data Collection Sheet'!$D:$D,MATCH('Most Critical'!$C170,'Data Collection Sheet'!$A:$A,0)))","v":""},{"$f":"IF($C170=\"\",\"\",IF(INDEX('Data Collection Sheet'!$E:$E,MATCH('Most Critical'!$C170,'Data Collection Sheet'!$A:$A,0))=\"\",\"\",INDEX('Data Collection Sheet'!$E:$E,MATCH('Most Critical'!$C170,'Data Collection Sheet'!$A:$A,0))))","v":""},{"$f":"IF($C170=\"\",\"\",INDEX('Consequence of Failure'!$P:$P,MATCH('Most Critical'!$C170,'Consequence of Failure'!$A:$A,0)))","v":""},{"$f":"IF($C170=\"\",\"\",INDEX('Data Collection Sheet'!$K:$K,MATCH('Most Critical'!$C170,'Data Collection Sheet'!$A:$A,0)))","v":""},{"$f":"IF($C170=\"\",\"\",INDEX('Cost Data'!$I:$I,MATCH('Most Critical'!$C170,'Cost Data'!$A:$A,0)))","v":""},{"$f":"IF($C170=\"\",\"\",INDEX('Cost Data'!$K:$K,MATCH('Most Critical'!$C170,'Cost Data'!$A:$A,0)))","v":""},{"$f":"IF($C170=\"\",\"\",'Calculate Risk'!$Q163)","v":""}]
[164,null,{"$f":"'Calculate Risk'!$A164","v":""},{"$f":"IF($C171=\"\",\"\",'Calculate Risk'!$B164)","v":""},{"$f":"IF($C171=\"\",\"\",'Calculate Risk'!$C164)","v":""},{"$f":"IF($C171=\"\",\"\",INDEX('Data Collection Sheet'!$D:$D,MATCH('Most Critical'!$C171,'Data Collection Sheet'!$A:$A,0)))","v":""},{"$f":"IF($C171=\"\",\"\",IF(INDEX('Data Collection Sheet'!$E:$E,MATCH('Most Critical'!$C171,'Data Collection Sheet'!$A:$A,0))=\"\",\"\",INDEX('Data Collection Sheet'!$E:$E,MATCH('Most Critical'!$C171,'Data Collection Sheet'!$A:$A,0))))","v":""},{"$f":"IF($C171=\"\",\"\",INDEX('Consequence of Failure'!$P:$P,MATCH('Most Critical'!$C171,'Consequence of Failure'!$A:$A,0)))","v":""},{"$f":"IF($C171=\"\",\"\",INDEX('Data Collection Sheet'!$K:$K,MATCH('Most Critical'!$C171,'Data Collection Sheet'!$A:$A,0)))","v":""},{"$f":"IF($C171=\"\",\"\",INDEX('Cost Data'!$I:$I,MATCH('Most Critical'!$C171,'Cost Data'!$A:$A,0)))","v":""},{"$f":"IF($C171=\"\",\"\",INDEX('Cost Data'!$K:$K,MATCH('Most Critical'!$C171,'Cost Data'!$A:$A,0)))","v":""},{"$f":"IF($C171=\"\",\"\",'Calculate Risk'!$Q164)","v":""}]
[165,null,{"$f":"'Calculate Risk'!$A165","v":""},{"$f":"IF($C172=\"\",\"\",'Calculate Risk'!$B165)","v":""},{"$f":"IF($C172=\"\",\"\",'Calculate Risk'!$C165)","v":""},{"$f":"IF($C172=\"\",\"\",INDEX('Data Collection Sheet'!$D:$D,MATCH('Most Critical'!$C172,'Data Collection Sheet'!$A:$A,0)))","v":""},{"$f":"IF($C172=\"\",\"\",IF(INDEX('Data Collection Sheet'!$E:$E,MATCH('Most Critical'!$C172,'Data Collection Sheet'!$A:$A,0))=\"\",\"\",INDEX('Data Collection Sheet'!$E:$E,MATCH('Most Critical'!$C172,'Data Collection Sheet'!$A:$A,0))))","v":""},{"$f":"IF($C172=\"\",\"\",INDEX('Consequence of Failure'!$P:$P,MATCH('Most Critical'!$C172,'Consequence of Failure'!$A:$A,0)))","v":""},{"$f":"IF($C172=\"\",\"\",INDEX('Data Collection Sheet'!$K:$K,MATCH('Most Critical'!$C172,'Data Collection Sheet'!$A:$A,0)))","v":""},{"$f":"IF($C172=\"\",\"\",INDEX('Cost Data'!$I:$I,MATCH('Most Critical'!$C172,'Cost Data'!$A:$A,0)))","v":""},{"$f":"IF($C172=\"\",\"\",INDEX('Cost Data'!$K:$K,MATCH('Most Critical'!$C172,'Cost Data'!$A:$A,0)))","v":""},{"$f":"IF($C172=\"\",\"\",'Calculate Risk'!$Q165)","v":""}]
[166,null,{"$f":"'Calculate Risk'!$A166","v":""},{"$f":"IF($C173=\"\",\"\",'Calculate Risk'!$B166)","v":""},{"$f":"IF($C173=\"\",\"\",'Calculate Risk'!$C166)","v":""},{"$f":"IF($C173=\"\",\"\",INDEX('Data Collection Sheet'!$D:$D,MATCH('Most Critical'!$C173,'Data Collection Sheet'!$A:$A,0)))","v":""},{"$f":"IF($C173=\"\",\"\",IF(INDEX('Data Collection Sheet'!$E:$E,MATCH('Most Critical'!$C173,'Data Collection Sheet'!$A:$A,0))=\"\",\"\",INDEX('Data Collection Sheet'!$E:$E,MATCH('Most Critical'!$C173,'Data Collection Sheet'!$A:$A,0))))","v":""},{"$f":"IF($C173=\"\",\"\",INDEX('Consequence of Failure'!$P:$P,MATCH('Most Critical'!$C173,'Consequence of Failure'!$A:$A,0)))","v":""},{"$f":"IF($C173=\"\",\"\",INDEX('Data Collection Sheet'!$K:$K,MATCH('Most Critical'!$C173,'Data Collection Sheet'!$A:$A,0)))","v":""},{"$f":"IF($C173=\"\",\"\",INDEX('Cost Data'!$I:$I,MATCH('Most Critical'!$C173,'Cost Data'!$A:$A,0)))","v":""},{"$f":"IF($C173=\"\",\"\",INDEX('Cost Data'!$K:$K,MATCH('Most Critical'!$C173,'Cost Data'!$A:$A,0)))","v":""},{"$f":"IF($C173=\"\",\"\",'Calculate Risk'!$Q166)","v":""}]
[167,null,{"$f":"'Calculate Risk'!$A167","v":""},{"$f":"IF($C174=\"\",\"\",'Calculate Risk'!$B167)","v":""},{"$f":"IF($C174=\"\",\"\",'Calculate Risk'!$C167)","v":""},{"$f":"IF($C174=\"\",\"\",INDEX('Data Collection Sheet'!$D:$D,MATCH('Most Critical'!$C174,'Data Collection Sheet'!$A:$A,0)))","v":""},{"$f":"IF($C174=\"\",\"\",IF(INDEX('Data Collection Sheet'!$E:$E,MATCH('Most Critical'!$C174,'Data Collection Sheet'!$A:$A,0))=\"\",\"\",INDEX('Data Collection Sheet'!$E:$E,MATCH('Most Critical'!$C174,'Data Collection Sheet'!$A:$A,0))))","v":""},{"$f":"IF($C174=\"\",\"\",INDEX('Consequence of Failure'!$P:$P,MATCH('Most Critical'!$C174,'Consequence of Failure'!$A:$A,0)))","v":""},{"$f":"IF($C174=\"\",\"\",INDEX('Data Collection Sheet'!$K:$K,MATCH('Most Critical'!$C174,'Data Collection Sheet'!$A:$A,0)))","v":""},{"$f":"IF($C174=\"\",\"\",INDEX('Cost Data'!$I:$I,MATCH('Most Critical'!$C174,'Cost Data'!$A:$A,0)))","v":""},{"$f":"IF($C174=\"\",\"\",INDEX('Cost Data'!$K:$K,MATCH('Most Critical'!$C174,'Cost Data'!$A:$A,0)))","v":""},{"$f":"IF($C174=\"\",\"\",'Calculate Risk'!$Q167)","v":""}]
[168,null,{"$f":"'Calculate Risk'!$A168","v":""},{"$f":"IF($C175=\"\",\"\",'Calculate Risk'!$B168)","v":""},{"$f":"IF($C175=\"\",\"\",'Calculate Risk'!$C168)","v":""},{"$f":"IF($C175=\"\",\"\",INDEX('Data Collection Sheet'!$D:$D,MATCH('Most Critical'!$C175,'Data Collection Sheet'!$A:$A,0)))","v":""},{"$f":"IF($C175=\"\",\"\",IF(INDEX('Data Collection Sheet'!$E:$E,MATCH('Most Critical'!$C175,'Data Collection Sheet'!$A:$A,0))=\"\",\"\",INDEX('Data Collection Sheet'!$E:$E,MATCH('Most Critical'!$C175,'Data Collection Sheet'!$A:$A,0))))","v":""},{"$f":"IF($C175=\"\",\"\",INDEX('Consequence of Failure'!$P:$P,MATCH('Most Critical'!$C175,'Consequence of Failure'!$A:$A,0)))","v":""},{"$f":"IF($C175=\"\",\"\",INDEX('Data Collection Sheet'!$K:$K,MATCH('Most Critical'!$C175,'Data Collection Sheet'!$A:$A,0)))","v":""},{"$f":"IF($C175=\"\",\"\",INDEX('Cost Data'!$I:$I,MATCH('Most Critical'!$C175,'Cost Data'!$A:$A,0)))","v":""},{"$f":"IF($C175=\"\",\"\",INDEX('Cost Data'!$K:$K,MATCH('Most Critical'!$C175,'Cost Data'!$A:$A,0)))","v":""},{"$f":"IF($C175=\"\",\"\",'Calculate Risk'!$Q168)","v":""}]
[169,null,{"$f":"'Calculate Risk'!$A169","v":""},{"$f":"IF($C176=\"\",\"\",'Calculate Risk'!$B169)","v":""},{"$f":"IF($C176=\"\",\"\",'Calculate Risk'!$C169)","v":""},{"$f":"IF($C176=\"\",\"\",INDEX('Data Collection Sheet'!$D:$D,MATCH('Most Critical'!$C176,'Data Collection Sheet'!$A:$A,0)))","v":""},{"$f":"IF($C176=\"\",\"\",IF(INDEX('Data Collection Sheet'!$E:$E,MATCH('Most Critical'!$C176,'Data Collection Sheet'!$A:$A,0))=\"\",\"\",INDEX('Data Collection Sheet'!$E:$E,MATCH('Most Critical'!$C176,'Data Collection Sheet'!$A:$A,0))))","v":""},{"$f":"IF($C176=\"\",\"\",INDEX('Consequence of Failure'!$P:$P,MATCH('Most Critical'!$C176,'Consequence of Failure'!$A:$A,0)))","v":""},{"$f":"IF($C176=\"\",\"\",INDEX('Data Collection Sheet'!$K:$K,MATCH('Most Critical'!$C176,'Data Collection Sheet'!$A:$A,0)))","v":""},{"$f":"IF($C176=\"\",\"\",INDEX('Cost Data'!$I:$I,MATCH('Most Critical'!$C176,'Cost Data'!$A:$A,0)))","v":""},{"$f":"IF($C176=\"\",\"\",INDEX('Cost Data'!$K:$K,MATCH('Most Critical'!$C176,'Cost Data'!$A:$A,0)))","v":""},{"$f":"IF($C176=\"\",\"\",'Calculate Risk'!$Q169)","v":""}]
[170,null,{"$f":"'Calculate Risk'!$A170","v":""},{"$f":"IF($C177=\"\",\"\",'Calculate Risk'!$B170)","v":""},{"$f":"IF($C177=\"\",\"\",'Calculate Risk'!$C170)","v":""},{"$f":"IF($C177=\"\",\"\",INDEX('Data Collection Sheet'!$D:$D,MATCH('Most Critical'!$C177,'Data Collection Sheet'!$A:$A,0)))","v":""},{"$f":"IF($C177=\"\",\"\",IF(INDEX('Data Collection Sheet'!$E:$E,MATCH('Most Critical'!$C177,'Data Collection Sheet'!$A:$A,0))=\"\",\"\",INDEX('Data Collection Sheet'!$E:$E,MATCH('Most Critical'!$C177,'Data Collection Sheet'!$A:$A,0))))","v":""},{"$f":"IF($C177=\"\",\"\",INDEX('Consequence of Failure'!$P:$P,MATCH('Most Critical'!$C177,'Consequence of Failure'!$A:$A,0)))","v":""},{"$f":"IF($C177=\"\",\"\",INDEX('Data Collection Sheet'!$K:$K,MATCH('Most Critical'!$C177,'Data Collection Sheet'!$A:$A,0)))","v":""},{"$f":"IF($C177=\"\",\"\",INDEX('Cost Data'!$I:$I,MATCH('Most Critical'!$C177,'Cost Data'!$A:$A,0)))","v":""},{"$f":"IF($C177=\"\",\"\",INDEX('Cost Data'!$K:$K,MATCH('Most Critical'!$C177,'Cost Data'!$A:$A,0)))","v":""},{"$f":"IF($C177=\"\",\"\",'Calculate Risk'!$Q170)","v":""}]
[171,null,{"$f":"'Calculate Risk'!$A171","v":""},{"$f":"IF($C178=\"\",\"\",'Calculate Risk'!$B171)","v":""},{"$f":"IF($C178=\"\",\"\",'Calculate Risk'!$C171)","v":""},{"$f":"IF($C178=\"\",\"\",INDEX('Data Collection Sheet'!$D:$D,MATCH('Most Critical'!$C178,'Data Collection Sheet'!$A:$A,0)))","v":""},{"$f":"IF($C178=\"\",\"\",IF(INDEX('Data Collection Sheet'!$E:$E,MATCH('Most Critical'!$C178,'Data Collection Sheet'!$A:$A,0))=\"\",\"\",INDEX('Data Collection Sheet'!$E:$E,MATCH('Most Critical'!$C178,'Data Collection Sheet'!$A:$A,0))))","v":""},{"$f":"IF($C178=\"\",\"\",INDEX('Consequence of Failure'!$P:$P,MATCH('Most Critical'!$C178,'Consequence of Failure'!$A:$A,0)))","v":""},{"$f":"IF($C178=\"\",\"\",INDEX('Data Collection Sheet'!$K:$K,MATCH('Most Critical'!$C178,'Data Collection Sheet'!$A:$A,0)))","v":""},{"$f":"IF($C178=\"\",\"\",INDEX('Cost Data'!$I:$I,MATCH('Most Critical'!$C178,'Cost Data'!$A:$A,0)))","v":""},{"$f":"IF($C178=\"\",\"\",INDEX('Cost Data'!$K:$K,MATCH('Most Critical'!$C178,'Cost Data'!$A:$A,0)))","v":""},{"$f":"IF($C178=\"\",\"\",'Calculate Risk'!$Q171)","v":""}]
[172,null,{"$f":"'Calculate Risk'!$A172","v":""},{"$f":"IF($C179=\"\",\"\",'Calculate Risk'!$B172)","v":""},{"$f":"IF($C179=\"\",\"\",'Calculate Risk'!$C172)","v":""},{"$f":"IF($C179=\"\",\"\",INDEX('Data Collection Sheet'!$D:$D,MATCH('Most Critical'!$C179,'Data Collection Sheet'!$A:$A,0)))","v":""},{"$f":"IF($C179=\"\",\"\",IF(INDEX('Data Collection Sheet'!$E:$E,MATCH('Most Critical'!$C179,'Data Collection Sheet'!$A:$A,0))=\"\",\"\",INDEX('Data Collection Sheet'!$E:$E,MATCH('Most Critical'!$C179,'Data Collection Sheet'!$A:$A,0))))","v":""},{"$f":"IF($C179=\"\",\"\",INDEX('Consequence of Failure'!$P:$P,MATCH('Most Critical'!$C179,'Consequence of Failure'!$A:$A,0)))","v":""},{"$f":"IF($C179=\"\",\"\",INDEX('Data Collection Sheet'!$K:$K,MATCH('Most Critical'!$C179,'Data Collection Sheet'!$A:$A,0)))","v":""},{"$f":"IF($C179=\"\",\"\",INDEX('Cost Data'!$I:$I,MATCH('Most Critical'!$C179,'Cost Data'!$A:$A,0)))","v":""},{"$f":"IF($C179=\"\",\"\",INDEX('Cost Data'!$K:$K,MATCH('Most Critical'!$C179,'Cost Data'!$A:$A,0)))","v":""},{"$f":"IF($C179=\"\",\"\",'Calculate Risk'!$Q172)","v":""}]
[173,null,{"$f":"'Calculate Risk'!$A173","v":""},{"$f":"IF($C180=\"\",\"\",'Calculate Risk'!$B173)","v":""},{"$f":"IF($C180=\"\",\"\",'Calculate Risk'!$C173)","v":""},{"$f":"IF($C180=\"\",\"\",INDEX('Data Collection Sheet'!$D:$D,MATCH('Most Critical'!$C180,'Data Collection Sheet'!$A:$A,0)))","v":""},{"$f":"IF($C180=\"\",\"\",IF(INDEX('Data Collection Sheet'!$E:$E,MATCH('Most Critical'!$C180,'Data Collection Sheet'!$A:$A,0))=\"\",\"\",INDEX('Data Collection Sheet'!$E:$E,MATCH('Most Critical'!$C180,'Data Collection Sheet'!$A:$A,0))))","v":""},{"$f":"IF($C180=\"\",\"\",INDEX('Consequence of Failure'!$P:$P,MATCH('Most Critical'!$C180,'Consequence of Failure'!$A:$A,0)))","v":""},{"$f":"IF($C180=\"\",\"\",INDEX('Data Collection Sheet'!$K:$K,MATCH('Most Critical'!$C180,'Data Collection Sheet'!$A:$A,0)))","v":""},{"$f":"IF($C180=\"\",\"\",INDEX('Cost Data'!$I:$I,MATCH('Most Critical'!$C180,'Cost Data'!$A:$A,0)))","v":""},{"$f":"IF($C180=\"\",\"\",INDEX('Cost Data'!$K:$K,MATCH('Most Critical'!$C180,'Cost Data'!$A:$A,0)))","v":""},{"$f":"IF($C180=\"\",\"\",'Calculate Risk'!$Q173)","v":""}]
[174,null,{"$f":"'Calculate Risk'!$A174","v":""},{"$f":"IF($C181=\"\",\"\",'Calculate Risk'!$B174)","v":""},{"$f":"IF($C181=\"\",\"\",'Calculate Risk'!$C174)","v":""},{"$f":"IF($C181=\"\",\"\",INDEX('Data Collection Sheet'!$D:$D,MATCH('Most Critical'!$C181,'Data Collection Sheet'!$A:$A,0)))","v":""},{"$f":"IF($C181=\"\",\"\",IF(INDEX('Data Collection Sheet'!$E:$E,MATCH('Most Critical'!$C181,'Data Collection Sheet'!$A:$A,0))=\"\",\"\",INDEX('Data Collection Sheet'!$E:$E,MATCH('Most Critical'!$C181,'Data Collection Sheet'!$A:$A,0))))","v":""},{"$f":"IF($C181=\"\",\"\",INDEX('Consequence of Failure'!$P:$P,MATCH('Most Critical'!$C181,'Consequence of Failure'!$A:$A,0)))","v":""},{"$f":"IF($C181=\"\",\"\",INDEX('Data Collection Sheet'!$K:$K,MATCH('Most Critical'!$C181,'Data Collection Sheet'!$A:$A,0)))","v":""},{"$f":"IF($C181=\"\",\"\",INDEX('Cost Data'!$I:$I,MATCH('Most Critical'!$C181,'Cost Data'!$A:$A,0)))","v":""},{"$f":"IF($C181=\"\",\"\",INDEX('Cost Data'!$K:$K,MATCH('Most Critical'!$C181,'Cost Data'!$A:$A,0)))","v":""},{"$f":"IF($C181=\"\",\"\",'Calculate Risk'!$Q174)","v":""}]
[175,null,{"$f":"'Calculate Risk'!$A175","v":""},{"$f":"IF($C182=\"\",\"\",'Calculate Risk'!$B175)","v":""},{"$f":"IF($C182=\"\",\"\",'Calculate Risk'!$C175)","v":""},{"$f":"IF($C182=\"\",\"\",INDEX('Data Collection Sheet'!$D:$D,MATCH('Most Critical'!$C182,'Data Collection Sheet'!$A:$A,0)))","v":""},{"$f":"IF($C182=\"\",\"\",IF(INDEX('Data Collection Sheet'!$E:$E,MATCH('Most Critical'!$C182,'Data Collection Sheet'!$A:$A,0))=\"\",\"\",INDEX('Data Collection Sheet'!$E:$E,MATCH('Most Critical'!$C182,'Data Collection Sheet'!$A:$A,0))))","v":""},{"$f":"IF($C182=\"\",\"\",INDEX('Consequence of Failure'!$P:$P,MATCH('Most Critical'!$C182,'Consequence of Failure'!$A:$A,0)))","v":""},{"$f":"IF($C182=\"\",\"\",INDEX('Data Collection Sheet'!$K:$K,MATCH('Most Critical'!$C182,'Data Collection Sheet'!$A:$A,0)))","v":""},{"$f":"IF($C182=\"\",\"\",INDEX('Cost Data'!$I:$I,MATCH('Most Critical'!$C182,'Cost Data'!$A:$A,0)))","v":""},{"$f":"IF($C182=\"\",\"\",INDEX('Cost Data'!$K:$K,MATCH('Most Critical'!$C182,'Cost Data'!$A:$A,0)))","v":""},{"$f":"IF($C182=\"\",\"\",'Calculate Risk'!$Q175)","v":""}]
[176,null,{"$f":"'Calculate Risk'!$A176","v":""},{"$f":"IF($C183=\"\",\"\",'Calculate Risk'!$B176)","v":""},{"$f":"IF($C183=\"\",\"\",'Calculate Risk'!$C176)","v":""},{"$f":"IF($C183=\"\",\"\",INDEX('Data Collection Sheet'!$D:$D,MATCH('Most Critical'!$C183,'Data Collection Sheet'!$A:$A,0)))","v":""},{"$f":"IF($C183=\"\",\"\",IF(INDEX('Data Collection Sheet'!$E:$E,MATCH('Most Critical'!$C183,'Data Collection Sheet'!$A:$A,0))=\"\",\"\",INDEX('Data Collection Sheet'!$E:$E,MATCH('Most Critical'!$C183,'Data Collection Sheet'!$A:$A,0))))","v":""},{"$f":"IF($C183=\"\",\"\",INDEX('Consequence of Failure'!$P:$P,MATCH('Most Critical'!$C183,'Consequence of Failure'!$A:$A,0)))","v":""},{"$f":"IF($C183=\"\",\"\",INDEX('Data Collection Sheet'!$K:$K,MATCH('Most Critical'!$C183,'Data Collection Sheet'!$A:$A,0)))","v":""},{"$f":"IF($C183=\"\",\"\",INDEX('Cost Data'!$I:$I,MATCH('Most Critical'!$C183,'Cost Data'!$A:$A,0)))","v":""},{"$f":"IF($C183=\"\",\"\",INDEX('Cost Data'!$K:$K,MATCH('Most Critical'!$C183,'Cost Data'!$A:$A,0)))","v":""},{"$f":"IF($C183=\"\",\"\",'Calculate Risk'!$Q176)","v":""}]
[177,null,{"$f":"'Calculate Risk'!$A177","v":""},{"$f":"IF($C184=\"\",\"\",'Calculate Risk'!$B177)","v":""},{"$f":"IF($C184=\"\",\"\",'Calculate Risk'!$C177)","v":""},{"$f":"IF($C184=\"\",\"\",INDEX('Data Collection Sheet'!$D:$D,MATCH('Most Critical'!$C184,'Data Collection Sheet'!$A:$A,0)))","v":""},{"$f":"IF($C184=\"\",\"\",IF(INDEX('Data Collection Sheet'!$E:$E,MATCH('Most Critical'!$C184,'Data Collection Sheet'!$A:$A,0))=\"\",\"\",INDEX('Data Collection Sheet'!$E:$E,MATCH('Most Critical'!$C184,'Data Collection Sheet'!$A:$A,0))))","v":""},{"$f":"IF($C184=\"\",\"\",INDEX('Consequence of Failure'!$P:$P,MATCH('Most Critical'!$C184,'Consequence of Failure'!$A:$A,0)))","v":""},{"$f":"IF($C184=\"\",\"\",INDEX('Data Collection Sheet'!$K:$K,MATCH('Most Critical'!$C184,'Data Collection Sheet'!$A:$A,0)))","v":""},{"$f":"IF($C184=\"\",\"\",INDEX('Cost Data'!$I:$I,MATCH('Most Critical'!$C184,'Cost Data'!$A:$A,0)))","v":""},{"$f":"IF($C184=\"\",\"\",INDEX('Cost Data'!$K:$K,MATCH('Most Critical'!$C184,'Cost Data'!$A:$A,0)))","v":""},{"$f":"IF($C184=\"\",\"\",'Calculate Risk'!$Q177)","v":""}]
[178,null,{"$f":"'Calculate Risk'!$A178","v":""},{"$f":"IF($C185=\"\",\"\",'Calculate Risk'!$B178)","v":""},{"$f":"IF($C185=\"\",\"\",'Calculate Risk'!$C178)","v":""},{"$f":"IF($C185=\"\",\"\",INDEX('Data Collection Sheet'!$D:$D,MATCH('Most Critical'!$C185,'Data Collection Sheet'!$A:$A,0)))","v":""},{"$f":"IF($C185=\"\",\"\",IF(INDEX('Data Collection Sheet'!$E:$E,MATCH('Most Critical'!$C185,'Data Collection Sheet'!$A:$A,0))=\"\",\"\",INDEX('Data Collection Sheet'!$E:$E,MATCH('Most Critical'!$C185,'Data Collection Sheet'!$A:$A,0))))","v":""},{"$f":"IF($C185=\"\",\"\",INDEX('Consequence of Failure'!$P:$P,MATCH('Most Critical'!$C185,'Consequence of Failure'!$A:$A,0)))","v":""},{"$f":"IF($C185=\"\",\"\",INDEX('Data Collection Sheet'!$K:$K,MATCH('Most Critical'!$C185,'Data Collection Sheet'!$A:$A,0)))","v":""},{"$f":"IF($C185=\"\",\"\",INDEX('Cost Data'!$I:$I,MATCH('Most Critical'!$C185,'Cost Data'!$A:$A,0)))","v":""},{"$f":"IF($C185=\"\",\"\",INDEX('Cost Data'!$K:$K,MATCH('Most Critical'!$C185,'Cost Data'!$A:$A,0)))","v":""},{"$f":"IF($C185=\"\",\"\",'Calculate Risk'!$Q178)","v":""}]
[179,null,{"$f":"'Calculate Risk'!$A179","v":""},{"$f":"IF($C186=\"\",\"\",'Calculate Risk'!$B179)","v":""},{"$f":"IF($C186=\"\",\"\",'Calculate Risk'!$C179)","v":""},{"$f":"IF($C186=\"\",\"\",INDEX('Data Collection Sheet'!$D:$D,MATCH('Most Critical'!$C186,'Data Collection Sheet'!$A:$A,0)))","v":""},{"$f":"IF($C186=\"\",\"\",IF(INDEX('Data Collection Sheet'!$E:$E,MATCH('Most Critical'!$C186,'Data Collection Sheet'!$A:$A,0))=\"\",\"\",INDEX('Data Collection Sheet'!$E:$E,MATCH('Most Critical'!$C186,'Data Collection Sheet'!$A:$A,0))))","v":""},{"$f":"IF($C186=\"\",\"\",INDEX('Consequence of Failure'!$P:$P,MATCH('Most Critical'!$C186,'Consequence of Failure'!$A:$A,0)))","v":""},{"$f":"IF($C186=\"\",\"\",INDEX('Data Collection Sheet'!$K:$K,MATCH('Most Critical'!$C186,'Data Collection Sheet'!$A:$A,0)))","v":""},{"$f":"IF($C186=\"\",\"\",INDEX('Cost Data'!$I:$I,MATCH('Most Critical'!$C186,'Cost Data'!$A:$A,0)))","v":""},{"$f":"IF($C186=\"\",\"\",INDEX('Cost Data'!$K:$K,MATCH('Most Critical'!$C186,'Cost Data'!$A:$A,0)))","v":""},{"$f":"IF($C186=\"\",\"\",'Calculate Risk'!$Q179)","v":""}]
[180,null,{"$f":"'Calculate Risk'!$A180","v":""},{"$f":"IF($C187=\"\",\"\",'Calculate Risk'!$B180)","v":""},{"$f":"IF($C187=\"\",\"\",'Calculate Risk'!$C180)","v":""},{"$f":"IF($C187=\"\",\"\",INDEX('Data Collection Sheet'!$D:$D,MATCH('Most Critical'!$C187,'Data Collection Sheet'!$A:$A,0)))","v":""},{"$f":"IF($C187=\"\",\"\",IF(INDEX('Data Collection Sheet'!$E:$E,MATCH('Most Critical'!$C187,'Data Collection Sheet'!$A:$A,0))=\"\",\"\",INDEX('Data Collection Sheet'!$E:$E,MATCH('Most Critical'!$C187,'Data Collection Sheet'!$A:$A,0))))","v":""},{"$f":"IF($C187=\"\",\"\",INDEX('Consequence of Failure'!$P:$P,MATCH('Most Critical'!$C187,'Consequence of Failure'!$A:$A,0)))","v":""},{"$f":"IF($C187=\"\",\"\",INDEX('Data Collection Sheet'!$K:$K,MATCH('Most Critical'!$C187,'Data Collection Sheet'!$A:$A,0)))","v":""},{"$f":"IF($C187=\"\",\"\",INDEX('Cost Data'!$I:$I,MATCH('Most Critical'!$C187,'Cost Data'!$A:$A,0)))","v":""},{"$f":"IF($C187=\"\",\"\",INDEX('Cost Data'!$K:$K,MATCH('Most Critical'!$C187,'Cost Data'!$A:$A,0)))","v":""},{"$f":"IF($C187=\"\",\"\",'Calculate Risk'!$Q180)","v":""}]
[181,null,{"$f":"'Calculate Risk'!$A181","v":""},{"$f":"IF($C188=\"\",\"\",'Calculate Risk'!$B181)","v":""},{"$f":"IF($C188=\"\",\"\",'Calculate Risk'!$C181)","v":""},{"$f":"IF($C188=\"\",\"\",INDEX('Data Collection Sheet'!$D:$D,MATCH('Most Critical'!$C188,'Data Collection Sheet'!$A:$A,0)))","v":""},{"$f":"IF($C188=\"\",\"\",IF(INDEX('Data Collection Sheet'!$E:$E,MATCH('Most Critical'!$C188,'Data Collection Sheet'!$A:$A,0))=\"\",\"\",INDEX('Data Collection Sheet'!$E:$E,MATCH('Most Critical'!$C188,'Data Collection Sheet'!$A:$A,0))))","v":""},{"$f":"IF($C188=\"\",\"\",INDEX('Consequence of Failure'!$P:$P,MATCH('Most Critical'!$C188,'Consequence of Failure'!$A:$A,0)))","v":""},{"$f":"IF($C188=\"\",\"\",INDEX('Data Collection Sheet'!$K:$K,MATCH('Most Critical'!$C188,'Data Collection Sheet'!$A:$A,0)))","v":""},{"$f":"IF($C188=\"\",\"\",INDEX('Cost Data'!$I:$I,MATCH('Most Critical'!$C188,'Cost Data'!$A:$A,0)))","v":""},{"$f":"IF($C188=\"\",\"\",INDEX('Cost Data'!$K:$K,MATCH('Most Critical'!$C188,'Cost Data'!$A:$A,0)))","v":""},{"$f":"IF($C188=\"\",\"\",'Calculate Risk'!$Q181)","v":""}]
[182,null,{"$f":"'Calculate Risk'!$A182","v":""},{"$f":"IF($C189=\"\",\"\",'Calculate Risk'!$B182)","v":""},{"$f":"IF($C189=\"\",\"\",'Calculate Risk'!$C182)","v":""},{"$f":"IF($C189=\"\",\"\",INDEX('Data Collection Sheet'!$D:$D,MATCH('Most Critical'!$C189,'Data Collection Sheet'!$A:$A,0)))","v":""},{"$f":"IF($C189=\"\",\"\",IF(INDEX('Data Collection Sheet'!$E:$E,MATCH('Most Critical'!$C189,'Data Collection Sheet'!$A:$A,0))=\"\",\"\",INDEX('Data Collection Sheet'!$E:$E,MATCH('Most Critical'!$C189,'Data Collection Sheet'!$A:$A,0))))","v":""},{"$f":"IF($C189=\"\",\"\",INDEX('Consequence of Failure'!$P:$P,MATCH('Most Critical'!$C189,'Consequence of Failure'!$A:$A,0)))","v":""},{"$f":"IF($C189=\"\",\"\",INDEX('Data Collection Sheet'!$K:$K,MATCH('Most Critical'!$C189,'Data Collection Sheet'!$A:$A,0)))","v":""},{"$f":"IF($C189=\"\",\"\",INDEX('Cost Data'!$I:$I,MATCH('Most Critical'!$C189,'Cost Data'!$A:$A,0)))","v":""},{"$f":"IF($C189=\"\",\"\",INDEX('Cost Data'!$K:$K,MATCH('Most Critical'!$C189,'Cost Data'!$A:$A,0)))","v":""},{"$f":"IF($C189=\"\",\"\",'Calculate Risk'!$Q182)","v":""}]
[183,null,{"$f":"'Calculate Risk'!$A183","v":""},{"$f":"IF($C190=\"\",\"\",'Calculate Risk'!$B183)","v":""},{"$f":"IF($C190=\"\",\"\",'Calculate Risk'!$C183)","v":""},{"$f":"IF($C190=\"\",\"\",INDEX('Data Collection Sheet'!$D:$D,MATCH('Most Critical'!$C190,'Data Collection Sheet'!$A:$A,0)))","v":""},{"$f":"IF($C190=\"\",\"\",IF(INDEX('Data Collection Sheet'!$E:$E,MATCH('Most Critical'!$C190,'Data Collection Sheet'!$A:$A,0))=\"\",\"\",INDEX('Data Collection Sheet'!$E:$E,MATCH('Most Critical'!$C190,'Data Collection Sheet'!$A:$A,0))))","v":""},{"$f":"IF($C190=\"\",\"\",INDEX('Consequence of Failure'!$P:$P,MATCH('Most Critical'!$C190,'Consequence of Failure'!$A:$A,0)))","v":""},{"$f":"IF($C190=\"\",\"\",INDEX('Data Collection Sheet'!$K:$K,MATCH('Most Critical'!$C190,'Data Collection Sheet'!$A:$A,0)))","v":""},{"$f":"IF($C190=\"\",\"\",INDEX('Cost Data'!$I:$I,MATCH('Most Critical'!$C190,'Cost Data'!$A:$A,0)))","v":""},{"$f":"IF($C190=\"\",\"\",INDEX('Cost Data'!$K:$K,MATCH('Most Critical'!$C190,'Cost Data'!$A:$A,0)))","v":""},{"$f":"IF($C190=\"\",\"\",'Calculate Risk'!$Q183)","v":""}]
[184,null,{"$f":"'Calculate Risk'!$A184","v":""},{"$f":"IF($C191=\"\",\"\",'Calculate Risk'!$B184)","v":""},{"$f":"IF($C191=\"\",\"\",'Calculate Risk'!$C184)","v":""},{"$f":"IF($C191=\"\",\"\",INDEX('Data Collection Sheet'!$D:$D,MATCH('Most Critical'!$C191,'Data Collection Sheet'!$A:$A,0)))","v":""},{"$f":"IF($C191=\"\",\"\",IF(INDEX('Data Collection Sheet'!$E:$E,MATCH('Most Critical'!$C191,'Data Collection Sheet'!$A:$A,0))=\"\",\"\",INDEX('Data Collection Sheet'!$E:$E,MATCH('Most Critical'!$C191,'Data Collection Sheet'!$A:$A,0))))","v":""},{"$f":"IF($C191=\"\",\"\",INDEX('Consequence of Failure'!$P:$P,MATCH('Most Critical'!$C191,'Consequence of Failure'!$A:$A,0)))","v":""},{"$f":"IF($C191=\"\",\"\",INDEX('Data Collection Sheet'!$K:$K,MATCH('Most Critical'!$C191,'Data Collection Sheet'!$A:$A,0)))","v":""},{"$f":"IF($C191=\"\",\"\",INDEX('Cost Data'!$I:$I,MATCH('Most Critical'!$C191,'Cost Data'!$A:$A,0)))","v":""},{"$f":"IF($C191=\"\",\"\",INDEX('Cost Data'!$K:$K,MATCH('Most Critical'!$C191,'Cost Data'!$A:$A,0)))","v":""},{"$f":"IF($C191=\"\",\"\",'Calculate Risk'!$Q184)","v":""}]
[185,null,{"$f":"'Calculate Risk'!$A185","v":""},{"$f":"IF($C192=\"\",\"\",'Calculate Risk'!$B185)","v":""},{"$f":"IF($C192=\"\",\"\",'Calculate Risk'!$C185)","v":""},{"$f":"IF($C192=\"\",\"\",INDEX('Data Collection Sheet'!$D:$D,MATCH('Most Critical'!$C192,'Data Collection Sheet'!$A:$A,0)))","v":""},{"$f":"IF($C192=\"\",\"\",IF(INDEX('Data Collection Sheet'!$E:$E,MATCH('Most Critical'!$C192,'Data Collection Sheet'!$A:$A,0))=\"\",\"\",INDEX('Data Collection Sheet'!$E:$E,MATCH('Most Critical'!$C192,'Data Collection Sheet'!$A:$A,0))))","v":""},{"$f":"IF($C192=\"\",\"\",INDEX('Consequence of Failure'!$P:$P,MATCH('Most Critical'!$C192,'Consequence of Failure'!$A:$A,0)))","v":""},{"$f":"IF($C192=\"\",\"\",INDEX('Data Collection Sheet'!$K:$K,MATCH('Most Critical'!$C192,'Data Collection Sheet'!$A:$A,0)))","v":""},{"$f":"IF($C192=\"\",\"\",INDEX('Cost Data'!$I:$I,MATCH('Most Critical'!$C192,'Cost Data'!$A:$A,0)))","v":""},{"$f":"IF($C192=\"\",\"\",INDEX('Cost Data'!$K:$K,MATCH('Most Critical'!$C192,'Cost Data'!$A:$A,0)))","v":""},{"$f":"IF($C192=\"\",\"\",'Calculate Risk'!$Q185)","v":""}]
[186,null,{"$f":"'Calculate Risk'!$A186","v":""},{"$f":"IF($C193=\"\",\"\",'Calculate Risk'!$B186)","v":""},{"$f":"IF($C193=\"\",\"\",'Calculate Risk'!$C186)","v":""},{"$f":"IF($C193=\"\",\"\",INDEX('Data Collection Sheet'!$D:$D,MATCH('Most Critical'!$C193,'Data Collection Sheet'!$A:$A,0)))","v":""},{"$f":"IF($C193=\"\",\"\",IF(INDEX('Data Collection Sheet'!$E:$E,MATCH('Most Critical'!$C193,'Data Collection Sheet'!$A:$A,0))=\"\",\"\",INDEX('Data Collection Sheet'!$E:$E,MATCH('Most Critical'!$C193,'Data Collection Sheet'!$A:$A,0))))","v":""},{"$f":"IF($C193=\"\",\"\",INDEX('Consequence of Failure'!$P:$P,MATCH('Most Critical'!$C193,'Consequence of Failure'!$A:$A,0)))","v":""},{"$f":"IF($C193=\"\",\"\",INDEX('Data Collection Sheet'!$K:$K,MATCH('Most Critical'!$C193,'Data Collection Sheet'!$A:$A,0)))","v":""},{"$f":"IF($C193=\"\",\"\",INDEX('Cost Data'!$I:$I,MATCH('Most Critical'!$C193,'Cost Data'!$A:$A,0)))","v":""},{"$f":"IF($C193=\"\",\"\",INDEX('Cost Data'!$K:$K,MATCH('Most Critical'!$C193,'Cost Data'!$A:$A,0)))","v":""},{"$f":"IF($C193=\"\",\"\",'Calculate Risk'!$Q186)","v":""}]
[187,null,{"$f":"'Calculate Risk'!$A187","v":""},{"$f":"IF($C194=\"\",\"\",'Calculate Risk'!$B187)","v":""},{"$f":"IF($C194=\"\",\"\",'Calculate Risk'!$C187)","v":""},{"$f":"IF($C194=\"\",\"\",INDEX('Data Collection Sheet'!$D:$D,MATCH('Most Critical'!$C194,'Data Collection Sheet'!$A:$A,0)))","v":""},{"$f":"IF($C194=\"\",\"\",IF(INDEX('Data Collection Sheet'!$E:$E,MATCH('Most Critical'!$C194,'Data Collection Sheet'!$A:$A,0))=\"\",\"\",INDEX('Data Collection Sheet'!$E:$E,MATCH('Most Critical'!$C194,'Data Collection Sheet'!$A:$A,0))))","v":""},{"$f":"IF($C194=\"\",\"\",INDEX('Consequence of Failure'!$P:$P,MATCH('Most Critical'!$C194,'Consequence of Failure'!$A:$A,0)))","v":""},{"$f":"IF($C194=\"\",\"\",INDEX('Data Collection Sheet'!$K:$K,MATCH('Most Critical'!$C194,'Data Collection Sheet'!$A:$A,0)))","v":""},{"$f":"IF($C194=\"\",\"\",INDEX('Cost Data'!$I:$I,MATCH('Most Critical'!$C194,'Cost Data'!$A:$A,0)))","v":""},{"$f":"IF($C194=\"\",\"\",INDEX('Cost Data'!$K:$K,MATCH('Most Critical'!$C194,'Cost Data'!$A:$A,0)))","v":""},{"$f":"IF($C194=\"\",\"\",'Calculate Risk'!$Q187)","v":""}]
[188,null,{"$f":"'Calculate Risk'!$A188","v":""},{"$f":"IF($C195=\"\",\"\",'Calculate Risk'!$B188)","v":""},{"$f":"IF($C195=\"\",\"\",'Calculate Risk'!$C188)","v":""},{"$f":"IF($C195=\"\",\"\",INDEX('Data Collection Sheet'!$D:$D,MATCH('Most Critical'!$C195,'Data Collection Sheet'!$A:$A,0)))","v":""},{"$f":"IF($C195=\"\",\"\",IF(INDEX('Data Collection Sheet'!$E:$E,MATCH('Most Critical'!$C195,'Data Collection Sheet'!$A:$A,0))=\"\",\"\",INDEX('Data Collection Sheet'!$E:$E,MATCH('Most Critical'!$C195,'Data Collection Sheet'!$A:$A,0))))","v":""},{"$f":"IF($C195=\"\",\"\",INDEX('Consequence of Failure'!$P:$P,MATCH('Most Critical'!$C195,'Consequence of Failure'!$A:$A,0)))","v":""},{"$f":"IF($C195=\"\",\"\",INDEX('Data Collection Sheet'!$K:$K,MATCH('Most Critical'!$C195,'Data Collection Sheet'!$A:$A,0)))","v":""},{"$f":"IF($C195=\"\",\"\",INDEX('Cost Data'!$I:$I,MATCH('Most Critical'!$C195,'Cost Data'!$A:$A,0)))","v":""},{"$f":"IF($C195=\"\",\"\",INDEX('Cost Data'!$K:$K,MATCH('Most Critical'!$C195,'Cost Data'!$A:$A,0)))","v":""},{"$f":"IF($C195=\"\",\"\",'Calculate Risk'!$Q188)","v":""}]
[189,null,{"$f":"'Calculate Risk'!$A189","v":""},{"$f":"IF($C196=\"\",\"\",'Calculate Risk'!$B189)","v":""},{"$f":"IF($C196=\"\",\"\",'Calculate Risk'!$C189)","v":""},{"$f":"IF($C196=\"\",\"\",INDEX('Data Collection Sheet'!$D:$D,MATCH('Most Critical'!$C196,'Data Collection Sheet'!$A:$A,0)))","v":""},{"$f":"IF($C196=\"\",\"\",IF(INDEX('Data Collection Sheet'!$E:$E,MATCH('Most Critical'!$C196,'Data Collection Sheet'!$A:$A,0))=\"\",\"\",INDEX('Data Collection Sheet'!$E:$E,MATCH('Most Critical'!$C196,'Data Collection Sheet'!$A:$A,0))))","v":""},{"$f":"IF($C196=\"\",\"\",INDEX('Consequence of Failure'!$P:$P,MATCH('Most Critical'!$C196,'Consequence of Failure'!$A:$A,0)))","v":""},{"$f":"IF($C196=\"\",\"\",INDEX('Data Collection Sheet'!$K:$K,MATCH('Most Critical'!$C196,'Data Collection Sheet'!$A:$A,0)))","v":""},{"$f":"IF($C196=\"\",\"\",INDEX('Cost Data'!$I:$I,MATCH('Most Critical'!$C196,'Cost Data'!$A:$A,0)))","v":""},{"$f":"IF($C196=\"\",\"\",INDEX('Cost Data'!$K:$K,MATCH('Most Critical'!$C196,'Cost Data'!$A:$A,0)))","v":""},{"$f":"IF($C196=\"\",\"\",'Calculate Risk'!$Q189)","v":""}]
[190,null,{"$f":"'Calculate Risk'!$A190","v":""},{"$f":"IF($C197=\"\",\"\",'Calculate Risk'!$B190)","v":""},{"$f":"IF($C197=\"\",\"\",'Calculate Risk'!$C190)","v":""},{"$f":"IF($C197=\"\",\"\",INDEX('Data Collection Sheet'!$D:$D,MATCH('Most Critical'!$C197,'Data Collection Sheet'!$A:$A,0)))","v":""},{"$f":"IF($C197=\"\",\"\",IF(INDEX('Data Collection Sheet'!$E:$E,MATCH('Most Critical'!$C197,'Data Collection Sheet'!$A:$A,0))=\"\",\"\",INDEX('Data Collection Sheet'!$E:$E,MATCH('Most Critical'!$C197,'Data Collection Sheet'!$A:$A,0))))","v":""},{"$f":"IF($C197=\"\",\"\",INDEX('Consequence of Failure'!$P:$P,MATCH('Most Critical'!$C197,'Consequence of Failure'!$A:$A,0)))","v":""},{"$f":"IF($C197=\"\",\"\",INDEX('Data Collection Sheet'!$K:$K,MATCH('Most Critical'!$C197,'Data Collection Sheet'!$A:$A,0)))","v":""},{"$f":"IF($C197=\"\",\"\",INDEX('Cost Data'!$I:$I,MATCH('Most Critical'!$C197,'Cost Data'!$A:$A,0)))","v":""},{"$f":"IF($C197=\"\",\"\",INDEX('Cost Data'!$K:$K,MATCH('Most Critical'!$C197,'Cost Data'!$A:$A,0)))","v":""},{"$f":"IF($C197=\"\",\"\",'Calculate Risk'!$Q190)","v":""}]
[191,null,{"$f":"'Calculate Risk'!$A191","v":""},{"$f":"IF($C198=\"\",\"\",'Calculate Risk'!$B191)","v":""},{"$f":"IF($C198=\"\",\"\",'Calculate Risk'!$C191)","v":""},{"$f":"IF($C198=\"\",\"\",INDEX('Data Collection Sheet'!$D:$D,MATCH('Most Critical'!$C198,'Data Collection Sheet'!$A:$A,0)))","v":""},{"$f":"IF($C198=\"\",\"\",IF(INDEX('Data Collection Sheet'!$E:$E,MATCH('Most Critical'!$C198,'Data Collection Sheet'!$A:$A,0))=\"\",\"\",INDEX('Data Collection Sheet'!$E:$E,MATCH('Most Critical'!$C198,'Data Collection Sheet'!$A:$A,0))))","v":""},{"$f":"IF($C198=\"\",\"\",INDEX('Consequence of Failure'!$P:$P,MATCH('Most Critical'!$C198,'Consequence of Failure'!$A:$A,0)))","v":""},{"$f":"IF($C198=\"\",\"\",INDEX('Data Collection Sheet'!$K:$K,MATCH('Most Critical'!$C198,'Data Collection Sheet'!$A:$A,0)))","v":""},{"$f":"IF($C198=\"\",\"\",INDEX('Cost Data'!$I:$I,MATCH('Most Critical'!$C198,'Cost Data'!$A:$A,0)))","v":""},{"$f":"IF($C198=\"\",\"\",INDEX('Cost Data'!$K:$K,MATCH('Most Critical'!$C198,'Cost Data'!$A:$A,0)))","v":""},{"$f":"IF($C198=\"\",\"\",'Calculate Risk'!$Q191)","v":""}]
[192,null,{"$f":"'Calculate Risk'!$A192","v":""},{"$f":"IF($C199=\"\",\"\",'Calculate Risk'!$B192)","v":""},{"$f":"IF($C199=\"\",\"\",'Calculate Risk'!$C192)","v":""},{"$f":"IF($C199=\"\",\"\",INDEX('Data Collection Sheet'!$D:$D,MATCH('Most Critical'!$C199,'Data Collection Sheet'!$A:$A,0)))","v":""},{"$f":"IF($C199=\"\",\"\",IF(INDEX('Data Collection Sheet'!$E:$E,MATCH('Most Critical'!$C199,'Data Collection Sheet'!$A:$A,0))=\"\",\"\",INDEX('Data Collection Sheet'!$E:$E,MATCH('Most Critical'!$C199,'Data Collection Sheet'!$A:$A,0))))","v":""},{"$f":"IF($C199=\"\",\"\",INDEX('Consequence of Failure'!$P:$P,MATCH('Most Critical'!$C199,'Consequence of Failure'!$A:$A,0)))","v":""},{"$f":"IF($C199=\"\",\"\",INDEX('Data Collection Sheet'!$K:$K,MATCH('Most Critical'!$C199,'Data Collection Sheet'!$A:$A,0)))","v":""},{"$f":"IF($C199=\"\",\"\",INDEX('Cost Data'!$I:$I,MATCH('Most Critical'!$C199,'Cost Data'!$A:$A,0)))","v":""},{"$f":"IF($C199=\"\",\"\",INDEX('Cost Data'!$K:$K,MATCH('Most Critical'!$C199,'Cost Data'!$A:$A,0)))","v":""},{"$f":"IF($C199=\"\",\"\",'Calculate Risk'!$Q192)","v":""}]
[193,null,{"$f":"'Calculate Risk'!$A193","v":""},{"$f":"IF($C200=\"\",\"\",'Calculate Risk'!$B193)","v":""},{"$f":"IF($C200=\"\",\"\",'Calculate Risk'!$C193)","v":""},{"$f":"IF($C200=\"\",\"\",INDEX('Data Collection Sheet'!$D:$D,MATCH('Most Critical'!$C200,'Data Collection Sheet'!$A:$A,0)))","v":""},{"$f":"IF($C200=\"\",\"\",IF(INDEX('Data Collection Sheet'!$E:$E,MATCH('Most Critical'!$C200,'Data Collection Sheet'!$A:$A,0))=\"\",\"\",INDEX('Data Collection Sheet'!$E:$E,MATCH('Most Critical'!$C200,'Data Collection Sheet'!$A:$A,0))))","v":""},{"$f":"IF($C200=\"\",\"\",INDEX('Consequence of Failure'!$P:$P,MATCH('Most Critical'!$C200,'Consequence of Failure'!$A:$A,0)))","v":""},{"$f":"IF($C200=\"\",\"\",INDEX('Data Collection Sheet'!$K:$K,MATCH('Most Critical'!$C200,'Data Collection Sheet'!$A:$A,0)))","v":""},{"$f":"IF($C200=\"\",\"\",INDEX('Cost Data'!$I:$I,MATCH('Most Critical'!$C200,'Cost Data'!$A:$A,0)))","v":""},{"$f":"IF($C200=\"\",\"\",INDEX('Cost Data'!$K:$K,MATCH('Most Critical'!$C200,'Cost Data'!$A:$A,0)))","v":""},{"$f":"IF($C200=\"\",\"\",'Calculate Risk'!$Q193)","v":""}]
[194,null,{"$f":"'Calculate Risk'!$A194","v":""},{"$f":"IF($C201=\"\",\"\",'Calculate Risk'!$B194)","v":""},{"$f":"IF($C201=\"\",\"\",'Calculate Risk'!$C194)","v":""},{"$f":"IF($C201=\"\",\"\",INDEX('Data Collection Sheet'!$D:$D,MATCH('Most Critical'!$C201,'Data Collection Sheet'!$A:$A,0)))","v":""},{"$f":"IF($C201=\"\",\"\",IF(INDEX('Data Collection Sheet'!$E:$E,MATCH('Most Critical'!$C201,'Data Collection Sheet'!$A:$A,0))=\"\",\"\",INDEX('Data Collection Sheet'!$E:$E,MATCH('Most Critical'!$C201,'Data Collection Sheet'!$A:$A,0))))","v":""},{"$f":"IF($C201=\"\",\"\",INDEX('Consequence of Failure'!$P:$P,MATCH('Most Critical'!$C201,'Consequence of Failure'!$A:$A,0)))","v":""},{"$f":"IF($C201=\"\",\"\",INDEX('Data Collection Sheet'!$K:$K,MATCH('Most Critical'!$C201,'Data Collection Sheet'!$A:$A,0)))","v":""},{"$f":"IF($C201=\"\",\"\",INDEX('Cost Data'!$I:$I,MATCH('Most Critical'!$C201,'Cost Data'!$A:$A,0)))","v":""},{"$f":"IF($C201=\"\",\"\",INDEX('Cost Data'!$K:$K,MATCH('Most Critical'!$C201,'Cost Data'!$A:$A,0)))","v":""},{"$f":"IF($C201=\"\",\"\",'Calculate Risk'!$Q194)","v":""}]
[195,null,{"$f":"'Calculate Risk'!$A195","v":""},{"$f":"IF($C202=\"\",\"\",'Calculate Risk'!$B195)","v":""},{"$f":"IF($C202=\"\",\"\",'Calculate Risk'!$C195)","v":""},{"$f":"IF($C202=\"\",\"\",INDEX('Data Collection Sheet'!$D:$D,MATCH('Most Critical'!$C202,'Data Collection Sheet'!$A:$A,0)))","v":""},{"$f":"IF($C202=\"\",\"\",IF(INDEX('Data Collection Sheet'!$E:$E,MATCH('Most Critical'!$C202,'Data Collection Sheet'!$A:$A,0))=\"\",\"\",INDEX('Data Collection Sheet'!$E:$E,MATCH('Most Critical'!$C202,'Data Collection Sheet'!$A:$A,0))))","v":""},{"$f":"IF($C202=\"\",\"\",INDEX('Consequence of Failure'!$P:$P,MATCH('Most Critical'!$C202,'Consequence of Failure'!$A:$A,0)))","v":""},{"$f":"IF($C202=\"\",\"\",INDEX('Data Collection Sheet'!$K:$K,MATCH('Most Critical'!$C202,'Data Collection Sheet'!$A:$A,0)))","v":""},{"$f":"IF($C202=\"\",\"\",INDEX('Cost Data'!$I:$I,MATCH('Most Critical'!$C202,'Cost Data'!$A:$A,0)))","v":""},{"$f":"IF($C202=\"\",\"\",INDEX('Cost Data'!$K:$K,MATCH('Most Critical'!$C202,'Cost Data'!$A:$A,0)))","v":""},{"$f":"IF($C202=\"\",\"\",'Calculate Risk'!$Q195)","v":""}]
[196,null,{"$f":"'Calculate Risk'!$A196","v":""},{"$f":"IF($C203=\"\",\"\",'Calculate Risk'!$B196)","v":""},{"$f":"IF($C203=\"\",\"\",'Calculate Risk'!$C196)","v":""},{"$f":"IF($C203=\"\",\"\",INDEX('Data Collection Sheet'!$D:$D,MATCH('Most Critical'!$C203,'Data Collection Sheet'!$A:$A,0)))","v":""},{"$f":"IF($C203=\"\",\"\",IF(INDEX('Data Collection Sheet'!$E:$E,MATCH('Most Critical'!$C203,'Data Collection Sheet'!$A:$A,0))=\"\",\"\",INDEX('Data Collection Sheet'!$E:$E,MATCH('Most Critical'!$C203,'Data Collection Sheet'!$A:$A,0))))","v":""},{"$f":"IF($C203=\"\",\"\",INDEX('Consequence of Failure'!$P:$P,MATCH('Most Critical'!$C203,'Consequence of Failure'!$A:$A,0)))","v":""},{"$f":"IF($C203=\"\",\"\",INDEX('Data Collection Sheet'!$K:$K,MATCH('Most Critical'!$C203,'Data Collection Sheet'!$A:$A,0)))","v":""},{"$f":"IF($C203=\"\",\"\",INDEX('Cost Data'!$I:$I,MATCH('Most Critical'!$C203,'Cost Data'!$A:$A,0)))","v":""},{"$f":"IF($C203=\"\",\"\",INDEX('Cost Data'!$K:$K,MATCH('Most Critical'!$C203,'Cost Data'!$A:$A,0)))","v":""},{"$f":"IF($C203=\"\",\"\",'Calculate Risk'!$Q196)","v":""}]
[197,null,{"$f":"'Calculate Risk'!$A197","v":""},{"$f":"IF($C204=\"\",\"\",'Calculate Risk'!$B197)","v":""},{"$f":"IF($C204=\"\",\"\",'Calculate Risk'!$C197)","v":""},{"$f":"IF($C204=\"\",\"\",INDEX('Data Collection Sheet'!$D:$D,MATCH('Most Critical'!$C204,'Data Collection Sheet'!$A:$A,0)))","v":""},{"$f":"IF($C204=\"\",\"\",IF(INDEX('Data Collection Sheet'!$E:$E,MATCH('Most Critical'!$C204,'Data Collection Sheet'!$A:$A,0))=\"\",\"\",INDEX('Data Collection Sheet'!$E:$E,MATCH('Most Critical'!$C204,'Data Collection Sheet'!$A:$A,0))))","v":""},{"$f":"IF($C204=\"\",\"\",INDEX('Consequence of Failure'!$P:$P,MATCH('Most Critical'!$C204,'Consequence of Failure'!$A:$A,0)))","v":""},{"$f":"IF($C204=\"\",\"\",INDEX('Data Collection Sheet'!$K:$K,MATCH('Most Critical'!$C204,'Data Collection Sheet'!$A:$A,0)))","v":""},{"$f":"IF($C204=\"\",\"\",INDEX('Cost Data'!$I:$I,MATCH('Most Critical'!$C204,'Cost Data'!$A:$A,0)))","v":""},{"$f":"IF($C204=\"\",\"\",INDEX('Cost Data'!$K:$K,MATCH('Most Critical'!$C204,'Cost Data'!$A:$A,0)))","v":""},{"$f":"IF($C204=\"\",\"\",'Calculate Risk'!$Q197)","v":""}]
[198,null,{"$f":"'Calculate Risk'!$A198","v":""},{"$f":"IF($C205=\"\",\"\",'Calculate Risk'!$B198)","v":""},{"$f":"IF($C205=\"\",\"\",'Calculate Risk'!$C198)","v":""},{"$f":"IF($C205=\"\",\"\",INDEX('Data Collection Sheet'!$D:$D,MATCH('Most Critical'!$C205,'Data Collection Sheet'!$A:$A,0)))","v":""},{"$f":"IF($C205=\"\",\"\",IF(INDEX('Data Collection Sheet'!$E:$E,MATCH('Most Critical'!$C205,'Data Collection Sheet'!$A:$A,0))=\"\",\"\",INDEX('Data Collection Sheet'!$E:$E,MATCH('Most Critical'!$C205,'Data Collection Sheet'!$A:$A,0))))","v":""},{"$f":"IF($C205=\"\",\"\",INDEX('Consequence of Failure'!$P:$P,MATCH('Most Critical'!$C205,'Consequence of Failure'!$A:$A,0)))","v":""},{"$f":"IF($C205=\"\",\"\",INDEX('Data Collection Sheet'!$K:$K,MATCH('Most Critical'!$C205,'Data Collection Sheet'!$A:$A,0)))","v":""},{"$f":"IF($C205=\"\",\"\",INDEX('Cost Data'!$I:$I,MATCH('Most Critical'!$C205,'Cost Data'!$A:$A,0)))","v":""},{"$f":"IF($C205=\"\",\"\",INDEX('Cost Data'!$K:$K,MATCH('Most Critical'!$C205,'Cost Data'!$A:$A,0)))","v":""},{"$f":"IF($C205=\"\",\"\",'Calculate Risk'!$Q198)","v":""}]
[199,null,{"$f":"'Calculate Risk'!$A199","v":""},{"$f":"IF($C206=\"\",\"\",'Calculate Risk'!$B199)","v":""},{"$f":"IF($C206=\"\",\"\",'Calculate Risk'!$C199)","v":""},{"$f":"IF($C206=\"\",\"\",INDEX('Data Collection Sheet'!$D:$D,MATCH('Most Critical'!$C206,'Data Collection Sheet'!$A:$A,0)))","v":""},{"$f":"IF($C206=\"\",\"\",IF(INDEX('Data Collection Sheet'!$E:$E,MATCH('Most Critical'!$C206,'Data Collection Sheet'!$A:$A,0))=\"\",\"\",INDEX('Data Collection Sheet'!$E:$E,MATCH('Most Critical'!$C206,'Data Collection Sheet'!$A:$A,0))))","v":""},{"$f":"IF($C206=\"\",\"\",INDEX('Consequence of Failure'!$P:$P,MATCH('Most Critical'!$C206,'Consequence of Failure'!$A:$A,0)))","v":""},{"$f":"IF($C206=\"\",\"\",INDEX('Data Collection Sheet'!$K:$K,MATCH('Most Critical'!$C206,'Data Collection Sheet'!$A:$A,0)))","v":""},{"$f":"IF($C206=\"\",\"\",INDEX('Cost Data'!$I:$I,MATCH('Most Critical'!$C206,'Cost Data'!$A:$A,0)))","v":""},{"$f":"IF($C206=\"\",\"\",INDEX('Cost Data'!$K:$K,MATCH('Most Critical'!$C206,'Cost Data'!$A:$A,0)))","v":""},{"$f":"IF($C206=\"\",\"\",'Calculate Risk'!$Q199)","v":""}]
[200,null,{"$f":"'Calculate Risk'!$A200","v":""},{"$f":"IF($C207=\"\",\"\",'Calculate Risk'!$B200)","v":""},{"$f":"IF($C207=\"\",\"\",'Calculate Risk'!$C200)","v":""},{"$f":"IF($C207=\"\",\"\",INDEX('Data Collection Sheet'!$D:$D,MATCH('Most Critical'!$C207,'Data Collection Sheet'!$A:$A,0)))","v":""},{"$f":"IF($C207=\"\",\"\",IF(INDEX('Data Collection Sheet'!$E:$E,MATCH('Most Critical'!$C207,'Data Collection Sheet'!$A:$A,0))=\"\",\"\",INDEX('Data Collection Sheet'!$E:$E,MATCH('Most Critical'!$C207,'Data Collection Sheet'!$A:$A,0))))","v":""},{"$f":"IF($C207=\"\",\"\",INDEX('Consequence of Failure'!$P:$P,MATCH('Most Critical'!$C207,'Consequence of Failure'!$A:$A,0)))","v":""},{"$f":"IF($C207=\"\",\"\",INDEX('Data Collection Sheet'!$K:$K,MATCH('Most Critical'!$C207,'Data Collection Sheet'!$A:$A,0)))","v":""},{"$f":"IF($C207=\"\",\"\",INDEX('Cost Data'!$I:$I,MATCH('Most Critical'!$C207,'Cost Data'!$A:$A,0)))","v":""},{"$f":"IF($C207=\"\",\"\",INDEX('Cost Data'!$K:$K,MATCH('Most Critical'!$C207,'Cost Data'!$A:$A,0)))","v":""},{"$f":"IF($C207=\"\",\"\",'Calculate Risk'!$Q200)","v":""}]
[201,null,{"$f":"'Calculate Risk'!$A201","v":""},{"$f":"IF($C208=\"\",\"\",'Calculate Risk'!$B201)","v":""},{"$f":"IF($C208=\"\",\"\",'Calculate Risk'!$C201)","v":""},{"$f":"IF($C208=\"\",\"\",INDEX('Data Collection Sheet'!$D:$D,MATCH('Most Critical'!$C208,'Data Collection Sheet'!$A:$A,0)))","v":""},{"$f":"IF($C208=\"\",\"\",IF(INDEX('Data Collection Sheet'!$E:$E,MATCH('Most Critical'!$C208,'Data Collection Sheet'!$A:$A,0))=\"\",\"\",INDEX('Data Collection Sheet'!$E:$E,MATCH('Most Critical'!$C208,'Data Collection Sheet'!$A:$A,0))))","v":""},{"$f":"IF($C208=\"\",\"\",INDEX('Consequence of Failure'!$P:$P,MATCH('Most Critical'!$C208,'Consequence of Failure'!$A:$A,0)))","v":""},{"$f":"IF($C208=\"\",\"\",INDEX('Data Collection Sheet'!$K:$K,MATCH('Most Critical'!$C208,'Data Collection Sheet'!$A:$A,0)))","v":""},{"$f":"IF($C208=\"\",\"\",INDEX('Cost Data'!$I:$I,MATCH('Most Critical'!$C208,'Cost Data'!$A:$A,0)))","v":""},{"$f":"IF($C208=\"\",\"\",INDEX('Cost Data'!$K:$K,MATCH('Most Critical'!$C208,'Cost Data'!$A:$A,0)))","v":""},{"$f":"IF($C208=\"\",\"\",'Calculate Risk'!$Q201)","v":""}]
[202,null,{"$f":"'Calculate Risk'!$A202","v":""},{"$f":"IF($C209=\"\",\"\",'Calculate Risk'!$B202)","v":""},{"$f":"IF($C209=\"\",\"\",'Calculate Risk'!$C202)","v":""},{"$f":"IF($C209=\"\",\"\",INDEX('Data Collection Sheet'!$D:$D,MATCH('Most Critical'!$C209,'Data Collection Sheet'!$A:$A,0)))","v":""},{"$f":"IF($C209=\"\",\"\",IF(INDEX('Data Collection Sheet'!$E:$E,MATCH('Most Critical'!$C209,'Data Collection Sheet'!$A:$A,0))=\"\",\"\",INDEX('Data Collection Sheet'!$E:$E,MATCH('Most Critical'!$C209,'Data Collection Sheet'!$A:$A,0))))","v":""},{"$f":"IF($C209=\"\",\"\",INDEX('Consequence of Failure'!$P:$P,MATCH('Most Critical'!$C209,'Consequence of Failure'!$A:$A,0)))","v":""},{"$f":"IF($C209=\"\",\"\",INDEX('Data Collection Sheet'!$K:$K,MATCH('Most Critical'!$C209,'Data Collection Sheet'!$A:$A,0)))","v":""},{"$f":"IF($C209=\"\",\"\",INDEX('Cost Data'!$I:$I,MATCH('Most Critical'!$C209,'Cost Data'!$A:$A,0)))","v":""},{"$f":"IF($C209=\"\",\"\",INDEX('Cost Data'!$K:$K,MATCH('Most Critical'!$C209,'Cost Data'!$A:$A,0)))","v":""},{"$f":"IF($C209=\"\",\"\",'Calculate Risk'!$Q202)","v":""}]
[203,null,{"$f":"'Calculate Risk'!$A203","v":""},{"$f":"IF($C210=\"\",\"\",'Calculate Risk'!$B203)","v":""},{"$f":"IF($C210=\"\",\"\",'Calculate Risk'!$C203)","v":""},{"$f":"IF($C210=\"\",\"\",INDEX('Data Collection Sheet'!$D:$D,MATCH('Most Critical'!$C210,'Data Collection Sheet'!$A:$A,0)))","v":""},{"$f":"IF($C210=\"\",\"\",IF(INDEX('Data Collection Sheet'!$E:$E,MATCH('Most Critical'!$C210,'Data Collection Sheet'!$A:$A,0))=\"\",\"\",INDEX('Data Collection Sheet'!$E:$E,MATCH('Most Critical'!$C210,'Data Collection Sheet'!$A:$A,0))))","v":""},{"$f":"IF($C210=\"\",\"\",INDEX('Consequence of Failure'!$P:$P,MATCH('Most Critical'!$C210,'Consequence of Failure'!$A:$A,0)))","v":""},{"$f":"IF($C210=\"\",\"\",INDEX('Data Collection Sheet'!$K:$K,MATCH('Most Critical'!$C210,'Data Collection Sheet'!$A:$A,0)))","v":""},{"$f":"IF($C210=\"\",\"\",INDEX('Cost Data'!$I:$I,MATCH('Most Critical'!$C210,'Cost Data'!$A:$A,0)))","v":""},{"$f":"IF($C210=\"\",\"\",INDEX('Cost Data'!$K:$K,MATCH('Most Critical'!$C210,'Cost Data'!$A:$A,0)))","v":""},{"$f":"IF($C210=\"\",\"\",'Calculate Risk'!$Q203)","v":""}]
[204,null,{"$f":"'Calculate Risk'!$A204","v":""},{"$f":"IF($C211=\"\",\"\",'Calculate Risk'!$B204)","v":""},{"$f":"IF($C211=\"\",\"\",'Calculate Risk'!$C204)","v":""},{"$f":"IF($C211=\"\",\"\",INDEX('Data Collection Sheet'!$D:$D,MATCH('Most Critical'!$C211,'Data Collection Sheet'!$A:$A,0)))","v":""},{"$f":"IF($C211=\"\",\"\",IF(INDEX('Data Collection Sheet'!$E:$E,MATCH('Most Critical'!$C211,'Data Collection Sheet'!$A:$A,0))=\"\",\"\",INDEX('Data Collection Sheet'!$E:$E,MATCH('Most Critical'!$C211,'Data Collection Sheet'!$A:$A,0))))","v":""},{"$f":"IF($C211=\"\",\"\",INDEX('Consequence of Failure'!$P:$P,MATCH('Most Critical'!$C211,'Consequence of Failure'!$A:$A,0)))","v":""},{"$f":"IF($C211=\"\",\"\",INDEX('Data Collection Sheet'!$K:$K,MATCH('Most Critical'!$C211,'Data Collection Sheet'!$A:$A,0)))","v":""},{"$f":"IF($C211=\"\",\"\",INDEX('Cost Data'!$I:$I,MATCH('Most Critical'!$C211,'Cost Data'!$A:$A,0)))","v":""},{"$f":"IF($C211=\"\",\"\",INDEX('Cost Data'!$K:$K,MATCH('Most Critical'!$C211,'Cost Data'!$A:$A,0)))","v":""},{"$f":"IF($C211=\"\",\"\",'Calculate Risk'!$Q204)","v":""}]
[205,null,{"$f":"'Calculate Risk'!$A205","v":""},{"$f":"IF($C212=\"\",\"\",'Calculate Risk'!$B205)","v":""},{"$f":"IF($C212=\"\",\"\",'Calculate Risk'!$C205)","v":""},{"$f":"IF($C212=\"\",\"\",INDEX('Data Collection Sheet'!$D:$D,MATCH('Most Critical'!$C212,'Data Collection Sheet'!$A:$A,0)))","v":""},{"$f":"IF($C212=\"\",\"\",IF(INDEX('Data Collection Sheet'!$E:$E,MATCH('Most Critical'!$C212,'Data Collection Sheet'!$A:$A,0))=\"\",\"\",INDEX('Data Collection Sheet'!$E:$E,MATCH('Most Critical'!$C212,'Data Collection Sheet'!$A:$A,0))))","v":""},{"$f":"IF($C212=\"\",\"\",INDEX('Consequence of Failure'!$P:$P,MATCH('Most Critical'!$C212,'Consequence of Failure'!$A:$A,0)))","v":""},{"$f":"IF($C212=\"\",\"\",INDEX('Data Collection Sheet'!$K:$K,MATCH('Most Critical'!$C212,'Data Collection Sheet'!$A:$A,0)))","v":""},{"$f":"IF($C212=\"\",\"\",INDEX('Cost Data'!$I:$I,MATCH('Most Critical'!$C212,'Cost Data'!$A:$A,0)))","v":""},{"$f":"IF($C212=\"\",\"\",INDEX('Cost Data'!$K:$K,MATCH('Most Critical'!$C212,'Cost Data'!$A:$A,0)))","v":""},{"$f":"IF($C212=\"\",\"\",'Calculate Risk'!$Q205)","v":""}]
[206,null,{"$f":"'Calculate Risk'!$A206","v":""},{"$f":"IF($C213=\"\",\"\",'Calculate Risk'!$B206)","v":""},{"$f":"IF($C213=\"\",\"\",'Calculate Risk'!$C206)","v":""},{"$f":"IF($C213=\"\",\"\",INDEX('Data Collection Sheet'!$D:$D,MATCH('Most Critical'!$C213,'Data Collection Sheet'!$A:$A,0)))","v":""},{"$f":"IF($C213=\"\",\"\",IF(INDEX('Data Collection Sheet'!$E:$E,MATCH('Most Critical'!$C213,'Data Collection Sheet'!$A:$A,0))=\"\",\"\",INDEX('Data Collection Sheet'!$E:$E,MATCH('Most Critical'!$C213,'Data Collection Sheet'!$A:$A,0))))","v":""},{"$f":"IF($C213=\"\",\"\",INDEX('Consequence of Failure'!$P:$P,MATCH('Most Critical'!$C213,'Consequence of Failure'!$A:$A,0)))","v":""},{"$f":"IF($C213=\"\",\"\",INDEX('Data Collection Sheet'!$K:$K,MATCH('Most Critical'!$C213,'Data Collection Sheet'!$A:$A,0)))","v":""},{"$f":"IF($C213=\"\",\"\",INDEX('Cost Data'!$I:$I,MATCH('Most Critical'!$C213,'Cost Data'!$A:$A,0)))","v":""},{"$f":"IF($C213=\"\",\"\",INDEX('Cost Data'!$K:$K,MATCH('Most Critical'!$C213,'Cost Data'!$A:$A,0)))","v":""},{"$f":"IF($C213=\"\",\"\",'Calculate Risk'!$Q206)","v":""}]
[207,null,{"$f":"'Calculate Risk'!$A207","v":""},{"$f":"IF($C214=\"\",\"\",'Calculate Risk'!$B207)","v":""},{"$f":"IF($C214=\"\",\"\",'Calculate Risk'!$C207)","v":""},{"$f":"IF($C214=\"\",\"\",INDEX('Data Collection Sheet'!$D:$D,MATCH('Most Critical'!$C214,'Data Collection Sheet'!$A:$A,0)))","v":""},{"$f":"IF($C214=\"\",\"\",IF(INDEX('Data Collection Sheet'!$E:$E,MATCH('Most Critical'!$C214,'Data Collection Sheet'!$A:$A,0))=\"\",\"\",INDEX('Data Collection Sheet'!$E:$E,MATCH('Most Critical'!$C214,'Data Collection Sheet'!$A:$A,0))))","v":""},{"$f":"IF($C214=\"\",\"\",INDEX('Consequence of Failure'!$P:$P,MATCH('Most Critical'!$C214,'Consequence of Failure'!$A:$A,0)))","v":""},{"$f":"IF($C214=\"\",\"\",INDEX('Data Collection Sheet'!$K:$K,MATCH('Most Critical'!$C214,'Data Collection Sheet'!$A:$A,0)))","v":""},{"$f":"IF($C214=\"\",\"\",INDEX('Cost Data'!$I:$I,MATCH('Most Critical'!$C214,'Cost Data'!$A:$A,0)))","v":""},{"$f":"IF($C214=\"\",\"\",INDEX('Cost Data'!$K:$K,MATCH('Most Critical'!$C214,'Cost Data'!$A:$A,0)))","v":""},{"$f":"IF($C214=\"\",\"\",'Calculate Risk'!$Q207)","v":""}]
[208,null,{"$f":"'Calculate Risk'!$A208","v":""},{"$f":"IF($C215=\"\",\"\",'Calculate Risk'!$B208)","v":""},{"$f":"IF($C215=\"\",\"\",'Calculate Risk'!$C208)","v":""},{"$f":"IF($C215=\"\",\"\",INDEX('Data Collection Sheet'!$D:$D,MATCH('Most Critical'!$C215,'Data Collection Sheet'!$A:$A,0)))","v":""},{"$f":"IF($C215=\"\",\"\",IF(INDEX('Data Collection Sheet'!$E:$E,MATCH('Most Critical'!$C215,'Data Collection Sheet'!$A:$A,0))=\"\",\"\",INDEX('Data Collection Sheet'!$E:$E,MATCH('Most Critical'!$C215,'Data Collection Sheet'!$A:$A,0))))","v":""},{"$f":"IF($C215=\"\",\"\",INDEX('Consequence of Failure'!$P:$P,MATCH('Most Critical'!$C215,'Consequence of Failure'!$A:$A,0)))","v":""},{"$f":"IF($C215=\"\",\"\",INDEX('Data Collection Sheet'!$K:$K,MATCH('Most Critical'!$C215,'Data Collection Sheet'!$A:$A,0)))","v":""},{"$f":"IF($C215=\"\",\"\",INDEX('Cost Data'!$I:$I,MATCH('Most Critical'!$C215,'Cost Data'!$A:$A,0)))","v":""},{"$f":"IF($C215=\"\",\"\",INDEX('Cost Data'!$K:$K,MATCH('Most Critical'!$C215,'Cost Data'!$A:$A,0)))","v":""},{"$f":"IF($C215=\"\",\"\",'Calculate Risk'!$Q208)","v":""}]
[209,null,{"$f":"'Calculate Risk'!$A209","v":""},{"$f":"IF($C216=\"\",\"\",'Calculate Risk'!$B209)","v":""},{"$f":"IF($C216=\"\",\"\",'Calculate Risk'!$C209)","v":""},{"$f":"IF($C216=\"\",\"\",INDEX('Data Collection Sheet'!$D:$D,MATCH('Most Critical'!$C216,'Data Collection Sheet'!$A:$A,0)))","v":""},{"$f":"IF($C216=\"\",\"\",IF(INDEX('Data Collection Sheet'!$E:$E,MATCH('Most Critical'!$C216,'Data Collection Sheet'!$A:$A,0))=\"\",\"\",INDEX('Data Collection Sheet'!$E:$E,MATCH('Most Critical'!$C216,'Data Collection Sheet'!$A:$A,0))))","v":""},{"$f":"IF($C216=\"\",\"\",INDEX('Consequence of Failure'!$P:$P,MATCH('Most Critical'!$C216,'Consequence of Failure'!$A:$A,0)))","v":""},{"$f":"IF($C216=\"\",\"\",INDEX('Data Collection Sheet'!$K:$K,MATCH('Most Critical'!$C216,'Data Collection Sheet'!$A:$A,0)))","v":""},{"$f":"IF($C216=\"\",\"\",INDEX('Cost Data'!$I:$I,MATCH('Most Critical'!$C216,'Cost Data'!$A:$A,0)))","v":""},{"$f":"IF($C216=\"\",\"\",INDEX('Cost Data'!$K:$K,MATCH('Most Critical'!$C216,'Cost Data'!$A:$A,0)))","v":""},{"$f":"IF($C216=\"\",\"\",'Calculate Risk'!$Q209)","v":""}]
[210,null,{"$f":"'Calculate Risk'!$A210","v":""},{"$f":"IF($C217=\"\",\"\",'Calculate Risk'!$B210)","v":""},{"$f":"IF($C217=\"\",\"\",'Calculate Risk'!$C210)","v":""},{"$f":"IF($C217=\"\",\"\",INDEX('Data Collection Sheet'!$D:$D,MATCH('Most Critical'!$C217,'Data Collection Sheet'!$A:$A,0)))","v":""},{"$f":"IF($C217=\"\",\"\",IF(INDEX('Data Collection Sheet'!$E:$E,MATCH('Most Critical'!$C217,'Data Collection Sheet'!$A:$A,0))=\"\",\"\",INDEX('Data Collection Sheet'!$E:$E,MATCH('Most Critical'!$C217,'Data Collection Sheet'!$A:$A,0))))","v":""},{"$f":"IF($C217=\"\",\"\",INDEX('Consequence of Failure'!$P:$P,MATCH('Most Critical'!$C217,'Consequence of Failure'!$A:$A,0)))","v":""},{"$f":"IF($C217=\"\",\"\",INDEX('Data Collection Sheet'!$K:$K,MATCH('Most Critical'!$C217,'Data Collection Sheet'!$A:$A,0)))","v":""},{"$f":"IF($C217=\"\",\"\",INDEX('Cost Data'!$I:$I,MATCH('Most Critical'!$C217,'Cost Data'!$A:$A,0)))","v":""},{"$f":"IF($C217=\"\",\"\",INDEX('Cost Data'!$K:$K,MATCH('Most Critical'!$C217,'Cost Data'!$A:$A,0)))","v":""},{"$f":"IF($C217=\"\",\"\",'Calculate Risk'!$Q210)","v":""}]
[211,null,{"$f":"'Calculate Risk'!$A211","v":""},{"$f":"IF($C218=\"\",\"\",'Calculate Risk'!$B211)","v":""},{"$f":"IF($C218=\"\",\"\",'Calculate Risk'!$C211)","v":""},{"$f":"IF($C218=\"\",\"\",INDEX('Data Collection Sheet'!$D:$D,MATCH('Most Critical'!$C218,'Data Collection Sheet'!$A:$A,0)))","v":""},{"$f":"IF($C218=\"\",\"\",IF(INDEX('Data Collection Sheet'!$E:$E,MATCH('Most Critical'!$C218,'Data Collection Sheet'!$A:$A,0))=\"\",\"\",INDEX('Data Collection Sheet'!$E:$E,MATCH('Most Critical'!$C218,'Data Collection Sheet'!$A:$A,0))))","v":""},{"$f":"IF($C218=\"\",\"\",INDEX('Consequence of Failure'!$P:$P,MATCH('Most Critical'!$C218,'Consequence of Failure'!$A:$A,0)))","v":""},{"$f":"IF($C218=\"\",\"\",INDEX('Data Collection Sheet'!$K:$K,MATCH('Most Critical'!$C218,'Data Collection Sheet'!$A:$A,0)))","v":""},{"$f":"IF($C218=\"\",\"\",INDEX('Cost Data'!$I:$I,MATCH('Most Critical'!$C218,'Cost Data'!$A:$A,0)))","v":""},{"$f":"IF($C218=\"\",\"\",INDEX('Cost Data'!$K:$K,MATCH('Most Critical'!$C218,'Cost Data'!$A:$A,0)))","v":""},{"$f":"IF($C218=\"\",\"\",'Calculate Risk'!$Q211)","v":""}]
[212,null,{"$f":"'Calculate Risk'!$A212","v":""},{"$f":"IF($C219=\"\",\"\",'Calculate Risk'!$B212)","v":""},{"$f":"IF($C219=\"\",\"\",'Calculate Risk'!$C212)","v":""},{"$f":"IF($C219=\"\",\"\",INDEX('Data Collection Sheet'!$D:$D,MATCH('Most Critical'!$C219,'Data Collection Sheet'!$A:$A,0)))","v":""},{"$f":"IF($C219=\"\",\"\",IF(INDEX('Data Collection Sheet'!$E:$E,MATCH('Most Critical'!$C219,'Data Collection Sheet'!$A:$A,0))=\"\",\"\",INDEX('Data Collection Sheet'!$E:$E,MATCH('Most Critical'!$C219,'Data Collection Sheet'!$A:$A,0))))","v":""},{"$f":"IF($C219=\"\",\"\",INDEX('Consequence of Failure'!$P:$P,MATCH('Most Critical'!$C219,'Consequence of Failure'!$A:$A,0)))","v":""},{"$f":"IF($C219=\"\",\"\",INDEX('Data Collection Sheet'!$K:$K,MATCH('Most Critical'!$C219,'Data Collection Sheet'!$A:$A,0)))","v":""},{"$f":"IF($C219=\"\",\"\",INDEX('Cost Data'!$I:$I,MATCH('Most Critical'!$C219,'Cost Data'!$A:$A,0)))","v":""},{"$f":"IF($C219=\"\",\"\",INDEX('Cost Data'!$K:$K,MATCH('Most Critical'!$C219,'Cost Data'!$A:$A,0)))","v":""},{"$f":"IF($C219=\"\",\"\",'Calculate Risk'!$Q212)","v":""}]
[213,null,{"$f":"'Calculate Risk'!$A213","v":""},{"$f":"IF($C220=\"\",\"\",'Calculate Risk'!$B213)","v":""},{"$f":"IF($C220=\"\",\"\",'Calculate Risk'!$C213)","v":""},{"$f":"IF($C220=\"\",\"\",INDEX('Data Collection Sheet'!$D:$D,MATCH('Most Critical'!$C220,'Data Collection Sheet'!$A:$A,0)))","v":""},{"$f":"IF($C220=\"\",\"\",IF(INDEX('Data Collection Sheet'!$E:$E,MATCH('Most Critical'!$C220,'Data Collection Sheet'!$A:$A,0))=\"\",\"\",INDEX('Data Collection Sheet'!$E:$E,MATCH('Most Critical'!$C220,'Data Collection Sheet'!$A:$A,0))))","v":""},{"$f":"IF($C220=\"\",\"\",INDEX('Consequence of Failure'!$P:$P,MATCH('Most Critical'!$C220,'Consequence of Failure'!$A:$A,0)))","v":""},{"$f":"IF($C220=\"\",\"\",INDEX('Data Collection Sheet'!$K:$K,MATCH('Most Critical'!$C220,'Data Collection Sheet'!$A:$A,0)))","v":""},{"$f":"IF($C220=\"\",\"\",INDEX('Cost Data'!$I:$I,MATCH('Most Critical'!$C220,'Cost Data'!$A:$A,0)))","v":""},{"$f":"IF($C220=\"\",\"\",INDEX('Cost Data'!$K:$K,MATCH('Most Critical'!$C220,'Cost Data'!$A:$A,0)))","v":""},{"$f":"IF($C220=\"\",\"\",'Calculate Risk'!$Q213)","v":""}]
[214,null,{"$f":"'Calculate Risk'!$A214","v":""},{"$f":"IF($C221=\"\",\"\",'Calculate Risk'!$B214)","v":""},{"$f":"IF($C221=\"\",\"\",'Calculate Risk'!$C214)","v":""},{"$f":"IF($C221=\"\",\"\",INDEX('Data Collection Sheet'!$D:$D,MATCH('Most Critical'!$C221,'Data Collection Sheet'!$A:$A,0)))","v":""},{"$f":"IF($C221=\"\",\"\",IF(INDEX('Data Collection Sheet'!$E:$E,MATCH('Most Critical'!$C221,'Data Collection Sheet'!$A:$A,0))=\"\",\"\",INDEX('Data Collection Sheet'!$E:$E,MATCH('Most Critical'!$C221,'Data Collection Sheet'!$A:$A,0))))","v":""},{"$f":"IF($C221=\"\",\"\",INDEX('Consequence of Failure'!$P:$P,MATCH('Most Critical'!$C221,'Consequence of Failure'!$A:$A,0)))","v":""},{"$f":"IF($C221=\"\",\"\",INDEX('Data Collection Sheet'!$K:$K,MATCH('Most Critical'!$C221,'Data Collection Sheet'!$A:$A,0)))","v":""},{"$f":"IF($C221=\"\",\"\",INDEX('Cost Data'!$I:$I,MATCH('Most Critical'!$C221,'Cost Data'!$A:$A,0)))","v":""},{"$f":"IF($C221=\"\",\"\",INDEX('Cost Data'!$K:$K,MATCH('Most Critical'!$C221,'Cost Data'!$A:$A,0)))","v":""},{"$f":"IF($C221=\"\",\"\",'Calculate Risk'!$Q214)","v":""}]
[215,null,{"$f":"'Calculate Risk'!$A215","v":""},{"$f":"IF($C222=\"\",\"\",'Calculate Risk'!$B215)","v":""},{"$f":"IF($C222=\"\",\"\",'Calculate Risk'!$C215)","v":""},{"$f":"IF($C222=\"\",\"\",INDEX('Data Collection Sheet'!$D:$D,MATCH('Most Critical'!$C222,'Data Collection Sheet'!$A:$A,0)))","v":""},{"$f":"IF($C222=\"\",\"\",IF(INDEX('Data Collection Sheet'!$E:$E,MATCH('Most Critical'!$C222,'Data Collection Sheet'!$A:$A,0))=\"\",\"\",INDEX('Data Collection Sheet'!$E:$E,MATCH('Most Critical'!$C222,'Data Collection Sheet'!$A:$A,0))))","v":""},{"$f":"IF($C222=\"\",\"\",INDEX('Consequence of Failure'!$P:$P,MATCH('Most Critical'!$C222,'Consequence of Failure'!$A:$A,0)))","v":""},{"$f":"IF($C222=\"\",\"\",INDEX('Data Collection Sheet'!$K:$K,MATCH('Most Critical'!$C222,'Data Collection Sheet'!$A:$A,0)))","v":""},{"$f":"IF($C222=\"\",\"\",INDEX('Cost Data'!$I:$I,MATCH('Most Critical'!$C222,'Cost Data'!$A:$A,0)))","v":""},{"$f":"IF($C222=\"\",\"\",INDEX('Cost Data'!$K:$K,MATCH('Most Critical'!$C222,'Cost Data'!$A:$A,0)))","v":""},{"$f":"IF($C222=\"\",\"\",'Calculate Risk'!$Q215)","v":""}]
[216,null,{"$f":"'Calculate Risk'!$A216","v":""},{"$f":"IF($C223=\"\",\"\",'Calculate Risk'!$B216)","v":""},{"$f":"IF($C223=\"\",\"\",'Calculate Risk'!$C216)","v":""},{"$f":"IF($C223=\"\",\"\",INDEX('Data Collection Sheet'!$D:$D,MATCH('Most Critical'!$C223,'Data Collection Sheet'!$A:$A,0)))","v":""},{"$f":"IF($C223=\"\",\"\",IF(INDEX('Data Collection Sheet'!$E:$E,MATCH('Most Critical'!$C223,'Data Collection Sheet'!$A:$A,0))=\"\",\"\",INDEX('Data Collection Sheet'!$E:$E,MATCH('Most Critical'!$C223,'Data Collection Sheet'!$A:$A,0))))","v":""},{"$f":"IF($C223=\"\",\"\",INDEX('Consequence of Failure'!$P:$P,MATCH('Most Critical'!$C223,'Consequence of Failure'!$A:$A,0)))","v":""},{"$f":"IF($C223=\"\",\"\",INDEX('Data Collection Sheet'!$K:$K,MATCH('Most Critical'!$C223,'Data Collection Sheet'!$A:$A,0)))","v":""},{"$f":"IF($C223=\"\",\"\",INDEX('Cost Data'!$I:$I,MATCH('Most Critical'!$C223,'Cost Data'!$A:$A,0)))","v":""},{"$f":"IF($C223=\"\",\"\",INDEX('Cost Data'!$K:$K,MATCH('Most Critical'!$C223,'Cost Data'!$A:$A,0)))","v":""},{"$f":"IF($C223=\"\",\"\",'Calculate Risk'!$Q216)","v":""}]
[217,null,{"$f":"'Calculate Risk'!$A217","v":""},{"$f":"IF($C224=\"\",\"\",'Calculate Risk'!$B217)","v":""},{"$f":"IF($C224=\"\",\"\",'Calculate Risk'!$C217)","v":""},{"$f":"IF($C224=\"\",\"\",INDEX('Data Collection Sheet'!$D:$D,MATCH('Most Critical'!$C224,'Data Collection Sheet'!$A:$A,0)))","v":""},{"$f":"IF($C224=\"\",\"\",IF(INDEX('Data Collection Sheet'!$E:$E,MATCH('Most Critical'!$C224,'Data Collection Sheet'!$A:$A,0))=\"\",\"\",INDEX('Data Collection Sheet'!$E:$E,MATCH('Most Critical'!$C224,'Data Collection Sheet'!$A:$A,0))))","v":""},{"$f":"IF($C224=\"\",\"\",INDEX('Consequence of Failure'!$P:$P,MATCH('Most Critical'!$C224,'Consequence of Failure'!$A:$A,0)))","v":""},{"$f":"IF($C224=\"\",\"\",INDEX('Data Collection Sheet'!$K:$K,MATCH('Most Critical'!$C224,'Data Collection Sheet'!$A:$A,0)))","v":""},{"$f":"IF($C224=\"\",\"\",INDEX('Cost Data'!$I:$I,MATCH('Most Critical'!$C224,'Cost Data'!$A:$A,0)))","v":""},{"$f":"IF($C224=\"\",\"\",INDEX('Cost Data'!$K:$K,MATCH('Most Critical'!$C224,'Cost Data'!$A:$A,0)))","v":""},{"$f":"IF($C224=\"\",\"\",'Calculate Risk'!$Q217)","v":""}]
[218,null,{"$f":"'Calculate Risk'!$A218","v":""},{"$f":"IF($C225=\"\",\"\",'Calculate Risk'!$B218)","v":""},{"$f":"IF($C225=\"\",\"\",'Calculate Risk'!$C218)","v":""},{"$f":"IF($C225=\"\",\"\",INDEX('Data Collection Sheet'!$D:$D,MATCH('Most Critical'!$C225,'Data Collection Sheet'!$A:$A,0)))","v":""},{"$f":"IF($C225=\"\",\"\",IF(INDEX('Data Collection Sheet'!$E:$E,MATCH('Most Critical'!$C225,'Data Collection Sheet'!$A:$A,0))=\"\",\"\",INDEX('Data Collection Sheet'!$E:$E,MATCH('Most Critical'!$C225,'Data Collection Sheet'!$A:$A,0))))","v":""},{"$f":"IF($C225=\"\",\"\",INDEX('Consequence of Failure'!$P:$P,MATCH('Most Critical'!$C225,'Consequence of Failure'!$A:$A,0)))","v":""},{"$f":"IF($C225=\"\",\"\",INDEX('Data Collection Sheet'!$K:$K,MATCH('Most Critical'!$C225,'Data Collection Sheet'!$A:$A,0)))","v":""},{"$f":"IF($C225=\"\",\"\",INDEX('Cost Data'!$I:$I,MATCH('Most Critical'!$C225,'Cost Data'!$A:$A,0)))","v":""},{"$f":"IF($C225=\"\",\"\",INDEX('Cost Data'!$K:$K,MATCH('Most Critical'!$C225,'Cost Data'!$A:$A,0)))","v":""},{"$f":"IF($C225=\"\",\"\",'Calculate Risk'!$Q218)","v":""}]
[219,null,{"$f":"'Calculate Risk'!$A219","v":""},{"$f":"IF($C226=\"\",\"\",'Calculate Risk'!$B219)","v":""},{"$f":"IF($C226=\"\",\"\",'Calculate Risk'!$C219)","v":""},{"$f":"IF($C226=\"\",\"\",INDEX('Data Collection Sheet'!$D:$D,MATCH('Most Critical'!$C226,'Data Collection Sheet'!$A:$A,0)))","v":""},{"$f":"IF($C226=\"\",\"\",IF(INDEX('Data Collection Sheet'!$E:$E,MATCH('Most Critical'!$C226,'Data Collection Sheet'!$A:$A,0))=\"\",\"\",INDEX('Data Collection Sheet'!$E:$E,MATCH('Most Critical'!$C226,'Data Collection Sheet'!$A:$A,0))))","v":""},{"$f":"IF($C226=\"\",\"\",INDEX('Consequence of Failure'!$P:$P,MATCH('Most Critical'!$C226,'Consequence of Failure'!$A:$A,0)))","v":""},{"$f":"IF($C226=\"\",\"\",INDEX('Data Collection Sheet'!$K:$K,MATCH('Most Critical'!$C226,'Data Collection Sheet'!$A:$A,0)))","v":""},{"$f":"IF($C226=\"\",\"\",INDEX('Cost Data'!$I:$I,MATCH('Most Critical'!$C226,'Cost Data'!$A:$A,0)))","v":""},{"$f":"IF($C226=\"\",\"\",INDEX('Cost Data'!$K:$K,MATCH('Most Critical'!$C226,'Cost Data'!$A:$A,0)))","v":""},{"$f":"IF($C226=\"\",\"\",'Calculate Risk'!$Q219)","v":""}]
[220,null,{"$f":"'Calculate Risk'!$A220","v":""},{"$f":"IF($C227=\"\",\"\",'Calculate Risk'!$B220)","v":""},{"$f":"IF($C227=\"\",\"\",'Calculate Risk'!$C220)","v":""},{"$f":"IF($C227=\"\",\"\",INDEX('Data Collection Sheet'!$D:$D,MATCH('Most Critical'!$C227,'Data Collection Sheet'!$A:$A,0)))","v":""},{"$f":"IF($C227=\"\",\"\",IF(INDEX('Data Collection Sheet'!$E:$E,MATCH('Most Critical'!$C227,'Data Collection Sheet'!$A:$A,0))=\"\",\"\",INDEX('Data Collection Sheet'!$E:$E,MATCH('Most Critical'!$C227,'Data Collection Sheet'!$A:$A,0))))","v":""},{"$f":"IF($C227=\"\",\"\",INDEX('Consequence of Failure'!$P:$P,MATCH('Most Critical'!$C227,'Consequence of Failure'!$A:$A,0)))","v":""},{"$f":"IF($C227=\"\",\"\",INDEX('Data Collection Sheet'!$K:$K,MATCH('Most Critical'!$C227,'Data Collection Sheet'!$A:$A,0)))","v":""},{"$f":"IF($C227=\"\",\"\",INDEX('Cost Data'!$I:$I,MATCH('Most Critical'!$C227,'Cost Data'!$A:$A,0)))","v":""},{"$f":"IF($C227=\"\",\"\",INDEX('Cost Data'!$K:$K,MATCH('Most Critical'!$C227,'Cost Data'!$A:$A,0)))","v":""},{"$f":"IF($C227=\"\",\"\",'Calculate Risk'!$Q220)","v":""}]
[221,null,{"$f":"'Calculate Risk'!$A221","v":""},{"$f":"IF($C228=\"\",\"\",'Calculate Risk'!$B221)","v":""},{"$f":"IF($C228=\"\",\"\",'Calculate Risk'!$C221)","v":""},{"$f":"IF($C228=\"\",\"\",INDEX('Data Collection Sheet'!$D:$D,MATCH('Most Critical'!$C228,'Data Collection Sheet'!$A:$A,0)))","v":""},{"$f":"IF($C228=\"\",\"\",IF(INDEX('Data Collection Sheet'!$E:$E,MATCH('Most Critical'!$C228,'Data Collection Sheet'!$A:$A,0))=\"\",\"\",INDEX('Data Collection Sheet'!$E:$E,MATCH('Most Critical'!$C228,'Data Collection Sheet'!$A:$A,0))))","v":""},{"$f":"IF($C228=\"\",\"\",INDEX('Consequence of Failure'!$P:$P,MATCH('Most Critical'!$C228,'Consequence of Failure'!$A:$A,0)))","v":""},{"$f":"IF($C228=\"\",\"\",INDEX('Data Collection Sheet'!$K:$K,MATCH('Most Critical'!$C228,'Data Collection Sheet'!$A:$A,0)))","v":""},{"$f":"IF($C228=\"\",\"\",INDEX('Cost Data'!$I:$I,MATCH('Most Critical'!$C228,'Cost Data'!$A:$A,0)))","v":""},{"$f":"IF($C228=\"\",\"\",INDEX('Cost Data'!$K:$K,MATCH('Most Critical'!$C228,'Cost Data'!$A:$A,0)))","v":""},{"$f":"IF($C228=\"\",\"\",'Calculate Risk'!$Q221)","v":""}]
[222,null,{"$f":"'Calculate Risk'!$A222","v":""},{"$f":"IF($C229=\"\",\"\",'Calculate Risk'!$B222)","v":""},{"$f":"IF($C229=\"\",\"\",'Calculate Risk'!$C222)","v":""},{"$f":"IF($C229=\"\",\"\",INDEX('Data Collection Sheet'!$D:$D,MATCH('Most Critical'!$C229,'Data Collection Sheet'!$A:$A,0)))","v":""},{"$f":"IF($C229=\"\",\"\",IF(INDEX('Data Collection Sheet'!$E:$E,MATCH('Most Critical'!$C229,'Data Collection Sheet'!$A:$A,0))=\"\",\"\",INDEX('Data Collection Sheet'!$E:$E,MATCH('Most Critical'!$C229,'Data Collection Sheet'!$A:$A,0))))","v":""},{"$f":"IF($C229=\"\",\"\",INDEX('Consequence of Failure'!$P:$P,MATCH('Most Critical'!$C229,'Consequence of Failure'!$A:$A,0)))","v":""},{"$f":"IF($C229=\"\",\"\",INDEX('Data Collection Sheet'!$K:$K,MATCH('Most Critical'!$C229,'Data Collection Sheet'!$A:$A,0)))","v":""},{"$f":"IF($C229=\"\",\"\",INDEX('Cost Data'!$I:$I,MATCH('Most Critical'!$C229,'Cost Data'!$A:$A,0)))","v":""},{"$f":"IF($C229=\"\",\"\",INDEX('Cost Data'!$K:$K,MATCH('Most Critical'!$C229,'Cost Data'!$A:$A,0)))","v":""},{"$f":"IF($C229=\"\",\"\",'Calculate Risk'!$Q222)","v":""}]
[223,null,{"$f":"'Calculate Risk'!$A223","v":""},{"$f":"IF($C230=\"\",\"\",'Calculate Risk'!$B223)","v":""},{"$f":"IF($C230=\"\",\"\",'Calculate Risk'!$C223)","v":""},{"$f":"IF($C230=\"\",\"\",INDEX('Data Collection Sheet'!$D:$D,MATCH('Most Critical'!$C230,'Data Collection Sheet'!$A:$A,0)))","v":""},{"$f":"IF($C230=\"\",\"\",IF(INDEX('Data Collection Sheet'!$E:$E,MATCH('Most Critical'!$C230,'Data Collection Sheet'!$A:$A,0))=\"\",\"\",INDEX('Data Collection Sheet'!$E:$E,MATCH('Most Critical'!$C230,'Data Collection Sheet'!$A:$A,0))))","v":""},{"$f":"IF($C230=\"\",\"\",INDEX('Consequence of Failure'!$P:$P,MATCH('Most Critical'!$C230,'Consequence of Failure'!$A:$A,0)))","v":""},{"$f":"IF($C230=\"\",\"\",INDEX('Data Collection Sheet'!$K:$K,MATCH('Most Critical'!$C230,'Data Collection Sheet'!$A:$A,0)))","v":""},{"$f":"IF($C230=\"\",\"\",INDEX('Cost Data'!$I:$I,MATCH('Most Critical'!$C230,'Cost Data'!$A:$A,0)))","v":""},{"$f":"IF($C230=\"\",\"\",INDEX('Cost Data'!$K:$K,MATCH('Most Critical'!$C230,'Cost Data'!$A:$A,0)))","v":""},{"$f":"IF($C230=\"\",\"\",'Calculate Risk'!$Q223)","v":""}]
[224,null,{"$f":"'Calculate Risk'!$A224","v":""},{"$f":"IF($C231=\"\",\"\",'Calculate Risk'!$B224)","v":""},{"$f":"IF($C231=\"\",\"\",'Calculate Risk'!$C224)","v":""},{"$f":"IF($C231=\"\",\"\",INDEX('Data Collection Sheet'!$D:$D,MATCH('Most Critical'!$C231,'Data Collection Sheet'!$A:$A,0)))","v":""},{"$f":"IF($C231=\"\",\"\",IF(INDEX('Data Collection Sheet'!$E:$E,MATCH('Most Critical'!$C231,'Data Collection Sheet'!$A:$A,0))=\"\",\"\",INDEX('Data Collection Sheet'!$E:$E,MATCH('Most Critical'!$C231,'Data Collection Sheet'!$A:$A,0))))","v":""},{"$f":"IF($C231=\"\",\"\",INDEX('Consequence of Failure'!$P:$P,MATCH('Most Critical'!$C231,'Consequence of Failure'!$A:$A,0)))","v":""},{"$f":"IF($C231=\"\",\"\",INDEX('Data Collection Sheet'!$K:$K,MATCH('Most Critical'!$C231,'Data Collection Sheet'!$A:$A,0)))","v":""},{"$f":"IF($C231=\"\",\"\",INDEX('Cost Data'!$I:$I,MATCH('Most Critical'!$C231,'Cost Data'!$A:$A,0)))","v":""},{"$f":"IF($C231=\"\",\"\",INDEX('Cost Data'!$K:$K,MATCH('Most Critical'!$C231,'Cost Data'!$A:$A,0)))","v":""},{"$f":"IF($C231=\"\",\"\",'Calculate Risk'!$Q224)","v":""}]
[225,null,{"$f":"'Calculate Risk'!$A225","v":""},{"$f":"IF($C232=\"\",\"\",'Calculate Risk'!$B225)","v":""},{"$f":"IF($C232=\"\",\"\",'Calculate Risk'!$C225)","v":""},{"$f":"IF($C232=\"\",\"\",INDEX('Data Collection Sheet'!$D:$D,MATCH('Most Critical'!$C232,'Data Collection Sheet'!$A:$A,0)))","v":""},{"$f":"IF($C232=\"\",\"\",IF(INDEX('Data Collection Sheet'!$E:$E,MATCH('Most Critical'!$C232,'Data Collection Sheet'!$A:$A,0))=\"\",\"\",INDEX('Data Collection Sheet'!$E:$E,MATCH('Most Critical'!$C232,'Data Collection Sheet'!$A:$A,0))))","v":""},{"$f":"IF($C232=\"\",\"\",INDEX('Consequence of Failure'!$P:$P,MATCH('Most Critical'!$C232,'Consequence of Failure'!$A:$A,0)))","v":""},{"$f":"IF($C232=\"\",\"\",INDEX('Data Collection Sheet'!$K:$K,MATCH('Most Critical'!$C232,'Data Collection Sheet'!$A:$A,0)))","v":""},{"$f":"IF($C232=\"\",\"\",INDEX('Cost Data'!$I:$I,MATCH('Most Critical'!$C232,'Cost Data'!$A:$A,0)))","v":""},{"$f":"IF($C232=\"\",\"\",INDEX('Cost Data'!$K:$K,MATCH('Most Critical'!$C232,'Cost Data'!$A:$A,0)))","v":""},{"$f":"IF($C232=\"\",\"\",'Calculate Risk'!$Q225)","v":""}]
[226,null,{"$f":"'Calculate Risk'!$A226","v":""},{"$f":"IF($C233=\"\",\"\",'Calculate Risk'!$B226)","v":""},{"$f":"IF($C233=\"\",\"\",'Calculate Risk'!$C226)","v":""},{"$f":"IF($C233=\"\",\"\",INDEX('Data Collection Sheet'!$D:$D,MATCH('Most Critical'!$C233,'Data Collection Sheet'!$A:$A,0)))","v":""},{"$f":"IF($C233=\"\",\"\",IF(INDEX('Data Collection Sheet'!$E:$E,MATCH('Most Critical'!$C233,'Data Collection Sheet'!$A:$A,0))=\"\",\"\",INDEX('Data Collection Sheet'!$E:$E,MATCH('Most Critical'!$C233,'Data Collection Sheet'!$A:$A,0))))","v":""},{"$f":"IF($C233=\"\",\"\",INDEX('Consequence of Failure'!$P:$P,MATCH('Most Critical'!$C233,'Consequence of Failure'!$A:$A,0)))","v":""},{"$f":"IF($C233=\"\",\"\",INDEX('Data Collection Sheet'!$K:$K,MATCH('Most Critical'!$C233,'Data Collection Sheet'!$A:$A,0)))","v":""},{"$f":"IF($C233=\"\",\"\",INDEX('Cost Data'!$I:$I,MATCH('Most Critical'!$C233,'Cost Data'!$A:$A,0)))","v":""},{"$f":"IF($C233=\"\",\"\",INDEX('Cost Data'!$K:$K,MATCH('Most Critical'!$C233,'Cost Data'!$A:$A,0)))","v":""},{"$f":"IF($C233=\"\",\"\",'Calculate Risk'!$Q226)","v":""}]
[227,null,{"$f":"'Calculate Risk'!$A227","v":""},{"$f":"IF($C234=\"\",\"\",'Calculate Risk'!$B227)","v":""},{"$f":"IF($C234=\"\",\"\",'Calculate Risk'!$C227)","v":""},{"$f":"IF($C234=\"\",\"\",INDEX('Data Collection Sheet'!$D:$D,MATCH('Most Critical'!$C234,'Data Collection Sheet'!$A:$A,0)))","v":""},{"$f":"IF($C234=\"\",\"\",IF(INDEX('Data Collection Sheet'!$E:$E,MATCH('Most Critical'!$C234,'Data Collection Sheet'!$A:$A,0))=\"\",\"\",INDEX('Data Collection Sheet'!$E:$E,MATCH('Most Critical'!$C234,'Data Collection Sheet'!$A:$A,0))))","v":""},{"$f":"IF($C234=\"\",\"\",INDEX('Consequence of Failure'!$P:$P,MATCH('Most Critical'!$C234,'Consequence of Failure'!$A:$A,0)))","v":""},{"$f":"IF($C234=\"\",\"\",INDEX('Data Collection Sheet'!$K:$K,MATCH('Most Critical'!$C234,'Data Collection Sheet'!$A:$A,0)))","v":""},{"$f":"IF($C234=\"\",\"\",INDEX('Cost Data'!$I:$I,MATCH('Most Critical'!$C234,'Cost Data'!$A:$A,0)))","v":""},{"$f":"IF($C234=\"\",\"\",INDEX('Cost Data'!$K:$K,MATCH('Most Critical'!$C234,'Cost Data'!$A:$A,0)))","v":""},{"$f":"IF($C234=\"\",\"\",'Calculate Risk'!$Q227)","v":""}]
[228,null,{"$f":"'Calculate Risk'!$A228","v":""},{"$f":"IF($C235=\"\",\"\",'Calculate Risk'!$B228)","v":""},{"$f":"IF($C235=\"\",\"\",'Calculate Risk'!$C228)","v":""},{"$f":"IF($C235=\"\",\"\",INDEX('Data Collection Sheet'!$D:$D,MATCH('Most Critical'!$C235,'Data Collection Sheet'!$A:$A,0)))","v":""},{"$f":"IF($C235=\"\",\"\",IF(INDEX('Data Collection Sheet'!$E:$E,MATCH('Most Critical'!$C235,'Data Collection Sheet'!$A:$A,0))=\"\",\"\",INDEX('Data Collection Sheet'!$E:$E,MATCH('Most Critical'!$C235,'Data Collection Sheet'!$A:$A,0))))","v":""},{"$f":"IF($C235=\"\",\"\",INDEX('Consequence of Failure'!$P:$P,MATCH('Most Critical'!$C235,'Consequence of Failure'!$A:$A,0)))","v":""},{"$f":"IF($C235=\"\",\"\",INDEX('Data Collection Sheet'!$K:$K,MATCH('Most Critical'!$C235,'Data Collection Sheet'!$A:$A,0)))","v":""},{"$f":"IF($C235=\"\",\"\",INDEX('Cost Data'!$I:$I,MATCH('Most Critical'!$C235,'Cost Data'!$A:$A,0)))","v":""},{"$f":"IF($C235=\"\",\"\",INDEX('Cost Data'!$K:$K,MATCH('Most Critical'!$C235,'Cost Data'!$A:$A,0)))","v":""},{"$f":"IF($C235=\"\",\"\",'Calculate Risk'!$Q228)","v":""}]
[229,null,{"$f":"'Calculate Risk'!$A229","v":""},{"$f":"IF($C236=\"\",\"\",'Calculate Risk'!$B229)","v":""},{"$f":"IF($C236=\"\",\"\",'Calculate Risk'!$C229)","v":""},{"$f":"IF($C236=\"\",\"\",INDEX('Data Collection Sheet'!$D:$D,MATCH('Most Critical'!$C236,'Data Collection Sheet'!$A:$A,0)))","v":""},{"$f":"IF($C236=\"\",\"\",IF(INDEX('Data Collection Sheet'!$E:$E,MATCH('Most Critical'!$C236,'Data Collection Sheet'!$A:$A,0))=\"\",\"\",INDEX('Data Collection Sheet'!$E:$E,MATCH('Most Critical'!$C236,'Data Collection Sheet'!$A:$A,0))))","v":""},{"$f":"IF($C236=\"\",\"\",INDEX('Consequence of Failure'!$P:$P,MATCH('Most Critical'!$C236,'Consequence of Failure'!$A:$A,0)))","v":""},{"$f":"IF($C236=\"\",\"\",INDEX('Data Collection Sheet'!$K:$K,MATCH('Most Critical'!$C236,'Data Collection Sheet'!$A:$A,0)))","v":""},{"$f":"IF($C236=\"\",\"\",INDEX('Cost Data'!$I:$I,MATCH('Most Critical'!$C236,'Cost Data'!$A:$A,0)))","v":""},{"$f":"IF($C236=\"\",\"\",INDEX('Cost Data'!$K:$K,MATCH('Most Critical'!$C236,'Cost Data'!$A:$A,0)))","v":""},{"$f":"IF($C236=\"\",\"\",'Calculate Risk'!$Q229)","v":""}]
[230,null,{"$f":"'Calculate Risk'!$A230","v":""},{"$f":"IF($C237=\"\",\"\",'Calculate Risk'!$B230)","v":""},{"$f":"IF($C237=\"\",\"\",'Calculate Risk'!$C230)","v":""},{"$f":"IF($C237=\"\",\"\",INDEX('Data Collection Sheet'!$D:$D,MATCH('Most Critical'!$C237,'Data Collection Sheet'!$A:$A,0)))","v":""},{"$f":"IF($C237=\"\",\"\",IF(INDEX('Data Collection Sheet'!$E:$E,MATCH('Most Critical'!$C237,'Data Collection Sheet'!$A:$A,0))=\"\",\"\",INDEX('Data Collection Sheet'!$E:$E,MATCH('Most Critical'!$C237,'Data Collection Sheet'!$A:$A,0))))","v":""},{"$f":"IF($C237=\"\",\"\",INDEX('Consequence of Failure'!$P:$P,MATCH('Most Critical'!$C237,'Consequence of Failure'!$A:$A,0)))","v":""},{"$f":"IF($C237=\"\",\"\",INDEX('Data Collection Sheet'!$K:$K,MATCH('Most Critical'!$C237,'Data Collection Sheet'!$A:$A,0)))","v":""},{"$f":"IF($C237=\"\",\"\",INDEX('Cost Data'!$I:$I,MATCH('Most Critical'!$C237,'Cost Data'!$A:$A,0)))","v":""},{"$f":"IF($C237=\"\",\"\",INDEX('Cost Data'!$K:$K,MATCH('Most Critical'!$C237,'Cost Data'!$A:$A,0)))","v":""},{"$f":"IF($C237=\"\",\"\",'Calculate Risk'!$Q230)","v":""}]
[231,null,{"$f":"'Calculate Risk'!$A231","v":""},{"$f":"IF($C238=\"\",\"\",'Calculate Risk'!$B231)","v":""},{"$f":"IF($C238=\"\",\"\",'Calculate Risk'!$C231)","v":""},{"$f":"IF($C238=\"\",\"\",INDEX('Data Collection Sheet'!$D:$D,MATCH('Most Critical'!$C238,'Data Collection Sheet'!$A:$A,0)))","v":""},{"$f":"IF($C238=\"\",\"\",IF(INDEX('Data Collection Sheet'!$E:$E,MATCH('Most Critical'!$C238,'Data Collection Sheet'!$A:$A,0))=\"\",\"\",INDEX('Data Collection Sheet'!$E:$E,MATCH('Most Critical'!$C238,'Data Collection Sheet'!$A:$A,0))))","v":""},{"$f":"IF($C238=\"\",\"\",INDEX('Consequence of Failure'!$P:$P,MATCH('Most Critical'!$C238,'Consequence of Failure'!$A:$A,0)))","v":""},{"$f":"IF($C238=\"\",\"\",INDEX('Data Collection Sheet'!$K:$K,MATCH('Most Critical'!$C238,'Data Collection Sheet'!$A:$A,0)))","v":""},{"$f":"IF($C238=\"\",\"\",INDEX('Cost Data'!$I:$I,MATCH('Most Critical'!$C238,'Cost Data'!$A:$A,0)))","v":""},{"$f":"IF($C238=\"\",\"\",INDEX('Cost Data'!$K:$K,MATCH('Most Critical'!$C238,'Cost Data'!$A:$A,0)))","v":""},{"$f":"IF($C238=\"\",\"\",'Calculate Risk'!$Q231)","v":""}]
[232,null,{"$f":"'Calculate Risk'!$A232","v":""},{"$f":"IF($C239=\"\",\"\",'Calculate Risk'!$B232)","v":""},{"$f":"IF($C239=\"\",\"\",'Calculate Risk'!$C232)","v":""},{"$f":"IF($C239=\"\",\"\",INDEX('Data Collection Sheet'!$D:$D,MATCH('Most Critical'!$C239,'Data Collection Sheet'!$A:$A,0)))","v":""},{"$f":"IF($C239=\"\",\"\",IF(INDEX('Data Collection Sheet'!$E:$E,MATCH('Most Critical'!$C239,'Data Collection Sheet'!$A:$A,0))=\"\",\"\",INDEX('Data Collection Sheet'!$E:$E,MATCH('Most Critical'!$C239,'Data Collection Sheet'!$A:$A,0))))","v":""},{"$f":"IF($C239=\"\",\"\",INDEX('Consequence of Failure'!$P:$P,MATCH('Most Critical'!$C239,'Consequence of Failure'!$A:$A,0)))","v":""},{"$f":"IF($C239=\"\",\"\",INDEX('Data Collection Sheet'!$K:$K,MATCH('Most Critical'!$C239,'Data Collection Sheet'!$A:$A,0)))","v":""},{"$f":"IF($C239=\"\",\"\",INDEX('Cost Data'!$I:$I,MATCH('Most Critical'!$C239,'Cost Data'!$A:$A,0)))","v":""},{"$f":"IF($C239=\"\",\"\",INDEX('Cost Data'!$K:$K,MATCH('Most Critical'!$C239,'Cost Data'!$A:$A,0)))","v":""},{"$f":"IF($C239=\"\",\"\",'Calculate Risk'!$Q232)","v":""}]
[233,null,{"$f":"'Calculate Risk'!$A233","v":""},{"$f":"IF($C240=\"\",\"\",'Calculate Risk'!$B233)","v":""},{"$f":"IF($C240=\"\",\"\",'Calculate Risk'!$C233)","v":""},{"$f":"IF($C240=\"\",\"\",INDEX('Data Collection Sheet'!$D:$D,MATCH('Most Critical'!$C240,'Data Collection Sheet'!$A:$A,0)))","v":""},{"$f":"IF($C240=\"\",\"\",IF(INDEX('Data Collection Sheet'!$E:$E,MATCH('Most Critical'!$C240,'Data Collection Sheet'!$A:$A,0))=\"\",\"\",INDEX('Data Collection Sheet'!$E:$E,MATCH('Most Critical'!$C240,'Data Collection Sheet'!$A:$A,0))))","v":""},{"$f":"IF($C240=\"\",\"\",INDEX('Consequence of Failure'!$P:$P,MATCH('Most Critical'!$C240,'Consequence of Failure'!$A:$A,0)))","v":""},{"$f":"IF($C240=\"\",\"\",INDEX('Data Collection Sheet'!$K:$K,MATCH('Most Critical'!$C240,'Data Collection Sheet'!$A:$A,0)))","v":""},{"$f":"IF($C240=\"\",\"\",INDEX('Cost Data'!$I:$I,MATCH('Most Critical'!$C240,'Cost Data'!$A:$A,0)))","v":""},{"$f":"IF($C240=\"\",\"\",INDEX('Cost Data'!$K:$K,MATCH('Most Critical'!$C240,'Cost Data'!$A:$A,0)))","v":""},{"$f":"IF($C240=\"\",\"\",'Calculate Risk'!$Q233)","v":""}]
[234,null,{"$f":"'Calculate Risk'!$A234","v":""},{"$f":"IF($C241=\"\",\"\",'Calculate Risk'!$B234)","v":""},{"$f":"IF($C241=\"\",\"\",'Calculate Risk'!$C234)","v":""},{"$f":"IF($C241=\"\",\"\",INDEX('Data Collection Sheet'!$D:$D,MATCH('Most Critical'!$C241,'Data Collection Sheet'!$A:$A,0)))","v":""},{"$f":"IF($C241=\"\",\"\",IF(INDEX('Data Collection Sheet'!$E:$E,MATCH('Most Critical'!$C241,'Data Collection Sheet'!$A:$A,0))=\"\",\"\",INDEX('Data Collection Sheet'!$E:$E,MATCH('Most Critical'!$C241,'Data Collection Sheet'!$A:$A,0))))","v":""},{"$f":"IF($C241=\"\",\"\",INDEX('Consequence of Failure'!$P:$P,MATCH('Most Critical'!$C241,'Consequence of Failure'!$A:$A,0)))","v":""},{"$f":"IF($C241=\"\",\"\",INDEX('Data Collection Sheet'!$K:$K,MATCH('Most Critical'!$C241,'Data Collection Sheet'!$A:$A,0)))","v":""},{"$f":"IF($C241=\"\",\"\",INDEX('Cost Data'!$I:$I,MATCH('Most Critical'!$C241,'Cost Data'!$A:$A,0)))","v":""},{"$f":"IF($C241=\"\",\"\",INDEX('Cost Data'!$K:$K,MATCH('Most Critical'!$C241,'Cost Data'!$A:$A,0)))","v":""},{"$f":"IF($C241=\"\",\"\",'Calculate Risk'!$Q234)","v":""}]
[235,null,{"$f":"'Calculate Risk'!$A235","v":""},{"$f":"IF($C242=\"\",\"\",'Calculate Risk'!$B235)","v":""},{"$f":"IF($C242=\"\",\"\",'Calculate Risk'!$C235)","v":""},{"$f":"IF($C242=\"\",\"\",INDEX('Data Collection Sheet'!$D:$D,MATCH('Most Critical'!$C242,'Data Collection Sheet'!$A:$A,0)))","v":""},{"$f":"IF($C242=\"\",\"\",IF(INDEX('Data Collection Sheet'!$E:$E,MATCH('Most Critical'!$C242,'Data Collection Sheet'!$A:$A,0))=\"\",\"\",INDEX('Data Collection Sheet'!$E:$E,MATCH('Most Critical'!$C242,'Data Collection Sheet'!$A:$A,0))))","v":""},{"$f":"IF($C242=\"\",\"\",INDEX('Consequence of Failure'!$P:$P,MATCH('Most Critical'!$C242,'Consequence of Failure'!$A:$A,0)))","v":""},{"$f":"IF($C242=\"\",\"\",INDEX('Data Collection Sheet'!$K:$K,MATCH('Most Critical'!$C242,'Data Collection Sheet'!$A:$A,0)))","v":""},{"$f":"IF($C242=\"\",\"\",INDEX('Cost Data'!$I:$I,MATCH('Most Critical'!$C242,'Cost Data'!$A:$A,0)))","v":""},{"$f":"IF($C242=\"\",\"\",INDEX('Cost Data'!$K:$K,MATCH('Most Critical'!$C242,'Cost Data'!$A:$A,0)))","v":""},{"$f":"IF($C242=\"\",\"\",'Calculate Risk'!$Q235)","v":""}]
[236,null,{"$f":"'Calculate Risk'!$A236","v":""},{"$f":"IF($C243=\"\",\"\",'Calculate Risk'!$B236)","v":""},{"$f":"IF($C243=\"\",\"\",'Calculate Risk'!$C236)","v":""},{"$f":"IF($C243=\"\",\"\",INDEX('Data Collection Sheet'!$D:$D,MATCH('Most Critical'!$C243,'Data Collection Sheet'!$A:$A,0)))","v":""},{"$f":"IF($C243=\"\",\"\",IF(INDEX('Data Collection Sheet'!$E:$E,MATCH('Most Critical'!$C243,'Data Collection Sheet'!$A:$A,0))=\"\",\"\",INDEX('Data Collection Sheet'!$E:$E,MATCH('Most Critical'!$C243,'Data Collection Sheet'!$A:$A,0))))","v":""},{"$f":"IF($C243=\"\",\"\",INDEX('Consequence of Failure'!$P:$P,MATCH('Most Critical'!$C243,'Consequence of Failure'!$A:$A,0)))","v":""},{"$f":"IF($C243=\"\",\"\",INDEX('Data Collection Sheet'!$K:$K,MATCH('Most Critical'!$C243,'Data Collection Sheet'!$A:$A,0)))","v":""},{"$f":"IF($C243=\"\",\"\",INDEX('Cost Data'!$I:$I,MATCH('Most Critical'!$C243,'Cost Data'!$A:$A,0)))","v":""},{"$f":"IF($C243=\"\",\"\",INDEX('Cost Data'!$K:$K,MATCH('Most Critical'!$C243,'Cost Data'!$A:$A,0)))","v":""},{"$f":"IF($C243=\"\",\"\",'Calculate Risk'!$Q236)","v":""}]
[237,null,{"$f":"'Calculate Risk'!$A237","v":""},{"$f":"IF($C244=\"\",\"\",'Calculate Risk'!$B237)","v":""},{"$f":"IF($C244=\"\",\"\",'Calculate Risk'!$C237)","v":""},{"$f":"IF($C244=\"\",\"\",INDEX('Data Collection Sheet'!$D:$D,MATCH('Most Critical'!$C244,'Data Collection Sheet'!$A:$A,0)))","v":""},{"$f":"IF($C244=\"\",\"\",IF(INDEX('Data Collection Sheet'!$E:$E,MATCH('Most Critical'!$C244,'Data Collection Sheet'!$A:$A,0))=\"\",\"\",INDEX('Data Collection Sheet'!$E:$E,MATCH('Most Critical'!$C244,'Data Collection Sheet'!$A:$A,0))))","v":""},{"$f":"IF($C244=\"\",\"\",INDEX('Consequence of Failure'!$P:$P,MATCH('Most Critical'!$C244,'Consequence of Failure'!$A:$A,0)))","v":""},{"$f":"IF($C244=\"\",\"\",INDEX('Data Collection Sheet'!$K:$K,MATCH('Most Critical'!$C244,'Data Collection Sheet'!$A:$A,0)))","v":""},{"$f":"IF($C244=\"\",\"\",INDEX('Cost Data'!$I:$I,MATCH('Most Critical'!$C244,'Cost Data'!$A:$A,0)))","v":""},{"$f":"IF($C244=\"\",\"\",INDEX('Cost Data'!$K:$K,MATCH('Most Critical'!$C244,'Cost Data'!$A:$A,0)))","v":""},{"$f":"IF($C244=\"\",\"\",'Calculate Risk'!$Q237)","v":""}]
[238,null,{"$f":"'Calculate Risk'!$A238","v":""},{"$f":"IF($C245=\"\",\"\",'Calculate Risk'!$B238)","v":""},{"$f":"IF($C245=\"\",\"\",'Calculate Risk'!$C238)","v":""},{"$f":"IF($C245=\"\",\"\",INDEX('Data Collection Sheet'!$D:$D,MATCH('Most Critical'!$C245,'Data Collection Sheet'!$A:$A,0)))","v":""},{"$f":"IF($C245=\"\",\"\",IF(INDEX('Data Collection Sheet'!$E:$E,MATCH('Most Critical'!$C245,'Data Collection Sheet'!$A:$A,0))=\"\",\"\",INDEX('Data Collection Sheet'!$E:$E,MATCH('Most Critical'!$C245,'Data Collection Sheet'!$A:$A,0))))","v":""},{"$f":"IF($C245=\"\",\"\",INDEX('Consequence of Failure'!$P:$P,MATCH('Most Critical'!$C245,'Consequence of Failure'!$A:$A,0)))","v":""},{"$f":"IF($C245=\"\",\"\",INDEX('Data Collection Sheet'!$K:$K,MATCH('Most Critical'!$C245,'Data Collection Sheet'!$A:$A,0)))","v":""},{"$f":"IF($C245=\"\",\"\",INDEX('Cost Data'!$I:$I,MATCH('Most Critical'!$C245,'Cost Data'!$A:$A,0)))","v":""},{"$f":"IF($C245=\"\",\"\",INDEX('Cost Data'!$K:$K,MATCH('Most Critical'!$C245,'Cost Data'!$A:$A,0)))","v":""},{"$f":"IF($C245=\"\",\"\",'Calculate Risk'!$Q238)","v":""}]
[239,null,{"$f":"'Calculate Risk'!$A239","v":""},{"$f":"IF($C246=\"\",\"\",'Calculate Risk'!$B239)","v":""},{"$f":"IF($C246=\"\",\"\",'Calculate Risk'!$C239)","v":""},{"$f":"IF($C246=\"\",\"\",INDEX('Data Collection Sheet'!$D:$D,MATCH('Most Critical'!$C246,'Data Collection Sheet'!$A:$A,0)))","v":""},{"$f":"IF($C246=\"\",\"\",IF(INDEX('Data Collection Sheet'!$E:$E,MATCH('Most Critical'!$C246,'Data Collection Sheet'!$A:$A,0))=\"\",\"\",INDEX('Data Collection Sheet'!$E:$E,MATCH('Most Critical'!$C246,'Data Collection Sheet'!$A:$A,0))))","v":""},{"$f":"IF($C246=\"\",\"\",INDEX('Consequence of Failure'!$P:$P,MATCH('Most Critical'!$C246,'Consequence of Failure'!$A:$A,0)))","v":""},{"$f":"IF($C246=\"\",\"\",INDEX('Data Collection Sheet'!$K:$K,MATCH('Most Critical'!$C246,'Data Collection Sheet'!$A:$A,0)))","v":""},{"$f":"IF($C246=\"\",\"\",INDEX('Cost Data'!$I:$I,MATCH('Most Critical'!$C246,'Cost Data'!$A:$A,0)))","v":""},{"$f":"IF($C246=\"\",\"\",INDEX('Cost Data'!$K:$K,MATCH('Most Critical'!$C246,'Cost Data'!$A:$A,0)))","v":""},{"$f":"IF($C246=\"\",\"\",'Calculate Risk'!$Q239)","v":""}]
[240,null,{"$f":"'Calculate Risk'!$A240","v":""},{"$f":"IF($C247=\"\",\"\",'Calculate Risk'!$B240)","v":""},{"$f":"IF($C247=\"\",\"\",'Calculate Risk'!$C240)","v":""},{"$f":"IF($C247=\"\",\"\",INDEX('Data Collection Sheet'!$D:$D,MATCH('Most Critical'!$C247,'Data Collection Sheet'!$A:$A,0)))","v":""},{"$f":"IF($C247=\"\",\"\",IF(INDEX('Data Collection Sheet'!$E:$E,MATCH('Most Critical'!$C247,'Data Collection Sheet'!$A:$A,0))=\"\",\"\",INDEX('Data Collection Sheet'!$E:$E,MATCH('Most Critical'!$C247,'Data Collection Sheet'!$A:$A,0))))","v":""},{"$f":"IF($C247=\"\",\"\",INDEX('Consequence of Failure'!$P:$P,MATCH('Most Critical'!$C247,'Consequence of Failure'!$A:$A,0)))","v":""},{"$f":"IF($C247=\"\",\"\",INDEX('Data Collection Sheet'!$K:$K,MATCH('Most Critical'!$C247,'Data Collection Sheet'!$A:$A,0)))","v":""},{"$f":"IF($C247=\"\",\"\",INDEX('Cost Data'!$I:$I,MATCH('Most Critical'!$C247,'Cost Data'!$A:$A,0)))","v":""},{"$f":"IF($C247=\"\",\"\",INDEX('Cost Data'!$K:$K,MATCH('Most Critical'!$C247,'Cost Data'!$A:$A,0)))","v":""},{"$f":"IF($C247=\"\",\"\",'Calculate Risk'!$Q240)","v":""}]
[241,null,{"$f":"'Calculate Risk'!$A241","v":""},{"$f":"IF($C248=\"\",\"\",'Calculate Risk'!$B241)","v":""},{"$f":"IF($C248=\"\",\"\",'Calculate Risk'!$C241)","v":""},{"$f":"IF($C248=\"\",\"\",INDEX('Data Collection Sheet'!$D:$D,MATCH('Most Critical'!$C248,'Data Collection Sheet'!$A:$A,0)))","v":""},{"$f":"IF($C248=\"\",\"\",IF(INDEX('Data Collection Sheet'!$E:$E,MATCH('Most Critical'!$C248,'Data Collection Sheet'!$A:$A,0))=\"\",\"\",INDEX('Data Collection Sheet'!$E:$E,MATCH('Most Critical'!$C248,'Data Collection Sheet'!$A:$A,0))))","v":""},{"$f":"IF($C248=\"\",\"\",INDEX('Consequence of Failure'!$P:$P,MATCH('Most Critical'!$C248,'Consequence of Failure'!$A:$A,0)))","v":""},{"$f":"IF($C248=\"\",\"\",INDEX('Data Collection Sheet'!$K:$K,MATCH('Most Critical'!$C248,'Data Collection Sheet'!$A:$A,0)))","v":""},{"$f":"IF($C248=\"\",\"\",INDEX('Cost Data'!$I:$I,MATCH('Most Critical'!$C248,'Cost Data'!$A:$A,0)))","v":""},{"$f":"IF($C248=\"\",\"\",INDEX('Cost Data'!$K:$K,MATCH('Most Critical'!$C248,'Cost Data'!$A:$A,0)))","v":""},{"$f":"IF($C248=\"\",\"\",'Calculate Risk'!$Q241)","v":""}]

{"sheet":"CoF and PoF","index":7,"n_rows":242,"n_cols":11,"rows_kept":242,"cut":false,"hidden":true,"merged":[]}
[null,null,null,"CoF","PoF",null,null,null,null,"CoF","PoF"]
[{"$f":"IF('Data Collection Sheet'!$C6=\"Treatment Plant\",\"WTP\",LEFT('Data Collection Sheet'!$B6,2)&LEFT('Data Collection Sheet'!$C6,2))&_xlfn.CONCAT(\"-\",'Data Collection Sheet'!$G6)","v":"TaEl-1994"},{"$f":"IF(COUNTIF($A$2:$A2,A2)-COUNTIF($A$2:$A2,\"-\")=0,\"\",COUNTIF($A$2:$A2,A2)-COUNTIF($A$2:$A2,\"-\"))","v":1},{"$f":"_xlfn.CONCAT($A2,\"-\",$B2)","v":"TaEl-1994-1"},{"$f":"Table142[[#All],[Column125]]","v":0.5},{"$f":"Table142[[#All],[Consequence of Failure (1-5)]]","v":2},{"$f":"Table13[Current Condition]","v":"Fair"},null,null,null,{"$f":"_xlfn.PERCENTILE.INC($D$2:$D$242,0.95)","v":3.5},{"$f":"_xlfn.PERCENTILE.INC($E$2:$E$242,0.95)","v":4}]
[{"$f":"IF('Data Collection Sheet'!$C7=\"Treatment Plant\",\"WTP\",LEFT('Data Collection Sheet'!$B7,2)&LEFT('Data Collection Sheet'!$C7,2))&_xlfn.CONCAT(\"-\",'Data Collection Sheet'!$G7)","v":"TaEl-1994"},{"$f":"IF(COUNTIF($A$2:$A3,A3)-COUNTIF($A$2:$A3,\"-\")=0,\"\",COUNTIF($A$2:$A3,A3)-COUNTIF($A$2:$A3,\"-\"))","v":2},"TaEl-1994-2",0.5,2,"Fair"]
[{"$f":"IF('Data Collection Sheet'!$C8=\"Treatment Plant\",\"WTP\",LEFT('Data Collection Sheet'!$B8,2)&LEFT('Data Collection Sheet'!$C8,2))&_xlfn.CONCAT(\"-\",'Data Collection Sheet'!$G8)","v":"PiPV-1970"},{"$f":"IF(COUNTIF($A$2:$A4,A4)-COUNTIF($A$2:$A4,\"-\")=0,\"\",COUNTIF($A$2:$A4,A4)-COUNTIF($A$2:$A4,\"-\"))","v":1},"PiPV-1970-1",3.5,3,"Fair"]
[{"$f":"IF('Data Collection Sheet'!$C9=\"Treatment Plant\",\"WTP\",LEFT('Data Collection Sheet'!$B9,2)&LEFT('Data Collection Sheet'!$C9,2))&_xlfn.CONCAT(\"-\",'Data Collection Sheet'!$G9)","v":"PiPV-1970"},{"$f":"IF(COUNTIF($A$2:$A5,A5)-COUNTIF($A$2:$A5,\"-\")=0,\"\",COUNTIF($A$2:$A5,A5)-COUNTIF($A$2:$A5,\"-\"))","v":2},"PiPV-1970-2",4,3,"Fair"]
[{"$f":"IF('Data Collection Sheet'!$C10=\"Treatment Plant\",\"WTP\",LEFT('Data Collection Sheet'!$B10,2)&LEFT('Data Collection Sheet'!$C10,2))&_xlfn.CONCAT(\"-\",'Data Collection Sheet'!$G10)","v":"PiPV-2011"},{"$f":"IF(COUNTIF($A$2:$A6,A6)-COUNTIF($A$2:$A6,\"-\")=0,\"\",COUNTIF($A$2:$A6,A6)-COUNTIF($A$2:$A6,\"-\"))","v":1},{"$f":"_xlfn.CONCAT($A6,\"-\",$B6)","v":"PiPV-2011-1"},3.5,"0.5","Fair"]
[{"$f":"IF('Data Collection Sheet'!$C11=\"Treatment Plant\",\"WTP\",LEFT('Data Collection Sheet'!$B11,2)&LEFT('Data Collection Sheet'!$C11,2))&_xlfn.CONCAT(\"-\",'Data Collection Sheet'!$G11)","v":"PiPV-1970"},{"$f":"IF(COUNTIF($A$2:$A7,A7)-COUNTIF($A$2:$A7,\"-\")=0,\"\",COUNTIF($A$2:$A7,A7)-COUNTIF($A$2:$A7,\"-\"))","v":3},"PiPV-1970-3",3.5,3,"Fair"]
[{"$f":"IF('Data Collection Sheet'!$C12=\"Treatment Plant\",\"WTP\",LEFT('Data Collection Sheet'!$B12,2)&LEFT('Data Collection Sheet'!$C12,2))&_xlfn.CONCAT(\"-\",'Data Collection Sheet'!$G12)","v":"PiPV-1970"},{"$f":"IF(COUNTIF($A$2:$A8,A8)-COUNTIF($A$2:$A8,\"-\")=0,\"\",COUNTIF($A$2:$A8,A8)-COUNTIF($A$2:$A8,\"-\"))","v":4},"PiPV-1970-4",3.5,4,"Fair"]
[{"$f":"IF('Data Collection Sheet'!$C13=\"Treatment Plant\",\"WTP\",LEFT('Data Collection Sheet'!$B13,2)&LEFT('Data Collection Sheet'!$C13,2))&_xlfn.CONCAT(\"-\",'Data Collection Sheet'!$G13)","v":"PiPV-1994"},{"$f":"IF(COUNTIF($A$2:$A9,A9)-COUNTIF($A$2:$A9,\"-\")=0,\"\",COUNTIF($A$2:$A9,A9)-COUNTIF($A$2:$A9,\"-\"))","v":1},"PiPV-1994-1",3.5,4,"Fair"]
[{"$f":"IF('Data Collection Sheet'!$C14=\"Treatment Plant\",\"WTP\",LEFT('Data Collection Sheet'!$B14,2)&LEFT('Data Collection Sheet'!$C14,2))&_xlfn.CONCAT(\"-\",'Data Collection Sheet'!$G14)","v":"PiPV-1994"},{"$f":"IF(COUNTIF($A$2:$A10,A10)-COUNTIF($A$2:$A10,\"-\")=0,\"\",COUNTIF($A$2:$A10,A10)-COUNTIF($A$2:$A10,\"-\"))","v":2},"PiPV-1994-2",3.5,4,"Fair"]
[{"$f":"IF('Data Collection Sheet'!$C15=\"Treatment Plant\",\"WTP\",LEFT('Data Collection Sheet'!$B15,2)&LEFT('Data Collection Sheet'!$C15,2))&_xlfn.CONCAT(\"-\",'Data Collection Sheet'!$G15)","v":"PiPV-1994"},{"$f":"IF(COUNTIF($A$2:$A11,A11)-COUNTIF($A$2:$A11,\"-\")=0,\"\",COUNTIF($A$2:$A11,A11)-COUNTIF($A$2:$A11,\"-\"))","v":3},"PiPV-1994-3",3.5,3,"Fair"]
[{"$f":"IF('Data Collection Sheet'!$C16=\"Treatment Plant\",\"WTP\",LEFT('Data Collection Sheet'!$B16,2)&LEFT('Data Collection Sheet'!$C16,2))&_xlfn.CONCAT(\"-\",'Data Collection Sheet'!$G16)","v":"PiPV-1994"},{"$f":"IF(COUNTIF($A$2:$A12,A12)-COUNTIF($A$2:$A12,\"-\")=0,\"\",COUNTIF($A$2:$A12,A12)-COUNTIF($A$2:$A12,\"-\"))","v":4},"PiPV-1994-4",3.5,3,"Fair"]
[{"$f":"IF('Data Collection Sheet'!$C17=\"Treatment Plant\",\"WTP\",LEFT('Data Collection Sheet'!$B17,2)&LEFT('Data Collection Sheet'!$C17,2))&_xlfn.CONCAT(\"-\",'Data Collection Sheet'!$G17)","v":"PiPV-1994"},{"$f":"IF(COUNTIF($A$2:$A13,A13)-COUNTIF($A$2:$A13,\"-\")=0,\"\",COUNTIF($A$2:$A13,A13)-COUNTIF($A$2:$A13,\"-\"))","v":5},"PiPV-1994-5",3.5,4,"Fair"]
[{"$f":"IF('Data Collection Sheet'!$C18=\"Treatment Plant\",\"WTP\",LEFT('Data Collection Sheet'!$B18,2)&LEFT('Data Collection Sheet'!$C18,2))&_xlfn.CONCAT(\"-\",'Data Collection Sheet'!$G18)","v":"HyFi-1994"},{"$f":"IF(COUNTIF($A$2:$A14,A14)-COUNTIF($A$2:$A14,\"-\")=0,\"\",COUNTIF($A$2:$A14,A14)-COUNTIF($A$2:$A14,\"-\"))","v":1},"HyFi-1994-1",0.5,3,"Good"]
[{"$f":"IF('Data Collection Sheet'!$C19=\"Treatment Plant\",\"WTP\",LEFT('Data Collection Sheet'!$B19,2)&LEFT('Data Collection Sheet'!$C19,2))&_xlfn.CONCAT(\"-\",'Data Collection Sheet'!$G19)","v":"SoWe-2021"},{"$f":"IF(COUNTIF($A$2:$A15,A15)-COUNTIF($A$2:$A15,\"-\")=0,\"\",COUNTIF($A$2:$A15,A15)-COUNTIF($A$2:$A15,\"-\"))","v":1},"SoWe-2021-1",1.5,"0.5","Great"]
[{"$f":"IF('Data Collection Sheet'!$C20=\"Treatment Plant\",\"WTP\",LEFT('Data Collection Sheet'!$B20,2)&LEFT('Data Collection Sheet'!$C20,2))&_xlfn.CONCAT(\"-\",'Data Collection Sheet'!$G20)","v":"SoWe-2021"},{"$f":"IF(COUNTIF($A$2:$A16,A16)-COUNTIF($A$2:$A16,\"-\")=0,\"\",COUNTIF($A$2:$A16,A16)-COUNTIF($A$2:$A16,\"-\"))","v":2},"SoWe-2021-2",1.5,1,"Great"]
[{"$f":"IF('Data Collection Sheet'!$C21=\"Treatment Plant\",\"WTP\",LEFT('Data Collection Sheet'!$B21,2)&LEFT('Data Collection Sheet'!$C21,2))&_xlfn.CONCAT(\"-\",'Data Collection Sheet'!$G21)","v":"PuTr-2021"},{"$f":"IF(COUNTIF($A$2:$A17,A17)-COUNTIF($A$2:$A17,\"-\")=0,\"\",COUNTIF($A$2:$A17,A17)-COUNTIF($A$2:$A17,\"-\"))","v":1},"PuTr-2021-1",1.5,"0.5","Great"]
[{"$f":"IF('Data Collection Sheet'!$C22=\"Treatment Plant\",\"WTP\",LEFT('Data Collection Sheet'!$B22,2)&LEFT('Data Collection Sheet'!$C22,2))&_xlfn.CONCAT(\"-\",'Data Collection Sheet'!$G22)","v":"PuTr-2021"},{"$f":"IF(COUNTIF($A$2:$A18,A18)-COUNTIF($A$2:$A18,\"-\")=0,\"\",COUNTIF($A$2:$A18,A18)-COUNTIF($A$2:$A18,\"-\"))","v":2},"PuTr-2021-2",1.5,"0.5","Great"]
[{"$f":"IF('Data Collection Sheet'!$C23=\"Treatment Plant\",\"WTP\",LEFT('Data Collection Sheet'!$B23,2)&LEFT('Data Collection Sheet'!$C23,2))&_xlfn.CONCAT(\"-\",'Data Collection Sheet'!$G23)","v":"MeWe-2021"},{"$f":"IF(COUNTIF($A$2:$A19,A19)-COUNTIF($A$2:$A19,\"-\")=0,\"\",COUNTIF($A$2:$A19,A19)-COUNTIF($A$2:$A19,\"-\"))","v":1},"MeWe-2021-1",1.5,"0.5","Great"]
[{"$f":"IF('Data Collection Sheet'!$C24=\"Treatment Plant\",\"WTP\",LEFT('Data Collection Sheet'!$B24,2)&LEFT('Data Collection Sheet'!$C24,2))&_xlfn.CONCAT(\"-\",'Data Collection Sheet'!$G24)","v":"MeWe-2021"},{"$f":"IF(COUNTIF($A$2:$A20,A20)-COUNTIF($A$2:$A20,\"-\")=0,\"\",COUNTIF($A$2:$A20,A20)-COUNTIF($A$2:$A20,\"-\"))","v":2},"MeWe-2021-2",1.5,"0.5","Great"]
[{"$f":"IF('Data Collection Sheet'!$C25=\"Treatment Plant\",\"WTP\",LEFT('Data Collection Sheet'!$B25,2)&LEFT('Data Collection Sheet'!$C25,2))&_xlfn.CONCAT(\"-\",'Data Collection Sheet'!$G25)","v":"WTP-2022"},{"$f":"IF(COUNTIF($A$2:$A21,A21)-COUNTIF($A$2:$A21,\"-\")=0,\"\",COUNTIF($A$2:$A21,A21)-COUNTIF($A$2:$A21,\"-\"))","v":1},"WTP-2022-1",1.5,1,"Great"]
[{"$f":"IF('Data Collection Sheet'!$C26=\"Treatment Plant\",\"WTP\",LEFT('Data Collection Sheet'!$B26,2)&LEFT('Data Collection Sheet'!$C26,2))&_xlfn.CONCAT(\"-\",'Data Collection Sheet'!$G26)","v":"TaCl-2022"},{"$f":"IF(COUNTIF($A$2:$A22,A22)-COUNTIF($A$2:$A22,\"-\")=0,\"\",COUNTIF($A$2:$A22,A22)-COUNTIF($A$2:$A22,\"-\"))","v":1},"TaCl-2022-1",0.5,1,"Great"]
[{"$f":"IF('Data Collection Sheet'!$C27=\"Treatment Plant\",\"WTP\",LEFT('Data Collection Sheet'!$B27,2)&LEFT('Data Collection Sheet'!$C27,2))&_xlfn.CONCAT(\"-\",'Data Collection Sheet'!$G27)","v":"PuHi-2022"},{"$f":"IF(COUNTIF($A$2:$A23,A23)-COUNTIF($A$2:$A23,\"-\")=0,\"\",COUNTIF($A$2:$A23,A23)-COUNTIF($A$2:$A23,\"-\"))","v":1},"PuHi-2022-1",2.5,1,"Great"]
[{"$f":"IF('Data Collection Sheet'!$C28=\"Treatment Plant\",\"WTP\",LEFT('Data Collection Sheet'!$B28,2)&LEFT('Data Collection Sheet'!$C28,2))&_xlfn.CONCAT(\"-\",'Data Collection Sheet'!$G28)","v":"PuHi-2022"},{"$f":"IF(COUNTIF($A$2:$A24,A24)-COUNTIF($A$2:$A24,\"-\")=0,\"\",COUNTIF($A$2:$A24,A24)-COUNTIF($A$2:$A24,\"-\"))","v":2},"PuHi-2022-2",2.5,1,"Great"]
[{"$f":"IF('Data Collection Sheet'!$C29=\"Treatment Plant\",\"WTP\",LEFT('Data Collection Sheet'!$B29,2)&LEFT('Data Collection Sheet'!$C29,2))&_xlfn.CONCAT(\"-\",'Data Collection Sheet'!$G29)","v":"CoTe-2022"},{"$f":"IF(COUNTIF($A$2:$A25,A25)-COUNTIF($A$2:$A25,\"-\")=0,\"\",COUNTIF($A$2:$A25,A25)-COUNTIF($A$2:$A25,\"-\"))","v":1},"CoTe-2022-1",3.5,1,"Great"]
[{"$f":"IF('Data Collection Sheet'!$C30=\"Treatment Plant\",\"WTP\",LEFT('Data Collection Sheet'!$B30,2)&LEFT('Data Collection Sheet'!$C30,2))&_xlfn.CONCAT(\"-\",'Data Collection Sheet'!$G30)","v":"CoTe-2022"},{"$f":"IF(COUNTIF($A$2:$A26,A26)-COUNTIF($A$2:$A26,\"-\")=0,\"\",COUNTIF($A$2:$A26,A26)-COUNTIF($A$2:$A26,\"-\"))","v":2},"CoTe-2022-2",3.5,1,"Great"]
[{"$f":"IF('Data Collection Sheet'!$C31=\"Treatment Plant\",\"WTP\",LEFT('Data Collection Sheet'!$B31,2)&LEFT('Data Collection Sheet'!$C31,2))&_xlfn.CONCAT(\"-\",'Data Collection Sheet'!$G31)","v":"TrSe-2022"},{"$f":"IF(COUNTIF($A$2:$A27,A27)-COUNTIF($A$2:$A27,\"-\")=0,\"\",COUNTIF($A$2:$A27,A27)-COUNTIF($A$2:$A27,\"-\"))","v":1},"TrSe-2022-1",2.5,1,"Great"]
[{"$f":"IF('Data Collection Sheet'!$C32=\"Treatment Plant\",\"WTP\",LEFT('Data Collection Sheet'!$B32,2)&LEFT('Data Collection Sheet'!$C32,2))&_xlfn.CONCAT(\"-\",'Data Collection Sheet'!$G32)","v":"SaFe-2022"},{"$f":"IF(COUNTIF($A$2:$A28,A28)-COUNTIF($A$2:$A28,\"-\")=0,\"\",COUNTIF($A$2:$A28,A28)-COUNTIF($A$2:$A28,\"-\"))","v":1},"SaFe-2022-1",3.5,1,"Great"]
[{"$f":"IF('Data Collection Sheet'!$C33=\"Treatment Plant\",\"WTP\",LEFT('Data Collection Sheet'!$B33,2)&LEFT('Data Collection Sheet'!$C33,2))&_xlfn.CONCAT(\"-\",'Data Collection Sheet'!$G33)","v":"TrCh-2022"},{"$f":"IF(COUNTIF($A$2:$A29,A29)-COUNTIF($A$2:$A29,\"-\")=0,\"\",COUNTIF($A$2:$A29,A29)-COUNTIF($A$2:$A29,\"-\"))","v":1},"TrCh-2022-1",2.5,1,"Great"]
[{"$f":"IF('Data Collection Sheet'!$C34=\"Treatment Plant\",\"WTP\",LEFT('Data Collection Sheet'!$B34,2)&LEFT('Data Collection Sheet'!$C34,2))&_xlfn.CONCAT(\"-\",'Data Collection Sheet'!$G34)","v":"TrFi-2022"},{"$f":"IF(COUNTIF($A$2:$A30,A30)-COUNTIF($A$2:$A30,\"-\")=0,\"\",COUNTIF($A$2:$A30,A30)-COUNTIF($A$2:$A30,\"-\"))","v":1},"TrFi-2022-1",0.5,1,"Great"]
[{"$f":"IF('Data Collection Sheet'!$C35=\"Treatment Plant\",\"WTP\",LEFT('Data Collection Sheet'!$B35,2)&LEFT('Data Collection Sheet'!$C35,2))&_xlfn.CONCAT(\"-\",'Data Collection Sheet'!$G35)","v":"TrFi-2022"},{"$f":"IF(COUNTIF($A$2:$A31,A31)-COUNTIF($A$2:$A31,\"-\")=0,\"\",COUNTIF($A$2:$A31,A31)-COUNTIF($A$2:$A31,\"-\"))","v":2},"TrFi-2022-2",0.5,"0.5","Great"]
[{"$f":"IF('Data Collection Sheet'!$C36=\"Treatment Plant\",\"WTP\",LEFT('Data Collection Sheet'!$B36,2)&LEFT('Data Collection Sheet'!$C36,2))&_xlfn.CONCAT(\"-\",'Data Collection Sheet'!$G36)","v":"PuMe-2022"},{"$f":"IF(COUNTIF($A$2:$A32,A32)-COUNTIF($A$2:$A32,\"-\")=0,\"\",COUNTIF($A$2:$A32,A32)-COUNTIF($A$2:$A32,\"-\"))","v":1},"PuMe-2022-1",0.5,"0.5","Great"]
[{"$f":"IF('Data Collection Sheet'!$C37=\"Treatment Plant\",\"WTP\",LEFT('Data Collection Sheet'!$B37,2)&LEFT('Data Collection Sheet'!$C37,2))&_xlfn.CONCAT(\"-\",'Data Collection Sheet'!$G37)","v":"PuMe-2022"},{"$f":"IF(COUNTIF($A$2:$A33,A33)-COUNTIF($A$2:$A33,\"-\")=0,\"\",COUNTIF($A$2:$A33,A33)-COUNTIF($A$2:$A33,\"-\"))","v":2},"PuMe-2022-2",0.5,"0.5","Great"]
[{"$f":"IF('Data Collection Sheet'!$C38=\"Treatment Plant\",\"WTP\",LEFT('Data Collection Sheet'!$B38,2)&LEFT('Data Collection Sheet'!$C38,2))&_xlfn.CONCAT(\"-\",'Data Collection Sheet'!$G38)","v":"PuMe-2022"},{"$f":"IF(COUNTIF($A$2:$A34,A34)-COUNTIF($A$2:$A34,\"-\")=0,\"\",COUNTIF($A$2:$A34,A34)-COUNTIF($A$2:$A34,\"-\"))","v":3},"PuMe-2022-3",0.5,"0.5","Great"]
[{"$f":"IF('Data Collection Sheet'!$C39=\"Treatment Plant\",\"WTP\",LEFT('Data Collection Sheet'!$B39,2)&LEFT('Data Collection Sheet'!$C39,2))&_xlfn.CONCAT(\"-\",'Data Collection Sheet'!$G39)","v":"MeSo-2022"},{"$f":"IF(COUNTIF($A$2:$A35,A35)-COUNTIF($A$2:$A35,\"-\")=0,\"\",COUNTIF($A$2:$A35,A35)-COUNTIF($A$2:$A35,\"-\"))","v":1},"MeSo-2022-1",0.5,"0.5","Good"]
[{"$f":"IF('Data Collection Sheet'!$C40=\"Treatment Plant\",\"WTP\",LEFT('Data Collection Sheet'!$B40,2)&LEFT('Data Collection Sheet'!$C40,2))&_xlfn.CONCAT(\"-\",'Data Collection Sheet'!$G40)","v":"HyFi-2022"},{"$f":"IF(COUNTIF($A$2:$A36,A36)-COUNTIF($A$2:$A36,\"-\")=0,\"\",COUNTIF($A$2:$A36,A36)-COUNTIF($A$2:$A36,\"-\"))","v":1},"HyFi-2022-1",0.5,"0.5","Great"]
[{"$f":"IF('Data Collection Sheet'!$C41=\"Treatment Plant\",\"WTP\",LEFT('Data Collection Sheet'!$B41,2)&LEFT('Data Collection Sheet'!$C41,2))&_xlfn.CONCAT(\"-\",'Data Collection Sheet'!$G41)","v":"PiPV-2024"},{"$f":"IF(COUNTIF($A$2:$A37,A37)-COUNTIF($A$2:$A37,\"-\")=0,\"\",COUNTIF($A$2:$A37,A37)-COUNTIF($A$2:$A37,\"-\"))","v":1},"PiPV-2024-1",0.5,"0.5","Great"]
[{"$f":"IF('Data Collection Sheet'!$C42=\"Treatment Plant\",\"WTP\",LEFT('Data Collection Sheet'!$B42,2)&LEFT('Data Collection Sheet'!$C42,2))&_xlfn.CONCAT(\"-\",'Data Collection Sheet'!$G42)","v":"PiPV-2024"},{"$f":"IF(COUNTIF($A$2:$A38,A38)-COUNTIF($A$2:$A38,\"-\")=0,\"\",COUNTIF($A$2:$A38,A38)-COUNTIF($A$2:$A38,\"-\"))","v":2},"PiPV-2024-2",0.5,"0.5","Great"]
[{"$f":"IF('Data Collection Sheet'!$C43=\"Treatment Plant\",\"WTP\",LEFT('Data Collection Sheet'!$B43,2)&LEFT('Data Collection Sheet'!$C43,2))&_xlfn.CONCAT(\"-\",'Data Collection Sheet'!$G43)","v":"PiPV-2024"},{"$f":"IF(COUNTIF($A$2:$A39,A39)-COUNTIF($A$2:$A39,\"-\")=0,\"\",COUNTIF($A$2:$A39,A39)-COUNTIF($A$2:$A39,\"-\"))","v":3},"PiPV-2024-3",0.5,"0.5","Great"]
[{"$f":"IF('Data Collection Sheet'!$C44=\"Treatment Plant\",\"WTP\",LEFT('Data Collection Sheet'!$B44,2)&LEFT('Data Collection Sheet'!$C44,2))&_xlfn.CONCAT(\"-\",'Data Collection Sheet'!$G44)","v":"HyFi-2024"},{"$f":"IF(COUNTIF($A$2:$A40,A40)-COUNTIF($A$2:$A40,\"-\")=0,\"\",COUNTIF($A$2:$A40,A40)-COUNTIF($A$2:$A40,\"-\"))","v":1},"HyFi-2024-1",0.5,"0.5","Great"]
[{"$f":"IF('Data Collection Sheet'!$C45=\"Treatment Plant\",\"WTP\",LEFT('Data Collection Sheet'!$B45,2)&LEFT('Data Collection Sheet'!$C45,2))&_xlfn.CONCAT(\"-\",'Data Collection Sheet'!$G45)","v":"MeMa-2024"},{"$f":"IF(COUNTIF($A$2:$A41,A41)-COUNTIF($A$2:$A41,\"-\")=0,\"\",COUNTIF($A$2:$A41,A41)-COUNTIF($A$2:$A41,\"-\"))","v":1},"MeMa-2024-1",0.5,"0.5","Great"]
[{"$f":"IF('Data Collection Sheet'!$C46=\"Treatment Plant\",\"WTP\",LEFT('Data Collection Sheet'!$B46,2)&LEFT('Data Collection Sheet'!$C46,2))&_xlfn.CONCAT(\"-\",'Data Collection Sheet'!$G46)","v":"MeMa-2024"},{"$f":"IF(COUNTIF($A$2:$A42,A42)-COUNTIF($A$2:$A42,\"-\")=0,\"\",COUNTIF($A$2:$A42,A42)-COUNTIF($A$2:$A42,\"-\"))","v":2},"MeMa-2024-2",0.5,"0.5","Great"]
[{"$f":"IF('Data Collection Sheet'!$C47=\"Treatment Plant\",\"WTP\",LEFT('Data Collection Sheet'!$B47,2)&LEFT('Data Collection Sheet'!$C47,2))&_xlfn.CONCAT(\"-\",'Data Collection Sheet'!$G47)","v":"MeMa-2024"},{"$f":"IF(COUNTIF($A$2:$A43,A43)-COUNTIF($A$2:$A43,\"-\")=0,\"\",COUNTIF($A$2:$A43,A43)-COUNTIF($A$2:$A43,\"-\"))","v":3},"MeMa-2024-3",0.5,"0.5","Great"]
[{"$f":"IF('Data Collection Sheet'!$C48=\"Treatment Plant\",\"WTP\",LEFT('Data Collection Sheet'!$B48,2)&LEFT('Data Collection Sheet'!$C48,2))&_xlfn.CONCAT(\"-\",'Data Collection Sheet'!$G48)","v":"MeMa-2024"},{"$f":"IF(COUNTIF($A$2:$A44,A44)-COUNTIF($A$2:$A44,\"-\")=0,\"\",COUNTIF($A$2:$A44,A44)-COUNTIF($A$2:$A44,\"-\"))","v":4},"MeMa-2024-4",0.5,"0.5","Great"]
[{"$f":"IF('Data Collection Sheet'!$C49=\"Treatment Plant\",\"WTP\",LEFT('Data Collection Sheet'!$B49,2)&LEFT('Data Collection Sheet'!$C49,2))&_xlfn.CONCAT(\"-\",'Data Collection Sheet'!$G49)","v":"MeMa-2024"},{"$f":"IF(COUNTIF($A$2:$A45,A45)-COUNTIF($A$2:$A45,\"-\")=0,\"\",COUNTIF($A$2:$A45,A45)-COUNTIF($A$2:$A45,\"-\"))","v":5},"MeMa-2024-5",0.5,"0.5","Great"]
[{"$f":"IF('Data Collection Sheet'!$C50=\"Treatment Plant\",\"WTP\",LEFT('Data Collection Sheet'!$B50,2)&LEFT('Data Collection Sheet'!$C50,2))&_xlfn.CONCAT(\"-\",'Data Collection Sheet'!$G50)","v":"MeMa-2024"},{"$f":"IF(COUNTIF($A$2:$A46,A46)-COUNTIF($A$2:$A46,\"-\")=0,\"\",COUNTIF($A$2:$A46,A46)-COUNTIF($A$2:$A46,\"-\"))","v":6},"MeMa-2024-6",0.5,1,"Great"]
[{"$f":"IF('Data Collection Sheet'!$C51=\"Treatment Plant\",\"WTP\",LEFT('Data Collection Sheet'!$B51,2)&LEFT('Data Collection Sheet'!$C51,2))&_xlfn.CONCAT(\"-\",'Data Collection Sheet'!$G51)","v":"MeMa-2024"},{"$f":"IF(COUNTIF($A$2:$A47,A47)-COUNTIF($A$2:$A47,\"-\")=0,\"\",COUNTIF($A$2:$A47,A47)-COUNTIF($A$2:$A47,\"-\"))","v":7},"MeMa-2024-7",0.5,1,"Great"]
[{"$f":"IF('Data Collection Sheet'!$C52=\"Treatment Plant\",\"WTP\",LEFT('Data Collection Sheet'!$B52,2)&LEFT('Data Collection Sheet'!$C52,2))&_xlfn.CONCAT(\"-\",'Data Collection Sheet'!$G52)","v":"MeMa-2024"},{"$f":"IF(COUNTIF($A$2:$A48,A48)-COUNTIF($A$2:$A48,\"-\")=0,\"\",COUNTIF($A$2:$A48,A48)-COUNTIF($A$2:$A48,\"-\"))","v":8},"MeMa-2024-8",0.5,1,"Great"]
[{"$f":"IF('Data Collection Sheet'!$C53=\"Treatment Plant\",\"WTP\",LEFT('Data Collection Sheet'!$B53,2)&LEFT('Data Collection Sheet'!$C53,2))&_xlfn.CONCAT(\"-\",'Data Collection Sheet'!$G53)","v":"MeMa-2024"},{"$f":"IF(COUNTIF($A$2:$A49,A49)-COUNTIF($A$2:$A49,\"-\")=0,\"\",COUNTIF($A$2:$A49,A49)-COUNTIF($A$2:$A49,\"-\"))","v":9},"MeMa-2024-9",0.5,1,"Great"]
[{"$f":"IF('Data Collection Sheet'!$C54=\"Treatment Plant\",\"WTP\",LEFT('Data Collection Sheet'!$B54,2)&LEFT('Data Collection Sheet'!$C54,2))&_xlfn.CONCAT(\"-\",'Data Collection Sheet'!$G54)","v":"MeMa-2024"},{"$f":"IF(COUNTIF($A$2:$A50,A50)-COUNTIF($A$2:$A50,\"-\")=0,\"\",COUNTIF($A$2:$A50,A50)-COUNTIF($A$2:$A50,\"-\"))","v":10},"MeMa-2024-10",0.5,1,"Great"]
[{"$f":"IF('Data Collection Sheet'!$C55=\"Treatment Plant\",\"WTP\",LEFT('Data Collection Sheet'!$B55,2)&LEFT('Data Collection Sheet'!$C55,2))&_xlfn.CONCAT(\"-\",'Data Collection Sheet'!$G55)","v":"MeMa-2024"},{"$f":"IF(COUNTIF($A$2:$A51,A51)-COUNTIF($A$2:$A51,\"-\")=0,\"\",COUNTIF($A$2:$A51,A51)-COUNTIF($A$2:$A51,\"-\"))","v":11},"MeMa-2024-11",0.5,1,"Great"]
[{"$f":"IF('Data Collection Sheet'!$C56=\"Treatment Plant\",\"WTP\",LEFT('Data Collection Sheet'!$B56,2)&LEFT('Data Collection Sheet'!$C56,2))&_xlfn.CONCAT(\"-\",'Data Collection Sheet'!$G56)","v":"MeMa-2024"},{"$f":"IF(COUNTIF($A$2:$A52,A52)-COUNTIF($A$2:$A52,\"-\")=0,\"\",COUNTIF($A$2:$A52,A52)-COUNTIF($A$2:$A52,\"-\"))","v":12},"MeMa-2024-12",0.5,1,"Great"]
[{"$f":"IF('Data Collection Sheet'!$C57=\"Treatment Plant\",\"WTP\",LEFT('Data Collection Sheet'!$B57,2)&LEFT('Data Collection Sheet'!$C57,2))&_xlfn.CONCAT(\"-\",'Data Collection Sheet'!$G57)","v":"VaGa-2024"},{"$f":"IF(COUNTIF($A$2:$A53,A53)-COUNTIF($A$2:$A53,\"-\")=0,\"\",COUNTIF($A$2:$A53,A53)-COUNTIF($A$2:$A53,\"-\"))","v":1},"VaGa-2024-1",0.5,1,"Great"]
[{"$f":"IF('Data Collection Sheet'!$C58=\"Treatment Plant\",\"WTP\",LEFT('Data Collection Sheet'!$B58,2)&LEFT('Data Collection Sheet'!$C58,2))&_xlfn.CONCAT(\"-\",'Data Collection Sheet'!$G58)","v":"VaGa-2024"},{"$f":"IF(COUNTIF($A$2:$A54,A54)-COUNTIF($A$2:$A54,\"-\")=0,\"\",COUNTIF($A$2:$A54,A54)-COUNTIF($A$2:$A54,\"-\"))","v":2},"VaGa-2024-2",0.5,1,"Great"]
[{"$f":"IF('Data Collection Sheet'!$C59=\"Treatment Plant\",\"WTP\",LEFT('Data Collection Sheet'!$B59,2)&LEFT('Data Collection Sheet'!$C59,2))&_xlfn.CONCAT(\"-\",'Data Collection Sheet'!$G59)","v":"VaGa-2024"},{"$f":"IF(COUNTIF($A$2:$A55,A55)-COUNTIF($A$2:$A55,\"-\")=0,\"\",COUNTIF($A$2:$A55,A55)-COUNTIF($A$2:$A55,\"-\"))","v":3},"VaGa-2024-3",0.5,1,"Great"]
[{"$f":"IF('Data Collection Sheet'!$C60=\"Treatment Plant\",\"WTP\",LEFT('Data Collection Sheet'!$B60,2)&LEFT('Data Collection Sheet'!$C60,2))&_xlfn.CONCAT(\"-\",'Data Collection Sheet'!$G60)","v":"VaGa-2024"},{"$f":"IF(COUNTIF($A$2:$A56,A56)-COUNTIF($A$2:$A56,\"-\")=0,\"\",COUNTIF($A$2:$A56,A56)-COUNTIF($A$2:$A56,\"-\"))","v":4},"VaGa-2024-4",0.5,1,"Great"]
[{"$f":"IF('Data Collection Sheet'!$C61=\"Treatment Plant\",\"WTP\",LEFT('Data Collection Sheet'!$B61,2)&LEFT('Data Collection Sheet'!$C61,2))&_xlfn.CONCAT(\"-\",'Data Collection Sheet'!$G61)","v":"VaPr-2024"},{"$f":"IF(COUNTIF($A$2:$A57,A57)-COUNTIF($A$2:$A57,\"-\")=0,\"\",COUNTIF($A$2:$A57,A57)-COUNTIF($A$2:$A57,\"-\"))","v":1},"VaPr-2024-1",0.5,1,"Great"]
[{"$f":"IF('Data Collection Sheet'!$C62=\"Treatment Plant\",\"WTP\",LEFT('Data Collection Sheet'!$B62,2)&LEFT('Data Collection Sheet'!$C62,2))&_xlfn.CONCAT(\"-\",'Data Collection Sheet'!$G62)","v":"VaPr-2024"},{"$f":"IF(COUNTIF($A$2:$A58,A58)-COUNTIF($A$2:$A58,\"-\")=0,\"\",COUNTIF($A$2:$A58,A58)-COUNTIF($A$2:$A58,\"-\"))","v":2},"VaPr-2024-2",0.5,1,"Great"]
[{"$f":"IF('Data Collection Sheet'!$C63=\"Treatment Plant\",\"WTP\",LEFT('Data Collection Sheet'!$B63,2)&LEFT('Data Collection Sheet'!$C63,2))&_xlfn.CONCAT(\"-\",'Data Collection Sheet'!$G63)","v":"VaGa-2024"},{"$f":"IF(COUNTIF($A$2:$A59,A59)-COUNTIF($A$2:$A59,\"-\")=0,\"\",COUNTIF($A$2:$A59,A59)-COUNTIF($A$2:$A59,\"-\"))","v":5},"VaGa-2024-5",0.5,1,"Great"]
[{"$f":"IF('Data Collection Sheet'!$C64=\"Treatment Plant\",\"WTP\",LEFT('Data Collection Sheet'!$B64,2)&LEFT('Data Collection Sheet'!$C64,2))&_xlfn.CONCAT(\"-\",'Data Collection Sheet'!$G64)","v":"CoSC-2024"},{"$f":"IF(COUNTIF($A$2:$A60,A60)-COUNTIF($A$2:$A60,\"-\")=0,\"\",COUNTIF($A$2:$A60,A60)-COUNTIF($A$2:$A60,\"-\"))","v":1},"CoSC-2024-1",0.5,1,"Great"]
[{"$f":"IF('Data Collection Sheet'!$C65=\"Treatment Plant\",\"WTP\",LEFT('Data Collection Sheet'!$B65,2)&LEFT('Data Collection Sheet'!$C65,2))&_xlfn.CONCAT(\"-\",'Data Collection Sheet'!$G65)","v":"MeRe-2024"},{"$f":"IF(COUNTIF($A$2:$A61,A61)-COUNTIF($A$2:$A61,\"-\")=0,\"\",COUNTIF($A$2:$A61,A61)-COUNTIF($A$2:$A61,\"-\"))","v":1},"MeRe-2024-1",0.5,1,"Great"]
[{"$f":"IF('Data Collection Sheet'!$C66=\"Treatment Plant\",\"WTP\",LEFT('Data Collection Sheet'!$B66,2)&LEFT('Data Collection Sheet'!$C66,2))&_xlfn.CONCAT(\"-\",'Data Collection Sheet'!$G66)","v":"MeCu-2024"},{"$f":"IF(COUNTIF($A$2:$A62,A62)-COUNTIF($A$2:$A62,\"-\")=0,\"\",COUNTIF($A$2:$A62,A62)-COUNTIF($A$2:$A62,\"-\"))","v":1},"MeCu-2024-1",0.5,1,"Great"]
[{"$f":"IF('Data Collection Sheet'!$C67=\"Treatment Plant\",\"WTP\",LEFT('Data Collection Sheet'!$B67,2)&LEFT('Data Collection Sheet'!$C67,2))&_xlfn.CONCAT(\"-\",'Data Collection Sheet'!$G67)","v":"VaPr-2024"},{"$f":"IF(COUNTIF($A$2:$A63,A63)-COUNTIF($A$2:$A63,\"-\")=0,\"\",COUNTIF($A$2:$A63,A63)-COUNTIF($A$2:$A63,\"-\"))","v":3},"VaPr-2024-3",0.5,1,"Great"]
[{"$f":"IF('Data Collection Sheet'!$C68=\"Treatment Plant\",\"WTP\",LEFT('Data Collection Sheet'!$B68,2)&LEFT('Data Collection Sheet'!$C68,2))&_xlfn.CONCAT(\"-\",'Data Collection Sheet'!$G68)","v":"VaGa-2024"},{"$f":"IF(COUNTIF($A$2:$A64,A64)-COUNTIF($A$2:$A64,\"-\")=0,\"\",COUNTIF($A$2:$A64,A64)-COUNTIF($A$2:$A64,\"-\"))","v":6},"VaGa-2024-6",0.5,1,"Great"]
[{"$f":"IF('Data Collection Sheet'!$C69=\"Treatment Plant\",\"WTP\",LEFT('Data Collection Sheet'!$B69,2)&LEFT('Data Collection Sheet'!$C69,2))&_xlfn.CONCAT(\"-\",'Data Collection Sheet'!$G69)","v":"PiPV-2024"},{"$f":"IF(COUNTIF($A$2:$A65,A65)-COUNTIF($A$2:$A65,\"-\")=0,\"\",COUNTIF($A$2:$A65,A65)-COUNTIF($A$2:$A65,\"-\"))","v":4},"PiPV-2024-4",0.5,1,"Great"]
[{"$f":"IF('Data Collection Sheet'!$C70=\"Treatment Plant\",\"WTP\",LEFT('Data Collection Sheet'!$B70,2)&LEFT('Data Collection Sheet'!$C70,2))&_xlfn.CONCAT(\"-\",'Data Collection Sheet'!$G70)","v":"VaGa-2024"},{"$f":"IF(COUNTIF($A$2:$A66,A66)-COUNTIF($A$2:$A66,\"-\")=0,\"\",COUNTIF($A$2:$A66,A66)-COUNTIF($A$2:$A66,\"-\"))","v":7},{"$f":"_xlfn.CONCAT($A66,\"-\",$B66)","v":"VaGa-2024-7"},0.5,1,"Great"]
[{"$f":"IF('Data Collection Sheet'!$C71=\"Treatment Plant\",\"WTP\",LEFT('Data Collection Sheet'!$B71,2)&LEFT('Data Collection Sheet'!$C71,2))&_xlfn.CONCAT(\"-\",'Data Collection Sheet'!$G71)","v":"VaPr-2024"},{"$f":"IF(COUNTIF($A$2:$A67,A67)-COUNTIF($A$2:$A67,\"-\")=0,\"\",COUNTIF($A$2:$A67,A67)-COUNTIF($A$2:$A67,\"-\"))","v":4},"VaPr-2024-4",0.5,1,"Great"]
[{"$f":"IF('Data Collection Sheet'!$C72=\"Treatment Plant\",\"WTP\",LEFT('Data Collection Sheet'!$B72,2)&LEFT('Data Collection Sheet'!$C72,2))&_xlfn.CONCAT(\"-\",'Data Collection Sheet'!$G72)","v":"VaGa-2024"},{"$f":"IF(COUNTIF($A$2:$A68,A68)-COUNTIF($A$2:$A68,\"-\")=0,\"\",COUNTIF($A$2:$A68,A68)-COUNTIF($A$2:$A68,\"-\"))","v":8},"VaGa-2024-8",0.5,1,"Great"]
[{"$f":"IF('Data Collection Sheet'!$C73=\"Treatment Plant\",\"WTP\",LEFT('Data Collection Sheet'!$B73,2)&LEFT('Data Collection Sheet'!$C73,2))&_xlfn.CONCAT(\"-\",'Data Collection Sheet'!$G73)","v":"-"},{"$f":"IF(COUNTIF($A$2:$A69,A69)-COUNTIF($A$2:$A69,\"-\")=0,\"\",COUNTIF($A$2:$A69,A69)-COUNTIF($A$2:$A69,\"-\"))","v":""},"--","","",0]
[{"$f":"IF('Data Collection Sheet'!$C74=\"Treatment Plant\",\"WTP\",LEFT('Data Collection Sheet'!$B74,2)&LEFT('Data Collection Sheet'!$C74,2))&_xlfn.CONCAT(\"-\",'Data Collection Sheet'!$G74)","v":"-"},{"$f":"IF(COUNTIF($A$2:$A70,A70)-COUNTIF($A$2:$A70,\"-\")=0,\"\",COUNTIF($A$2:$A70,A70)-COUNTIF($A$2:$A70,\"-\"))","v":""},"--","","",0]
[{"$f":"IF('Data Collection Sheet'!$C75=\"Treatment Plant\",\"WTP\",LEFT('Data Collection Sheet'!$B75,2)&LEFT('Data Collection Sheet'!$C75,2))&_xlfn.CONCAT(\"-\",'Data Collection Sheet'!$G75)","v":"-"},{"$f":"IF(COUNTIF($A$2:$A71,A71)-COUNTIF($A$2:$A71,\"-\")=0,\"\",COUNTIF($A$2:$A71,A71)-COUNTIF($A$2:$A71,\"-\"))","v":""},"--","","",0]
[{"$f":"IF('Data Collection Sheet'!$C76=\"Treatment Plant\",\"WTP\",LEFT('Data Collection Sheet'!$B76,2)&LEFT('Data Collection Sheet'!$C76,2))&_xlfn.CONCAT(\"-\",'Data Collection Sheet'!$G76)","v":"-"},{"$f":"IF(COUNTIF($A$2:$A72,A72)-COUNTIF($A$2:$A72,\"-\")=0,\"\",COUNTIF($A$2:$A72,A72)-COUNTIF($A$2:$A72,\"-\"))","v":""},"--","","",0]
[{"$f":"IF('Data Collection Sheet'!$C77=\"Treatment Plant\",\"WTP\",LEFT('Data Collection Sheet'!$B77,2)&LEFT('Data Collection Sheet'!$C77,2))&_xlfn.CONCAT(\"-\",'Data Collection Sheet'!$G77)","v":"-"},{"$f":"IF(COUNTIF($A$2:$A73,A73)-COUNTIF($A$2:$A73,\"-\")=0,\"\",COUNTIF($A$2:$A73,A73)-COUNTIF($A$2:$A73,\"-\"))","v":""},"--","","",0]
[{"$f":"IF('Data Collection Sheet'!$C78=\"Treatment Plant\",\"WTP\",LEFT('Data Collection Sheet'!$B78,2)&LEFT('Data Collection Sheet'!$C78,2))&_xlfn.CONCAT(\"-\",'Data Collection Sheet'!$G78)","v":"-"},{"$f":"IF(COUNTIF($A$2:$A74,A74)-COUNTIF($A$2:$A74,\"-\")=0,\"\",COUNTIF($A$2:$A74,A74)-COUNTIF($A$2:$A74,\"-\"))","v":""},"--","","",0]
[{"$f":"IF('Data Collection Sheet'!$C79=\"Treatment Plant\",\"WTP\",LEFT('Data Collection Sheet'!$B79,2)&LEFT('Data Collection Sheet'!$C79,2))&_xlfn.CONCAT(\"-\",'Data Collection Sheet'!$G79)","v":"-"},{"$f":"IF(COUNTIF($A$2:$A75,A75)-COUNTIF($A$2:$A75,\"-\")=0,\"\",COUNTIF($A$2:$A75,A75)-COUNTIF($A$2:$A75,\"-\"))","v":""},"--","","",0]
[{"$f":"IF('Data Collection Sheet'!$C80=\"Treatment Plant\",\"WTP\",LEFT('Data Collection Sheet'!$B80,2)&LEFT('Data Collection Sheet'!$C80,2))&_xlfn.CONCAT(\"-\",'Data Collection Sheet'!$G80)","v":"-"},{"$f":"IF(COUNTIF($A$2:$A76,A76)-COUNTIF($A$2:$A76,\"-\")=0,\"\",COUNTIF($A$2:$A76,A76)-COUNTIF($A$2:$A76,\"-\"))","v":""},"--","","",0]
[{"$f":"IF('Data Collection Sheet'!$C81=\"Treatment Plant\",\"WTP\",LEFT('Data Collection Sheet'!$B81,2)&LEFT('Data Collection Sheet'!$C81,2))&_xlfn.CONCAT(\"-\",'Data Collection Sheet'!$G81)","v":"-"},{"$f":"IF(COUNTIF($A$2:$A77,A77)-COUNTIF($A$2:$A77,\"-\")=0,\"\",COUNTIF($A$2:$A77,A77)-COUNTIF($A$2:$A77,\"-\"))","v":""},"--","","",0]
[{"$f":"IF('Data Collection Sheet'!$C82=\"Treatment Plant\",\"WTP\",LEFT('Data Collection Sheet'!$B82,2)&LEFT('Data Collection Sheet'!$C82,2))&_xlfn.CONCAT(\"-\",'Data Collection Sheet'!$G82)","v":"-"},{"$f":"IF(COUNTIF($A$2:$A78,A78)-COUNTIF($A$2:$A78,\"-\")=0,\"\",COUNTIF($A$2:$A78,A78)-COUNTIF($A$2:$A78,\"-\"))","v":""},"--","","",0]
[{"$f":"IF('Data Collection Sheet'!$C83=\"Treatment Plant\",\"WTP\",LEFT('Data Collection Sheet'!$B83,2)&LEFT('Data Collection Sheet'!$C83,2))&_xlfn.CONCAT(\"-\",'Data Collection Sheet'!$G83)","v":"-"},{"$f":"IF(COUNTIF($A$2:$A79,A79)-COUNTIF($A$2:$A79,\"-\")=0,\"\",COUNTIF($A$2:$A79,A79)-COUNTIF($A$2:$A79,\"-\"))","v":""},"--","","",0]
[{"$f":"IF('Data Collection Sheet'!$C84=\"Treatment Plant\",\"WTP\",LEFT('Data Collection Sheet'!$B84,2)&LEFT('Data Collection Sheet'!$C84,2))&_xlfn.CONCAT(\"-\",'Data Collection Sheet'!$G84)","v":"-"},{"$f":"IF(COUNTIF($A$2:$A80,A80)-COUNTIF($A$2:$A80,\"-\")=0,\"\",COUNTIF($A$2:$A80,A80)-COUNTIF($A$2:$A80,\"-\"))","v":""},"--","","",0]
[{"$f":"IF('Data Collection Sheet'!$C85=\"Treatment Plant\",\"WTP\",LEFT('Data Collection Sheet'!$B85,2)&LEFT('Data Collection Sheet'!$C85,2))&_xlfn.CONCAT(\"-\",'Data Collection Sheet'!$G85)","v":"-"},{"$f":"IF(COUNTIF($A$2:$A81,A81)-COUNTIF($A$2:$A81,\"-\")=0,\"\",COUNTIF($A$2:$A81,A81)-COUNTIF($A$2:$A81,\"-\"))","v":""},"--","","",0]
[{"$f":"IF('Data Collection Sheet'!$C86=\"Treatment Plant\",\"WTP\",LEFT('Data Collection Sheet'!$B86,2)&LEFT('Data Collection Sheet'!$C86,2))&_xlfn.CONCAT(\"-\",'Data Collection Sheet'!$G86)","v":"-"},{"$f":"IF(COUNTIF($A$2:$A82,A82)-COUNTIF($A$2:$A82,\"-\")=0,\"\",COUNTIF($A$2:$A82,A82)-COUNTIF($A$2:$A82,\"-\"))","v":""},"--","","",0]
[{"$f":"IF('Data Collection Sheet'!$C87=\"Treatment Plant\",\"WTP\",LEFT('Data Collection Sheet'!$B87,2)&LEFT('Data Collection Sheet'!$C87,2))&_xlfn.CONCAT(\"-\",'Data Collection Sheet'!$G87)","v":"-"},{"$f":"IF(COUNTIF($A$2:$A83,A83)-COUNTIF($A$2:$A83,\"-\")=0,\"\",COUNTIF($A$2:$A83,A83)-COUNTIF($A$2:$A83,\"-\"))","v":""},"--","","",0]
[{"$f":"IF('Data Collection Sheet'!$C88=\"Treatment Plant\",\"WTP\",LEFT('Data Collection Sheet'!$B88,2)&LEFT('Data Collection Sheet'!$C88,2))&_xlfn.CONCAT(\"-\",'Data Collection Sheet'!$G88)","v":"-"},{"$f":"IF(COUNTIF($A$2:$A84,A84)-COUNTIF($A$2:$A84,\"-\")=0,\"\",COUNTIF($A$2:$A84,A84)-COUNTIF($A$2:$A84,\"-\"))","v":""},"--","","",0]
[{"$f":"IF('Data Collection Sheet'!$C89=\"Treatment Plant\",\"WTP\",LEFT('Data Collection Sheet'!$B89,2)&LEFT('Data Collection Sheet'!$C89,2))&_xlfn.CONCAT(\"-\",'Data Collection Sheet'!$G89)","v":"-"},{"$f":"IF(COUNTIF($A$2:$A85,A85)-COUNTIF($A$2:$A85,\"-\")=0,\"\",COUNTIF($A$2:$A85,A85)-COUNTIF($A$2:$A85,\"-\"))","v":""},"--","","",0]
[{"$f":"IF('Data Collection Sheet'!$C90=\"Treatment Plant\",\"WTP\",LEFT('Data Collection Sheet'!$B90,2)&LEFT('Data Collection Sheet'!$C90,2))&_xlfn.CONCAT(\"-\",'Data Collection Sheet'!$G90)","v":"-"},{"$f":"IF(COUNTIF($A$2:$A86,A86)-COUNTIF($A$2:$A86,\"-\")=0,\"\",COUNTIF($A$2:$A86,A86)-COUNTIF($A$2:$A86,\"-\"))","v":""},"--","","",0]
[{"$f":"IF('Data Collection Sheet'!$C91=\"Treatment Plant\",\"WTP\",LEFT('Data Collection Sheet'!$B91,2)&LEFT('Data Collection Sheet'!$C91,2))&_xlfn.CONCAT(\"-\",'Data Collection Sheet'!$G91)","v":"-"},{"$f":"IF(COUNTIF($A$2:$A87,A87)-COUNTIF($A$2:$A87,\"-\")=0,\"\",COUNTIF($A$2:$A87,A87)-COUNTIF($A$2:$A87,\"-\"))","v":""},"--","","",0]
[{"$f":"IF('Data Collection Sheet'!$C92=\"Treatment Plant\",\"WTP\",LEFT('Data Collection Sheet'!$B92,2)&LEFT('Data Collection Sheet'!$C92,2))&_xlfn.CONCAT(\"-\",'Data Collection Sheet'!$G92)","v":"-"},{"$f":"IF(COUNTIF($A$2:$A88,A88)-COUNTIF($A$2:$A88,\"-\")=0,\"\",COUNTIF($A$2:$A88,A88)-COUNTIF($A$2:$A88,\"-\"))","v":""},"--","","",0]
[{"$f":"IF('Data Collection Sheet'!$C93=\"Treatment Plant\",\"WTP\",LEFT('Data Collection Sheet'!$B93,2)&LEFT('Data Collection Sheet'!$C93,2))&_xlfn.CONCAT(\"-\",'Data Collection Sheet'!$G93)","v":"-"},{"$f":"IF(COUNTIF($A$2:$A89,A89)-COUNTIF($A$2:$A89,\"-\")=0,\"\",COUNTIF($A$2:$A89,A89)-COUNTIF($A$2:$A89,\"-\"))","v":""},"--","","",0]
[{"$f":"IF('Data Collection Sheet'!$C94=\"Treatment Plant\",\"WTP\",LEFT('Data Collection Sheet'!$B94,2)&LEFT('Data Collection Sheet'!$C94,2))&_xlfn.CONCAT(\"-\",'Data Collection Sheet'!$G94)","v":"-"},{"$f":"IF(COUNTIF($A$2:$A90,A90)-COUNTIF($A$2:$A90,\"-\")=0,\"\",COUNTIF($A$2:$A90,A90)-COUNTIF($A$2:$A90,\"-\"))","v":""},"--","","",0]
[{"$f":"IF('Data Collection Sheet'!$C95=\"Treatment Plant\",\"WTP\",LEFT('Data Collection Sheet'!$B95,2)&LEFT('Data Collection Sheet'!$C95,2))&_xlfn.CONCAT(\"-\",'Data Collection Sheet'!$G95)","v":"-"},{"$f":"IF(COUNTIF($A$2:$A91,A91)-COUNTIF($A$2:$A91,\"-\")=0,\"\",COUNTIF($A$2:$A91,A91)-COUNTIF($A$2:$A91,\"-\"))","v":""},"--","","",0]
[{"$f":"IF('Data Collection Sheet'!$C96=\"Treatment Plant\",\"WTP\",LEFT('Data Collection Sheet'!$B96,2)&LEFT('Data Collection Sheet'!$C96,2))&_xlfn.CONCAT(\"-\",'Data Collection Sheet'!$G96)","v":"-"},{"$f":"IF(COUNTIF($A$2:$A92,A92)-COUNTIF($A$2:$A92,\"-\")=0,\"\",COUNTIF($A$2:$A92,A92)-COUNTIF($A$2:$A92,\"-\"))","v":""},"--","","",0]
[{"$f":"IF('Data Collection Sheet'!$C97=\"Treatment Plant\",\"WTP\",LEFT('Data Collection Sheet'!$B97,2)&LEFT('Data Collection Sheet'!$C97,2))&_xlfn.CONCAT(\"-\",'Data Collection Sheet'!$G97)","v":"-"},{"$f":"IF(COUNTIF($A$2:$A93,A93)-COUNTIF($A$2:$A93,\"-\")=0,\"\",COUNTIF($A$2:$A93,A93)-COUNTIF($A$2:$A93,\"-\"))","v":""},"--","","",0]
[{"$f":"IF('Data Collection Sheet'!$C98=\"Treatment Plant\",\"WTP\",LEFT('Data Collection Sheet'!$B98,2)&LEFT('Data Collection Sheet'!$C98,2))&_xlfn.CONCAT(\"-\",'Data Collection Sheet'!$G98)","v":"-"},{"$f":"IF(COUNTIF($A$2:$A94,A94)-COUNTIF($A$2:$A94,\"-\")=0,\"\",COUNTIF($A$2:$A94,A94)-COUNTIF($A$2:$A94,\"-\"))","v":""},"--","","",0]
[{"$f":"IF('Data Collection Sheet'!$C99=\"Treatment Plant\",\"WTP\",LEFT('Data Collection Sheet'!$B99,2)&LEFT('Data Collection Sheet'!$C99,2))&_xlfn.CONCAT(\"-\",'Data Collection Sheet'!$G99)","v":"-"},{"$f":"IF(COUNTIF($A$2:$A95,A95)-COUNTIF($A$2:$A95,\"-\")=0,\"\",COUNTIF($A$2:$A95,A95)-COUNTIF($A$2:$A95,\"-\"))","v":""},"--","","",0]
[{"$f":"IF('Data Collection Sheet'!$C100=\"Treatment Plant\",\"WTP\",LEFT('Data Collection Sheet'!$B100,2)&LEFT('Data Collection Sheet'!$C100,2))&_xlfn.CONCAT(\"-\",'Data Collection Sheet'!$G100)","v":"-"},{"$f":"IF(COUNTIF($A$2:$A96,A96)-COUNTIF($A$2:$A96,\"-\")=0,\"\",COUNTIF($A$2:$A96,A96)-COUNTIF($A$2:$A96,\"-\"))","v":""},"--","","",0]
[{"$f":"IF('Data Collection Sheet'!$C101=\"Treatment Plant\",\"WTP\",LEFT('Data Collection Sheet'!$B101,2)&LEFT('Data Collection Sheet'!$C101,2))&_xlfn.CONCAT(\"-\",'Data Collection Sheet'!$G101)","v":"-"},{"$f":"IF(COUNTIF($A$2:$A97,A97)-COUNTIF($A$2:$A97,\"-\")=0,\"\",COUNTIF($A$2:$A97,A97)-COUNTIF($A$2:$A97,\"-\"))","v":""},"--","","",0]
[{"$f":"IF('Data Collection Sheet'!$C102=\"Treatment Plant\",\"WTP\",LEFT('Data Collection Sheet'!$B102,2)&LEFT('Data Collection Sheet'!$C102,2))&_xlfn.CONCAT(\"-\",'Data Collection Sheet'!$G102)","v":"-"},{"$f":"IF(COUNTIF($A$2:$A98,A98)-COUNTIF($A$2:$A98,\"-\")=0,\"\",COUNTIF($A$2:$A98,A98)-COUNTIF($A$2:$A98,\"-\"))","v":""},"--","","",0]
[{"$f":"IF('Data Collection Sheet'!$C103=\"Treatment Plant\",\"WTP\",LEFT('Data Collection Sheet'!$B103,2)&LEFT('Data Collection Sheet'!$C103,2))&_xlfn.CONCAT(\"-\",'Data Collection Sheet'!$G103)","v":"-"},{"$f":"IF(COUNTIF($A$2:$A99,A99)-COUNTIF($A$2:$A99,\"-\")=0,\"\",COUNTIF($A$2:$A99,A99)-COUNTIF($A$2:$A99,\"-\"))","v":""},"--","","",0]
[{"$f":"IF('Data Collection Sheet'!$C104=\"Treatment Plant\",\"WTP\",LEFT('Data Collection Sheet'!$B104,2)&LEFT('Data Collection Sheet'!$C104,2))&_xlfn.CONCAT(\"-\",'Data Collection Sheet'!$G104)","v":"-"},{"$f":"IF(COUNTIF($A$2:$A100,A100)-COUNTIF($A$2:$A100,\"-\")=0,\"\",COUNTIF($A$2:$A100,A100)-COUNTIF($A$2:$A100,\"-\"))","v":""},"--","","",0]
[{"$f":"IF('Data Collection Sheet'!$C105=\"Treatment Plant\",\"WTP\",LEFT('Data Collection Sheet'!$B105,2)&LEFT('Data Collection Sheet'!$C105,2))&_xlfn.CONCAT(\"-\",'Data Collection Sheet'!$G105)","v":"-"},{"$f":"IF(COUNTIF($A$2:$A101,A101)-COUNTIF($A$2:$A101,\"-\")=0,\"\",COUNTIF($A$2:$A101,A101)-COUNTIF($A$2:$A101,\"-\"))","v":""},"--","","",0]
[{"$f":"IF('Data Collection Sheet'!$C106=\"Treatment Plant\",\"WTP\",LEFT('Data Collection Sheet'!$B106,2)&LEFT('Data Collection Sheet'!$C106,2))&_xlfn.CONCAT(\"-\",'Data Collection Sheet'!$G106)","v":"-"},{"$f":"IF(COUNTIF($A$2:$A102,A102)-COUNTIF($A$2:$A102,\"-\")=0,\"\",COUNTIF($A$2:$A102,A102)-COUNTIF($A$2:$A102,\"-\"))","v":""},"--","","",0]
[{"$f":"IF('Data Collection Sheet'!$C107=\"Treatment Plant\",\"WTP\",LEFT('Data Collection Sheet'!$B107,2)&LEFT('Data Collection Sheet'!$C107,2))&_xlfn.CONCAT(\"-\",'Data Collection Sheet'!$G107)","v":"-"},{"$f":"IF(COUNTIF($A$2:$A103,A103)-COUNTIF($A$2:$A103,\"-\")=0,\"\",COUNTIF($A$2:$A103,A103)-COUNTIF($A$2:$A103,\"-\"))","v":""},"--","","",0]
[{"$f":"IF('Data Collection Sheet'!$C108=\"Treatment Plant\",\"WTP\",LEFT('Data Collection Sheet'!$B108,2)&LEFT('Data Collection Sheet'!$C108,2))&_xlfn.CONCAT(\"-\",'Data Collection Sheet'!$G108)","v":"-"},{"$f":"IF(COUNTIF($A$2:$A104,A104)-COUNTIF($A$2:$A104,\"-\")=0,\"\",COUNTIF($A$2:$A104,A104)-COUNTIF($A$2:$A104,\"-\"))","v":""},"--","","",0]
[{"$f":"IF('Data Collection Sheet'!$C109=\"Treatment Plant\",\"WTP\",LEFT('Data Collection Sheet'!$B109,2)&LEFT('Data Collection Sheet'!$C109,2))&_xlfn.CONCAT(\"-\",'Data Collection Sheet'!$G109)","v":"-"},{"$f":"IF(COUNTIF($A$2:$A105,A105)-COUNTIF($A$2:$A105,\"-\")=0,\"\",COUNTIF($A$2:$A105,A105)-COUNTIF($A$2:$A105,\"-\"))","v":""},"--","","",0]
[{"$f":"IF('Data Collection Sheet'!$C110=\"Treatment Plant\",\"WTP\",LEFT('Data Collection Sheet'!$B110,2)&LEFT('Data Collection Sheet'!$C110,2))&_xlfn.CONCAT(\"-\",'Data Collection Sheet'!$G110)","v":"-"},{"$f":"IF(COUNTIF($A$2:$A106,A106)-COUNTIF($A$2:$A106,\"-\")=0,\"\",COUNTIF($A$2:$A106,A106)-COUNTIF($A$2:$A106,\"-\"))","v":""},"--","","",0]
[{"$f":"IF('Data Collection Sheet'!$C111=\"Treatment Plant\",\"WTP\",LEFT('Data Collection Sheet'!$B111,2)&LEFT('Data Collection Sheet'!$C111,2))&_xlfn.CONCAT(\"-\",'Data Collection Sheet'!$G111)","v":"-"},{"$f":"IF(COUNTIF($A$2:$A107,A107)-COUNTIF($A$2:$A107,\"-\")=0,\"\",COUNTIF($A$2:$A107,A107)-COUNTIF($A$2:$A107,\"-\"))","v":""},"--","","",0]
[{"$f":"IF('Data Collection Sheet'!$C112=\"Treatment Plant\",\"WTP\",LEFT('Data Collection Sheet'!$B112,2)&LEFT('Data Collection Sheet'!$C112,2))&_xlfn.CONCAT(\"-\",'Data Collection Sheet'!$G112)","v":"-"},{"$f":"IF(COUNTIF($A$2:$A108,A108)-COUNTIF($A$2:$A108,\"-\")=0,\"\",COUNTIF($A$2:$A108,A108)-COUNTIF($A$2:$A108,\"-\"))","v":""},"--","","",0]
[{"$f":"IF('Data Collection Sheet'!$C113=\"Treatment Plant\",\"WTP\",LEFT('Data Collection Sheet'!$B113,2)&LEFT('Data Collection Sheet'!$C113,2))&_xlfn.CONCAT(\"-\",'Data Collection Sheet'!$G113)","v":"-"},{"$f":"IF(COUNTIF($A$2:$A109,A109)-COUNTIF($A$2:$A109,\"-\")=0,\"\",COUNTIF($A$2:$A109,A109)-COUNTIF($A$2:$A109,\"-\"))","v":""},"--","","",0]
[{"$f":"IF('Data Collection Sheet'!$C114=\"Treatment Plant\",\"WTP\",LEFT('Data Collection Sheet'!$B114,2)&LEFT('Data Collection Sheet'!$C114,2))&_xlfn.CONCAT(\"-\",'Data Collection Sheet'!$G114)","v":"-"},{"$f":"IF(COUNTIF($A$2:$A110,A110)-COUNTIF($A$2:$A110,\"-\")=0,\"\",COUNTIF($A$2:$A110,A110)-COUNTIF($A$2:$A110,\"-\"))","v":""},"--","","",0]
[{"$f":"IF('Data Collection Sheet'!$C115=\"Treatment Plant\",\"WTP\",LEFT('Data Collection Sheet'!$B115,2)&LEFT('Data Collection Sheet'!$C115,2))&_xlfn.CONCAT(\"-\",'Data Collection Sheet'!$G115)","v":"-"},{"$f":"IF(COUNTIF($A$2:$A111,A111)-COUNTIF($A$2:$A111,\"-\")=0,\"\",COUNTIF($A$2:$A111,A111)-COUNTIF($A$2:$A111,\"-\"))","v":""},"--","","",0]
[{"$f":"IF('Data Collection Sheet'!$C116=\"Treatment Plant\",\"WTP\",LEFT('Data Collection Sheet'!$B116,2)&LEFT('Data Collection Sheet'!$C116,2))&_xlfn.CONCAT(\"-\",'Data Collection Sheet'!$G116)","v":"-"},{"$f":"IF(COUNTIF($A$2:$A112,A112)-COUNTIF($A$2:$A112,\"-\")=0,\"\",COUNTIF($A$2:$A112,A112)-COUNTIF($A$2:$A112,\"-\"))","v":""},"--","","",0]
[{"$f":"IF('Data Collection Sheet'!$C117=\"Treatment Plant\",\"WTP\",LEFT('Data Collection Sheet'!$B117,2)&LEFT('Data Collection Sheet'!$C117,2))&_xlfn.CONCAT(\"-\",'Data Collection Sheet'!$G117)","v":"-"},{"$f":"IF(COUNTIF($A$2:$A113,A113)-COUNTIF($A$2:$A113,\"-\")=0,\"\",COUNTIF($A$2:$A113,A113)-COUNTIF($A$2:$A113,\"-\"))","v":""},"--","","",0]
[{"$f":"IF('Data Collection Sheet'!$C118=\"Treatment Plant\",\"WTP\",LEFT('Data Collection Sheet'!$B118,2)&LEFT('Data Collection Sheet'!$C118,2))&_xlfn.CONCAT(\"-\",'Data Collection Sheet'!$G118)","v":"-"},{"$f":"IF(COUNTIF($A$2:$A114,A114)-COUNTIF($A$2:$A114,\"-\")=0,\"\",COUNTIF($A$2:$A114,A114)-COUNTIF($A$2:$A114,\"-\"))","v":""},"--","","",0]
[{"$f":"IF('Data Collection Sheet'!$C119=\"Treatment Plant\",\"WTP\",LEFT('Data Collection Sheet'!$B119,2)&LEFT('Data Collection Sheet'!$C119,2))&_xlfn.CONCAT(\"-\",'Data Collection Sheet'!$G119)","v":"-"},{"$f":"IF(COUNTIF($A$2:$A115,A115)-COUNTIF($A$2:$A115,\"-\")=0,\"\",COUNTIF($A$2:$A115,A115)-COUNTIF($A$2:$A115,\"-\"))","v":""},"--","","",0]
[{"$f":"IF('Data Collection Sheet'!$C120=\"Treatment Plant\",\"WTP\",LEFT('Data Collection Sheet'!$B120,2)&LEFT('Data Collection Sheet'!$C120,2))&_xlfn.CONCAT(\"-\",'Data Collection Sheet'!$G120)","v":"-"},{"$f":"IF(COUNTIF($A$2:$A116,A116)-COUNTIF($A$2:$A116,\"-\")=0,\"\",COUNTIF($A$2:$A116,A116)-COUNTIF($A$2:$A116,\"-\"))","v":""},"--","","",0]
[{"$f":"IF('Data Collection Sheet'!$C121=\"Treatment Plant\",\"WTP\",LEFT('Data Collection Sheet'!$B121,2)&LEFT('Data Collection Sheet'!$C121,2))&_xlfn.CONCAT(\"-\",'Data Collection Sheet'!$G121)","v":"-"},{"$f":"IF(COUNTIF($A$2:$A117,A117)-COUNTIF($A$2:$A117,\"-\")=0,\"\",COUNTIF($A$2:$A117,A117)-COUNTIF($A$2:$A117,\"-\"))","v":""},"--","","",0]
[{"$f":"IF('Data Collection Sheet'!$C122=\"Treatment Plant\",\"WTP\",LEFT('Data Collection Sheet'!$B122,2)&LEFT('Data Collection Sheet'!$C122,2))&_xlfn.CONCAT(\"-\",'Data Collection Sheet'!$G122)","v":"-"},{"$f":"IF(COUNTIF($A$2:$A118,A118)-COUNTIF($A$2:$A118,\"-\")=0,\"\",COUNTIF($A$2:$A118,A118)-COUNTIF($A$2:$A118,\"-\"))","v":""},"--","","",0]
[{"$f":"IF('Data Collection Sheet'!$C123=\"Treatment Plant\",\"WTP\",LEFT('Data Collection Sheet'!$B123,2)&LEFT('Data Collection Sheet'!$C123,2))&_xlfn.CONCAT(\"-\",'Data Collection Sheet'!$G123)","v":"-"},{"$f":"IF(COUNTIF($A$2:$A119,A119)-COUNTIF($A$2:$A119,\"-\")=0,\"\",COUNTIF($A$2:$A119,A119)-COUNTIF($A$2:$A119,\"-\"))","v":""},"--","","",0]
[{"$f":"IF('Data Collection Sheet'!$C124=\"Treatment Plant\",\"WTP\",LEFT('Data Collection Sheet'!$B124,2)&LEFT('Data Collection Sheet'!$C124,2))&_xlfn.CONCAT(\"-\",'Data Collection Sheet'!$G124)","v":"-"},{"$f":"IF(COUNTIF($A$2:$A120,A120)-COUNTIF($A$2:$A120,\"-\")=0,\"\",COUNTIF($A$2:$A120,A120)-COUNTIF($A$2:$A120,\"-\"))","v":""},"--","","",0]
[{"$f":"IF('Data Collection Sheet'!$C125=\"Treatment Plant\",\"WTP\",LEFT('Data Collection Sheet'!$B125,2)&LEFT('Data Collection Sheet'!$C125,2))&_xlfn.CONCAT(\"-\",'Data Collection Sheet'!$G125)","v":"-"},{"$f":"IF(COUNTIF($A$2:$A121,A121)-COUNTIF($A$2:$A121,\"-\")=0,\"\",COUNTIF($A$2:$A121,A121)-COUNTIF($A$2:$A121,\"-\"))","v":""},"--","","",0]
[{"$f":"IF('Data Collection Sheet'!$C126=\"Treatment Plant\",\"WTP\",LEFT('Data Collection Sheet'!$B126,2)&LEFT('Data Collection Sheet'!$C126,2))&_xlfn.CONCAT(\"-\",'Data Collection Sheet'!$G126)","v":"-"},{"$f":"IF(COUNTIF($A$2:$A122,A122)-COUNTIF($A$2:$A122,\"-\")=0,\"\",COUNTIF($A$2:$A122,A122)-COUNTIF($A$2:$A122,\"-\"))","v":""},"--","","",0]
[{"$f":"IF('Data Collection Sheet'!$C127=\"Treatment Plant\",\"WTP\",LEFT('Data Collection Sheet'!$B127,2)&LEFT('Data Collection Sheet'!$C127,2))&_xlfn.CONCAT(\"-\",'Data Collection Sheet'!$G127)","v":"-"},{"$f":"IF(COUNTIF($A$2:$A123,A123)-COUNTIF($A$2:$A123,\"-\")=0,\"\",COUNTIF($A$2:$A123,A123)-COUNTIF($A$2:$A123,\"-\"))","v":""},"--","","",0]
[{"$f":"IF('Data Collection Sheet'!$C128=\"Treatment Plant\",\"WTP\",LEFT('Data Collection Sheet'!$B128,2)&LEFT('Data Collection Sheet'!$C128,2))&_xlfn.CONCAT(\"-\",'Data Collection Sheet'!$G128)","v":"-"},{"$f":"IF(COUNTIF($A$2:$A124,A124)-COUNTIF($A$2:$A124,\"-\")=0,\"\",COUNTIF($A$2:$A124,A124)-COUNTIF($A$2:$A124,\"-\"))","v":""},"--","","",0]
[{"$f":"IF('Data Collection Sheet'!$C129=\"Treatment Plant\",\"WTP\",LEFT('Data Collection Sheet'!$B129,2)&LEFT('Data Collection Sheet'!$C129,2))&_xlfn.CONCAT(\"-\",'Data Collection Sheet'!$G129)","v":"-"},{"$f":"IF(COUNTIF($A$2:$A125,A125)-COUNTIF($A$2:$A125,\"-\")=0,\"\",COUNTIF($A$2:$A125,A125)-COUNTIF($A$2:$A125,\"-\"))","v":""},"--","","",0]
[{"$f":"IF('Data Collection Sheet'!$C130=\"Treatment Plant\",\"WTP\",LEFT('Data Collection Sheet'!$B130,2)&LEFT('Data Collection Sheet'!$C130,2))&_xlfn.CONCAT(\"-\",'Data Collection Sheet'!$G130)","v":"-"},{"$f":"IF(COUNTIF($A$2:$A126,A126)-COUNTIF($A$2:$A126,\"-\")=0,\"\",COUNTIF($A$2:$A126,A126)-COUNTIF($A$2:$A126,\"-\"))","v":""},"--","","",0]
[{"$f":"IF('Data Collection Sheet'!$C131=\"Treatment Plant\",\"WTP\",LEFT('Data Collection Sheet'!$B131,2)&LEFT('Data Collection Sheet'!$C131,2))&_xlfn.CONCAT(\"-\",'Data Collection Sheet'!$G131)","v":"-"},{"$f":"IF(COUNTIF($A$2:$A127,A127)-COUNTIF($A$2:$A127,\"-\")=0,\"\",COUNTIF($A$2:$A127,A127)-COUNTIF($A$2:$A127,\"-\"))","v":""},"--","","",0]
[{"$f":"IF('Data Collection Sheet'!$C132=\"Treatment Plant\",\"WTP\",LEFT('Data Collection Sheet'!$B132,2)&LEFT('Data Collection Sheet'!$C132,2))&_xlfn.CONCAT(\"-\",'Data Collection Sheet'!$G132)","v":"-"},{"$f":"IF(COUNTIF($A$2:$A128,A128)-COUNTIF($A$2:$A128,\"-\")=0,\"\",COUNTIF($A$2:$A128,A128)-COUNTIF($A$2:$A128,\"-\"))","v":""},"--","","",0]
[{"$f":"IF('Data Collection Sheet'!$C133=\"Treatment Plant\",\"WTP\",LEFT('Data Collection Sheet'!$B133,2)&LEFT('Data Collection Sheet'!$C133,2))&_xlfn.CONCAT(\"-\",'Data Collection Sheet'!$G133)","v":"-"},{"$f":"IF(COUNTIF($A$2:$A129,A129)-COUNTIF($A$2:$A129,\"-\")=0,\"\",COUNTIF($A$2:$A129,A129)-COUNTIF($A$2:$A129,\"-\"))","v":""},"--","","",0]
[{"$f":"IF('Data Collection Sheet'!$C134=\"Treatment Plant\",\"WTP\",LEFT('Data Collection Sheet'!$B134,2)&LEFT('Data Collection Sheet'!$C134,2))&_xlfn.CONCAT(\"-\",'Data Collection Sheet'!$G134)","v":"-"},{"$f":"IF(COUNTIF($A$2:$A130,A130)-COUNTIF($A$2:$A130,\"-\")=0,\"\",COUNTIF($A$2:$A130,A130)-COUNTIF($A$2:$A130,\"-\"))","v":""},{"$f":"_xlfn.CONCAT($A130,\"-\",$B130)","v":"--"},"","",0]
[{"$f":"IF('Data Collection Sheet'!$C135=\"Treatment Plant\",\"WTP\",LEFT('Data Collection Sheet'!$B135,2)&LEFT('Data Collection Sheet'!$C135,2))&_xlfn.CONCAT(\"-\",'Data Collection Sheet'!$G135)","v":"-"},{"$f":"IF(COUNTIF($A$2:$A131,A131)-COUNTIF($A$2:$A131,\"-\")=0,\"\",COUNTIF($A$2:$A131,A131)-COUNTIF($A$2:$A131,\"-\"))","v":""},"--","","",0]
[{"$f":"IF('Data Collection Sheet'!$C136=\"Treatment Plant\",\"WTP\",LEFT('Data Collection Sheet'!$B136,2)&LEFT('Data Collection Sheet'!$C136,2))&_xlfn.CONCAT(\"-\",'Data Collection Sheet'!$G136)","v":"-"},{"$f":"IF(COUNTIF($A$2:$A132,A132)-COUNTIF($A$2:$A132,\"-\")=0,\"\",COUNTIF($A$2:$A132,A132)-COUNTIF($A$2:$A132,\"-\"))","v":""},"--","","",0]
[{"$f":"IF('Data Collection Sheet'!$C137=\"Treatment Plant\",\"WTP\",LEFT('Data Collection Sheet'!$B137,2)&LEFT('Data Collection Sheet'!$C137,2))&_xlfn.CONCAT(\"-\",'Data Collection Sheet'!$G137)","v":"-"},{"$f":"IF(COUNTIF($A$2:$A133,A133)-COUNTIF($A$2:$A133,\"-\")=0,\"\",COUNTIF($A$2:$A133,A133)-COUNTIF($A$2:$A133,\"-\"))","v":""},"--","","",0]
[{"$f":"IF('Data Collection Sheet'!$C138=\"Treatment Plant\",\"WTP\",LEFT('Data Collection Sheet'!$B138,2)&LEFT('Data Collection Sheet'!$C138,2))&_xlfn.CONCAT(\"-\",'Data Collection Sheet'!$G138)","v":"-"},{"$f":"IF(COUNTIF($A$2:$A134,A134)-COUNTIF($A$2:$A134,\"-\")=0,\"\",COUNTIF($A$2:$A134,A134)-COUNTIF($A$2:$A134,\"-\"))","v":""},"--","","",0]
[{"$f":"IF('Data Collection Sheet'!$C139=\"Treatment Plant\",\"WTP\",LEFT('Data Collection Sheet'!$B139,2)&LEFT('Data Collection Sheet'!$C139,2))&_xlfn.CONCAT(\"-\",'Data Collection Sheet'!$G139)","v":"-"},{"$f":"IF(COUNTIF($A$2:$A135,A135)-COUNTIF($A$2:$A135,\"-\")=0,\"\",COUNTIF($A$2:$A135,A135)-COUNTIF($A$2:$A135,\"-\"))","v":""},"--","","",0]
[{"$f":"IF('Data Collection Sheet'!$C140=\"Treatment Plant\",\"WTP\",LEFT('Data Collection Sheet'!$B140,2)&LEFT('Data Collection Sheet'!$C140,2))&_xlfn.CONCAT(\"-\",'Data Collection Sheet'!$G140)","v":"-"},{"$f":"IF(COUNTIF($A$2:$A136,A136)-COUNTIF($A$2:$A136,\"-\")=0,\"\",COUNTIF($A$2:$A136,A136)-COUNTIF($A$2:$A136,\"-\"))","v":""},"--","","",0]
[{"$f":"IF('Data Collection Sheet'!$C141=\"Treatment Plant\",\"WTP\",LEFT('Data Collection Sheet'!$B141,2)&LEFT('Data Collection Sheet'!$C141,2))&_xlfn.CONCAT(\"-\",'Data Collection Sheet'!$G141)","v":"-"},{"$f":"IF(COUNTIF($A$2:$A137,A137)-COUNTIF($A$2:$A137,\"-\")=0,\"\",COUNTIF($A$2:$A137,A137)-COUNTIF($A$2:$A137,\"-\"))","v":""},"--","","",0]
[{"$f":"IF('Data Collection Sheet'!$C142=\"Treatment Plant\",\"WTP\",LEFT('Data Collection Sheet'!$B142,2)&LEFT('Data Collection Sheet'!$C142,2))&_xlfn.CONCAT(\"-\",'Data Collection Sheet'!$G142)","v":"-"},{"$f":"IF(COUNTIF($A$2:$A138,A138)-COUNTIF($A$2:$A138,\"-\")=0,\"\",COUNTIF($A$2:$A138,A138)-COUNTIF($A$2:$A138,\"-\"))","v":""},"--","","",0]
[{"$f":"IF('Data Collection Sheet'!$C143=\"Treatment Plant\",\"WTP\",LEFT('Data Collection Sheet'!$B143,2)&LEFT('Data Collection Sheet'!$C143,2))&_xlfn.CONCAT(\"-\",'Data Collection Sheet'!$G143)","v":"-"},{"$f":"IF(COUNTIF($A$2:$A139,A139)-COUNTIF($A$2:$A139,\"-\")=0,\"\",COUNTIF($A$2:$A139,A139)-COUNTIF($A$2:$A139,\"-\"))","v":""},"--","","",0]
[{"$f":"IF('Data Collection Sheet'!$C144=\"Treatment Plant\",\"WTP\",LEFT('Data Collection Sheet'!$B144,2)&LEFT('Data Collection Sheet'!$C144,2))&_xlfn.CONCAT(\"-\",'Data Collection Sheet'!$G144)","v":"-"},{"$f":"IF(COUNTIF($A$2:$A140,A140)-COUNTIF($A$2:$A140,\"-\")=0,\"\",COUNTIF($A$2:$A140,A140)-COUNTIF($A$2:$A140,\"-\"))","v":""},"--","","",0]
[{"$f":"IF('Data Collection Sheet'!$C145=\"Treatment Plant\",\"WTP\",LEFT('Data Collection Sheet'!$B145,2)&LEFT('Data Collection Sheet'!$C145,2))&_xlfn.CONCAT(\"-\",'Data Collection Sheet'!$G145)","v":"-"},{"$f":"IF(COUNTIF($A$2:$A141,A141)-COUNTIF($A$2:$A141,\"-\")=0,\"\",COUNTIF($A$2:$A141,A141)-COUNTIF($A$2:$A141,\"-\"))","v":""},"--","","",0]
[{"$f":"IF('Data Collection Sheet'!$C146=\"Treatment Plant\",\"WTP\",LEFT('Data Collection Sheet'!$B146,2)&LEFT('Data Collection Sheet'!$C146,2))&_xlfn.CONCAT(\"-\",'Data Collection Sheet'!$G146)","v":"-"},{"$f":"IF(COUNTIF($A$2:$A142,A142)-COUNTIF($A$2:$A142,\"-\")=0,\"\",COUNTIF($A$2:$A142,A142)-COUNTIF($A$2:$A142,\"-\"))","v":""},"--","","",0]
[{"$f":"IF('Data Collection Sheet'!$C147=\"Treatment Plant\",\"WTP\",LEFT('Data Collection Sheet'!$B147,2)&LEFT('Data Collection Sheet'!$C147,2))&_xlfn.CONCAT(\"-\",'Data Collection Sheet'!$G147)","v":"-"},{"$f":"IF(COUNTIF($A$2:$A143,A143)-COUNTIF($A$2:$A143,\"-\")=0,\"\",COUNTIF($A$2:$A143,A143)-COUNTIF($A$2:$A143,\"-\"))","v":""},"--","","",0]
[{"$f":"IF('Data Collection Sheet'!$C148=\"Treatment Plant\",\"WTP\",LEFT('Data Collection Sheet'!$B148,2)&LEFT('Data Collection Sheet'!$C148,2))&_xlfn.CONCAT(\"-\",'Data Collection Sheet'!$G148)","v":"-"},{"$f":"IF(COUNTIF($A$2:$A144,A144)-COUNTIF($A$2:$A144,\"-\")=0,\"\",COUNTIF($A$2:$A144,A144)-COUNTIF($A$2:$A144,\"-\"))","v":""},"--","","",0]
[{"$f":"IF('Data Collection Sheet'!$C149=\"Treatment Plant\",\"WTP\",LEFT('Data Collection Sheet'!$B149,2)&LEFT('Data Collection Sheet'!$C149,2))&_xlfn.CONCAT(\"-\",'Data Collection Sheet'!$G149)","v":"-"},{"$f":"IF(COUNTIF($A$2:$A145,A145)-COUNTIF($A$2:$A145,\"-\")=0,\"\",COUNTIF($A$2:$A145,A145)-COUNTIF($A$2:$A145,\"-\"))","v":""},"--","","",0]
[{"$f":"IF('Data Collection Sheet'!$C150=\"Treatment Plant\",\"WTP\",LEFT('Data Collection Sheet'!$B150,2)&LEFT('Data Collection Sheet'!$C150,2))&_xlfn.CONCAT(\"-\",'Data Collection Sheet'!$G150)","v":"-"},{"$f":"IF(COUNTIF($A$2:$A146,A146)-COUNTIF($A$2:$A146,\"-\")=0,\"\",COUNTIF($A$2:$A146,A146)-COUNTIF($A$2:$A146,\"-\"))","v":""},"--","","",0]
[{"$f":"IF('Data Collection Sheet'!$C151=\"Treatment Plant\",\"WTP\",LEFT('Data Collection Sheet'!$B151,2)&LEFT('Data Collection Sheet'!$C151,2))&_xlfn.CONCAT(\"-\",'Data Collection Sheet'!$G151)","v":"-"},{"$f":"IF(COUNTIF($A$2:$A147,A147)-COUNTIF($A$2:$A147,\"-\")=0,\"\",COUNTIF($A$2:$A147,A147)-COUNTIF($A$2:$A147,\"-\"))","v":""},"--","","",0]
[{"$f":"IF('Data Collection Sheet'!$C152=\"Treatment Plant\",\"WTP\",LEFT('Data Collection Sheet'!$B152,2)&LEFT('Data Collection Sheet'!$C152,2))&_xlfn.CONCAT(\"-\",'Data Collection Sheet'!$G152)","v":"-"},{"$f":"IF(COUNTIF($A$2:$A148,A148)-COUNTIF($A$2:$A148,\"-\")=0,\"\",COUNTIF($A$2:$A148,A148)-COUNTIF($A$2:$A148,\"-\"))","v":""},"--","","",0]
[{"$f":"IF('Data Collection Sheet'!$C153=\"Treatment Plant\",\"WTP\",LEFT('Data Collection Sheet'!$B153,2)&LEFT('Data Collection Sheet'!$C153,2))&_xlfn.CONCAT(\"-\",'Data Collection Sheet'!$G153)","v":"-"},{"$f":"IF(COUNTIF($A$2:$A149,A149)-COUNTIF($A$2:$A149,\"-\")=0,\"\",COUNTIF($A$2:$A149,A149)-COUNTIF($A$2:$A149,\"-\"))","v":""},"--","","",0]
[{"$f":"IF('Data Collection Sheet'!$C154=\"Treatment Plant\",\"WTP\",LEFT('Data Collection Sheet'!$B154,2)&LEFT('Data Collection Sheet'!$C154,2))&_xlfn.CONCAT(\"-\",'Data Collection Sheet'!$G154)","v":"-"},{"$f":"IF(COUNTIF($A$2:$A150,A150)-COUNTIF($A$2:$A150,\"-\")=0,\"\",COUNTIF($A$2:$A150,A150)-COUNTIF($A$2:$A150,\"-\"))","v":""},"--","","",0]
[{"$f":"IF('Data Collection Sheet'!$C155=\"Treatment Plant\",\"WTP\",LEFT('Data Collection Sheet'!$B155,2)&LEFT('Data Collection Sheet'!$C155,2))&_xlfn.CONCAT(\"-\",'Data Collection Sheet'!$G155)","v":"-"},{"$f":"IF(COUNTIF($A$2:$A151,A151)-COUNTIF($A$2:$A151,\"-\")=0,\"\",COUNTIF($A$2:$A151,A151)-COUNTIF($A$2:$A151,\"-\"))","v":""},"--","","",0]
[{"$f":"IF('Data Collection Sheet'!$C156=\"Treatment Plant\",\"WTP\",LEFT('Data Collection Sheet'!$B156,2)&LEFT('Data Collection Sheet'!$C156,2))&_xlfn.CONCAT(\"-\",'Data Collection Sheet'!$G156)","v":"-"},{"$f":"IF(COUNTIF($A$2:$A152,A152)-COUNTIF($A$2:$A152,\"-\")=0,\"\",COUNTIF($A$2:$A152,A152)-COUNTIF($A$2:$A152,\"-\"))","v":""},"--","","",0]
[{"$f":"IF('Data Collection Sheet'!$C157=\"Treatment Plant\",\"WTP\",LEFT('Data Collection Sheet'!$B157,2)&LEFT('Data Collection Sheet'!$C157,2))&_xlfn.CONCAT(\"-\",'Data Collection Sheet'!$G157)","v":"-"},{"$f":"IF(COUNTIF($A$2:$A153,A153)-COUNTIF($A$2:$A153,\"-\")=0,\"\",COUNTIF($A$2:$A153,A153)-COUNTIF($A$2:$A153,\"-\"))","v":""},"--","","",0]
[{"$f":"IF('Data Collection Sheet'!$C158=\"Treatment Plant\",\"WTP\",LEFT('Data Collection Sheet'!$B158,2)&LEFT('Data Collection Sheet'!$C158,2))&_xlfn.CONCAT(\"-\",'Data Collection Sheet'!$G158)","v":"-"},{"$f":"IF(COUNTIF($A$2:$A154,A154)-COUNTIF($A$2:$A154,\"-\")=0,\"\",COUNTIF($A$2:$A154,A154)-COUNTIF($A$2:$A154,\"-\"))","v":""},"--","","",0]
[{"$f":"IF('Data Collection Sheet'!$C159=\"Treatment Plant\",\"WTP\",LEFT('Data Collection Sheet'!$B159,2)&LEFT('Data Collection Sheet'!$C159,2))&_xlfn.CONCAT(\"-\",'Data Collection Sheet'!$G159)","v":"-"},{"$f":"IF(COUNTIF($A$2:$A155,A155)-COUNTIF($A$2:$A155,\"-\")=0,\"\",COUNTIF($A$2:$A155,A155)-COUNTIF($A$2:$A155,\"-\"))","v":""},"--","","",0]
[{"$f":"IF('Data Collection Sheet'!$C160=\"Treatment Plant\",\"WTP\",LEFT('Data Collection Sheet'!$B160,2)&LEFT('Data Collection Sheet'!$C160,2))&_xlfn.CONCAT(\"-\",'Data Collection Sheet'!$G160)","v":"-"},{"$f":"IF(COUNTIF($A$2:$A156,A156)-COUNTIF($A$2:$A156,\"-\")=0,\"\",COUNTIF($A$2:$A156,A156)-COUNTIF($A$2:$A156,\"-\"))","v":""},"--","","",0]
[{"$f":"IF('Data Collection Sheet'!$C161=\"Treatment Plant\",\"WTP\",LEFT('Data Collection Sheet'!$B161,2)&LEFT('Data Collection Sheet'!$C161,2))&_xlfn.CONCAT(\"-\",'Data Collection Sheet'!$G161)","v":"-"},{"$f":"IF(COUNTIF($A$2:$A157,A157)-COUNTIF($A$2:$A157,\"-\")=0,\"\",COUNTIF($A$2:$A157,A157)-COUNTIF($A$2:$A157,\"-\"))","v":""},"--","","",0]
[{"$f":"IF('Data Collection Sheet'!$C162=\"Treatment Plant\",\"WTP\",LEFT('Data Collection Sheet'!$B162,2)&LEFT('Data Collection Sheet'!$C162,2))&_xlfn.CONCAT(\"-\",'Data Collection Sheet'!$G162)","v":"-"},{"$f":"IF(COUNTIF($A$2:$A158,A158)-COUNTIF($A$2:$A158,\"-\")=0,\"\",COUNTIF($A$2:$A158,A158)-COUNTIF($A$2:$A158,\"-\"))","v":""},"--","","",0]
[{"$f":"IF('Data Collection Sheet'!$C163=\"Treatment Plant\",\"WTP\",LEFT('Data Collection Sheet'!$B163,2)&LEFT('Data Collection Sheet'!$C163,2))&_xlfn.CONCAT(\"-\",'Data Collection Sheet'!$G163)","v":"-"},{"$f":"IF(COUNTIF($A$2:$A159,A159)-COUNTIF($A$2:$A159,\"-\")=0,\"\",COUNTIF($A$2:$A159,A159)-COUNTIF($A$2:$A159,\"-\"))","v":""},"--","","",0]
[{"$f":"IF('Data Collection Sheet'!$C164=\"Treatment Plant\",\"WTP\",LEFT('Data Collection Sheet'!$B164,2)&LEFT('Data Collection Sheet'!$C164,2))&_xlfn.CONCAT(\"-\",'Data Collection Sheet'!$G164)","v":"-"},{"$f":"IF(COUNTIF($A$2:$A160,A160)-COUNTIF($A$2:$A160,\"-\")=0,\"\",COUNTIF($A$2:$A160,A160)-COUNTIF($A$2:$A160,\"-\"))","v":""},"--","","",0]
[{"$f":"IF('Data Collection Sheet'!$C165=\"Treatment Plant\",\"WTP\",LEFT('Data Collection Sheet'!$B165,2)&LEFT('Data Collection Sheet'!$C165,2))&_xlfn.CONCAT(\"-\",'Data Collection Sheet'!$G165)","v":"-"},{"$f":"IF(COUNTIF($A$2:$A161,A161)-COUNTIF($A$2:$A161,\"-\")=0,\"\",COUNTIF($A$2:$A161,A161)-COUNTIF($A$2:$A161,\"-\"))","v":""},"--","","",0]
[{"$f":"IF('Data Collection Sheet'!$C166=\"Treatment Plant\",\"WTP\",LEFT('Data Collection Sheet'!$B166,2)&LEFT('Data Collection Sheet'!$C166,2))&_xlfn.CONCAT(\"-\",'Data Collection Sheet'!$G166)","v":"-"},{"$f":"IF(COUNTIF($A$2:$A162,A162)-COUNTIF($A$2:$A162,\"-\")=0,\"\",COUNTIF($A$2:$A162,A162)-COUNTIF($A$2:$A162,\"-\"))","v":""},"--","","",0]
[{"$f":"IF('Data Collection Sheet'!$C167=\"Treatment Plant\",\"WTP\",LEFT('Data Collection Sheet'!$B167,2)&LEFT('Data Collection Sheet'!$C167,2))&_xlfn.CONCAT(\"-\",'Data Collection Sheet'!$G167)","v":"-"},{"$f":"IF(COUNTIF($A$2:$A163,A163)-COUNTIF($A$2:$A163,\"-\")=0,\"\",COUNTIF($A$2:$A163,A163)-COUNTIF($A$2:$A163,\"-\"))","v":""},"--","","",0]
[{"$f":"IF('Data Collection Sheet'!$C168=\"Treatment Plant\",\"WTP\",LEFT('Data Collection Sheet'!$B168,2)&LEFT('Data Collection Sheet'!$C168,2))&_xlfn.CONCAT(\"-\",'Data Collection Sheet'!$G168)","v":"-"},{"$f":"IF(COUNTIF($A$2:$A164,A164)-COUNTIF($A$2:$A164,\"-\")=0,\"\",COUNTIF($A$2:$A164,A164)-COUNTIF($A$2:$A164,\"-\"))","v":""},"--","","",0]
[{"$f":"IF('Data Collection Sheet'!$C169=\"Treatment Plant\",\"WTP\",LEFT('Data Collection Sheet'!$B169,2)&LEFT('Data Collection Sheet'!$C169,2))&_xlfn.CONCAT(\"-\",'Data Collection Sheet'!$G169)","v":"-"},{"$f":"IF(COUNTIF($A$2:$A165,A165)-COUNTIF($A$2:$A165,\"-\")=0,\"\",COUNTIF($A$2:$A165,A165)-COUNTIF($A$2:$A165,\"-\"))","v":""},"--","","",0]
[{"$f":"IF('Data Collection Sheet'!$C170=\"Treatment Plant\",\"WTP\",LEFT('Data Collection Sheet'!$B170,2)&LEFT('Data Collection Sheet'!$C170,2))&_xlfn.CONCAT(\"-\",'Data Collection Sheet'!$G170)","v":"-"},{"$f":"IF(COUNTIF($A$2:$A166,A166)-COUNTIF($A$2:$A166,\"-\")=0,\"\",COUNTIF($A$2:$A166,A166)-COUNTIF($A$2:$A166,\"-\"))","v":""},"--","","",0]
[{"$f":"IF('Data Collection Sheet'!$C171=\"Treatment Plant\",\"WTP\",LEFT('Data Collection Sheet'!$B171,2)&LEFT('Data Collection Sheet'!$C171,2))&_xlfn.CONCAT(\"-\",'Data Collection Sheet'!$G171)","v":"-"},{"$f":"IF(COUNTIF($A$2:$A167,A167)-COUNTIF($A$2:$A167,\"-\")=0,\"\",COUNTIF($A$2:$A167,A167)-COUNTIF($A$2:$A167,\"-\"))","v":""},"--","","",0]
[{"$f":"IF('Data Collection Sheet'!$C172=\"Treatment Plant\",\"WTP\",LEFT('Data Collection Sheet'!$B172,2)&LEFT('Data Collection Sheet'!$C172,2))&_xlfn.CONCAT(\"-\",'Data Collection Sheet'!$G172)","v":"-"},{"$f":"IF(COUNTIF($A$2:$A168,A168)-COUNTIF($A$2:$A168,\"-\")=0,\"\",COUNTIF($A$2:$A168,A168)-COUNTIF($A$2:$A168,\"-\"))","v":""},"--","","",0]
[{"$f":"IF('Data Collection Sheet'!$C173=\"Treatment Plant\",\"WTP\",LEFT('Data Collection Sheet'!$B173,2)&LEFT('Data Collection Sheet'!$C173,2))&_xlfn.CONCAT(\"-\",'Data Collection Sheet'!$G173)","v":"-"},{"$f":"IF(COUNTIF($A$2:$A169,A169)-COUNTIF($A$2:$A169,\"-\")=0,\"\",COUNTIF($A$2:$A169,A169)-COUNTIF($A$2:$A169,\"-\"))","v":""},"--","","",0]
[{"$f":"IF('Data Collection Sheet'!$C174=\"Treatment Plant\",\"WTP\",LEFT('Data Collection Sheet'!$B174,2)&LEFT('Data Collection Sheet'!$C174,2))&_xlfn.CONCAT(\"-\",'Data Collection Sheet'!$G174)","v":"-"},{"$f":"IF(COUNTIF($A$2:$A170,A170)-COUNTIF($A$2:$A170,\"-\")=0,\"\",COUNTIF($A$2:$A170,A170)-COUNTIF($A$2:$A170,\"-\"))","v":""},"--","","",0]
[{"$f":"IF('Data Collection Sheet'!$C175=\"Treatment Plant\",\"WTP\",LEFT('Data Collection Sheet'!$B175,2)&LEFT('Data Collection Sheet'!$C175,2))&_xlfn.CONCAT(\"-\",'Data Collection Sheet'!$G175)","v":"-"},{"$f":"IF(COUNTIF($A$2:$A171,A171)-COUNTIF($A$2:$A171,\"-\")=0,\"\",COUNTIF($A$2:$A171,A171)-COUNTIF($A$2:$A171,\"-\"))","v":""},"--","","",0]
[{"$f":"IF('Data Collection Sheet'!$C176=\"Treatment Plant\",\"WTP\",LEFT('Data Collection Sheet'!$B176,2)&LEFT('Data Collection Sheet'!$C176,2))&_xlfn.CONCAT(\"-\",'Data Collection Sheet'!$G176)","v":"-"},{"$f":"IF(COUNTIF($A$2:$A172,A172)-COUNTIF($A$2:$A172,\"-\")=0,\"\",COUNTIF($A$2:$A172,A172)-COUNTIF($A$2:$A172,\"-\"))","v":""},"--","","",0]
[{"$f":"IF('Data Collection Sheet'!$C177=\"Treatment Plant\",\"WTP\",LEFT('Data Collection Sheet'!$B177,2)&LEFT('Data Collection Sheet'!$C177,2))&_xlfn.CONCAT(\"-\",'Data Collection Sheet'!$G177)","v":"-"},{"$f":"IF(COUNTIF($A$2:$A173,A173)-COUNTIF($A$2:$A173,\"-\")=0,\"\",COUNTIF($A$2:$A173,A173)-COUNTIF($A$2:$A173,\"-\"))","v":""},"--","","",0]
[{"$f":"IF('Data Collection Sheet'!$C178=\"Treatment Plant\",\"WTP\",LEFT('Data Collection Sheet'!$B178,2)&LEFT('Data Collection Sheet'!$C178,2))&_xlfn.CONCAT(\"-\",'Data Collection Sheet'!$G178)","v":"-"},{"$f":"IF(COUNTIF($A$2:$A174,A174)-COUNTIF($A$2:$A174,\"-\")=0,\"\",COUNTIF($A$2:$A174,A174)-COUNTIF($A$2:$A174,\"-\"))","v":""},"--","","",0]
[{"$f":"IF('Data Collection Sheet'!$C179=\"Treatment Plant\",\"WTP\",LEFT('Data Collection Sheet'!$B179,2)&LEFT('Data Collection Sheet'!$C179,2))&_xlfn.CONCAT(\"-\",'Data Collection Sheet'!$G179)","v":"-"},{"$f":"IF(COUNTIF($A$2:$A175,A175)-COUNTIF($A$2:$A175,\"-\")=0,\"\",COUNTIF($A$2:$A175,A175)-COUNTIF($A$2:$A175,\"-\"))","v":""},"--","","",0]
[{"$f":"IF('Data Collection Sheet'!$C180=\"Treatment Plant\",\"WTP\",LEFT('Data Collection Sheet'!$B180,2)&LEFT('Data Collection Sheet'!$C180,2))&_xlfn.CONCAT(\"-\",'Data Collection Sheet'!$G180)","v":"-"},{"$f":"IF(COUNTIF($A$2:$A176,A176)-COUNTIF($A$2:$A176,\"-\")=0,\"\",COUNTIF($A$2:$A176,A176)-COUNTIF($A$2:$A176,\"-\"))","v":""},"--","","",0]
[{"$f":"IF('Data Collection Sheet'!$C181=\"Treatment Plant\",\"WTP\",LEFT('Data Collection Sheet'!$B181,2)&LEFT('Data Collection Sheet'!$C181,2))&_xlfn.CONCAT(\"-\",'Data Collection Sheet'!$G181)","v":"-"},{"$f":"IF(COUNTIF($A$2:$A177,A177)-COUNTIF($A$2:$A177,\"-\")=0,\"\",COUNTIF($A$2:$A177,A177)-COUNTIF($A$2:$A177,\"-\"))","v":""},"--","","",0]
[{"$f":"IF('Data Collection Sheet'!$C182=\"Treatment Plant\",\"WTP\",LEFT('Data Collection Sheet'!$B182,2)&LEFT('Data Collection Sheet'!$C182,2))&_xlfn.CONCAT(\"-\",'Data Collection Sheet'!$G182)","v":"-"},{"$f":"IF(COUNTIF($A$2:$A178,A178)-COUNTIF($A$2:$A178,\"-\")=0,\"\",COUNTIF($A$2:$A178,A178)-COUNTIF($A$2:$A178,\"-\"))","v":""},"--","","",0]
[{"$f":"IF('Data Collection Sheet'!$C183=\"Treatment Plant\",\"WTP\",LEFT('Data Collection Sheet'!$B183,2)&LEFT('Data Collection Sheet'!$C183,2))&_xlfn.CONCAT(\"-\",'Data Collection Sheet'!$G183)","v":"-"},{"$f":"IF(COUNTIF($A$2:$A179,A179)-COUNTIF($A$2:$A179,\"-\")=0,\"\",COUNTIF($A$2:$A179,A179)-COUNTIF($A$2:$A179,\"-\"))","v":""},"--","","",0]
[{"$f":"IF('Data Collection Sheet'!$C184=\"Treatment Plant\",\"WTP\",LEFT('Data Collection Sheet'!$B184,2)&LEFT('Data Collection Sheet'!$C184,2))&_xlfn.CONCAT(\"-\",'Data Collection Sheet'!$G184)","v":"-"},{"$f":"IF(COUNTIF($A$2:$A180,A180)-COUNTIF($A$2:$A180,\"-\")=0,\"\",COUNTIF($A$2:$A180,A180)-COUNTIF($A$2:$A180,\"-\"))","v":""},"--","","",0]
[{"$f":"IF('Data Collection Sheet'!$C185=\"Treatment Plant\",\"WTP\",LEFT('Data Collection Sheet'!$B185,2)&LEFT('Data Collection Sheet'!$C185,2))&_xlfn.CONCAT(\"-\",'Data Collection Sheet'!$G185)","v":"-"},{"$f":"IF(COUNTIF($A$2:$A181,A181)-COUNTIF($A$2:$A181,\"-\")=0,\"\",COUNTIF($A$2:$A181,A181)-COUNTIF($A$2:$A181,\"-\"))","v":""},"--","","",0]
[{"$f":"IF('Data Collection Sheet'!$C186=\"Treatment Plant\",\"WTP\",LEFT('Data Collection Sheet'!$B186,2)&LEFT('Data Collection Sheet'!$C186,2))&_xlfn.CONCAT(\"-\",'Data Collection Sheet'!$G186)","v":"-"},{"$f":"IF(COUNTIF($A$2:$A182,A182)-COUNTIF($A$2:$A182,\"-\")=0,\"\",COUNTIF($A$2:$A182,A182)-COUNTIF($A$2:$A182,\"-\"))","v":""},"--","","",0]
[{"$f":"IF('Data Collection Sheet'!$C187=\"Treatment Plant\",\"WTP\",LEFT('Data Collection Sheet'!$B187,2)&LEFT('Data Collection Sheet'!$C187,2))&_xlfn.CONCAT(\"-\",'Data Collection Sheet'!$G187)","v":"-"},{"$f":"IF(COUNTIF($A$2:$A183,A183)-COUNTIF($A$2:$A183,\"-\")=0,\"\",COUNTIF($A$2:$A183,A183)-COUNTIF($A$2:$A183,\"-\"))","v":""},"--","","",0]
[{"$f":"IF('Data Collection Sheet'!$C188=\"Treatment Plant\",\"WTP\",LEFT('Data Collection Sheet'!$B188,2)&LEFT('Data Collection Sheet'!$C188,2))&_xlfn.CONCAT(\"-\",'Data Collection Sheet'!$G188)","v":"-"},{"$f":"IF(COUNTIF($A$2:$A184,A184)-COUNTIF($A$2:$A184,\"-\")=0,\"\",COUNTIF($A$2:$A184,A184)-COUNTIF($A$2:$A184,\"-\"))","v":""},"--","","",0]
[{"$f":"IF('Data Collection Sheet'!$C189=\"Treatment Plant\",\"WTP\",LEFT('Data Collection Sheet'!$B189,2)&LEFT('Data Collection Sheet'!$C189,2))&_xlfn.CONCAT(\"-\",'Data Collection Sheet'!$G189)","v":"-"},{"$f":"IF(COUNTIF($A$2:$A185,A185)-COUNTIF($A$2:$A185,\"-\")=0,\"\",COUNTIF($A$2:$A185,A185)-COUNTIF($A$2:$A185,\"-\"))","v":""},"--","","",0]
[{"$f":"IF('Data Collection Sheet'!$C190=\"Treatment Plant\",\"WTP\",LEFT('Data Collection Sheet'!$B190,2)&LEFT('Data Collection Sheet'!$C190,2))&_xlfn.CONCAT(\"-\",'Data Collection Sheet'!$G190)","v":"-"},{"$f":"IF(COUNTIF($A$2:$A186,A186)-COUNTIF($A$2:$A186,\"-\")=0,\"\",COUNTIF($A$2:$A186,A186)-COUNTIF($A$2:$A186,\"-\"))","v":""},"--","","",0]
[{"$f":"IF('Data Collection Sheet'!$C191=\"Treatment Plant\",\"WTP\",LEFT('Data Collection Sheet'!$B191,2)&LEFT('Data Collection Sheet'!$C191,2))&_xlfn.CONCAT(\"-\",'Data Collection Sheet'!$G191)","v":"-"},{"$f":"IF(COUNTIF($A$2:$A187,A187)-COUNTIF($A$2:$A187,\"-\")=0,\"\",COUNTIF($A$2:$A187,A187)-COUNTIF($A$2:$A187,\"-\"))","v":""},"--","","",0]
[{"$f":"IF('Data Collection Sheet'!$C192=\"Treatment Plant\",\"WTP\",LEFT('Data Collection Sheet'!$B192,2)&LEFT('Data Collection Sheet'!$C192,2))&_xlfn.CONCAT(\"-\",'Data Collection Sheet'!$G192)","v":"-"},{"$f":"IF(COUNTIF($A$2:$A188,A188)-COUNTIF($A$2:$A188,\"-\")=0,\"\",COUNTIF($A$2:$A188,A188)-COUNTIF($A$2:$A188,\"-\"))","v":""},"--","","",0]
[{"$f":"IF('Data Collection Sheet'!$C193=\"Treatment Plant\",\"WTP\",LEFT('Data Collection Sheet'!$B193,2)&LEFT('Data Collection Sheet'!$C193,2))&_xlfn.CONCAT(\"-\",'Data Collection Sheet'!$G193)","v":"-"},{"$f":"IF(COUNTIF($A$2:$A189,A189)-COUNTIF($A$2:$A189,\"-\")=0,\"\",COUNTIF($A$2:$A189,A189)-COUNTIF($A$2:$A189,\"-\"))","v":""},"--","","",0]
[{"$f":"IF('Data Collection Sheet'!$C194=\"Treatment Plant\",\"WTP\",LEFT('Data Collection Sheet'!$B194,2)&LEFT('Data Collection Sheet'!$C194,2))&_xlfn.CONCAT(\"-\",'Data Collection Sheet'!$G194)","v":"-"},{"$f":"IF(COUNTIF($A$2:$A190,A190)-COUNTIF($A$2:$A190,\"-\")=0,\"\",COUNTIF($A$2:$A190,A190)-COUNTIF($A$2:$A190,\"-\"))","v":""},"--","","",0]
[{"$f":"IF('Data Collection Sheet'!$C195=\"Treatment Plant\",\"WTP\",LEFT('Data Collection Sheet'!$B195,2)&LEFT('Data Collection Sheet'!$C195,2))&_xlfn.CONCAT(\"-\",'Data Collection Sheet'!$G195)","v":"-"},{"$f":"IF(COUNTIF($A$2:$A191,A191)-COUNTIF($A$2:$A191,\"-\")=0,\"\",COUNTIF($A$2:$A191,A191)-COUNTIF($A$2:$A191,\"-\"))","v":""},"--","","",0]
[{"$f":"IF('Data Collection Sheet'!$C196=\"Treatment Plant\",\"WTP\",LEFT('Data Collection Sheet'!$B196,2)&LEFT('Data Collection Sheet'!$C196,2))&_xlfn.CONCAT(\"-\",'Data Collection Sheet'!$G196)","v":"-"},{"$f":"IF(COUNTIF($A$2:$A192,A192)-COUNTIF($A$2:$A192,\"-\")=0,\"\",COUNTIF($A$2:$A192,A192)-COUNTIF($A$2:$A192,\"-\"))","v":""},"--","","",0]
[{"$f":"IF('Data Collection Sheet'!$C197=\"Treatment Plant\",\"WTP\",LEFT('Data Collection Sheet'!$B197,2)&LEFT('Data Collection Sheet'!$C197,2))&_xlfn.CONCAT(\"-\",'Data Collection Sheet'!$G197)","v":"-"},{"$f":"IF(COUNTIF($A$2:$A193,A193)-COUNTIF($A$2:$A193,\"-\")=0,\"\",COUNTIF($A$2:$A193,A193)-COUNTIF($A$2:$A193,\"-\"))","v":""},"--","","",0]
[{"$f":"IF('Data Collection Sheet'!$C198=\"Treatment Plant\",\"WTP\",LEFT('Data Collection Sheet'!$B198,2)&LEFT('Data Collection Sheet'!$C198,2))&_xlfn.CONCAT(\"-\",'Data Collection Sheet'!$G198)","v":"-"},{"$f":"IF(COUNTIF($A$2:$A194,A194)-COUNTIF($A$2:$A194,\"-\")=0,\"\",COUNTIF($A$2:$A194,A194)-COUNTIF($A$2:$A194,\"-\"))","v":""},{"$f":"_xlfn.CONCAT($A194,\"-\",$B194)","v":"--"},"","",0]
[{"$f":"IF('Data Collection Sheet'!$C199=\"Treatment Plant\",\"WTP\",LEFT('Data Collection Sheet'!$B199,2)&LEFT('Data Collection Sheet'!$C199,2))&_xlfn.CONCAT(\"-\",'Data Collection Sheet'!$G199)","v":"-"},{"$f":"IF(COUNTIF($A$2:$A195,A195)-COUNTIF($A$2:$A195,\"-\")=0,\"\",COUNTIF($A$2:$A195,A195)-COUNTIF($A$2:$A195,\"-\"))","v":""},"--","","",0]
[{"$f":"IF('Data Collection Sheet'!$C200=\"Treatment Plant\",\"WTP\",LEFT('Data Collection Sheet'!$B200,2)&LEFT('Data Collection Sheet'!$C200,2))&_xlfn.CONCAT(\"-\",'Data Collection Sheet'!$G200)","v":"-"},{"$f":"IF(COUNTIF($A$2:$A196,A196)-COUNTIF($A$2:$A196,\"-\")=0,\"\",COUNTIF($A$2:$A196,A196)-COUNTIF($A$2:$A196,\"-\"))","v":""},"--","","",0]
[{"$f":"IF('Data Collection Sheet'!$C201=\"Treatment Plant\",\"WTP\",LEFT('Data Collection Sheet'!$B201,2)&LEFT('Data Collection Sheet'!$C201,2))&_xlfn.CONCAT(\"-\",'Data Collection Sheet'!$G201)","v":"-"},{"$f":"IF(COUNTIF($A$2:$A197,A197)-COUNTIF($A$2:$A197,\"-\")=0,\"\",COUNTIF($A$2:$A197,A197)-COUNTIF($A$2:$A197,\"-\"))","v":""},"--","","",0]
[{"$f":"IF('Data Collection Sheet'!$C202=\"Treatment Plant\",\"WTP\",LEFT('Data Collection Sheet'!$B202,2)&LEFT('Data Collection Sheet'!$C202,2))&_xlfn.CONCAT(\"-\",'Data Collection Sheet'!$G202)","v":"-"},{"$f":"IF(COUNTIF($A$2:$A198,A198)-COUNTIF($A$2:$A198,\"-\")=0,\"\",COUNTIF($A$2:$A198,A198)-COUNTIF($A$2:$A198,\"-\"))","v":""},"--","","",0]
[{"$f":"IF('Data Collection Sheet'!$C203=\"Treatment Plant\",\"WTP\",LEFT('Data Collection Sheet'!$B203,2)&LEFT('Data Collection Sheet'!$C203,2))&_xlfn.CONCAT(\"-\",'Data Collection Sheet'!$G203)","v":"-"},{"$f":"IF(COUNTIF($A$2:$A199,A199)-COUNTIF($A$2:$A199,\"-\")=0,\"\",COUNTIF($A$2:$A199,A199)-COUNTIF($A$2:$A199,\"-\"))","v":""},"--","","",0]
[{"$f":"IF('Data Collection Sheet'!$C204=\"Treatment Plant\",\"WTP\",LEFT('Data Collection Sheet'!$B204,2)&LEFT('Data Collection Sheet'!$C204,2))&_xlfn.CONCAT(\"-\",'Data Collection Sheet'!$G204)","v":"-"},{"$f":"IF(COUNTIF($A$2:$A200,A200)-COUNTIF($A$2:$A200,\"-\")=0,\"\",COUNTIF($A$2:$A200,A200)-COUNTIF($A$2:$A200,\"-\"))","v":""},"--","","",0]
[{"$f":"IF('Data Collection Sheet'!$C205=\"Treatment Plant\",\"WTP\",LEFT('Data Collection Sheet'!$B205,2)&LEFT('Data Collection Sheet'!$C205,2))&_xlfn.CONCAT(\"-\",'Data Collection Sheet'!$G205)","v":"-"},{"$f":"IF(COUNTIF($A$2:$A201,A201)-COUNTIF($A$2:$A201,\"-\")=0,\"\",COUNTIF($A$2:$A201,A201)-COUNTIF($A$2:$A201,\"-\"))","v":""},"--","","",0]
[{"$f":"IF('Data Collection Sheet'!$C206=\"Treatment Plant\",\"WTP\",LEFT('Data Collection Sheet'!$B206,2)&LEFT('Data Collection Sheet'!$C206,2))&_xlfn.CONCAT(\"-\",'Data Collection Sheet'!$G206)","v":"-"},{"$f":"IF(COUNTIF($A$2:$A202,A202)-COUNTIF($A$2:$A202,\"-\")=0,\"\",COUNTIF($A$2:$A202,A202)-COUNTIF($A$2:$A202,\"-\"))","v":""},"--","","",0]
[{"$f":"IF('Data Collection Sheet'!$C207=\"Treatment Plant\",\"WTP\",LEFT('Data Collection Sheet'!$B207,2)&LEFT('Data Collection Sheet'!$C207,2))&_xlfn.CONCAT(\"-\",'Data Collection Sheet'!$G207)","v":"-"},{"$f":"IF(COUNTIF($A$2:$A203,A203)-COUNTIF($A$2:$A203,\"-\")=0,\"\",COUNTIF($A$2:$A203,A203)-COUNTIF($A$2:$A203,\"-\"))","v":""},"--","","",0]
[{"$f":"IF('Data Collection Sheet'!$C208=\"Treatment Plant\",\"WTP\",LEFT('Data Collection Sheet'!$B208,2)&LEFT('Data Collection Sheet'!$C208,2))&_xlfn.CONCAT(\"-\",'Data Collection Sheet'!$G208)","v":"-"},{"$f":"IF(COUNTIF($A$2:$A204,A204)-COUNTIF($A$2:$A204,\"-\")=0,\"\",COUNTIF($A$2:$A204,A204)-COUNTIF($A$2:$A204,\"-\"))","v":""},"--","","",0]
[{"$f":"IF('Data Collection Sheet'!$C209=\"Treatment Plant\",\"WTP\",LEFT('Data Collection Sheet'!$B209,2)&LEFT('Data Collection Sheet'!$C209,2))&_xlfn.CONCAT(\"-\",'Data Collection Sheet'!$G209)","v":"-"},{"$f":"IF(COUNTIF($A$2:$A205,A205)-COUNTIF($A$2:$A205,\"-\")=0,\"\",COUNTIF($A$2:$A205,A205)-COUNTIF($A$2:$A205,\"-\"))","v":""},"--","","",0]
[{"$f":"IF('Data Collection Sheet'!$C210=\"Treatment Plant\",\"WTP\",LEFT('Data Collection Sheet'!$B210,2)&LEFT('Data Collection Sheet'!$C210,2))&_xlfn.CONCAT(\"-\",'Data Collection Sheet'!$G210)","v":"-"},{"$f":"IF(COUNTIF($A$2:$A206,A206)-COUNTIF($A$2:$A206,\"-\")=0,\"\",COUNTIF($A$2:$A206,A206)-COUNTIF($A$2:$A206,\"-\"))","v":""},"--","","",0]
[{"$f":"IF('Data Collection Sheet'!$C211=\"Treatment Plant\",\"WTP\",LEFT('Data Collection Sheet'!$B211,2)&LEFT('Data Collection Sheet'!$C211,2))&_xlfn.CONCAT(\"-\",'Data Collection Sheet'!$G211)","v":"-"},{"$f":"IF(COUNTIF($A$2:$A207,A207)-COUNTIF($A$2:$A207,\"-\")=0,\"\",COUNTIF($A$2:$A207,A207)-COUNTIF($A$2:$A207,\"-\"))","v":""},"--","","",0]
[{"$f":"IF('Data Collection Sheet'!$C212=\"Treatment Plant\",\"WTP\",LEFT('Data Collection Sheet'!$B212,2)&LEFT('Data Collection Sheet'!$C212,2))&_xlfn.CONCAT(\"-\",'Data Collection Sheet'!$G212)","v":"-"},{"$f":"IF(COUNTIF($A$2:$A208,A208)-COUNTIF($A$2:$A208,\"-\")=0,\"\",COUNTIF($A$2:$A208,A208)-COUNTIF($A$2:$A208,\"-\"))","v":""},"--","","",0]
[{"$f":"IF('Data Collection Sheet'!$C213=\"Treatment Plant\",\"WTP\",LEFT('Data Collection Sheet'!$B213,2)&LEFT('Data Collection Sheet'!$C213,2))&_xlfn.CONCAT(\"-\",'Data Collection Sheet'!$G213)","v":"-"},{"$f":"IF(COUNTIF($A$2:$A209,A209)-COUNTIF($A$2:$A209,\"-\")=0,\"\",COUNTIF($A$2:$A209,A209)-COUNTIF($A$2:$A209,\"-\"))","v":""},"--","","",0]
[{"$f":"IF('Data Collection Sheet'!$C214=\"Treatment Plant\",\"WTP\",LEFT('Data Collection Sheet'!$B214,2)&LEFT('Data Collection Sheet'!$C214,2))&_xlfn.CONCAT(\"-\",'Data Collection Sheet'!$G214)","v":"-"},{"$f":"IF(COUNTIF($A$2:$A210,A210)-COUNTIF($A$2:$A210,\"-\")=0,\"\",COUNTIF($A$2:$A210,A210)-COUNTIF($A$2:$A210,\"-\"))","v":""},"--","","",0]
[{"$f":"IF('Data Collection Sheet'!$C215=\"Treatment Plant\",\"WTP\",LEFT('Data Collection Sheet'!$B215,2)&LEFT('Data Collection Sheet'!$C215,2))&_xlfn.CONCAT(\"-\",'Data Collection Sheet'!$G215)","v":"-"},{"$f":"IF(COUNTIF($A$2:$A211,A211)-COUNTIF($A$2:$A211,\"-\")=0,\"\",COUNTIF($A$2:$A211,A211)-COUNTIF($A$2:$A211,\"-\"))","v":""},"--","","",0]
[{"$f":"IF('Data Collection Sheet'!$C216=\"Treatment Plant\",\"WTP\",LEFT('Data Collection Sheet'!$B216,2)&LEFT('Data Collection Sheet'!$C216,2))&_xlfn.CONCAT(\"-\",'Data Collection Sheet'!$G216)","v":"-"},{"$f":"IF(COUNTIF($A$2:$A212,A212)-COUNTIF($A$2:$A212,\"-\")=0,\"\",COUNTIF($A$2:$A212,A212)-COUNTIF($A$2:$A212,\"-\"))","v":""},"--","","",0]
[{"$f":"IF('Data Collection Sheet'!$C217=\"Treatment Plant\",\"WTP\",LEFT('Data Collection Sheet'!$B217,2)&LEFT('Data Collection Sheet'!$C217,2))&_xlfn.CONCAT(\"-\",'Data Collection Sheet'!$G217)","v":"-"},{"$f":"IF(COUNTIF($A$2:$A213,A213)-COUNTIF($A$2:$A213,\"-\")=0,\"\",COUNTIF($A$2:$A213,A213)-COUNTIF($A$2:$A213,\"-\"))","v":""},"--","","",0]
[{"$f":"IF('Data Collection Sheet'!$C218=\"Treatment Plant\",\"WTP\",LEFT('Data Collection Sheet'!$B218,2)&LEFT('Data Collection Sheet'!$C218,2))&_xlfn.CONCAT(\"-\",'Data Collection Sheet'!$G218)","v":"-"},{"$f":"IF(COUNTIF($A$2:$A214,A214)-COUNTIF($A$2:$A214,\"-\")=0,\"\",COUNTIF($A$2:$A214,A214)-COUNTIF($A$2:$A214,\"-\"))","v":""},"--","","",0]
[{"$f":"IF('Data Collection Sheet'!$C219=\"Treatment Plant\",\"WTP\",LEFT('Data Collection Sheet'!$B219,2)&LEFT('Data Collection Sheet'!$C219,2))&_xlfn.CONCAT(\"-\",'Data Collection Sheet'!$G219)","v":"-"},{"$f":"IF(COUNTIF($A$2:$A215,A215)-COUNTIF($A$2:$A215,\"-\")=0,\"\",COUNTIF($A$2:$A215,A215)-COUNTIF($A$2:$A215,\"-\"))","v":""},"--","","",0]
[{"$f":"IF('Data Collection Sheet'!$C220=\"Treatment Plant\",\"WTP\",LEFT('Data Collection Sheet'!$B220,2)&LEFT('Data Collection Sheet'!$C220,2))&_xlfn.CONCAT(\"-\",'Data Collection Sheet'!$G220)","v":"-"},{"$f":"IF(COUNTIF($A$2:$A216,A216)-COUNTIF($A$2:$A216,\"-\")=0,\"\",COUNTIF($A$2:$A216,A216)-COUNTIF($A$2:$A216,\"-\"))","v":""},"--","","",0]
[{"$f":"IF('Data Collection Sheet'!$C221=\"Treatment Plant\",\"WTP\",LEFT('Data Collection Sheet'!$B221,2)&LEFT('Data Collection Sheet'!$C221,2))&_xlfn.CONCAT(\"-\",'Data Collection Sheet'!$G221)","v":"-"},{"$f":"IF(COUNTIF($A$2:$A217,A217)-COUNTIF($A$2:$A217,\"-\")=0,\"\",COUNTIF($A$2:$A217,A217)-COUNTIF($A$2:$A217,\"-\"))","v":""},"--","","",0]
[{"$f":"IF('Data Collection Sheet'!$C222=\"Treatment Plant\",\"WTP\",LEFT('Data Collection Sheet'!$B222,2)&LEFT('Data Collection Sheet'!$C222,2))&_xlfn.CONCAT(\"-\",'Data Collection Sheet'!$G222)","v":"-"},{"$f":"IF(COUNTIF($A$2:$A218,A218)-COUNTIF($A$2:$A218,\"-\")=0,\"\",COUNTIF($A$2:$A218,A218)-COUNTIF($A$2:$A218,\"-\"))","v":""},"--","","",0]
[{"$f":"IF('Data Collection Sheet'!$C223=\"Treatment Plant\",\"WTP\",LEFT('Data Collection Sheet'!$B223,2)&LEFT('Data Collection Sheet'!$C223,2))&_xlfn.CONCAT(\"-\",'Data Collection Sheet'!$G223)","v":"-"},{"$f":"IF(COUNTIF($A$2:$A219,A219)-COUNTIF($A$2:$A219,\"-\")=0,\"\",COUNTIF($A$2:$A219,A219)-COUNTIF($A$2:$A219,\"-\"))","v":""},"--","","",0]
[{"$f":"IF('Data Collection Sheet'!$C224=\"Treatment Plant\",\"WTP\",LEFT('Data Collection Sheet'!$B224,2)&LEFT('Data Collection Sheet'!$C224,2))&_xlfn.CONCAT(\"-\",'Data Collection Sheet'!$G224)","v":"-"},{"$f":"IF(COUNTIF($A$2:$A220,A220)-COUNTIF($A$2:$A220,\"-\")=0,\"\",COUNTIF($A$2:$A220,A220)-COUNTIF($A$2:$A220,\"-\"))","v":""},"--","","",0]
[{"$f":"IF('Data Collection Sheet'!$C225=\"Treatment Plant\",\"WTP\",LEFT('Data Collection Sheet'!$B225,2)&LEFT('Data Collection Sheet'!$C225,2))&_xlfn.CONCAT(\"-\",'Data Collection Sheet'!$G225)","v":"-"},{"$f":"IF(COUNTIF($A$2:$A221,A221)-COUNTIF($A$2:$A221,\"-\")=0,\"\",COUNTIF($A$2:$A221,A221)-COUNTIF($A$2:$A221,\"-\"))","v":""},"--","","",0]
[{"$f":"IF('Data Collection Sheet'!$C226=\"Treatment Plant\",\"WTP\",LEFT('Data Collection Sheet'!$B226,2)&LEFT('Data Collection Sheet'!$C226,2))&_xlfn.CONCAT(\"-\",'Data Collection Sheet'!$G226)","v":"-"},{"$f":"IF(COUNTIF($A$2:$A222,A222)-COUNTIF($A$2:$A222,\"-\")=0,\"\",COUNTIF($A$2:$A222,A222)-COUNTIF($A$2:$A222,\"-\"))","v":""},"--","","",0]
[{"$f":"IF('Data Collection Sheet'!$C227=\"Treatment Plant\",\"WTP\",LEFT('Data Collection Sheet'!$B227,2)&LEFT('Data Collection Sheet'!$C227,2))&_xlfn.CONCAT(\"-\",'Data Collection Sheet'!$G227)","v":"-"},{"$f":"IF(COUNTIF($A$2:$A223,A223)-COUNTIF($A$2:$A223,\"-\")=0,\"\",COUNTIF($A$2:$A223,A223)-COUNTIF($A$2:$A223,\"-\"))","v":""},"--","","",0]
[{"$f":"IF('Data Collection Sheet'!$C228=\"Treatment Plant\",\"WTP\",LEFT('Data Collection Sheet'!$B228,2)&LEFT('Data Collection Sheet'!$C228,2))&_xlfn.CONCAT(\"-\",'Data Collection Sheet'!$G228)","v":"-"},{"$f":"IF(COUNTIF($A$2:$A224,A224)-COUNTIF($A$2:$A224,\"-\")=0,\"\",COUNTIF($A$2:$A224,A224)-COUNTIF($A$2:$A224,\"-\"))","v":""},"--","","",0]
[{"$f":"IF('Data Collection Sheet'!$C229=\"Treatment Plant\",\"WTP\",LEFT('Data Collection Sheet'!$B229,2)&LEFT('Data Collection Sheet'!$C229,2))&_xlfn.CONCAT(\"-\",'Data Collection Sheet'!$G229)","v":"-"},{"$f":"IF(COUNTIF($A$2:$A225,A225)-COUNTIF($A$2:$A225,\"-\")=0,\"\",COUNTIF($A$2:$A225,A225)-COUNTIF($A$2:$A225,\"-\"))","v":""},"--","","",0]
[{"$f":"IF('Data Collection Sheet'!$C230=\"Treatment Plant\",\"WTP\",LEFT('Data Collection Sheet'!$B230,2)&LEFT('Data Collection Sheet'!$C230,2))&_xlfn.CONCAT(\"-\",'Data Collection Sheet'!$G230)","v":"-"},{"$f":"IF(COUNTIF($A$2:$A226,A226)-COUNTIF($A$2:$A226,\"-\")=0,\"\",COUNTIF($A$2:$A226,A226)-COUNTIF($A$2:$A226,\"-\"))","v":""},"--","","",0]
[{"$f":"IF('Data Collection Sheet'!$C231=\"Treatment Plant\",\"WTP\",LEFT('Data Collection Sheet'!$B231,2)&LEFT('Data Collection Sheet'!$C231,2))&_xlfn.CONCAT(\"-\",'Data Collection Sheet'!$G231)","v":"-"},{"$f":"IF(COUNTIF($A$2:$A227,A227)-COUNTIF($A$2:$A227,\"-\")=0,\"\",COUNTIF($A$2:$A227,A227)-COUNTIF($A$2:$A227,\"-\"))","v":""},"--","","",0]
[{"$f":"IF('Data Collection Sheet'!$C232=\"Treatment Plant\",\"WTP\",LEFT('Data Collection Sheet'!$B232,2)&LEFT('Data Collection Sheet'!$C232,2))&_xlfn.CONCAT(\"-\",'Data Collection Sheet'!$G232)","v":"-"},{"$f":"IF(COUNTIF($A$2:$A228,A228)-COUNTIF($A$2:$A228,\"-\")=0,\"\",COUNTIF($A$2:$A228,A228)-COUNTIF($A$2:$A228,\"-\"))","v":""},"--","","",0]
[{"$f":"IF('Data Collection Sheet'!$C233=\"Treatment Plant\",\"WTP\",LEFT('Data Collection Sheet'!$B233,2)&LEFT('Data Collection Sheet'!$C233,2))&_xlfn.CONCAT(\"-\",'Data Collection Sheet'!$G233)","v":"-"},{"$f":"IF(COUNTIF($A$2:$A229,A229)-COUNTIF($A$2:$A229,\"-\")=0,\"\",COUNTIF($A$2:$A229,A229)-COUNTIF($A$2:$A229,\"-\"))","v":""},"--","","",0]
[{"$f":"IF('Data Collection Sheet'!$C234=\"Treatment Plant\",\"WTP\",LEFT('Data Collection Sheet'!$B234,2)&LEFT('Data Collection Sheet'!$C234,2))&_xlfn.CONCAT(\"-\",'Data Collection Sheet'!$G234)","v":"-"},{"$f":"IF(COUNTIF($A$2:$A230,A230)-COUNTIF($A$2:$A230,\"-\")=0,\"\",COUNTIF($A$2:$A230,A230)-COUNTIF($A$2:$A230,\"-\"))","v":""},"--","","",0]
[{"$f":"IF('Data Collection Sheet'!$C235=\"Treatment Plant\",\"WTP\",LEFT('Data Collection Sheet'!$B235,2)&LEFT('Data Collection Sheet'!$C235,2))&_xlfn.CONCAT(\"-\",'Data Collection Sheet'!$G235)","v":"-"},{"$f":"IF(COUNTIF($A$2:$A231,A231)-COUNTIF($A$2:$A231,\"-\")=0,\"\",COUNTIF($A$2:$A231,A231)-COUNTIF($A$2:$A231,\"-\"))","v":""},"--","","",0]
[{"$f":"IF('Data Collection Sheet'!$C236=\"Treatment Plant\",\"WTP\",LEFT('Data Collection Sheet'!$B236,2)&LEFT('Data Collection Sheet'!$C236,2))&_xlfn.CONCAT(\"-\",'Data Collection Sheet'!$G236)","v":"-"},{"$f":"IF(COUNTIF($A$2:$A232,A232)-COUNTIF($A$2:$A232,\"-\")=0,\"\",COUNTIF($A$2:$A232,A232)-COUNTIF($A$2:$A232,\"-\"))","v":""},"--","","",0]
[{"$f":"IF('Data Collection Sheet'!$C237=\"Treatment Plant\",\"WTP\",LEFT('Data Collection Sheet'!$B237,2)&LEFT('Data Collection Sheet'!$C237,2))&_xlfn.CONCAT(\"-\",'Data Collection Sheet'!$G237)","v":"-"},{"$f":"IF(COUNTIF($A$2:$A233,A233)-COUNTIF($A$2:$A233,\"-\")=0,\"\",COUNTIF($A$2:$A233,A233)-COUNTIF($A$2:$A233,\"-\"))","v":""},"--","","",0]
[{"$f":"IF('Data Collection Sheet'!$C238=\"Treatment Plant\",\"WTP\",LEFT('Data Collection Sheet'!$B238,2)&LEFT('Data Collection Sheet'!$C238,2))&_xlfn.CONCAT(\"-\",'Data Collection Sheet'!$G238)","v":"-"},{"$f":"IF(COUNTIF($A$2:$A234,A234)-COUNTIF($A$2:$A234,\"-\")=0,\"\",COUNTIF($A$2:$A234,A234)-COUNTIF($A$2:$A234,\"-\"))","v":""},"--","","",0]
[{"$f":"IF('Data Collection Sheet'!$C239=\"Treatment Plant\",\"WTP\",LEFT('Data Collection Sheet'!$B239,2)&LEFT('Data Collection Sheet'!$C239,2))&_xlfn.CONCAT(\"-\",'Data Collection Sheet'!$G239)","v":"-"},{"$f":"IF(COUNTIF($A$2:$A235,A235)-COUNTIF($A$2:$A235,\"-\")=0,\"\",COUNTIF($A$2:$A235,A235)-COUNTIF($A$2:$A235,\"-\"))","v":""},"--","","",0]
[{"$f":"IF('Data Collection Sheet'!$C240=\"Treatment Plant\",\"WTP\",LEFT('Data Collection Sheet'!$B240,2)&LEFT('Data Collection Sheet'!$C240,2))&_xlfn.CONCAT(\"-\",'Data Collection Sheet'!$G240)","v":"-"},{"$f":"IF(COUNTIF($A$2:$A236,A236)-COUNTIF($A$2:$A236,\"-\")=0,\"\",COUNTIF($A$2:$A236,A236)-COUNTIF($A$2:$A236,\"-\"))","v":""},"--","","",0]
[{"$f":"IF('Data Collection Sheet'!$C241=\"Treatment Plant\",\"WTP\",LEFT('Data Collection Sheet'!$B241,2)&LEFT('Data Collection Sheet'!$C241,2))&_xlfn.CONCAT(\"-\",'Data Collection Sheet'!$G241)","v":"-"},{"$f":"IF(COUNTIF($A$2:$A237,A237)-COUNTIF($A$2:$A237,\"-\")=0,\"\",COUNTIF($A$2:$A237,A237)-COUNTIF($A$2:$A237,\"-\"))","v":""},"--","","",0]
[{"$f":"IF('Data Collection Sheet'!$C242=\"Treatment Plant\",\"WTP\",LEFT('Data Collection Sheet'!$B242,2)&LEFT('Data Collection Sheet'!$C242,2))&_xlfn.CONCAT(\"-\",'Data Collection Sheet'!$G242)","v":"-"},{"$f":"IF(COUNTIF($A$2:$A238,A238)-COUNTIF($A$2:$A238,\"-\")=0,\"\",COUNTIF($A$2:$A238,A238)-COUNTIF($A$2:$A238,\"-\"))","v":""},"--","","",0]
[{"$f":"IF('Data Collection Sheet'!$C243=\"Treatment Plant\",\"WTP\",LEFT('Data Collection Sheet'!$B243,2)&LEFT('Data Collection Sheet'!$C243,2))&_xlfn.CONCAT(\"-\",'Data Collection Sheet'!$G243)","v":"-"},{"$f":"IF(COUNTIF($A$2:$A239,A239)-COUNTIF($A$2:$A239,\"-\")=0,\"\",COUNTIF($A$2:$A239,A239)-COUNTIF($A$2:$A239,\"-\"))","v":""},"--","","",0]
[{"$f":"IF('Data Collection Sheet'!$C244=\"Treatment Plant\",\"WTP\",LEFT('Data Collection Sheet'!$B244,2)&LEFT('Data Collection Sheet'!$C244,2))&_xlfn.CONCAT(\"-\",'Data Collection Sheet'!$G244)","v":"-"},{"$f":"IF(COUNTIF($A$2:$A240,A240)-COUNTIF($A$2:$A240,\"-\")=0,\"\",COUNTIF($A$2:$A240,A240)-COUNTIF($A$2:$A240,\"-\"))","v":""},"--","","",0]
[{"$f":"IF('Data Collection Sheet'!$C245=\"Treatment Plant\",\"WTP\",LEFT('Data Collection Sheet'!$B245,2)&LEFT('Data Collection Sheet'!$C245,2))&_xlfn.CONCAT(\"-\",'Data Collection Sheet'!$G245)","v":"-"},{"$f":"IF(COUNTIF($A$2:$A241,A241)-COUNTIF($A$2:$A241,\"-\")=0,\"\",COUNTIF($A$2:$A241,A241)-COUNTIF($A$2:$A241,\"-\"))","v":""},"--","","",0]
[{"$f":"IF('Data Collection Sheet'!$C246=\"Treatment Plant\",\"WTP\",LEFT('Data Collection Sheet'!$B246,2)&LEFT('Data Collection Sheet'!$C246,2))&_xlfn.CONCAT(\"-\",'Data Collection Sheet'!$G246)","v":"-"},{"$f":"IF(COUNTIF($A$2:$A242,A242)-COUNTIF($A$2:$A242,\"-\")=0,\"\",COUNTIF($A$2:$A242,A242)-COUNTIF($A$2:$A242,\"-\"))","v":""},"--","","",0]

{"sheet":"Calculate Risk","index":8,"n_rows":241,"n_cols":17,"rows_kept":241,"cut":false,"hidden":true,"merged":[]}
[{"$f":"_xlfn._xlws.SORT(Table142[#All],16,-1,FALSE)","v":"PiPV-1970-4"},"Pipe","PVC","2,292 linear feet",0,"No","0%-25%","Yes","Yes",3.5,"Yes","At","Yes","Yes",4,14,"The PROJECTED COST was calculated using an estimated intial price."]
["PiPV-1994-1","Pipe","PVC","31500 linrar feet",10,"No","0%-25%","Yes","Yes",3.5,"Yes","At","Yes","Yes",4,14,"The PROJECTED COST was calculated using an estimated intial price."]
["PiPV-1994-2","Pipe","PVC","74550 linear feet",10,"No","0%-25%","Yes","Yes",3.5,"Yes","At","Yes","Yes",4,14,"The PROJECTED COST was calculated using an estimated intial price."]
["PiPV-1994-5","Pipe","PVC","40,940 linear feet",10,"No","0%-25%","Yes","Yes",3.5,"Yes","At","Yes","Yes",4,14,"The PROJECTED COST was calculated using an estimated intial price."]
["PiPV-1970-2","Pipe","PVC","39651 linear feet",0,"No","26%-50%","Yes","Yes",4,"Yes","Below","Yes","Yes",3,12,"The PROJECTED COST was calculated using an estimated intial price."]
["PiPV-1970-1","Pipe","PVC","68662 linear feet",0,"No","0%-25%","Yes","Yes",3.5,"Yes","Below","Yes","Yes",3,10.5,"The PROJECTED COST was calculated using an estimated intial price."]
["PiPV-1970-3","Pipe","PVC","24,923 linear feet",0,"No","0%-25%","Yes","Yes",3.5,"Yes","Below","Yes","Yes",3,10.5,"The PROJECTED COST was calculated using an estimated intial price."]
["PiPV-1994-3","Pipe","PVC","29,399 linear feet",10,"No","0%-25%","Yes","Yes",3.5,"Yes","Below","Yes","Yes",3,10.5,"The PROJECTED COST was calculated using an estimated intial price."]
["PiPV-1994-4","Pipe","PVC","5,713 linear feet",10,"No","0%-25%","Yes","Yes",3.5,"Yes","Below","Yes","Yes",3,10.5,"The PROJECTED COST was calculated using an estimated intial price."]
["CoTe-2022-1","Control","Telemetry ","Plant Control Panel",13,"No","0%-25%","Yes","Yes",3.5,"No","At","No","No",1,3.5,""]
["CoTe-2022-2","Control","Telemetry ","Electrical Control Panel",13,"No","0%-25%","Yes","Yes",3.5,"No","At","No","No",1,3.5,""]
["SaFe-2022-1","Safety","Fencing","Chain Link Fencing",8,"No","0%-25%","Yes","Yes",3.5,"No","At","No","No",1,3.5,""]
["PuHi-2022-1","Pump","High Service ","Vertical Turbine",13,"Yes","0%-25%","Yes","Yes",2.5,"No","At","No","No",1,2.5,""]
["PuHi-2022-2","Pump","High Service ","Vertical Turbine",13,"Yes","0%-25%","Yes","Yes",2.5,"No","At","No","No",1,2.5,""]
["TrSe-2022-1","Treatment","Sedimentation ","Sediment Pond",18,"Yes","0%-25%","Yes","Yes",2.5,"No","At","No","No",1,2.5,""]
["TrCh-2022-1","Treatment","Chlorination ","Chlorination System",18,"Yes","0%-25%","Yes","Yes",2.5,"No","At","No","No",1,2.5,""]
["PiPV-2011-1","Pipe","PVC","36,960 linear feet",27,"No","0%-25%","Yes","Yes",3.5,"No","Below","No","No","0.5",1.75,"The PROJECTED COST was calculated using an estimated intial price."]
["HyFi-1994-1","Hydrant","Fire ","24 each",10,"Yes","0%-25%","No","No",0.5,"Yes","At","Yes","No",3,1.5,"The YEAR OF FAILURE and PROJECTED COST were calculated using an estimated installation date.The PROJECTED COST was calculated using an estimated intial price."]
["SoWe-2021-2","Source","Well","Well 2",47,"Yes","0%-25%","Yes","No",1.5,"No","At","No","No",1,1.5,""]
["WTP-2022-1","Building","Treatment Plant","400 Sq Ft Treatment Plant Room",48,"Yes","0%-25%","Yes","No",1.5,"No","At","No","No",1,1.5,""]
["TaEl-1994-1","Tank","Elevated Storage Tank","Tank",0,"Yes","0%-25%","No","No",0.5,"Yes","At","No","No",2,1,""]
["TaEl-1994-2","Tank","Elevated Storage Tank","Tank",0,"Yes","0%-25%","No","No",0.5,"Yes","At","No","No",2,1,""]
["SoWe-2021-1","Source","Well","Well 1",47,"Yes","0%-25%","Yes","No",1.5,"No","Below","No","No","0.5",0.75,""]
["PuTr-2021-1","Pump","Transfer ","Well 1 Pump",12,"Yes","0%-25%","Yes","No",1.5,"No","Below","No","No","0.5",0.75,""]
["PuTr-2021-2","Pump","Transfer ","Well 2 Pump",12,"Yes","0%-25%","Yes","No",1.5,"No","Below","No","No","0.5",0.75,""]
["MeWe-2021-1","Meter","Well ","Master Meter, Well 1",12,"Yes","0%-25%","Yes","No",1.5,"No","Below","No","No","0.5",0.75,""]
["MeWe-2021-2","Meter","Well ","Master Meter, Well 2",12,"Yes","0%-25%","Yes","No",1.5,"No","Below","No","No","0.5",0.75,""]
["TaCl-2022-1","Tank","Clear Well","Water Treatment Clear well",48,"Yes","0%-25%","No","No",0.5,"No","At","No","No",1,0.5,""]
["TrFi-2022-1","Treatment","Filtration","Qty 3 Pressure Filter",18,"Yes","0%-25%","No","No",0.5,"No","At","No","No",1,0.5,""]
["MeMa-2024-6","Meter","Master ","Assembly 8 - Qty 1",15,"Yes","0%-25%","No","No",0.5,"No","At","No","No",1,0.5,""]
["MeMa-2024-7","Meter","Master ","Assembly 11 - Qty 1",15,"Yes","0%-25%","No","No",0.5,"No","At","No","No",1,0.5,""]
["MeMa-2024-8","Meter","Master ","Assembly 12 - Qty 1",15,"Yes","0%-25%","No","No",0.5,"No","At","No","No",1,0.5,""]
["MeMa-2024-9","Meter","Master ","Assembly 13 - Qty 1",15,"Yes","0%-25%","No","No",0.5,"No","At","No","No",1,0.5,""]
["MeMa-2024-10","Meter","Master ","Assembly 14 - Qty 1",15,"Yes","0%-25%","No","No",0.5,"No","At","No","No",1,0.5,""]
["MeMa-2024-11","Meter","Master ","Assembly 15, 16, 17, 18 - Qty 4",15,"Yes","0%-25%","No","No",0.5,"No","At","No","No",1,0.5,""]
["MeMa-2024-12","Meter","Master ","Assembly 20 - Qty 1",15,"Yes","0%-25%","No","No",0.5,"No","At","No","No",1,0.5,""]
["VaGa-2024-1","Valve","Gate ","Qty 3",20,"Yes","0%-25%","No","No",0.5,"No","At","No","No",1,0.5,""]
["VaGa-2024-2","Valve","Gate ","Qty 1",20,"Yes","0%-25%","No","No",0.5,"No","At","No","No",1,0.5,""]
["VaGa-2024-3","Valve","Gate ","Qty 2",20,"Yes","0%-25%","No","No",0.5,"No","At","No","No",1,0.5,""]
["VaGa-2024-4","Valve","Gate ","Qty 3",20,"Yes","0%-25%","No","No",0.5,"No","At","No","No",1,0.5,""]
["VaPr-2024-1","Valve","Pressure Relief (PRV)","PRV-8",20,"Yes","0%-25%","No","No",0.5,"No","At","No","No",1,0.5,""]
["VaPr-2024-2","Valve","Pressure Relief (PRV)","Residential - Qty 4",20,"Yes","0%-25%","No","No",0.5,"No","At","No","No",1,0.5,""]
["VaGa-2024-5","Valve","Gate ","Flush Valve",20,"Yes","0%-25%","No","No",0.5,"No","At","No","No",1,0.5,""]
["CoSC-2024-1","Control","SCADA ","Automated Meter Reading System",15,"Yes","0%-25%","No","No",0.5,"No","At","No","No",1,0.5,""]
["MeRe-2024-1","Meter","Residential ","5/8\" x 3/4\" Meters - Qty 932",15,"Yes","0%-25%","No","No",0.5,"No","At","No","No",1,0.5,""]
["MeCu-2024-1","Meter","Customer ","Meters - Qty 8",15,"Yes","0%-25%","No","No",0.5,"No","At","No","No",1,0.5,""]
["VaPr-2024-3","Valve","Pressure Relief (PRV)","PRV-7",20,"Yes","0%-25%","No","No",0.5,"No","At","No","No",1,0.5,""]
["VaGa-2024-6","Valve","Gate ","Qty - 2",20,"Yes","0%-25%","No","No",0.5,"No","At","No","No",1,0.5,"The PROJECTED COST was calculated using an estimated intial price."]
["PiPV-2024-4","Pipe","PVC","HDPE, DR11, 200psi - 4195 linear ft",80,"Yes","0%-25%","No","No",0.5,"No","At","No","No",1,0.5,""]
["VaGa-2024-7","Valve","Gate ",0,20,"Yes","0%-25%","No","No",0.5,"No","At","No","No",1,0.5,""]
["VaPr-2024-4","Valve","Pressure Relief (PRV)","PRV-1 thru PRV-6 + PRV-9 - Qty 7",20,"Yes","0%-25%","No","No",0.5,"No","At","No","No",1,0.5,""]
["VaGa-2024-8","Valve","Gate ","Gate Valve System",20,"Yes","0%-25%","No","No",0.5,"No","At","No","No",1,0.5,""]
["TrFi-2022-2","Treatment","Filtration","Cascade Aerator",18,"Yes","0%-25%","No","No",0.5,"No","Below","No","No","0.5",0.25,""]
["PuMe-2022-1","Pump","Metering ","Phosphate Feed Pump",13,"Yes","0%-25%","No","No",0.5,"No","Below","No","No","0.5",0.25,""]
["PuMe-2022-2","Pump","Metering ","Caustic Feed Pump",13,"Yes","0%-25%","No","No",0.5,"No","Below","No","No","0.5",0.25,""]
["PuMe-2022-3","Pump","Metering ","Pot Perm Feed Pump",13,"Yes","0%-25%","No","No",0.5,"No","Below","No","No","0.5",0.25,""]
["MeSo-2022-1","Meter","Source ","Tank Meter Controller",10,"Yes","0%-25%","No","No",0.5,"No","Below","No","No","0.5",0.25,""]
["HyFi-2022-1","Hydrant","Fire ","Fire Hydrant",48,"Yes","0%-25%","No","No",0.5,"No","Below","No","No","0.5",0.25,""]
["PiPV-2024-1","Pipe","PVC","HDPE, DR11, 200 psi, 4545 linear feet",80,"Yes","0%-25%","No","No",0.5,"No","Below","No","No","0.5",0.25,""]
["PiPV-2024-2","Pipe","PVC","HDPE, DR11, 200 psi, 4820 linear feet",80,"Yes","0%-25%","No","No",0.5,"No","Below","No","No","0.5",0.25,""]
["PiPV-2024-3","Pipe","PVC","HDPE, DR11, 200 psi, 10,400 linear feet",80,"Yes","0%-25%","No","No",0.5,"No","Below","No","No","0.5",0.25,""]
["HyFi-2024-1","Hydrant","Fire ","Qty 5 Fire Hydrants",50,"Yes","0%-25%","No","No",0.5,"No","Below","No","No","0.5",0.25,""]
["MeMa-2024-1","Meter","Master ","Assembly 1, 2, 9 and 10 - Qty 4",15,"Yes","0%-25%","No","No",0.5,"No","Below","No","No","0.5",0.25,""]
["MeMa-2024-2","Meter","Master ","Assembly 3 - Qty 1",15,"Yes","0%-25%","No","No",0.5,"No","Below","No","No","0.5",0.25,""]
["MeMa-2024-3","Meter","Master ","Assembly 4 & 6 - Qty 2",15,"Yes","0%-25%","No","No",0.5,"No","Below","No","No","0.5",0.25,""]
["MeMa-2024-4","Meter","Master ","Assembly 5 & 19 - Qty 2",15,"Yes","0%-25%","No","No",0.5,"No","Below","No","No","0.5",0.25,""]
["MeMa-2024-5","Meter","Master ","Assembly 7 - Qty 1",15,"Yes","0%-25%","No","No",0.5,"No","Below","No","No","0.5",0.25,""]
["",0,0,0,"",0,0,0,0,"","",0,0,0,"",0,""]
["",0,0,0,"",0,0,0,0,"","",0,0,0,"",0,""]
["",0,0,0,"",0,0,0,0,"","",0,0,0,"",0,""]
["",0,0,0,"",0,0,0,0,"","",0,0,0,"",0,""]
["",0,0,0,"",0,0,0,0,"","",0,0,0,"",0,""]
["",0,0,0,"",0,0,0,0,"","",0,0,0,"",0,""]
["",0,0,0,"",0,0,0,0,"","",0,0,0,"",0,""]
["",0,0,0,"",0,0,0,0,"","",0,0,0,"",0,""]
["",0,0,0,"",0,0,0,0,"","",0,0,0,"",0,""]
["",0,0,0,"",0,0,0,0,"","",0,0,0,"",0,""]
["",0,0,0,"",0,0,0,0,"","",0,0,0,"",0,""]
["",0,0,0,"",0,0,0,0,"","",0,0,0,"",0,""]
["",0,0,0,"",0,0,0,0,"","",0,0,0,"",0,""]
["",0,0,0,"",0,0,0,0,"","",0,0,0,"",0,""]
["",0,0,0,"",0,0,0,0,"","",0,0,0,"",0,""]
["",0,0,0,"",0,0,0,0,"","",0,0,0,"",0,""]
["",0,0,0,"",0,0,0,0,"","",0,0,0,"",0,""]
["",0,0,0,"",0,0,0,0,"","",0,0,0,"",0,""]
["",0,0,0,"",0,0,0,0,"","",0,0,0,"",0,""]
["",0,0,0,"",0,0,0,0,"","",0,0,0,"",0,""]
["",0,0,0,"",0,0,0,0,"","",0,0,0,"",0,""]
["",0,0,0,"",0,0,0,0,"","",0,0,0,"",0,""]
["",0,0,0,"",0,0,0,0,"","",0,0,0,"",0,""]
["",0,0,0,"",0,0,0,0,"","",0,0,0,"",0,""]
["",0,0,0,"",0,0,0,0,"","",0,0,0,"",0,""]
["",0,0,0,"",0,0,0,0,"","",0,0,0,"",0,""]
["",0,0,0,"",0,0,0,0,"","",0,0,0,"",0,""]
["",0,0,0,"",0,0,0,0,"","",0,0,0,"",0,""]
["",0,0,0,"",0,0,0,0,"","",0,0,0,"",0,""]
["",0,0,0,"",0,0,0,0,"","",0,0,0,"",0,""]
["",0,0,0,"",0,0,0,0,"","",0,0,0,"",0,""]
["",0,0,0,"",0,0,0,0,"","",0,0,0,"",0,""]
["",0,0,0,"",0,0,0,0,"","",0,0,0,"",0,""]
["",0,0,0,"",0,0,0,0,"","",0,0,0,"",0,""]
["",0,0,0,"",0,0,0,0,"","",0,0,0,"",0,""]
["",0,0,0,"",0,0,0,0,"","",0,0,0,"",0,""]
["",0,0,0,"",0,0,0,0,"","",0,0,0,"",0,""]
["",0,0,0,"",0,0,0,0,"","",0,0,0,"",0,""]
["",0,0,0,"",0,0,0,0,"","",0,0,0,"",0,""]
["",0,0,0,"",0,0,0,0,"","",0,0,0,"",0,""]
["",0,0,0,"",0,0,0,0,"","",0,0,0,"",0,""]
["",0,0,0,"",0,0,0,0,"","",0,0,0,"",0,""]
["",0,0,0,"",0,0,0,0,"","",0,0,0,"",0,""]
["",0,0,0,"",0,0,0,0,"","",0,0,0,"",0,""]
["",0,0,0,"",0,0,0,0,"","",0,0,0,"",0,""]
["",0,0,0,"",0,0,0,0,"","",0,0,0,"",0,""]
["",0,0,0,"",0,0,0,0,"","",0,0,0,"",0,""]
["",0,0,0,"",0,0,0,0,"","",0,0,0,"",0,""]
["",0,0,0,"",0,0,0,0,"","",0,0,0,"",0,""]
["",0,0,0,"",0,0,0,0,"","",0,0,0,"",0,""]
["",0,0,0,"",0,0,0,0,"","",0,0,0,"",0,""]
["",0,0,0,"",0,0,0,0,"","",0,0,0,"",0,""]
["",0,0,0,"",0,0,0,0,"","",0,0,0,"",0,""]
["",0,0,0,"",0,0,0,0,"","",0,0,0,"",0,""]
["",0,0,0,"",0,0,0,0,"","",0,0,0,"",0,""]
["",0,0,0,"",0,0,0,0,"","",0,0,0,"",0,""]
["",0,0,0,"",0,0,0,0,"","",0,0,0,"",0,""]
["",0,0,0,"",0,0,0,0,"","",0,0,0,"",0,""]
["",0,0,0,"",0,0,0,0,"","",0,0,0,"",0,""]
["",0,0,0,"",0,0,0,0,"","",0,0,0,"",0,""]
["",0,0,0,"",0,0,0,0,"","",0,0,0,"",0,""]
["",0,0,0,"",0,0,0,0,"","",0,0,0,"",0,""]
["",0,0,0,"",0,0,0,0,"","",0,0,0,"",0,""]
["",0,0,0,"",0,0,0,0,"","",0,0,0,"",0,""]
["",0,0,0,"",0,0,0,0,"","",0,0,0,"",0,""]
["",0,0,0,"",0,0,0,0,"","",0,0,0,"",0,""]
["",0,0,0,"",0,0,0,0,"","",0,0,0,"",0,""]
["",0,0,0,"",0,0,0,0,"","",0,0,0,"",0,""]
["",0,0,0,"",0,0,0,0,"","",0,0,0,"",0,""]
["",0,0,0,"",0,0,0,0,"","",0,0,0,"",0,""]
["",0,0,0,"",0,0,0,0,"","",0,0,0,"",0,""]
["",0,0,0,"",0,0,0,0,"","",0,0,0,"",0,""]
["",0,0,0,"",0,0,0,0,"","",0,0,0,"",0,""]
["",0,0,0,"",0,0,0,0,"","",0,0,0,"",0,""]
["",0,0,0,"",0,0,0,0,"","",0,0,0,"",0,""]
["",0,0,0,"",0,0,0,0,"","",0,0,0,"",0,""]
["",0,0,0,"",0,0,0,0,"","",0,0,0,"",0,""]
["",0,0,0,"",0,0,0,0,"","",0,0,0,"",0,""]
["",0,0,0,"",0,0,0,0,"","",0,0,0,"",0,""]
["",0,0,0,"",0,0,0,0,"","",0,0,0,"",0,""]
["",0,0,0,"",0,0,0,0,"","",0,0,0,"",0,""]
["",0,0,0,"",0,0,0,0,"","",0,0,0,"",0,""]
["",0,0,0,"",0,0,0,0,"","",0,0,0,"",0,""]
["",0,0,0,"",0,0,0,0,"","",0,0,0,"",0,""]
["",0,0,0,"",0,0,0,0,"","",0,0,0,"",0,""]
["",0,0,0,"",0,0,0,0,"","",0,0,0,"",0,""]
["",0,0,0,"",0,0,0,0,"","",0,0,0,"",0,""]
["",0,0,0,"",0,0,0,0,"","",0,0,0,"",0,""]
["",0,0,0,"",0,0,0,0,"","",0,0,0,"",0,""]
["",0,0,0,"",0,0,0,0,"","",0,0,0,"",0,""]
["",0,0,0,"",0,0,0,0,"","",0,0,0,"",0,""]
["",0,0,0,"",0,0,0,0,"","",0,0,0,"",0,""]
["",0,0,0,"",0,0,0,0,"","",0,0,0,"",0,""]
["",0,0,0,"",0,0,0,0,"","",0,0,0,"",0,""]
["",0,0,0,"",0,0,0,0,"","",0,0,0,"",0,""]
["",0,0,0,"",0,0,0,0,"","",0,0,0,"",0,""]
["",0,0,0,"",0,0,0,0,"","",0,0,0,"",0,""]
["",0,0,0,"",0,0,0,0,"","",0,0,0,"",0,""]
["",0,0,0,"",0,0,0,0,"","",0,0,0,"",0,""]
["",0,0,0,"",0,0,0,0,"","",0,0,0,"",0,""]
["",0,0,0,"",0,0,0,0,"","",0,0,0,"",0,""]
["",0,0,0,"",0,0,0,0,"","",0,0,0,"",0,""]
["",0,0,0,"",0,0,0,0,"","",0,0,0,"",0,""]
["",0,0,0,"",0,0,0,0,"","",0,0,0,"",0,""]
["",0,0,0,"",0,0,0,0,"","",0,0,0,"",0,""]
["",0,0,0,"",0,0,0,0,"","",0,0,0,"",0,""]
["",0,0,0,"",0,0,0,0,"","",0,0,0,"",0,""]
["",0,0,0,"",0,0,0,0,"","",0,0,0,"",0,""]
["",0,0,0,"",0,0,0,0,"","",0,0,0,"",0,""]
["",0,0,0,"",0,0,0,0,"","",0,0,0,"",0,""]
["",0,0,0,"",0,0,0,0,"","",0,0,0,"",0,""]
["",0,0,0,"",0,0,0,0,"","",0,0,0,"",0,""]
["",0,0,0,"",0,0,0,0,"","",0,0,0,"",0,""]
["",0,0,0,"",0,0,0,0,"","",0,0,0,"",0,""]
["",0,0,0,"",0,0,0,0,"","",0,0,0,"",0,""]
["",0,0,0,"",0,0,0,0,"","",0,0,0,"",0,""]
["",0,0,0,"",0,0,0,0,"","",0,0,0,"",0,""]
["",0,0,0,"",0,0,0,0,"","",0,0,0,"",0,""]
["",0,0,0,"",0,0,0,0,"","",0,0,0,"",0,""]
["",0,0,0,"",0,0,0,0,"","",0,0,0,"",0,""]
["",0,0,0,"",0,0,0,0,"","",0,0,0,"",0,""]
["",0,0,0,"",0,0,0,0,"","",0,0,0,"",0,""]
["",0,0,0,"",0,0,0,0,"","",0,0,0,"",0,""]
["",0,0,0,"",0,0,0,0,"","",0,0,0,"",0,""]
["",0,0,0,"",0,0,0,0,"","",0,0,0,"",0,""]
["",0,0,0,"",0,0,0,0,"","",0,0,0,"",0,""]
["",0,0,0,"",0,0,0,0,"","",0,0,0,"",0,""]
["",0,0,0,"",0,0,0,0,"","",0,0,0,"",0,""]
["",0,0,0,"",0,0,0,0,"","",0,0,0,"",0,""]
["",0,0,0,"",0,0,0,0,"","",0,0,0,"",0,""]
["",0,0,0,"",0,0,0,0,"","",0,0,0,"",0,""]
["",0,0,0,"",0,0,0,0,"","",0,0,0,"",0,""]
["",0,0,0,"",0,0,0,0,"","",0,0,0,"",0,""]
["",0,0,0,"",0,0,0,0,"","",0,0,0,"",0,""]
["",0,0,0,"",0,0,0,0,"","",0,0,0,"",0,""]
["",0,0,0,"",0,0,0,0,"","",0,0,0,"",0,""]
["",0,0,0,"",0,0,0,0,"","",0,0,0,"",0,""]
["",0,0,0,"",0,0,0,0,"","",0,0,0,"",0,""]
["",0,0,0,"",0,0,0,0,"","",0,0,0,"",0,""]
["",0,0,0,"",0,0,0,0,"","",0,0,0,"",0,""]
["",0,0,0,"",0,0,0,0,"","",0,0,0,"",0,""]
["",0,0,0,"",0,0,0,0,"","",0,0,0,"",0,""]
["",0,0,0,"",0,0,0,0,"","",0,0,0,"",0,""]
["",0,0,0,"",0,0,0,0,"","",0,0,0,"",0,""]
["",0,0,0,"",0,0,0,0,"","",0,0,0,"",0,""]
["",0,0,0,"",0,0,0,0,"","",0,0,0,"",0,""]
["",0,0,0,"",0,0,0,0,"","",0,0,0,"",0,""]
["",0,0,0,"",0,0,0,0,"","",0,0,0,"",0,""]
["",0,0,0,"",0,0,0,0,"","",0,0,0,"",0,""]
["",0,0,0,"",0,0,0,0,"","",0,0,0,"",0,""]
["",0,0,0,"",0,0,0,0,"","",0,0,0,"",0,""]
["",0,0,0,"",0,0,0,0,"","",0,0,0,"",0,""]
["",0,0,0,"",0,0,0,0,"","",0,0,0,"",0,""]
["",0,0,0,"",0,0,0,0,"","",0,0,0,"",0,""]
["",0,0,0,"",0,0,0,0,"","",0,0,0,"",0,""]
["",0,0,0,"",0,0,0,0,"","",0,0,0,"",0,""]
["",0,0,0,"",0,0,0,0,"","",0,0,0,"",0,""]
["",0,0,0,"",0,0,0,0,"","",0,0,0,"",0,""]
["",0,0,0,"",0,0,0,0,"","",0,0,0,"",0,""]
["",0,0,0,"",0,0,0,0,"","",0,0,0,"",0,""]
["",0,0,0,"",0,0,0,0,"","",0,0,0,"",0,""]
["",0,0,0,"",0,0,0,0,"","",0,0,0,"",0,""]
["",0,0,0,"",0,0,0,0,"","",0,0,0,"",0,""]
["",0,0,0,"",0,0,0,0,"","",0,0,0,"",0,""]
["",0,0,0,"",0,0,0,0,"","",0,0,0,"",0,""]
["",0,0,0,"",0,0,0,0,"","",0,0,0,"",0,""]
["",0,0,0,"",0,0,0,0,"","",0,0,0,"",0,""]
["",0,0,0,"",0,0,0,0,"","",0,0,0,"",0,""]
["",0,0,0,"",0,0,0,0,"","",0,0,0,"",0,""]
["",0,0,0,"",0,0,0,0,"","",0,0,0,"",0,""]
["",0,0,0,"",0,0,0,0,"","",0,0,0,"",0,""]
["",0,0,0,"",0,0,0,0,"","",0,0,0,"",0,""]
["",0,0,0,"",0,0,0,0,"","",0,0,0,"",0,""]
["",0,0,0,"",0,0,0,0,"","",0,0,0,"",0,""]

{"sheet":"Graph","index":9,"n_rows":0,"n_cols":0,"rows_kept":0,"cut":false,"hidden":false,"merged":[]}

{"sheet":"Definitions","index":10,"n_rows":131,"n_cols":24,"rows_kept":131,"cut":false,"hidden":false,"merged":[[128,2,128,21],[129,2,129,21],[130,2,130,21],[120,2,120,21],[121,2,121,21],[122,2,122,21],[123,2,123,21],[124,2,124,21],[126,2,126,21],[127,1,127,21],[109,2,109,21],[110,2,110,21],[111,2,111,21],[112,2,112,21],[118,2,118,21],[119,2,119,21],[97,2,97,21],[99,2,99,21],[100,2,100,21],[105,2,105,21],[106,2,106,21],[107,2,107,21],[116,1,116,21],[85,2,85,21],[86,2,86,21],[87,2,87,21],[88,2,88,21],[91,2,91,21],[92,2,92,21],[76,2,76,21],[78,2,78,21],[79,2,79,21],[81,2,81,21],[82,2,82,21],[83,2,83,21],[69,2,69,21],[70,2,70,21],[71,2,71,21],[72,2,72,21],[74,2,74,21],[75,2,75,21],[62,2,62,21],[64,2,64,21],[65,2,65,21],[66,2,66,21],[67,2,67,21],[68,2,68,21],[56,2,56,21],[57,2,57,21],[58,2,58,21],[59,2,59,21],[60,2,60,21],[61,2,61,21],[49,2,49,21],[50,2,50,21],[52,2,52,21],[53,2,53,21],[54,2,54,21],[55,2,55,21],[41,2,41,21],[42,2,42,21],[43,2,43,21],[46,2,46,21],[47,2,47,21],[48,2,48,21],[33,2,33,21],[34,2,34,21],[36,2,36,21],[37,2,37,21],[38,2,38,21],[39,2,39,21],[44,2,44,21],[26,2,26,21],[27,2,27,21],[29,2,29,21],[30,2,30,21],[31,2,31,21],[32,2,32,21],[19,2,19,21],[20,2,20,21],[22,2,22,21],[23,2,23,21],[24,2,24,21],[25,2,25,21],[1,1,1,21],[3,13,3,15],[4,13,4,14],[93,2,93,21],[94,2,94,21],[95,2,95,21],[96,2,96,21],[103,1,103,21],[115,1,115,21],[3,4,3,6],[4,4,4,5],[3,9,3,10],[4,9,4,11],[7,1,7,21],[8,1,8,21],[89,1,89,21],[10,2,10,21],[11,2,11,21],[12,2,12,21],[13,2,13,21],[14,2,14,21],[15,2,15,21],[16,2,16,21],[18,2,18,21]]}
[]
[null,"Definitions"]
[null,"Contents of this page:",null,null,"Data Collection Sheet",null,null,null,null,"Cost Data",null,null,null,"Consequence of Failure"]
[null,null,null,null,"Categories and Types of Assets",null,null,null,null,"Data Input Headers",null,null,null,"Question Clarification"]
[null,null,null,null,"Other Headers",null,null,null,null,"Auto-Calculated Headers",null,null,null,"Scores"]
[]
[]
[null," Data Collection Sheet"]
[null,"   Categories and Types of Assets"]
[null,"Pumps"]
[null,"High-Service","Pump that transports water from the treatment plant to the distribution system."]
[null,"Booster","Pump that helps to boost fluid pressure and flow. Also known as a pressure pump."]
[null,"Transfer","Pump that helps to move water from one place to another. Also known as a utility pump."]
[null,"Metering","Pump that helps to maintain an accurate volumetric flow rate by delivering water in precise amounts."]
[null,"Surface Water Intake","Pump that transports water from a surface source to the treatment plant."]
[null,"Backwash","Pump used to flush filters clogged by debris."]
[null,"Motor","Pump that used mechanical energy to move water from one part of the system to another."]
[null,"Hydrants"]
[null,"Fire","Connection point to the water system that may be used by firefighters in the case of an emergency."]
[null,"Flush","Connection point to the water system used to flush a water line of debris."]
[null,"Flow-test","Connection point in the system used to determine the residual pressure within the water line."]
[null,"Meters"]
[null,"Master","Meter that records the total amount of water produced. Usually located at the Treatment Plant."]
[null,"Well","Meter that records the amount of water taken from a well."]
[null,"Source","Meter that records the amount of water taken from a particular source."]
[null,"Customer","Meter that records how much water is being used by a commercial customer."]
[null,"Residential","Meter that records how much water is being used by a residential customer."]
[null,"Flow","Meter that records the amount of water flowing through a specific pipe."]
[null,"Pipes"]
[null,"PVC","Pipe made of plastic PVC"]
[null,"Ductile Iron","Pipe made of ductile iron."]
[null,"Steel","Pipe made of steel"]
[null,"Cast-Iron","Pipe made of cast-iron"]
[null,"Concrete","Pipe made of concrete"]
[null,"Asbestos Cement","Pipe made of asbestos cement."]
[null,"Sources"]
[null,"Well","Structure used to access water underneath the ground."]
[null,"Intake Structure","Structure used to gather water from a source."]
[null,"Springs","Source where ground water surfaces."]
[null,"Reservoir","Structure where water is stored, usually an artificial lake."]
[null,"Tanks"]
[null,"Clearwell","A reservoir for filtered water to prevent the need to vary the filtration rate. Also used to provide chlorine-contact for disinfection."]
[null,"Ground Level Storage Tank","A tank connected to underground piping and has at least 10% of its combined volume underground."]
[null,"Elevated Storage Tank","Tank that stores potable drinking water at an elevated location (e.g. Water Towers)."]
[null,"Standpipe","Large column (shaped like a vertical pipe) that is used to store water."]
[null,"Analytical"]
[null,"pH Meter","Scientific instrument that measures the hydrogen-ion activity in water, indicating it's acidity or alkalinity expressed as ph."]
[null,"Chlorine Monitor","Scientific instrument that measures the amount of chlorine in water."]
[null,"Colorimeter","Scientific instrument that determines the concentration of a solution from analyzing its color density."]
[null,"Turbidimeter","Scientific instrument that measures how light reflects off of suspended particles to determine the cloudiness/haziness of the water."]
[null,"TDS Meter","Scientific instrument that uses the conductivity of the water to determine the amount of total dissolved solids found in the water."]
[null,"Treatment"]
[null,"Sedimentation","Use this to list any equipment used in sedimentation (e.g. tanks, coagulant/flocculant storage, etc.)."]
[null,"Filtration","Use this to list any equipment used in filtration (e.g. gravity filtration tanks, etc.)."]
[null,"Clarifier","Setting tank built with mechanical means for continuous removal of solids through sedimentation."]
[null,"Chemical Feed","Automated system designed for adding a certain chemical to the water."]
[null,"Chlorination","Use this to list any equipment used in chlorination (e.g. chlorinators)."]
[null,"Ozonation","Use this to list any equipment used in ozonation (e.g. ozone test strips, venturi throat, etc.)."]
[null,"Ultraviolet Disinfection","Use this to list any equipment used in UV disinfection (e.g. mercury arc lamps, reactor, ballasts, etc.)."]
[null,"Ion Exchange","System used for removal of dissolved ions from water."]
[null,"Fluoride","Use this to list any equipment used in adding or removing fluoride from water (e.g. reverse osmosis system, solution/dry feeders etc.)."]
[null,"Corrosion Control","Use this to list any equipment used in corrosion control (e.g. water softening equipment, pH and Alkalinity equipment, certain tanks, etc.)"]
[null,"Backwash Lagoon","Lagoon used for dewatering the water filed with sludge. Also known as a sludge drying bed."]
[null,"Valve"]
[null,"Gate","Device that opens by lifting a barrier out of path of the water. Also known as a sluice valve."]
[null,"Ball","Device that uses a hollow perforated pivoting ball to control the flow of water."]
[null,"Butterfly","Device that can be used to regulate the flow with less pressure loss than the gate valve."]
[null,"Pressure Relief (PRV)","Safety related component that limits the amount of compressed air pressure in a system. "]
[null,"Air Release (ARV)","Safety related component that limits the amount of small air pockets that could restrict the flow."]
[null,"Air Vacuum","Safety valve that continuously vent air from a tank or piping system."]
[null,"Check","Device that prevents the backflow of water."]
[null,"Blow-off","Device that removes foam and other matter from water."]
[null,"Altitude","Device that is pilot-operated and opens/closes to fill a high-level tower or tank hydraulically."]
[null,"Control"]
[null,"Telemetry","Use this to list any equipment within the telemetry system (e.g. modulator, voltage-controlled oscillator (VCO), power supply, etc.)."]
[null,"SCADA","A combination system of hardware and software designed for automated data capture by connecting monitoring sensors to an on-site or remote sensor."]
[null,"Variable Frequency","Device used to vary the frequency of motors so they can operate at desired speeds."]
[null,"Safety"]
[null,"PPE","Personal protective equipment (e.g. goggles, gloves, hard-hat, face mask/shield, coveralls, etc.)."]
[null,"Fencing","List any fencing owned by the water system. These are usually barriers around backwash lagoons, the water treatment plant, and other areas."]
[null,"Building"]
[null,"Treatment Plant","Building used to house majority of the equipment used in the treatment of drinking water."]
[null,"Well-House","Building used to enclose a well-head, as well as any pumps or tanks or associated equipment for the well."]
[null,"Office","Building used for the day to day office operations of the water system (e.g. City Hall, Utility Services Offices, etc.)."]
[null,"  Vehicles"]
[null,"Truck","List any trucks owned by the system (e.g. Ford F-150, Toyota Tacoma, etc.)."]
[null,"Backhoe","A mechanical excavator that consists of a digging buckets on the end of a two-part articulated arm. Also known as a bulldozer."]
[null,"Dump Truck","List any dump trucks owned by the system (e.g. Peterbilt 367, Kentworth T800, etc.)."]
[null,"HVAC Truck","Heating, ventilation, and air conditioning trucks. These are usually a van style vehicle that holds a large amount of equipment that may be needed in the field."]
[null,"   Other Headers"]
[null,"  Data Input Headers (Red)"]
[null,"Size","Input the general size for your asset, if applicable. This could be used for designating a 4\" pipe from an 8\" pipe, or to distinguish the holding capacity of an asset (e.g. 40 Gallons)"]
[null,"Description","Input a general description of your asset / what it is used for. (e.g. If the asset is a chemical feed, enter the brand of chemical feed what chemical is used with it)."]
[null,"Location","Input the location of where your asset is stored/easily located. This could be descriptive (e.g. 2 miles south of Treatment Plant), latitude and longitude, or a street address."]
[null,"Installation Year","Input the year that your asset was first installed in the system."]
[null,"Installation Estimated?","Was the year of installation an estimate or is there a record of the installation year? If it was an estimate, check the box. If you have official record, leave the box unchecked."]
[null,"Current Condition","Great = like new       Good = good condition with little ware       Fair = lots of ware, requires routine maintenance       Bad = requires increased maintenance, needing replacement."]
[null,"Repair and Maintenance History","List any repair or maintenance history for the asset. This could include detailing any required routine maintenance."]
[null,"  Auto-Calculated Headers (Black)",null,null,null,null,null,null,null,null,null,null,null,null,null,null,null,null,"Click the box to see the calculation formula:"]
[null,"Estimated Year of Failure","Based on your installation date and the life expectancy, this value is automatically calculated.",null,null,null,null,null,null,null,null,null,null,null,null,null,null,null,null,null,null,null,null,"Calculations!B5"]
[null,"Life Expectancy","Based on the category/type of asset and the current condition, this value is automatically calculated to show the amount of years left in the life-span of the asset.",null,null,null,null,null,null,null,null,null,null,null,null,null,null,null,null,null,null,null,null,"Calculations!B6"]
[]
[]
[null," Cost Data"]
[null,"  Data Input Headers (Red)"]
[null,"Initial Price","Input the price at which the asset was purchased in the year it was purchased - do not calculate for inflation."]
[null,"Initial Price Estimated?","Was the value entered for the initial price an estimate or is there a record of the transaction? If it was an estimate, check the box. If you have the official record, leave the box unchecked."]
[null,"Long-Term Funding Source","Select the source that would assist in funding given the need to purchase or repair the asset."]
[null,"  Auto-Calculated Headers (Black)",null,null,null,null,null,null,null,null,null,null,null,null,null,null,null,null,"Click the box to see the calculation formula:"]
[null,"Year of Initial Price","This is the same as the initial installation date."]
[null,"Current Predicted Cost","Based on the initial price & year, and the current inflation rate, this number is automatically calculated to show the estimated cost of purchasing the asset in 2023.",null,null,null,null,null,null,null,null,null,null,null,null,null,null,null,null,null,null,null,null,"Calculations!B10"]
[null,"Future Projected Cost","Based on the initial price & year, and the current inflation rate, this number is automatically calculated to show the estimated cost of purchasing the asset in the year of failure.",null,null,null,null,null,null,null,null,null,null,null,null,null,null,null,null,null,null,null,null,"Calculations!B11"]
[null,"Year of Failure","This is the same as the Estimated Year of Failure on the Data Collection Sheet."]
[]
[]
[null," Consequence of Failure"]
[null,"   Question Clarification"]
[null,"  Data Input Headers (Red)"]
[null,"Back-ups","If you have more than one of the same asset, and they are able to cover the other in the case of failure, select yes. Also choose yes if there are easily accessible extras."]
[null,"Importance","Select the percentage range that best matches the percentage of customers that would lose water access if this asset was to fail."]
[null,"Compliance","If the asset were to fail, would you be in violation of compliance with DEQ?"]
[null,"Public Health and Environmental Concerns","If the asset were to fail, would there be the possibility of issues regarding public health or the environment?"]
[null,"Capacity","Above = the asset is working more than it's intended use     At = the asset is operating at intended use      Below = The asset is operating less than the intended use"]
[null,"Reliability","Does this asset require extra maintenance frequently? If so, select yes."]
[null,"Repair Schedule","Have you noticed an increase in the amount of maintenance needed for this asset over the past two years? If so, select yes."]
[null,"  Auto-Calculated Headers (Black)",null,null,null,null,null,null,null,null,null,null,null,null,null,null,null,null,"Click the box to see the calculation formula:"]
[null,"Useful Life","This is automatically calculated to determine if the asset is in it's last 1/3 of useful life.",null,null,null,null,null,null,null,null,null,null,null,null,null,null,null,null,null,null,null,null,"Calculations!B15"]
[null,"   Scores"]
[null,"Consequence of Failure (CoF)","This is automatically calculated based on the answers to the Consequence of Failure questions.",null,null,null,null,null,null,null,null,null,null,null,null,null,null,null,null,null,null,null,null,"Calculations!B16"]
[null,"Probability of Failure (PoF)","This is automatically calculated based on the answers to the Probability of Failure questions.",null,null,null,null,null,null,null,null,null,null,null,null,null,null,null,null,null,null,null,null,"Calculations!B17"]
[null,"Criticality Score","This is automatically calculated based on the final scores for both the Consequence of Failure and Probability of Failure sections.",null,null,null,null,null,null,null,null,null,null,null,null,null,null,null,null,null,null,null,null,"Calculations!B18"]

{"sheet":"Calculations","index":11,"n_rows":23,"n_cols":15,"rows_kept":23,"cut":false,"hidden":false,"merged":[[10,1,11,1],[12,1,13,1],[11,2,11,4],[10,12,10,16],[11,12,11,16],[13,2,13,4],[12,12,12,16],[13,12,13,16],[13,5,13,7],[13,8,13,9],[13,10,13,11],[12,2,12,4],[12,5,12,7],[12,8,12,9],[12,10,12,11],[10,2,10,4],[22,2,22,16],[20,1,21,1],[21,2,21,4],[21,5,21,7],[21,8,21,9],[21,10,21,11],[21,12,21,16],[20,2,20,16],[19,5,19,7],[19,8,19,9],[19,10,19,11],[18,1,19,1],[18,2,18,16],[19,12,19,16],[19,2,19,4],[1,6,1,9],[5,1,6,1],[5,2,5,4],[5,5,5,7],[6,5,6,7],[5,8,5,9],[4,2,4,16],[3,1,3,16],[16,1,17,1],[16,2,16,4],[16,5,16,7],[16,8,16,9],[15,1,15,16],[16,10,16,11],[16,12,16,13],[16,14,16,16],[17,5,17,7],[17,8,17,9],[17,10,17,11],[17,12,17,13],[17,14,17,16],[17,2,17,4],[10,5,10,7],[10,8,10,9],[10,10,10,11],[11,5,11,7],[11,8,11,9],[11,10,11,11],[9,1,9,16],[6,8,6,9],[6,10,6,11],[5,10,5,11],[5,12,5,13],[6,12,6,13],[5,14,5,16],[6,14,6,16]]}
[]
[null,null,null,null,null,null,"Calculations"]
[]
[null," Data Collection Sheet"]
[null,"Estimated Year of Failure","Life Expectancy + 2023 = Year of Failure"]
[null,"Life Expectancy","First, an initial lifespan is added for each category of asset.",null,null,"Then, a percentage of the life-span is subtracted based on the current condition.",null,null,"This sum is rounded to the nearest whole number.",null,"The difference between 2022 and the date of installation is found.",null,"IF the Life Sum is less than the difference between 2022 and the installation date, it will present as 0.",null,"If the Life SUM is greater than the difference between 2022 and the installation date, it will present as the amount of years the asset is expected to continue operating."]
[null,null,"Pump = +15\nHydrant = +50\nMeter = +15\nPipe = +80\nSource = +50\nTank = +50","Analytical = +10\nTreatment = +20\nValve = +20\nControl = +15\nSafety = +10\nBuilding = +50","Vehicle = +8\nOther = +15","Great = -0%\nGood = -20%\nFair = -50%\nBad = -80%",null,null,"Category + Condition = Life SUM",null,"2023 - Installation Date = X",null,"(Life SUM < X) = 0 as there are no years left in the life expectancy.",null,"Life SUM - X = Life Expectancy"]
[]
[]
[null," Cost Data"]
[null,"Current Predicted Cost","The value of a dollar (in comparison to 1913) is found for the year of purchase and the current year (2022).",null,null,"The difference in the dollar values between 2022 and the year of purchase is found, then divided by the dollar value for the year of purchase. This calculates the inflation rate between the years. ",null,null,"The inflation rate is then multiplied by the initial price. This gives the amount of dollars added over the years.",null,"The extra dollars are then added to the initial price to find the cost to purchase in 2022.",null,"Find the complete calculation below:"]
[null,null,"1913: $1 = $1\n2023: $1 = $31.05\nYear of purchase: $1 = x",null,null,null,null,null,"r x initial price = $ added",null,"$ added + initial price = Cost to purchase in 2023."]
[null,"Future Projected Cost","The inflation rate for 2022 is found using the most recent data from the U.S. Congress Joint Economic Committee.",null,null,"The difference in years between 2022 and the estimated year of failure is found.",null,null,"The inflation rate is multiplied by the difference in years, as well as the cost to purchase in 2022. This gives us the amount of dollars added past 2022.",null,"The dollars past 2022 are then added to the cost of purchase in 2022 to find the estimated price in the year of failure.",null,"Find the complete calculation below:"]
[null,null,"\"Core\" CPI Inflation for 2023 = 5.6%",null,null,"2023 - Year of Failure = Y",null,null,"0.056 x Y x Cost in 2023 = p",null,"p + Cost in 2023 = Price in Year of Failure",null,"(5.6% x Year of Failure x Cost in 2023)+ Cost in 2023 = Price in Year of Failure"]
[]
[null," Consequence of Failure"]
[null,"Useful Life","The difference between the Year of Failure and 2022 is found.",null,null,"The last remaining 1/3 of useful life is found.",null,null,"If the remaining years of life are less than 1/3 of the Life SUM, then the asset is in the last 1/3 of useful life.",null,"If the remaining years of life are equal to 1/3 of the Life SUM, then the asset is considered to be in the last 1/3 of useful life.",null,"If the remaining years of life are less than 1/3 of the Life SUM, then the asset is not within the last 1/3 of it's useful life.",null,"If there are no years left before estimated failure, the asset is considered at the end of it's useful life."]
[null,null,"Year of Failure - 2023 = y",null,null,"Life SUM x (1/3) = Z",null,null,"y < Z = Yes",null,"y = Z = Yes",null,"y > Z = No",null,"( y = 0 )= Yes"]
[null,"Consequence of Failure (CoF) Score","For each question within this section, a score is assigned depending on the answer. This score is a sum of the individual question scores"]
[null,null,"Yes back-ups = +0\nNo back-ups = +1",null,null,"Loss of water\n0-25% = +0.5\n26-50% = +1\n51-75% = +1.5\n76-100% = +2",null,null,"Yes compliance violations = +1\nNo compliance violations = +0",null,"Yes health/environmental concerns = +1\nNo health/environmental concerns = +0",null,"Sum of questions = Consequence of Failure Score"]
[null,"Probability of Failure (PoF) Score","For each question within this section, a score is assigned depending on the answer. This score is a sum of the individual question scores"]
[null,null,"Yes in last 1/3 of life = +1\nNot in last 1/3 of life = +0",null,null,"Above capacity = +2\nAt capacity = +1\nBelow capacity = +0",null,null,"Yes additional maintenance = +1\nNo additional maintenance = +0",null,"Yes increased maintenance = +1\nNo increased maintenance = +0",null,"Sum of questions = Probability of Failure Score"]
[null,"Criticality Score","Consequence of Failure Score x Probability of Failure Score = Criticality Score.  Max = 25"]

{"sheet":"Inflation Data","index":12,"n_rows":113,"n_cols":3,"rows_kept":113,"cut":false,"hidden":false,"merged":[]}
[]
["YEAR","INFLATION RATE"]
[1913,null,1]
[1914,1.2999999999999999E-2,{"$f":"C3*(1+B4)","v":1.0129999999999999}]
[1915,8.9999999999999993E-3,1.0221169999999997]
[1916,7.6999999999999999E-2,1.1008200089999995]
[1917,0.17799999999999999,1.2967659706019994]
[1918,0.17299999999999999,1.5211064835161454]
[1919,0.152,1.7523146690105993]
[1920,0.156,2.0256757573762525]
[1921,-0.109,1.804877099822241]
[1922,-6.2E-2,1.6929747196332618]
[1923,1.7999999999999999E-2,1.7234482645866607]
[1924,4.0000000000000001E-3,1.7303420576450073]
[1925,2.4E-2,1.7718702670284874]
[1926,8.9999999999999993E-3,1.7878170994317435]
[1927,-1.9E-2,1.7538485745425403]
[1928,-1.2E-2,1.7328023916480297]
[1929,6.0000000000000001E-3,1.743199205997918]
[1930,-6.4000000000000001E-2,1.6316344568140511]
[1931,-9.2999999999999999E-2,1.4798924523303443]
[1932,-0.10299999999999999,1.3274635297403188]
[1933,8.0000000000000002E-3,1.3380832379782412]
[1934,1.4999999999999999E-2,1.3581544865479147]
[1935,0.03,1.3988991211443522]
[1936,1.4E-2,1.4184837088403732]
[1937,2.9000000000000001E-2,1.459619736396744]
[1938,-2.8000000000000001E-2,1.4187503837776352]
[1939,0,1.4187503837776352]
[1940,7.0000000000000001E-3,1.4286816364640784]
[1941,9.9000000000000005E-2,1.5701211184740222]
[1942,0.09,1.7114320191366843]
[1943,0.03,1.7627749797107848]
[1944,2.3E-2,1.8033188042441326]
[1945,2.1999999999999999E-2,1.8429918179375036]
[1946,0.18099999999999999,{"$f":"C35*(1+B36)","v":2.176573336984192}]
[1947,8.7999999999999995E-2,2.368111790638801]
[1948,0.03,2.4391551443579651]
[1949,-2.1000000000000001E-2,2.387932886326448]
[1950,5.8999999999999997E-2,2.5288209266197081]
[1951,0.06,2.6805501822168907]
[1952,8.0000000000000002E-3,2.701994583674626]
[1953,7.0000000000000001E-3,2.7209085457603481]
[1954,-7.0000000000000001E-3,2.7018621859400258]
[1955,4.0000000000000001E-3,2.712669634683786]
[1956,0.03,2.7940497237242998]
[1957,2.9000000000000001E-2,2.8750771657123044]
[1958,1.7999999999999999E-2,2.9268285546951258]
[1959,1.7000000000000001E-2,2.9765846401249427]
[1960,1.4E-2,3.0182568250866919]
[1961,7.0000000000000001E-3,3.0393846228622983]
[1962,1.2999999999999999E-2,3.0788966229595078]
[1963,1.6E-2,3.1281589689268601]
[1964,0.01,3.1594405586161285]
[1965,1.9E-2,3.2194699292298345]
[1966,3.5000000000000003E-2,3.3321513767528783]
[1967,0.03,3.4321159180554646]
[1968,4.7E-2,3.5934253662040714]
[1969,6.2E-2,3.816217738908724]
[1970,5.6000000000000001E-2,4.0299259322876129]
[1971,3.3000000000000002E-2,4.1629134880531034]
[1972,3.4000000000000002E-2,4.3044525466469086]
[1973,8.6999999999999994E-2,4.6789399182051898]
[1974,0.123,5.2544495281444279]
[1975,6.9000000000000006E-2,5.6170065455863929]
[1976,4.9000000000000002E-2,5.8922398663201259]
[1977,6.7000000000000004E-2,6.2870199373635742]
[1978,0.09,{"$f":"C67*(1+B68)","v":6.8528517317262967}]
[1979,0.13300000000000001,7.7642810120458945]
[1980,0.125,8.734816138551631]
[1981,8.8999999999999996E-2,9.5122147748827253]
[1982,3.7999999999999999E-2,9.87367893632827]
[1983,3.7999999999999999E-2,10.248878735908745]
[1984,3.9E-2,10.648585006609185]
[1985,3.7999999999999999E-2,11.053231236860334]
[1986,1.0999999999999999E-2,11.174816780465797]
[1987,4.3999999999999997E-2,11.666508718806293]
[1988,4.3999999999999997E-2,12.179835102433771]
[1989,4.5999999999999999E-2,12.740107517145724]
[1990,6.0999999999999999E-2,13.517254075691612]
[1991,3.1E-2,13.936288952038051]
[1992,2.9000000000000001E-2,14.340441331647154]
[1993,2.7E-2,14.727633247601627]
[1994,2.7E-2,15.12527934528687]
[1995,2.5000000000000001E-2,15.503411328919041]
[1996,3.3000000000000002E-2,16.015023902773368]
[1997,1.7000000000000001E-2,16.287279309120514]
[1998,1.6E-2,16.547875778066441]
[1999,2.7E-2,16.994668424074234]
[2000,3.4000000000000002E-2,17.572487150492758]
[2001,1.6E-2,17.853646944900643]
[2002,2.4E-2,18.282134471578257]
[2003,1.9E-2,18.62949502653824]
[2004,3.3000000000000002E-2,19.244268362414001]
[2005,3.4000000000000002E-2,19.898573486736076]
[2006,2.5000000000000001E-2,20.396037823904475]
[2007,4.1000000000000002E-2,21.232275374684558]
[2008,1E-3,21.253507650059241]
[2009,2.7E-2,21.827352356610838]
[2010,1.4999999999999999E-2,{"$f":"C99*(1+B100)","v":22.154762641959998}]
[2011,0.03,22.819405521218798]
[2012,1.7000000000000001E-2,23.207335415079516]
[2013,1.4999999999999999E-2,23.555445446305708]
[2014,8.0000000000000002E-3,23.743889009876153]
[2015,7.0000000000000001E-3,23.910096232945282]
[2016,2.1000000000000001E-2,24.412208253837132]
[2017,2.1000000000000001E-2,24.924864627167711]
[2018,1.9E-2,25.398437055083896]
[2019,2.3E-2,25.982601107350824]
[2020,1.4E-2,26.346357522853737]
[2021,7.0000000000000007E-2,28.190602549453502]
[2022,4.2999999999999997E-2,29.40279845908]
[2023,5.5999999999999994E-2,31.049355172788481]

{"sheet":"Life Expectancy and Criticality","index":13,"n_rows":399,"n_cols":45,"rows_kept":399,"cut":false,"hidden":false,"merged":[[0,0,0,17],[0,25,0,44]]}
["Life Expectancy ",null,null,null,null,null,null,null,null,null,null,null,null,null,null,null,null,null,null,null,null,null,null,null,null,"Consequence and Probability of Failure "]
["Pump","Hydrant","Meter","Pipe","Source","Tank","Analytical","Treatment","Valve","Control","Safety","Building","Vehicle","Other","Bad","Fair","Good","Great",null,"NORMAL","CONDITION","ROUNDED",null,null,null,"Back-ups","0-25%","25-50%","50-75%","75-100%","Compliance","Concerns",null,"CoF",null,"Life","Above","At","Below","Reliability","Repair",null,"PoF"]
[{"$f":"IF('Data Collection Sheet'!B6=\"Pump\",15,0)","v":0},{"$f":"IF('Data Collection Sheet'!B6=\"Hydrant\",50,0)","v":0},{"$f":"IF('Data Collection Sheet'!B6=\"Meter\",15,0)","v":0},{"$f":"IF('Data Collection Sheet'!B6=\"Pipe\",80,0)","v":0},{"$f":"IF('Data Collection Sheet'!B6=\"Source\",50,0)","v":0},{"$f":"IF('Data Collection Sheet'!B6=\"Tank\",50,0)","v":50},{"$f":"IF('Data Collection Sheet'!B6=\"Analytical\",10,0)","v":0},{"$f":"IF('Data Collection Sheet'!B6=\"Treatment\",20,0)","v":0},{"$f":"IF('Data Collection Sheet'!B6=\"Valve\",20,0)","v":0},{"$f":"IF('Data Collection Sheet'!B6=\"Control\",15,0)","v":0},{"$f":"IF('Data Collection Sheet'!B6=\"Safety\",10,0)","v":0},{"$f":"IF('Data Collection Sheet'!B6=\"Building\",50,0)","v":0},{"$f":"IF('Data Collection Sheet'!B6=\"Vehicle\",8,0)","v":0},{"$f":"IF('Data Collection Sheet'!B6=\"Other\",15,0)","v":0},{"$f":"IF('Data Collection Sheet'!I6=\"Bad\",(-0.8*$T3),0)","v":0},{"$f":"IF('Data Collection Sheet'!I6=\"Fair\",(-0.5*$T3),0)","v":-25},{"$f":"IF('Data Collection Sheet'!I6=\"Good\",(-0.2*$T3),0)","v":0},{"$f":"IF('Data Collection Sheet'!I6=\"Great\",0,0)","v":0},null,{"$f":"SUM(A3:N3)","v":50},{"$f":"SUM($A3:$R3)","v":25},{"$f":"ROUNDDOWN($U3,0)","v":25},null,false,null,{"$f":"IF('Consequence of Failure'!F6=\"No\",1,0)","v":0},{"$f":"IF('Consequence of Failure'!G6=\"0%-25%\",0.5,0)","v":0.5},{"$f":"IF('Consequence of Failure'!G6=\"26%-50%\",1,0)","v":0},{"$f":"IF('Consequence of Failure'!G6=\"51%-75%\",1.5,0)","v":0},{"$f":"IF('Consequence of Failure'!G6=\"76%-100%\",2,0)","v":0},{"$f":"IF('Consequence of Failure'!H6=\"Yes\",1,0)","v":0},{"$f":"IF('Consequence of Failure'!I6=\"Yes\",1,0)","v":0},null,{"$f":"SUM(Z3:AF3)","v":0.5},null,{"$f":"IF('Consequence of Failure'!K6=\"Yes\",1,0)","v":1},{"$f":"IF('Consequence of Failure'!L6=\"Above\",2,0)","v":0},{"$f":"IF('Consequence of Failure'!L6=\"At\",1,0)","v":1},{"$f":"IF('Consequence of Failure'!L6=\"Below\",0,0)","v":0},{"$f":"IF('Consequence of Failure'!M6=\"Yes\",1,0)","v":0},{"$f":"IF('Consequence of Failure'!N6=\"Yes\",1,0)","v":0},null,{"$f":"SUM(AJ3:AO3)","v":2},null,{"$f":"SUM(AH3*AQ3)","v":1}]
[{"$f":"IF('Data Collection Sheet'!B7=\"Pump\",15,0)","v":0},{"$f":"IF('Data Collection Sheet'!B7=\"Hydrant\",50,0)","v":0},{"$f":"IF('Data Collection Sheet'!B7=\"Meter\",15,0)","v":0},{"$f":"IF('Data Collection Sheet'!B7=\"Pipe\",80,0)","v":0},{"$f":"IF('Data Collection Sheet'!B7=\"Source\",50,0)","v":0},{"$f":"IF('Data Collection Sheet'!B7=\"Tank\",50,0)","v":50},{"$f":"IF('Data Collection Sheet'!B7=\"Analytical\",10,0)","v":0},{"$f":"IF('Data Collection Sheet'!B7=\"Treatment\",20,0)","v":0},{"$f":"IF('Data Collection Sheet'!B7=\"Valve\",20,0)","v":0},{"$f":"IF('Data Collection Sheet'!B7=\"Control\",15,0)","v":0},{"$f":"IF('Data Collection Sheet'!B7=\"Safety\",10,0)","v":0},{"$f":"IF('Data Collection Sheet'!B7=\"Building\",50,0)","v":0},{"$f":"IF('Data Collection Sheet'!B7=\"Vehicle\",8,0)","v":0},{"$f":"IF('Data Collection Sheet'!B7=\"Other\",15,0)","v":0},{"$f":"IF('Data Collection Sheet'!I7=\"Bad\",(-0.8*$T4),0)","v":0},{"$f":"IF('Data Collection Sheet'!I7=\"Fair\",(-0.5*$T4),0)","v":-25},{"$f":"IF('Data Collection Sheet'!I7=\"Good\",(-0.2*$T4),0)","v":0},{"$f":"IF('Data Collection Sheet'!I7=\"Great\",0,0)","v":0},null,50,25,25,null,false,null,{"$f":"IF('Consequence of Failure'!F7=\"No\",1,0)","v":0},{"$f":"IF('Consequence of Failure'!G7=\"0%-25%\",0.5,0)","v":0.5},{"$f":"IF('Consequence of Failure'!G7=\"26%-50%\",1,0)","v":0},{"$f":"IF('Consequence of Failure'!G7=\"51%-75%\",1.5,0)","v":0},{"$f":"IF('Consequence of Failure'!G7=\"76%-100%\",2,0)","v":0},{"$f":"IF('Consequence of Failure'!H7=\"Yes\",1,0)","v":0},{"$f":"IF('Consequence of Failure'!I7=\"Yes\",1,0)","v":0},null,0.5,null,{"$f":"IF('Consequence of Failure'!K7=\"Yes\",1,0)","v":1},{"$f":"IF('Consequence of Failure'!L7=\"Above\",2,0)","v":0},{"$f":"IF('Consequence of Failure'!L7=\"At\",1,0)","v":1},{"$f":"IF('Consequence of Failure'!L7=\"Below\",0,0)","v":0},{"$f":"IF('Consequence of Failure'!M7=\"Yes\",1,0)","v":0},{"$f":"IF('Consequence of Failure'!N7=\"Yes\",1,0)","v":0},null,2,null,1]
[{"$f":"IF('Data Collection Sheet'!B8=\"Pump\",15,0)","v":0},{"$f":"IF('Data Collection Sheet'!B8=\"Hydrant\",50,0)","v":0},{"$f":"IF('Data Collection Sheet'!B8=\"Meter\",15,0)","v":0},{"$f":"IF('Data Collection Sheet'!B8=\"Pipe\",80,0)","v":80},{"$f":"IF('Data Collection Sheet'!B8=\"Source\",50,0)","v":0},{"$f":"IF('Data Collection Sheet'!B8=\"Tank\",50,0)","v":0},{"$f":"IF('Data Collection Sheet'!B8=\"Analytical\",10,0)","v":0},{"$f":"IF('Data Collection Sheet'!B8=\"Treatment\",20,0)","v":0},{"$f":"IF('Data Collection Sheet'!B8=\"Valve\",20,0)","v":0},{"$f":"IF('Data Collection Sheet'!B8=\"Control\",15,0)","v":0},{"$f":"IF('Data Collection Sheet'!B8=\"Safety\",10,0)","v":0},{"$f":"IF('Data Collection Sheet'!B8=\"Building\",50,0)","v":0},{"$f":"IF('Data Collection Sheet'!B8=\"Vehicle\",8,0)","v":0},{"$f":"IF('Data Collection Sheet'!B8=\"Other\",15,0)","v":0},{"$f":"IF('Data Collection Sheet'!I8=\"Bad\",(-0.8*$T5),0)","v":0},{"$f":"IF('Data Collection Sheet'!I8=\"Fair\",(-0.5*$T5),0)","v":-40},{"$f":"IF('Data Collection Sheet'!I8=\"Good\",(-0.2*$T5),0)","v":0},{"$f":"IF('Data Collection Sheet'!I8=\"Great\",0,0)","v":0},null,80,40,40,null,false,null,{"$f":"IF('Consequence of Failure'!F8=\"No\",1,0)","v":1},{"$f":"IF('Consequence of Failure'!G8=\"0%-25%\",0.5,0)","v":0.5},{"$f":"IF('Consequence of Failure'!G8=\"26%-50%\",1,0)","v":0},{"$f":"IF('Consequence of Failure'!G8=\"51%-75%\",1.5,0)","v":0},{"$f":"IF('Consequence of Failure'!G8=\"76%-100%\",2,0)","v":0},{"$f":"IF('Consequence of Failure'!H8=\"Yes\",1,0)","v":1},{"$f":"IF('Consequence of Failure'!I8=\"Yes\",1,0)","v":1},null,{"$f":"SUM(Z5:AF5)","v":3.5},null,{"$f":"IF('Consequence of Failure'!K8=\"Yes\",1,0)","v":1},{"$f":"IF('Consequence of Failure'!L8=\"Above\",2,0)","v":0},{"$f":"IF('Consequence of Failure'!L8=\"At\",1,0)","v":0},{"$f":"IF('Consequence of Failure'!L8=\"Below\",0,0)","v":0},{"$f":"IF('Consequence of Failure'!M8=\"Yes\",1,0)","v":1},{"$f":"IF('Consequence of Failure'!N8=\"Yes\",1,0)","v":1},null,{"$f":"SUM(AJ5:AO5)","v":3},null,{"$f":"SUM(AH5*AQ5)","v":10.5}]
[{"$f":"IF('Data Collection Sheet'!B9=\"Pump\",15,0)","v":0},{"$f":"IF('Data Collection Sheet'!B9=\"Hydrant\",50,0)","v":0},{"$f":"IF('Data Collection Sheet'!B9=\"Meter\",15,0)","v":0},{"$f":"IF('Data Collection Sheet'!B9=\"Pipe\",80,0)","v":80},{"$f":"IF('Data Collection Sheet'!B9=\"Source\",50,0)","v":0},{"$f":"IF('Data Collection Sheet'!B9=\"Tank\",50,0)","v":0},{"$f":"IF('Data Collection Sheet'!B9=\"Analytical\",10,0)","v":0},{"$f":"IF('Data Collection Sheet'!B9=\"Treatment\",20,0)","v":0},{"$f":"IF('Data Collection Sheet'!B9=\"Valve\",20,0)","v":0},{"$f":"IF('Data Collection Sheet'!B9=\"Control\",15,0)","v":0},{"$f":"IF('Data Collection Sheet'!B9=\"Safety\",10,0)","v":0},{"$f":"IF('Data Collection Sheet'!B9=\"Building\",50,0)","v":0},{"$f":"IF('Data Collection Sheet'!B9=\"Vehicle\",8,0)","v":0},{"$f":"IF('Data Collection Sheet'!B9=\"Other\",15,0)","v":0},{"$f":"IF('Data Collection Sheet'!I9=\"Bad\",(-0.8*$T6),0)","v":0},{"$f":"IF('Data Collection Sheet'!I9=\"Fair\",(-0.5*$T6),0)","v":-40},{"$f":"IF('Data Collection Sheet'!I9=\"Good\",(-0.2*$T6),0)","v":0},{"$f":"IF('Data Collection Sheet'!I9=\"Great\",0,0)","v":0},null,80,40,40,null,null,null,{"$f":"IF('Consequence of Failure'!F9=\"No\",1,0)","v":1},{"$f":"IF('Consequence of Failure'!G9=\"0%-25%\",0.5,0)","v":0},{"$f":"IF('Consequence of Failure'!G9=\"26%-50%\",1,0)","v":1},{"$f":"IF('Consequence of Failure'!G9=\"51%-75%\",1.5,0)","v":0},{"$f":"IF('Consequence of Failure'!G9=\"76%-100%\",2,0)","v":0},{"$f":"IF('Consequence of Failure'!H9=\"Yes\",1,0)","v":1},{"$f":"IF('Consequence of Failure'!I9=\"Yes\",1,0)","v":1},null,4,null,{"$f":"IF('Consequence of Failure'!K9=\"Yes\",1,0)","v":1},{"$f":"IF('Consequence of Failure'!L9=\"Above\",2,0)","v":0},{"$f":"IF('Consequence of Failure'!L9=\"At\",1,0)","v":0},{"$f":"IF('Consequence of Failure'!L9=\"Below\",0,0)","v":0},{"$f":"IF('Consequence of Failure'!M9=\"Yes\",1,0)","v":1},{"$f":"IF('Consequence of Failure'!N9=\"Yes\",1,0)","v":1},null,3,null,12]
[{"$f":"IF('Data Collection Sheet'!B10=\"Pump\",15,0)","v":0},{"$f":"IF('Data Collection Sheet'!B10=\"Hydrant\",50,0)","v":0},{"$f":"IF('Data Collection Sheet'!B10=\"Meter\",15,0)","v":0},{"$f":"IF('Data Collection Sheet'!B10=\"Pipe\",80,0)","v":80},{"$f":"IF('Data Collection Sheet'!B10=\"Source\",50,0)","v":0},{"$f":"IF('Data Collection Sheet'!B10=\"Tank\",50,0)","v":0},{"$f":"IF('Data Collection Sheet'!B10=\"Analytical\",10,0)","v":0},{"$f":"IF('Data Collection Sheet'!B10=\"Treatment\",20,0)","v":0},{"$f":"IF('Data Collection Sheet'!B10=\"Valve\",20,0)","v":0},{"$f":"IF('Data Collection Sheet'!B10=\"Control\",15,0)","v":0},{"$f":"IF('Data Collection Sheet'!B10=\"Safety\",10,0)","v":0},{"$f":"IF('Data Collection Sheet'!B10=\"Building\",50,0)","v":0},{"$f":"IF('Data Collection Sheet'!B10=\"Vehicle\",8,0)","v":0},{"$f":"IF('Data Collection Sheet'!B10=\"Other\",15,0)","v":0},{"$f":"IF('Data Collection Sheet'!I10=\"Bad\",(-0.8*$T7),0)","v":0},{"$f":"IF('Data Collection Sheet'!I10=\"Fair\",(-0.5*$T7),0)","v":-40},{"$f":"IF('Data Collection Sheet'!I10=\"Good\",(-0.2*$T7),0)","v":0},{"$f":"IF('Data Collection Sheet'!I10=\"Great\",0,0)","v":0},null,80,40,40,null,null,null,{"$f":"IF('Consequence of Failure'!F10=\"No\",1,0)","v":1},{"$f":"IF('Consequence of Failure'!G10=\"0%-25%\",0.5,0)","v":0.5},{"$f":"IF('Consequence of Failure'!G10=\"26%-50%\",1,0)","v":0},{"$f":"IF('Consequence of Failure'!G10=\"51%-75%\",1.5,0)","v":0},{"$f":"IF('Consequence of Failure'!G10=\"76%-100%\",2,0)","v":0},{"$f":"IF('Consequence of Failure'!H10=\"Yes\",1,0)","v":1},{"$f":"IF('Consequence of Failure'!I10=\"Yes\",1,0)","v":1},null,3.5,null,{"$f":"IF('Consequence of Failure'!K10=\"Yes\",1,0)","v":0},{"$f":"IF('Consequence of Failure'!L10=\"Above\",2,0)","v":0},{"$f":"IF('Consequence of Failure'!L10=\"At\",1,0)","v":0},{"$f":"IF('Consequence of Failure'!L10=\"Below\",0,0)","v":0},{"$f":"IF('Consequence of Failure'!M10=\"Yes\",1,0)","v":0},{"$f":"IF('Consequence of Failure'!N10=\"Yes\",1,0)","v":0},null,0,null,0]
[{"$f":"IF('Data Collection Sheet'!B11=\"Pump\",15,0)","v":0},{"$f":"IF('Data Collection Sheet'!B11=\"Hydrant\",50,0)","v":0},{"$f":"IF('Data Collection Sheet'!B11=\"Meter\",15,0)","v":0},{"$f":"IF('Data Collection Sheet'!B11=\"Pipe\",80,0)","v":80},{"$f":"IF('Data Collection Sheet'!B11=\"Source\",50,0)","v":0},{"$f":"IF('Data Collection Sheet'!B11=\"Tank\",50,0)","v":0},{"$f":"IF('Data Collection Sheet'!B11=\"Analytical\",10,0)","v":0},{"$f":"IF('Data Collection Sheet'!B11=\"Treatment\",20,0)","v":0},{"$f":"IF('Data Collection Sheet'!B11=\"Valve\",20,0)","v":0},{"$f":"IF('Data Collection Sheet'!B11=\"Control\",15,0)","v":0},{"$f":"IF('Data Collection Sheet'!B11=\"Safety\",10,0)","v":0},{"$f":"IF('Data Collection Sheet'!B11=\"Building\",50,0)","v":0},{"$f":"IF('Data Collection Sheet'!B11=\"Vehicle\",8,0)","v":0},{"$f":"IF('Data Collection Sheet'!B11=\"Other\",15,0)","v":0},{"$f":"IF('Data Collection Sheet'!I11=\"Bad\",(-0.8*$T8),0)","v":0},{"$f":"IF('Data Collection Sheet'!I11=\"Fair\",(-0.5*$T8),0)","v":-40},{"$f":"IF('Data Collection Sheet'!I11=\"Good\",(-0.2*$T8),0)","v":0},{"$f":"IF('Data Collection Sheet'!I11=\"Great\",0,0)","v":0},null,80,40,40,null,null,null,{"$f":"IF('Consequence of Failure'!F11=\"No\",1,0)","v":1},{"$f":"IF('Consequence of Failure'!G11=\"0%-25%\",0.5,0)","v":0.5},{"$f":"IF('Consequence of Failure'!G11=\"26%-50%\",1,0)","v":0},{"$f":"IF('Consequence of Failure'!G11=\"51%-75%\",1.5,0)","v":0},{"$f":"IF('Consequence of Failure'!G11=\"76%-100%\",2,0)","v":0},{"$f":"IF('Consequence of Failure'!H11=\"Yes\",1,0)","v":1},{"$f":"IF('Consequence of Failure'!I11=\"Yes\",1,0)","v":1},null,3.5,null,{"$f":"IF('Consequence of Failure'!K11=\"Yes\",1,0)","v":1},{"$f":"IF('Consequence of Failure'!L11=\"Above\",2,0)","v":0},{"$f":"IF('Consequence of Failure'!L11=\"At\",1,0)","v":0},{"$f":"IF('Consequence of Failure'!L11=\"Below\",0,0)","v":0},{"$f":"IF('Consequence of Failure'!M11=\"Yes\",1,0)","v":1},{"$f":"IF('Consequence of Failure'!N11=\"Yes\",1,0)","v":1},null,3,null,10.5]
[{"$f":"IF('Data Collection Sheet'!B12=\"Pump\",15,0)","v":0},{"$f":"IF('Data Collection Sheet'!B12=\"Hydrant\",50,0)","v":0},{"$f":"IF('Data Collection Sheet'!B12=\"Meter\",15,0)","v":0},{"$f":"IF('Data Collection Sheet'!B12=\"Pipe\",80,0)","v":80},{"$f":"IF('Data Collection Sheet'!B12=\"Source\",50,0)","v":0},{"$f":"IF('Data Collection Sheet'!B12=\"Tank\",50,0)","v":0},{"$f":"IF('Data Collection Sheet'!B12=\"Analytical\",10,0)","v":0},{"$f":"IF('Data Collection Sheet'!B12=\"Treatment\",20,0)","v":0},{"$f":"IF('Data Collection Sheet'!B12=\"Valve\",20,0)","v":0},{"$f":"IF('Data Collection Sheet'!B12=\"Control\",15,0)","v":0},{"$f":"IF('Data Collection Sheet'!B12=\"Safety\",10,0)","v":0},{"$f":"IF('Data Collection Sheet'!B12=\"Building\",50,0)","v":0},{"$f":"IF('Data Collection Sheet'!B12=\"Vehicle\",8,0)","v":0},{"$f":"IF('Data Collection Sheet'!B12=\"Other\",15,0)","v":0},{"$f":"IF('Data Collection Sheet'!I12=\"Bad\",(-0.8*$T9),0)","v":0},{"$f":"IF('Data Collection Sheet'!I12=\"Fair\",(-0.5*$T9),0)","v":-40},{"$f":"IF('Data Collection Sheet'!I12=\"Good\",(-0.2*$T9),0)","v":0},{"$f":"IF('Data Collection Sheet'!I12=\"Great\",0,0)","v":0},null,80,40,40,null,false,null,{"$f":"IF('Consequence of Failure'!F12=\"No\",1,0)","v":1},{"$f":"IF('Consequence of Failure'!G12=\"0%-25%\",0.5,0)","v":0.5},{"$f":"IF('Consequence of Failure'!G12=\"26%-50%\",1,0)","v":0},{"$f":"IF('Consequence of Failure'!G12=\"51%-75%\",1.5,0)","v":0},{"$f":"IF('Consequence of Failure'!G12=\"76%-100%\",2,0)","v":0},{"$f":"IF('Consequence of Failure'!H12=\"Yes\",1,0)","v":1},{"$f":"IF('Consequence of Failure'!I12=\"Yes\",1,0)","v":1},null,3.5,null,{"$f":"IF('Consequence of Failure'!K12=\"Yes\",1,0)","v":1},{"$f":"IF('Consequence of Failure'!L12=\"Above\",2,0)","v":0},{"$f":"IF('Consequence of Failure'!L12=\"At\",1,0)","v":1},{"$f":"IF('Consequence of Failure'!L12=\"Below\",0,0)","v":0},{"$f":"IF('Consequence of Failure'!M12=\"Yes\",1,0)","v":1},{"$f":"IF('Consequence of Failure'!N12=\"Yes\",1,0)","v":1},null,4,null,14]
[{"$f":"IF('Data Collection Sheet'!B13=\"Pump\",15,0)","v":0},{"$f":"IF('Data Collection Sheet'!B13=\"Hydrant\",50,0)","v":0},{"$f":"IF('Data Collection Sheet'!B13=\"Meter\",15,0)","v":0},{"$f":"IF('Data Collection Sheet'!B13=\"Pipe\",80,0)","v":80},{"$f":"IF('Data Collection Sheet'!B13=\"Source\",50,0)","v":0},{"$f":"IF('Data Collection Sheet'!B13=\"Tank\",50,0)","v":0},{"$f":"IF('Data Collection Sheet'!B13=\"Analytical\",10,0)","v":0},{"$f":"IF('Data Collection Sheet'!B13=\"Treatment\",20,0)","v":0},{"$f":"IF('Data Collection Sheet'!B13=\"Valve\",20,0)","v":0},{"$f":"IF('Data Collection Sheet'!B13=\"Control\",15,0)","v":0},{"$f":"IF('Data Collection Sheet'!B13=\"Safety\",10,0)","v":0},{"$f":"IF('Data Collection Sheet'!B13=\"Building\",50,0)","v":0},{"$f":"IF('Data Collection Sheet'!B13=\"Vehicle\",8,0)","v":0},{"$f":"IF('Data Collection Sheet'!B13=\"Other\",15,0)","v":0},{"$f":"IF('Data Collection Sheet'!I13=\"Bad\",(-0.8*$T10),0)","v":0},{"$f":"IF('Data Collection Sheet'!I13=\"Fair\",(-0.5*$T10),0)","v":-40},{"$f":"IF('Data Collection Sheet'!I13=\"Good\",(-0.2*$T10),0)","v":0},{"$f":"IF('Data Collection Sheet'!I13=\"Great\",0,0)","v":0},null,80,40,40,null,null,null,{"$f":"IF('Consequence of Failure'!F13=\"No\",1,0)","v":1},{"$f":"IF('Consequence of Failure'!G13=\"0%-25%\",0.5,0)","v":0.5},{"$f":"IF('Consequence of Failure'!G13=\"26%-50%\",1,0)","v":0},{"$f":"IF('Consequence of Failure'!G13=\"51%-75%\",1.5,0)","v":0},{"$f":"IF('Consequence of Failure'!G13=\"76%-100%\",2,0)","v":0},{"$f":"IF('Consequence of Failure'!H13=\"Yes\",1,0)","v":1},{"$f":"IF('Consequence of Failure'!I13=\"Yes\",1,0)","v":1},null,3.5,null,{"$f":"IF('Consequence of Failure'!K13=\"Yes\",1,0)","v":1},{"$f":"IF('Consequence of Failure'!L13=\"Above\",2,0)","v":0},{"$f":"IF('Consequence of Failure'!L13=\"At\",1,0)","v":1},{"$f":"IF('Consequence of Failure'!L13=\"Below\",0,0)","v":0},{"$f":"IF('Consequence of Failure'!M13=\"Yes\",1,0)","v":1},{"$f":"IF('Consequence of Failure'!N13=\"Yes\",1,0)","v":1},null,4,null,14]
[{"$f":"IF('Data Collection Sheet'!B14=\"Pump\",15,0)","v":0},{"$f":"IF('Data Collection Sheet'!B14=\"Hydrant\",50,0)","v":0},{"$f":"IF('Data Collection Sheet'!B14=\"Meter\",15,0)","v":0},{"$f":"IF('Data Collection Sheet'!B14=\"Pipe\",80,0)","v":80},{"$f":"IF('Data Collection Sheet'!B14=\"Source\",50,0)","v":0},{"$f":"IF('Data Collection Sheet'!B14=\"Tank\",50,0)","v":0},{"$f":"IF('Data Collection Sheet'!B14=\"Analytical\",10,0)","v":0},{"$f":"IF('Data Collection Sheet'!B14=\"Treatment\",20,0)","v":0},{"$f":"IF('Data Collection Sheet'!B14=\"Valve\",20,0)","v":0},{"$f":"IF('Data Collection Sheet'!B14=\"Control\",15,0)","v":0},{"$f":"IF('Data Collection Sheet'!B14=\"Safety\",10,0)","v":0},{"$f":"IF('Data Collection Sheet'!B14=\"Building\",50,0)","v":0},{"$f":"IF('Data Collection Sheet'!B14=\"Vehicle\",8,0)","v":0},{"$f":"IF('Data Collection Sheet'!B14=\"Other\",15,0)","v":0},{"$f":"IF('Data Collection Sheet'!I14=\"Bad\",(-0.8*$T11),0)","v":0},{"$f":"IF('Data Collection Sheet'!I14=\"Fair\",(-0.5*$T11),0)","v":-40},{"$f":"IF('Data Collection Sheet'!I14=\"Good\",(-0.2*$T11),0)","v":0},{"$f":"IF('Data Collection Sheet'!I14=\"Great\",0,0)","v":0},null,80,40,40,null,null,null,{"$f":"IF('Consequence of Failure'!F14=\"No\",1,0)","v":1},{"$f":"IF('Consequence of Failure'!G14=\"0%-25%\",0.5,0)","v":0.5},{"$f":"IF('Consequence of Failure'!G14=\"26%-50%\",1,0)","v":0},{"$f":"IF('Consequence of Failure'!G14=\"51%-75%\",1.5,0)","v":0},{"$f":"IF('Consequence of Failure'!G14=\"76%-100%\",2,0)","v":0},{"$f":"IF('Consequence of Failure'!H14=\"Yes\",1,0)","v":1},{"$f":"IF('Consequence of Failure'!I14=\"Yes\",1,0)","v":1},null,3.5,null,{"$f":"IF('Consequence of Failure'!K14=\"Yes\",1,0)","v":1},{"$f":"IF('Consequence of Failure'!L14=\"Above\",2,0)","v":0},{"$f":"IF('Consequence of Failure'!L14=\"At\",1,0)","v":1},{"$f":"IF('Consequence of Failure'!L14=\"Below\",0,0)","v":0},{"$f":"IF('Consequence of Failure'!M14=\"Yes\",1,0)","v":1},{"$f":"IF('Consequence of Failure'!N14=\"Yes\",1,0)","v":1},null,4,null,14]
[{"$f":"IF('Data Collection Sheet'!B15=\"Pump\",15,0)","v":0},{"$f":"IF('Data Collection Sheet'!B15=\"Hydrant\",50,0)","v":0},{"$f":"IF('Data Collection Sheet'!B15=\"Meter\",15,0)","v":0},{"$f":"IF('Data Collection Sheet'!B15=\"Pipe\",80,0)","v":80},{"$f":"IF('Data Collection Sheet'!B15=\"Source\",50,0)","v":0},{"$f":"IF('Data Collection Sheet'!B15=\"Tank\",50,0)","v":0},{"$f":"IF('Data Collection Sheet'!B15=\"Analytical\",10,0)","v":0},{"$f":"IF('Data Collection Sheet'!B15=\"Treatment\",20,0)","v":0},{"$f":"IF('Data Collection Sheet'!B15=\"Valve\",20,0)","v":0},{"$f":"IF('Data Collection Sheet'!B15=\"Control\",15,0)","v":0},{"$f":"IF('Data Collection Sheet'!B15=\"Safety\",10,0)","v":0},{"$f":"IF('Data Collection Sheet'!B15=\"Building\",50,0)","v":0},{"$f":"IF('Data Collection Sheet'!B15=\"Vehicle\",8,0)","v":0},{"$f":"IF('Data Collection Sheet'!B15=\"Other\",15,0)","v":0},{"$f":"IF('Data Collection Sheet'!I15=\"Bad\",(-0.8*$T12),0)","v":0},{"$f":"IF('Data Collection Sheet'!I15=\"Fair\",(-0.5*$T12),0)","v":-40},{"$f":"IF('Data Collection Sheet'!I15=\"Good\",(-0.2*$T12),0)","v":0},{"$f":"IF('Data Collection Sheet'!I15=\"Great\",0,0)","v":0},null,80,40,40,null,null,null,{"$f":"IF('Consequence of Failure'!F15=\"No\",1,0)","v":1},{"$f":"IF('Consequence of Failure'!G15=\"0%-25%\",0.5,0)","v":0.5},{"$f":"IF('Consequence of Failure'!G15=\"26%-50%\",1,0)","v":0},{"$f":"IF('Consequence of Failure'!G15=\"51%-75%\",1.5,0)","v":0},{"$f":"IF('Consequence of Failure'!G15=\"76%-100%\",2,0)","v":0},{"$f":"IF('Consequence of Failure'!H15=\"Yes\",1,0)","v":1},{"$f":"IF('Consequence of Failure'!I15=\"Yes\",1,0)","v":1},null,3.5,null,{"$f":"IF('Consequence of Failure'!K15=\"Yes\",1,0)","v":1},{"$f":"IF('Consequence of Failure'!L15=\"Above\",2,0)","v":0},{"$f":"IF('Consequence of Failure'!L15=\"At\",1,0)","v":0},{"$f":"IF('Consequence of Failure'!L15=\"Below\",0,0)","v":0},{"$f":"IF('Consequence of Failure'!M15=\"Yes\",1,0)","v":1},{"$f":"IF('Consequence of Failure'!N15=\"Yes\",1,0)","v":1},null,3,null,10.5]
[{"$f":"IF('Data Collection Sheet'!B16=\"Pump\",15,0)","v":0},{"$f":"IF('Data Collection Sheet'!B16=\"Hydrant\",50,0)","v":0},{"$f":"IF('Data Collection Sheet'!B16=\"Meter\",15,0)","v":0},{"$f":"IF('Data Collection Sheet'!B16=\"Pipe\",80,0)","v":80},{"$f":"IF('Data Collection Sheet'!B16=\"Source\",50,0)","v":0},{"$f":"IF('Data Collection Sheet'!B16=\"Tank\",50,0)","v":0},{"$f":"IF('Data Collection Sheet'!B16=\"Analytical\",10,0)","v":0},{"$f":"IF('Data Collection Sheet'!B16=\"Treatment\",20,0)","v":0},{"$f":"IF('Data Collection Sheet'!B16=\"Valve\",20,0)","v":0},{"$f":"IF('Data Collection Sheet'!B16=\"Control\",15,0)","v":0},{"$f":"IF('Data Collection Sheet'!B16=\"Safety\",10,0)","v":0},{"$f":"IF('Data Collection Sheet'!B16=\"Building\",50,0)","v":0},{"$f":"IF('Data Collection Sheet'!B16=\"Vehicle\",8,0)","v":0},{"$f":"IF('Data Collection Sheet'!B16=\"Other\",15,0)","v":0},{"$f":"IF('Data Collection Sheet'!I16=\"Bad\",(-0.8*$T13),0)","v":0},{"$f":"IF('Data Collection Sheet'!I16=\"Fair\",(-0.5*$T13),0)","v":-40},{"$f":"IF('Data Collection Sheet'!I16=\"Good\",(-0.2*$T13),0)","v":0},{"$f":"IF('Data Collection Sheet'!I16=\"Great\",0,0)","v":0},null,80,40,40,null,null,null,{"$f":"IF('Consequence of Failure'!F16=\"No\",1,0)","v":1},{"$f":"IF('Consequence of Failure'!G16=\"0%-25%\",0.5,0)","v":0.5},{"$f":"IF('Consequence of Failure'!G16=\"26%-50%\",1,0)","v":0},{"$f":"IF('Consequence of Failure'!G16=\"51%-75%\",1.5,0)","v":0},{"$f":"IF('Consequence of Failure'!G16=\"76%-100%\",2,0)","v":0},{"$f":"IF('Consequence of Failure'!H16=\"Yes\",1,0)","v":1},{"$f":"IF('Consequence of Failure'!I16=\"Yes\",1,0)","v":1},null,3.5,null,{"$f":"IF('Consequence of Failure'!K16=\"Yes\",1,0)","v":1},{"$f":"IF('Consequence of Failure'!L16=\"Above\",2,0)","v":0},{"$f":"IF('Consequence of Failure'!L16=\"At\",1,0)","v":0},{"$f":"IF('Consequence of Failure'!L16=\"Below\",0,0)","v":0},{"$f":"IF('Consequence of Failure'!M16=\"Yes\",1,0)","v":1},{"$f":"IF('Consequence of Failure'!N16=\"Yes\",1,0)","v":1},null,3,null,10.5]
[{"$f":"IF('Data Collection Sheet'!B17=\"Pump\",15,0)","v":0},{"$f":"IF('Data Collection Sheet'!B17=\"Hydrant\",50,0)","v":0},{"$f":"IF('Data Collection Sheet'!B17=\"Meter\",15,0)","v":0},{"$f":"IF('Data Collection Sheet'!B17=\"Pipe\",80,0)","v":80},{"$f":"IF('Data Collection Sheet'!B17=\"Source\",50,0)","v":0},{"$f":"IF('Data Collection Sheet'!B17=\"Tank\",50,0)","v":0},{"$f":"IF('Data Collection Sheet'!B17=\"Analytical\",10,0)","v":0},{"$f":"IF('Data Collection Sheet'!B17=\"Treatment\",20,0)","v":0},{"$f":"IF('Data Collection Sheet'!B17=\"Valve\",20,0)","v":0},{"$f":"IF('Data Collection Sheet'!B17=\"Control\",15,0)","v":0},{"$f":"IF('Data Collection Sheet'!B17=\"Safety\",10,0)","v":0},{"$f":"IF('Data Collection Sheet'!B17=\"Building\",50,0)","v":0},{"$f":"IF('Data Collection Sheet'!B17=\"Vehicle\",8,0)","v":0},{"$f":"IF('Data Collection Sheet'!B17=\"Other\",15,0)","v":0},{"$f":"IF('Data Collection Sheet'!I17=\"Bad\",(-0.8*$T14),0)","v":0},{"$f":"IF('Data Collection Sheet'!I17=\"Fair\",(-0.5*$T14),0)","v":-40},{"$f":"IF('Data Collection Sheet'!I17=\"Good\",(-0.2*$T14),0)","v":0},{"$f":"IF('Data Collection Sheet'!I17=\"Great\",0,0)","v":0},null,80,40,40,null,null,null,{"$f":"IF('Consequence of Failure'!F17=\"No\",1,0)","v":1},{"$f":"IF('Consequence of Failure'!G17=\"0%-25%\",0.5,0)","v":0.5},{"$f":"IF('Consequence of Failure'!G17=\"26%-50%\",1,0)","v":0},{"$f":"IF('Consequence of Failure'!G17=\"51%-75%\",1.5,0)","v":0},{"$f":"IF('Consequence of Failure'!G17=\"76%-100%\",2,0)","v":0},{"$f":"IF('Consequence of Failure'!H17=\"Yes\",1,0)","v":1},{"$f":"IF('Consequence of Failure'!I17=\"Yes\",1,0)","v":1},null,3.5,null,{"$f":"IF('Consequence of Failure'!K17=\"Yes\",1,0)","v":1},{"$f":"IF('Consequence of Failure'!L17=\"Above\",2,0)","v":0},{"$f":"IF('Consequence of Failure'!L17=\"At\",1,0)","v":1},{"$f":"IF('Consequence of Failure'!L17=\"Below\",0,0)","v":0},{"$f":"IF('Consequence of Failure'!M17=\"Yes\",1,0)","v":1},{"$f":"IF('Consequence of Failure'!N17=\"Yes\",1,0)","v":1},null,4,null,14]
[{"$f":"IF('Data Collection Sheet'!B18=\"Pump\",15,0)","v":0},{"$f":"IF('Data Collection Sheet'!B18=\"Hydrant\",50,0)","v":50},{"$f":"IF('Data Collection Sheet'!B18=\"Meter\",15,0)","v":0},{"$f":"IF('Data Collection Sheet'!B18=\"Pipe\",80,0)","v":0},{"$f":"IF('Data Collection Sheet'!B18=\"Source\",50,0)","v":0},{"$f":"IF('Data Collection Sheet'!B18=\"Tank\",50,0)","v":0},{"$f":"IF('Data Collection Sheet'!B18=\"Analytical\",10,0)","v":0},{"$f":"IF('Data Collection Sheet'!B18=\"Treatment\",20,0)","v":0},{"$f":"IF('Data Collection Sheet'!B18=\"Valve\",20,0)","v":0},{"$f":"IF('Data Collection Sheet'!B18=\"Control\",15,0)","v":0},{"$f":"IF('Data Collection Sheet'!B18=\"Safety\",10,0)","v":0},{"$f":"IF('Data Collection Sheet'!B18=\"Building\",50,0)","v":0},{"$f":"IF('Data Collection Sheet'!B18=\"Vehicle\",8,0)","v":0},{"$f":"IF('Data Collection Sheet'!B18=\"Other\",15,0)","v":0},{"$f":"IF('Data Collection Sheet'!I18=\"Bad\",(-0.8*$T15),0)","v":0},{"$f":"IF('Data Collection Sheet'!I18=\"Fair\",(-0.5*$T15),0)","v":0},{"$f":"IF('Data Collection Sheet'!I18=\"Good\",(-0.2*$T15),0)","v":-10},{"$f":"IF('Data Collection Sheet'!I18=\"Great\",0,0)","v":0},null,50,40,40,null,null,null,{"$f":"IF('Consequence of Failure'!F18=\"No\",1,0)","v":0},{"$f":"IF('Consequence of Failure'!G18=\"0%-25%\",0.5,0)","v":0.5},{"$f":"IF('Consequence of Failure'!G18=\"26%-50%\",1,0)","v":0},{"$f":"IF('Consequence of Failure'!G18=\"51%-75%\",1.5,0)","v":0},{"$f":"IF('Consequence of Failure'!G18=\"76%-100%\",2,0)","v":0},{"$f":"IF('Consequence of Failure'!H18=\"Yes\",1,0)","v":0},{"$f":"IF('Consequence of Failure'!I18=\"Yes\",1,0)","v":0},null,0.5,null,{"$f":"IF('Consequence of Failure'!K18=\"Yes\",1,0)","v":1},{"$f":"IF('Consequence of Failure'!L18=\"Above\",2,0)","v":0},{"$f":"IF('Consequence of Failure'!L18=\"At\",1,0)","v":1},{"$f":"IF('Consequence of Failure'!L18=\"Below\",0,0)","v":0},{"$f":"IF('Consequence of Failure'!M18=\"Yes\",1,0)","v":1},{"$f":"IF('Consequence of Failure'!N18=\"Yes\",1,0)","v":0},null,3,null,1.5]
[{"$f":"IF('Data Collection Sheet'!B19=\"Pump\",15,0)","v":0},{"$f":"IF('Data Collection Sheet'!B19=\"Hydrant\",50,0)","v":0},{"$f":"IF('Data Collection Sheet'!B19=\"Meter\",15,0)","v":0},{"$f":"IF('Data Collection Sheet'!B19=\"Pipe\",80,0)","v":0},{"$f":"IF('Data Collection Sheet'!B19=\"Source\",50,0)","v":50},{"$f":"IF('Data Collection Sheet'!B19=\"Tank\",50,0)","v":0},{"$f":"IF('Data Collection Sheet'!B19=\"Analytical\",10,0)","v":0},{"$f":"IF('Data Collection Sheet'!B19=\"Treatment\",20,0)","v":0},{"$f":"IF('Data Collection Sheet'!B19=\"Valve\",20,0)","v":0},{"$f":"IF('Data Collection Sheet'!B19=\"Control\",15,0)","v":0},{"$f":"IF('Data Collection Sheet'!B19=\"Safety\",10,0)","v":0},{"$f":"IF('Data Collection Sheet'!B19=\"Building\",50,0)","v":0},{"$f":"IF('Data Collection Sheet'!B19=\"Vehicle\",8,0)","v":0},{"$f":"IF('Data Collection Sheet'!B19=\"Other\",15,0)","v":0},{"$f":"IF('Data Collection Sheet'!I19=\"Bad\",(-0.8*$T16),0)","v":0},{"$f":"IF('Data Collection Sheet'!I19=\"Fair\",(-0.5*$T16),0)","v":0},{"$f":"IF('Data Collection Sheet'!I19=\"Good\",(-0.2*$T16),0)","v":0},{"$f":"IF('Data Collection Sheet'!I19=\"Great\",0,0)","v":0},null,50,50,50,null,null,null,{"$f":"IF('Consequence of Failure'!F19=\"No\",1,0)","v":0},{"$f":"IF('Consequence of Failure'!G19=\"0%-25%\",0.5,0)","v":0.5},{"$f":"IF('Consequence of Failure'!G19=\"26%-50%\",1,0)","v":0},{"$f":"IF('Consequence of Failure'!G19=\"51%-75%\",1.5,0)","v":0},{"$f":"IF('Consequence of Failure'!G19=\"76%-100%\",2,0)","v":0},{"$f":"IF('Consequence of Failure'!H19=\"Yes\",1,0)","v":1},{"$f":"IF('Consequence of Failure'!I19=\"Yes\",1,0)","v":0},null,1.5,null,{"$f":"IF('Consequence of Failure'!K19=\"Yes\",1,0)","v":0},{"$f":"IF('Consequence of Failure'!L19=\"Above\",2,0)","v":0},{"$f":"IF('Consequence of Failure'!L19=\"At\",1,0)","v":0},{"$f":"IF('Consequence of Failure'!L19=\"Below\",0,0)","v":0},{"$f":"IF('Consequence of Failure'!M19=\"Yes\",1,0)","v":0},{"$f":"IF('Consequence of Failure'!N19=\"Yes\",1,0)","v":0},null,0,null,0]
[{"$f":"IF('Data Collection Sheet'!B20=\"Pump\",15,0)","v":0},{"$f":"IF('Data Collection Sheet'!B20=\"Hydrant\",50,0)","v":0},{"$f":"IF('Data Collection Sheet'!B20=\"Meter\",15,0)","v":0},{"$f":"IF('Data Collection Sheet'!B20=\"Pipe\",80,0)","v":0},{"$f":"IF('Data Collection Sheet'!B20=\"Source\",50,0)","v":50},{"$f":"IF('Data Collection Sheet'!B20=\"Tank\",50,0)","v":0},{"$f":"IF('Data Collection Sheet'!B20=\"Analytical\",10,0)","v":0},{"$f":"IF('Data Collection Sheet'!B20=\"Treatment\",20,0)","v":0},{"$f":"IF('Data Collection Sheet'!B20=\"Valve\",20,0)","v":0},{"$f":"IF('Data Collection Sheet'!B20=\"Control\",15,0)","v":0},{"$f":"IF('Data Collection Sheet'!B20=\"Safety\",10,0)","v":0},{"$f":"IF('Data Collection Sheet'!B20=\"Building\",50,0)","v":0},{"$f":"IF('Data Collection Sheet'!B20=\"Vehicle\",8,0)","v":0},{"$f":"IF('Data Collection Sheet'!B20=\"Other\",15,0)","v":0},{"$f":"IF('Data Collection Sheet'!I20=\"Bad\",(-0.8*$T17),0)","v":0},{"$f":"IF('Data Collection Sheet'!I20=\"Fair\",(-0.5*$T17),0)","v":0},{"$f":"IF('Data Collection Sheet'!I20=\"Good\",(-0.2*$T17),0)","v":0},{"$f":"IF('Data Collection Sheet'!I20=\"Great\",0,0)","v":0},null,50,50,50,null,null,null,{"$f":"IF('Consequence of Failure'!F20=\"No\",1,0)","v":0},{"$f":"IF('Consequence of Failure'!G20=\"0%-25%\",0.5,0)","v":0.5},{"$f":"IF('Consequence of Failure'!G20=\"26%-50%\",1,0)","v":0},{"$f":"IF('Consequence of Failure'!G20=\"51%-75%\",1.5,0)","v":0},{"$f":"IF('Consequence of Failure'!G20=\"76%-100%\",2,0)","v":0},{"$f":"IF('Consequence of Failure'!H20=\"Yes\",1,0)","v":1},{"$f":"IF('Consequence of Failure'!I20=\"Yes\",1,0)","v":0},null,1.5,null,{"$f":"IF('Consequence of Failure'!K20=\"Yes\",1,0)","v":0},{"$f":"IF('Consequence of Failure'!L20=\"Above\",2,0)","v":0},{"$f":"IF('Consequence of Failure'!L20=\"At\",1,0)","v":1},{"$f":"IF('Consequence of Failure'!L20=\"Below\",0,0)","v":0},{"$f":"IF('Consequence of Failure'!M20=\"Yes\",1,0)","v":0},{"$f":"IF('Consequence of Failure'!N20=\"Yes\",1,0)","v":0},null,1,null,1.5]
[{"$f":"IF('Data Collection Sheet'!B21=\"Pump\",15,0)","v":15},{"$f":"IF('Data Collection Sheet'!B21=\"Hydrant\",50,0)","v":0},{"$f":"IF('Data Collection Sheet'!B21=\"Meter\",15,0)","v":0},{"$f":"IF('Data Collection Sheet'!B21=\"Pipe\",80,0)","v":0},{"$f":"IF('Data Collection Sheet'!B21=\"Source\",50,0)","v":0},{"$f":"IF('Data Collection Sheet'!B21=\"Tank\",50,0)","v":0},{"$f":"IF('Data Collection Sheet'!B21=\"Analytical\",10,0)","v":0},{"$f":"IF('Data Collection Sheet'!B21=\"Treatment\",20,0)","v":0},{"$f":"IF('Data Collection Sheet'!B21=\"Valve\",20,0)","v":0},{"$f":"IF('Data Collection Sheet'!B21=\"Control\",15,0)","v":0},{"$f":"IF('Data Collection Sheet'!B21=\"Safety\",10,0)","v":0},{"$f":"IF('Data Collection Sheet'!B21=\"Building\",50,0)","v":0},{"$f":"IF('Data Collection Sheet'!B21=\"Vehicle\",8,0)","v":0},{"$f":"IF('Data Collection Sheet'!B21=\"Other\",15,0)","v":0},{"$f":"IF('Data Collection Sheet'!I21=\"Bad\",(-0.8*$T18),0)","v":0},{"$f":"IF('Data Collection Sheet'!I21=\"Fair\",(-0.5*$T18),0)","v":0},{"$f":"IF('Data Collection Sheet'!I21=\"Good\",(-0.2*$T18),0)","v":0},{"$f":"IF('Data Collection Sheet'!I21=\"Great\",0,0)","v":0},null,15,15,15,null,null,null,{"$f":"IF('Consequence of Failure'!F21=\"No\",1,0)","v":0},{"$f":"IF('Consequence of Failure'!G21=\"0%-25%\",0.5,0)","v":0.5},{"$f":"IF('Consequence of Failure'!G21=\"26%-50%\",1,0)","v":0},{"$f":"IF('Consequence of Failure'!G21=\"51%-75%\",1.5,0)","v":0},{"$f":"IF('Consequence of Failure'!G21=\"76%-100%\",2,0)","v":0},{"$f":"IF('Consequence of Failure'!H21=\"Yes\",1,0)","v":1},{"$f":"IF('Consequence of Failure'!I21=\"Yes\",1,0)","v":0},null,1.5,null,{"$f":"IF('Consequence of Failure'!K21=\"Yes\",1,0)","v":0},{"$f":"IF('Consequence of Failure'!L21=\"Above\",2,0)","v":0},{"$f":"IF('Consequence of Failure'!L21=\"At\",1,0)","v":0},{"$f":"IF('Consequence of Failure'!L21=\"Below\",0,0)","v":0},{"$f":"IF('Consequence of Failure'!M21=\"Yes\",1,0)","v":0},{"$f":"IF('Consequence of Failure'!N21=\"Yes\",1,0)","v":0},null,0,null,0]
[{"$f":"IF('Data Collection Sheet'!B22=\"Pump\",15,0)","v":15},{"$f":"IF('Data Collection Sheet'!B22=\"Hydrant\",50,0)","v":0},{"$f":"IF('Data Collection Sheet'!B22=\"Meter\",15,0)","v":0},{"$f":"IF('Data Collection Sheet'!B22=\"Pipe\",80,0)","v":0},{"$f":"IF('Data Collection Sheet'!B22=\"Source\",50,0)","v":0},{"$f":"IF('Data Collection Sheet'!B22=\"Tank\",50,0)","v":0},{"$f":"IF('Data Collection Sheet'!B22=\"Analytical\",10,0)","v":0},{"$f":"IF('Data Collection Sheet'!B22=\"Treatment\",20,0)","v":0},{"$f":"IF('Data Collection Sheet'!B22=\"Valve\",20,0)","v":0},{"$f":"IF('Data Collection Sheet'!B22=\"Control\",15,0)","v":0},{"$f":"IF('Data Collection Sheet'!B22=\"Safety\",10,0)","v":0},{"$f":"IF('Data Collection Sheet'!B22=\"Building\",50,0)","v":0},{"$f":"IF('Data Collection Sheet'!B22=\"Vehicle\",8,0)","v":0},{"$f":"IF('Data Collection Sheet'!B22=\"Other\",15,0)","v":0},{"$f":"IF('Data Collection Sheet'!I22=\"Bad\",(-0.8*$T19),0)","v":0},{"$f":"IF('Data Collection Sheet'!I22=\"Fair\",(-0.5*$T19),0)","v":0},{"$f":"IF('Data Collection Sheet'!I22=\"Good\",(-0.2*$T19),0)","v":0},{"$f":"IF('Data Collection Sheet'!I22=\"Great\",0,0)","v":0},null,15,15,15,null,null,null,{"$f":"IF('Consequence of Failure'!F22=\"No\",1,0)","v":0},{"$f":"IF('Consequence of Failure'!G22=\"0%-25%\",0.5,0)","v":0.5},{"$f":"IF('Consequence of Failure'!G22=\"26%-50%\",1,0)","v":0},{"$f":"IF('Consequence of Failure'!G22=\"51%-75%\",1.5,0)","v":0},{"$f":"IF('Consequence of Failure'!G22=\"76%-100%\",2,0)","v":0},{"$f":"IF('Consequence of Failure'!H22=\"Yes\",1,0)","v":1},{"$f":"IF('Consequence of Failure'!I22=\"Yes\",1,0)","v":0},null,1.5,null,{"$f":"IF('Consequence of Failure'!K22=\"Yes\",1,0)","v":0},{"$f":"IF('Consequence of Failure'!L22=\"Above\",2,0)","v":0},{"$f":"IF('Consequence of Failure'!L22=\"At\",1,0)","v":0},{"$f":"IF('Consequence of Failure'!L22=\"Below\",0,0)","v":0},{"$f":"IF('Consequence of Failure'!M22=\"Yes\",1,0)","v":0},{"$f":"IF('Consequence of Failure'!N22=\"Yes\",1,0)","v":0},null,0,null,0]
[{"$f":"IF('Data Collection Sheet'!B23=\"Pump\",15,0)","v":0},{"$f":"IF('Data Collection Sheet'!B23=\"Hydrant\",50,0)","v":0},{"$f":"IF('Data Collection Sheet'!B23=\"Meter\",15,0)","v":15},{"$f":"IF('Data Collection Sheet'!B23=\"Pipe\",80,0)","v":0},{"$f":"IF('Data Collection Sheet'!B23=\"Source\",50,0)","v":0},{"$f":"IF('Data Collection Sheet'!B23=\"Tank\",50,0)","v":0},{"$f":"IF('Data Collection Sheet'!B23=\"Analytical\",10,0)","v":0},{"$f":"IF('Data Collection Sheet'!B23=\"Treatment\",20,0)","v":0},{"$f":"IF('Data Collection Sheet'!B23=\"Valve\",20,0)","v":0},{"$f":"IF('Data Collection Sheet'!B23=\"Control\",15,0)","v":0},{"$f":"IF('Data Collection Sheet'!B23=\"Safety\",10,0)","v":0},{"$f":"IF('Data Collection Sheet'!B23=\"Building\",50,0)","v":0},{"$f":"IF('Data Collection Sheet'!B23=\"Vehicle\",8,0)","v":0},{"$f":"IF('Data Collection Sheet'!B23=\"Other\",15,0)","v":0},{"$f":"IF('Data Collection Sheet'!I23=\"Bad\",(-0.8*$T20),0)","v":0},{"$f":"IF('Data Collection Sheet'!I23=\"Fair\",(-0.5*$T20),0)","v":0},{"$f":"IF('Data Collection Sheet'!I23=\"Good\",(-0.2*$T20),0)","v":0},{"$f":"IF('Data Collection Sheet'!I23=\"Great\",0,0)","v":0},null,15,15,15,null,null,null,{"$f":"IF('Consequence of Failure'!F23=\"No\",1,0)","v":0},{"$f":"IF('Consequence of Failure'!G23=\"0%-25%\",0.5,0)","v":0.5},{"$f":"IF('Consequence of Failure'!G23=\"26%-50%\",1,0)","v":0},{"$f":"IF('Consequence of Failure'!G23=\"51%-75%\",1.5,0)","v":0},{"$f":"IF('Consequence of Failure'!G23=\"76%-100%\",2,0)","v":0},{"$f":"IF('Consequence of Failure'!H23=\"Yes\",1,0)","v":1},{"$f":"IF('Consequence of Failure'!I23=\"Yes\",1,0)","v":0},null,1.5,null,{"$f":"IF('Consequence of Failure'!K23=\"Yes\",1,0)","v":0},{"$f":"IF('Consequence of Failure'!L23=\"Above\",2,0)","v":0},{"$f":"IF('Consequence of Failure'!L23=\"At\",1,0)","v":0},{"$f":"IF('Consequence of Failure'!L23=\"Below\",0,0)","v":0},{"$f":"IF('Consequence of Failure'!M23=\"Yes\",1,0)","v":0},{"$f":"IF('Consequence of Failure'!N23=\"Yes\",1,0)","v":0},null,0,null,0]
[{"$f":"IF('Data Collection Sheet'!B24=\"Pump\",15,0)","v":0},{"$f":"IF('Data Collection Sheet'!B24=\"Hydrant\",50,0)","v":0},{"$f":"IF('Data Collection Sheet'!B24=\"Meter\",15,0)","v":15},{"$f":"IF('Data Collection Sheet'!B24=\"Pipe\",80,0)","v":0},{"$f":"IF('Data Collection Sheet'!B24=\"Source\",50,0)","v":0},{"$f":"IF('Data Collection Sheet'!B24=\"Tank\",50,0)","v":0},{"$f":"IF('Data Collection Sheet'!B24=\"Analytical\",10,0)","v":0},{"$f":"IF('Data Collection Sheet'!B24=\"Treatment\",20,0)","v":0},{"$f":"IF('Data Collection Sheet'!B24=\"Valve\",20,0)","v":0},{"$f":"IF('Data Collection Sheet'!B24=\"Control\",15,0)","v":0},{"$f":"IF('Data Collection Sheet'!B24=\"Safety\",10,0)","v":0},{"$f":"IF('Data Collection Sheet'!B24=\"Building\",50,0)","v":0},{"$f":"IF('Data Collection Sheet'!B24=\"Vehicle\",8,0)","v":0},{"$f":"IF('Data Collection Sheet'!B24=\"Other\",15,0)","v":0},{"$f":"IF('Data Collection Sheet'!I24=\"Bad\",(-0.8*$T21),0)","v":0},{"$f":"IF('Data Collection Sheet'!I24=\"Fair\",(-0.5*$T21),0)","v":0},{"$f":"IF('Data Collection Sheet'!I24=\"Good\",(-0.2*$T21),0)","v":0},{"$f":"IF('Data Collection Sheet'!I24=\"Great\",0,0)","v":0},null,15,15,15,null,null,null,{"$f":"IF('Consequence of Failure'!F24=\"No\",1,0)","v":0},{"$f":"IF('Consequence of Failure'!G24=\"0%-25%\",0.5,0)","v":0.5},{"$f":"IF('Consequence of Failure'!G24=\"26%-50%\",1,0)","v":0},{"$f":"IF('Consequence of Failure'!G24=\"51%-75%\",1.5,0)","v":0},{"$f":"IF('Consequence of Failure'!G24=\"76%-100%\",2,0)","v":0},{"$f":"IF('Consequence of Failure'!H24=\"Yes\",1,0)","v":1},{"$f":"IF('Consequence of Failure'!I24=\"Yes\",1,0)","v":0},null,1.5,null,{"$f":"IF('Consequence of Failure'!K24=\"Yes\",1,0)","v":0},{"$f":"IF('Consequence of Failure'!L24=\"Above\",2,0)","v":0},{"$f":"IF('Consequence of Failure'!L24=\"At\",1,0)","v":0},{"$f":"IF('Consequence of Failure'!L24=\"Below\",0,0)","v":0},{"$f":"IF('Consequence of Failure'!M24=\"Yes\",1,0)","v":0},{"$f":"IF('Consequence of Failure'!N24=\"Yes\",1,0)","v":0},null,0,null,0]
[{"$f":"IF('Data Collection Sheet'!B25=\"Pump\",15,0)","v":0},{"$f":"IF('Data Collection Sheet'!B25=\"Hydrant\",50,0)","v":0},{"$f":"IF('Data Collection Sheet'!B25=\"Meter\",15,0)","v":0},{"$f":"IF('Data Collection Sheet'!B25=\"Pipe\",80,0)","v":0},{"$f":"IF('Data Collection Sheet'!B25=\"Source\",50,0)","v":0},{"$f":"IF('Data Collection Sheet'!B25=\"Tank\",50,0)","v":0},{"$f":"IF('Data Collection Sheet'!B25=\"Analytical\",10,0)","v":0},{"$f":"IF('Data Collection Sheet'!B25=\"Treatment\",20,0)","v":0},{"$f":"IF('Data Collection Sheet'!B25=\"Valve\",20,0)","v":0},{"$f":"IF('Data Collection Sheet'!B25=\"Control\",15,0)","v":0},{"$f":"IF('Data Collection Sheet'!B25=\"Safety\",10,0)","v":0},{"$f":"IF('Data Collection Sheet'!B25=\"Building\",50,0)","v":50},{"$f":"IF('Data Collection Sheet'!B25=\"Vehicle\",8,0)","v":0},{"$f":"IF('Data Collection Sheet'!B25=\"Other\",15,0)","v":0},{"$f":"IF('Data Collection Sheet'!I25=\"Bad\",(-0.8*$T22),0)","v":0},{"$f":"IF('Data Collection Sheet'!I25=\"Fair\",(-0.5*$T22),0)","v":0},{"$f":"IF('Data Collection Sheet'!I25=\"Good\",(-0.2*$T22),0)","v":0},{"$f":"IF('Data Collection Sheet'!I25=\"Great\",0,0)","v":0},null,50,50,50,null,null,null,{"$f":"IF('Consequence of Failure'!F25=\"No\",1,0)","v":0},{"$f":"IF('Consequence of Failure'!G25=\"0%-25%\",0.5,0)","v":0.5},{"$f":"IF('Consequence of Failure'!G25=\"26%-50%\",1,0)","v":0},{"$f":"IF('Consequence of Failure'!G25=\"51%-75%\",1.5,0)","v":0},{"$f":"IF('Consequence of Failure'!G25=\"76%-100%\",2,0)","v":0},{"$f":"IF('Consequence of Failure'!H25=\"Yes\",1,0)","v":1},{"$f":"IF('Consequence of Failure'!I25=\"Yes\",1,0)","v":0},null,1.5,null,{"$f":"IF('Consequence of Failure'!K25=\"Yes\",1,0)","v":0},{"$f":"IF('Consequence of Failure'!L25=\"Above\",2,0)","v":0},{"$f":"IF('Consequence of Failure'!L25=\"At\",1,0)","v":1},{"$f":"IF('Consequence of Failure'!L25=\"Below\",0,0)","v":0},{"$f":"IF('Consequence of Failure'!M25=\"Yes\",1,0)","v":0},{"$f":"IF('Consequence of Failure'!N25=\"Yes\",1,0)","v":0},null,1,null,1.5]
[{"$f":"IF('Data Collection Sheet'!B26=\"Pump\",15,0)","v":0},{"$f":"IF('Data Collection Sheet'!B26=\"Hydrant\",50,0)","v":0},{"$f":"IF('Data Collection Sheet'!B26=\"Meter\",15,0)","v":0},{"$f":"IF('Data Collection Sheet'!B26=\"Pipe\",80,0)","v":0},{"$f":"IF('Data Collection Sheet'!B26=\"Source\",50,0)","v":0},{"$f":"IF('Data Collection Sheet'!B26=\"Tank\",50,0)","v":50},{"$f":"IF('Data Collection Sheet'!B26=\"Analytical\",10,0)","v":0},{"$f":"IF('Data Collection Sheet'!B26=\"Treatment\",20,0)","v":0},{"$f":"IF('Data Collection Sheet'!B26=\"Valve\",20,0)","v":0},{"$f":"IF('Data Collection Sheet'!B26=\"Control\",15,0)","v":0},{"$f":"IF('Data Collection Sheet'!B26=\"Safety\",10,0)","v":0},{"$f":"IF('Data Collection Sheet'!B26=\"Building\",50,0)","v":0},{"$f":"IF('Data Collection Sheet'!B26=\"Vehicle\",8,0)","v":0},{"$f":"IF('Data Collection Sheet'!B26=\"Other\",15,0)","v":0},{"$f":"IF('Data Collection Sheet'!I26=\"Bad\",(-0.8*$T23),0)","v":0},{"$f":"IF('Data Collection Sheet'!I26=\"Fair\",(-0.5*$T23),0)","v":0},{"$f":"IF('Data Collection Sheet'!I26=\"Good\",(-0.2*$T23),0)","v":0},{"$f":"IF('Data Collection Sheet'!I26=\"Great\",0,0)","v":0},null,50,50,50,null,null,null,{"$f":"IF('Consequence of Failure'!F26=\"No\",1,0)","v":0},{"$f":"IF('Consequence of Failure'!G26=\"0%-25%\",0.5,0)","v":0.5},{"$f":"IF('Consequence of Failure'!G26=\"26%-50%\",1,0)","v":0},{"$f":"IF('Consequence of Failure'!G26=\"51%-75%\",1.5,0)","v":0},{"$f":"IF('Consequence of Failure'!G26=\"76%-100%\",2,0)","v":0},{"$f":"IF('Consequence of Failure'!H26=\"Yes\",1,0)","v":0},{"$f":"IF('Consequence of Failure'!I26=\"Yes\",1,0)","v":0},null,0.5,null,{"$f":"IF('Consequence of Failure'!K26=\"Yes\",1,0)","v":0},{"$f":"IF('Consequence of Failure'!L26=\"Above\",2,0)","v":0},{"$f":"IF('Consequence of Failure'!L26=\"At\",1,0)","v":1},{"$f":"IF('Consequence of Failure'!L26=\"Below\",0,0)","v":0},{"$f":"IF('Consequence of Failure'!M26=\"Yes\",1,0)","v":0},{"$f":"IF('Consequence of Failure'!N26=\"Yes\",1,0)","v":0},null,1,null,0.5]
[{"$f":"IF('Data Collection Sheet'!B27=\"Pump\",15,0)","v":15},{"$f":"IF('Data Collection Sheet'!B27=\"Hydrant\",50,0)","v":0},{"$f":"IF('Data Collection Sheet'!B27=\"Meter\",15,0)","v":0},{"$f":"IF('Data Collection Sheet'!B27=\"Pipe\",80,0)","v":0},{"$f":"IF('Data Collection Sheet'!B27=\"Source\",50,0)","v":0},{"$f":"IF('Data Collection Sheet'!B27=\"Tank\",50,0)","v":0},{"$f":"IF('Data Collection Sheet'!B27=\"Analytical\",10,0)","v":0},{"$f":"IF('Data Collection Sheet'!B27=\"Treatment\",20,0)","v":0},{"$f":"IF('Data Collection Sheet'!B27=\"Valve\",20,0)","v":0},{"$f":"IF('Data Collection Sheet'!B27=\"Control\",15,0)","v":0},{"$f":"IF('Data Collection Sheet'!B27=\"Safety\",10,0)","v":0},{"$f":"IF('Data Collection Sheet'!B27=\"Building\",50,0)","v":0},{"$f":"IF('Data Collection Sheet'!B27=\"Vehicle\",8,0)","v":0},{"$f":"IF('Data Collection Sheet'!B27=\"Other\",15,0)","v":0},{"$f":"IF('Data Collection Sheet'!I27=\"Bad\",(-0.8*$T24),0)","v":0},{"$f":"IF('Data Collection Sheet'!I27=\"Fair\",(-0.5*$T24),0)","v":0},{"$f":"IF('Data Collection Sheet'!I27=\"Good\",(-0.2*$T24),0)","v":0},{"$f":"IF('Data Collection Sheet'!I27=\"Great\",0,0)","v":0},null,15,15,15,null,null,null,{"$f":"IF('Consequence of Failure'!F27=\"No\",1,0)","v":0},{"$f":"IF('Consequence of Failure'!G27=\"0%-25%\",0.5,0)","v":0.5},{"$f":"IF('Consequence of Failure'!G27=\"26%-50%\",1,0)","v":0},{"$f":"IF('Consequence of Failure'!G27=\"51%-75%\",1.5,0)","v":0},{"$f":"IF('Consequence of Failure'!G27=\"76%-100%\",2,0)","v":0},{"$f":"IF('Consequence of Failure'!H27=\"Yes\",1,0)","v":1},{"$f":"IF('Consequence of Failure'!I27=\"Yes\",1,0)","v":1},null,2.5,null,{"$f":"IF('Consequence of Failure'!K27=\"Yes\",1,0)","v":0},{"$f":"IF('Consequence of Failure'!L27=\"Above\",2,0)","v":0},{"$f":"IF('Consequence of Failure'!L27=\"At\",1,0)","v":1},{"$f":"IF('Consequence of Failure'!L27=\"Below\",0,0)","v":0},{"$f":"IF('Consequence of Failure'!M27=\"Yes\",1,0)","v":0},{"$f":"IF('Consequence of Failure'!N27=\"Yes\",1,0)","v":0},null,1,null,2.5]
[{"$f":"IF('Data Collection Sheet'!B28=\"Pump\",15,0)","v":15},{"$f":"IF('Data Collection Sheet'!B28=\"Hydrant\",50,0)","v":0},{"$f":"IF('Data Collection Sheet'!B28=\"Meter\",15,0)","v":0},{"$f":"IF('Data Collection Sheet'!B28=\"Pipe\",80,0)","v":0},{"$f":"IF('Data Collection Sheet'!B28=\"Source\",50,0)","v":0},{"$f":"IF('Data Collection Sheet'!B28=\"Tank\",50,0)","v":0},{"$f":"IF('Data Collection Sheet'!B28=\"Analytical\",10,0)","v":0},{"$f":"IF('Data Collection Sheet'!B28=\"Treatment\",20,0)","v":0},{"$f":"IF('Data Collection Sheet'!B28=\"Valve\",20,0)","v":0},{"$f":"IF('Data Collection Sheet'!B28=\"Control\",15,0)","v":0},{"$f":"IF('Data Collection Sheet'!B28=\"Safety\",10,0)","v":0},{"$f":"IF('Data Collection Sheet'!B28=\"Building\",50,0)","v":0},{"$f":"IF('Data Collection Sheet'!B28=\"Vehicle\",8,0)","v":0},{"$f":"IF('Data Collection Sheet'!B28=\"Other\",15,0)","v":0},{"$f":"IF('Data Collection Sheet'!I28=\"Bad\",(-0.8*$T25),0)","v":0},{"$f":"IF('Data Collection Sheet'!I28=\"Fair\",(-0.5*$T25),0)","v":0},{"$f":"IF('Data Collection Sheet'!I28=\"Good\",(-0.2*$T25),0)","v":0},{"$f":"IF('Data Collection Sheet'!I28=\"Great\",0,0)","v":0},null,15,15,15,null,null,null,{"$f":"IF('Consequence of Failure'!F28=\"No\",1,0)","v":0},{"$f":"IF('Consequence of Failure'!G28=\"0%-25%\",0.5,0)","v":0.5},{"$f":"IF('Consequence of Failure'!G28=\"26%-50%\",1,0)","v":0},{"$f":"IF('Consequence of Failure'!G28=\"51%-75%\",1.5,0)","v":0},{"$f":"IF('Consequence of Failure'!G28=\"76%-100%\",2,0)","v":0},{"$f":"IF('Consequence of Failure'!H28=\"Yes\",1,0)","v":1},{"$f":"IF('Consequence of Failure'!I28=\"Yes\",1,0)","v":1},null,2.5,null,{"$f":"IF('Consequence of Failure'!K28=\"Yes\",1,0)","v":0},{"$f":"IF('Consequence of Failure'!L28=\"Above\",2,0)","v":0},{"$f":"IF('Consequence of Failure'!L28=\"At\",1,0)","v":1},{"$f":"IF('Consequence of Failure'!L28=\"Below\",0,0)","v":0},{"$f":"IF('Consequence of Failure'!M28=\"Yes\",1,0)","v":0},{"$f":"IF('Consequence of Failure'!N28=\"Yes\",1,0)","v":0},null,1,null,2.5]
[{"$f":"IF('Data Collection Sheet'!B29=\"Pump\",15,0)","v":0},{"$f":"IF('Data Collection Sheet'!B29=\"Hydrant\",50,0)","v":0},{"$f":"IF('Data Collection Sheet'!B29=\"Meter\",15,0)","v":0},{"$f":"IF('Data Collection Sheet'!B29=\"Pipe\",80,0)","v":0},{"$f":"IF('Data Collection Sheet'!B29=\"Source\",50,0)","v":0},{"$f":"IF('Data Collection Sheet'!B29=\"Tank\",50,0)","v":0},{"$f":"IF('Data Collection Sheet'!B29=\"Analytical\",10,0)","v":0},{"$f":"IF('Data Collection Sheet'!B29=\"Treatment\",20,0)","v":0},{"$f":"IF('Data Collection Sheet'!B29=\"Valve\",20,0)","v":0},{"$f":"IF('Data Collection Sheet'!B29=\"Control\",15,0)","v":15},{"$f":"IF('Data Collection Sheet'!B29=\"Safety\",10,0)","v":0},{"$f":"IF('Data Collection Sheet'!B29=\"Building\",50,0)","v":0},{"$f":"IF('Data Collection Sheet'!B29=\"Vehicle\",8,0)","v":0},{"$f":"IF('Data Collection Sheet'!B29=\"Other\",15,0)","v":0},{"$f":"IF('Data Collection Sheet'!I29=\"Bad\",(-0.8*$T26),0)","v":0},{"$f":"IF('Data Collection Sheet'!I29=\"Fair\",(-0.5*$T26),0)","v":0},{"$f":"IF('Data Collection Sheet'!I29=\"Good\",(-0.2*$T26),0)","v":0},{"$f":"IF('Data Collection Sheet'!I29=\"Great\",0,0)","v":0},null,15,15,15,null,null,null,{"$f":"IF('Consequence of Failure'!F29=\"No\",1,0)","v":1},{"$f":"IF('Consequence of Failure'!G29=\"0%-25%\",0.5,0)","v":0.5},{"$f":"IF('Consequence of Failure'!G29=\"26%-50%\",1,0)","v":0},{"$f":"IF('Consequence of Failure'!G29=\"51%-75%\",1.5,0)","v":0},{"$f":"IF('Consequence of Failure'!G29=\"76%-100%\",2,0)","v":0},{"$f":"IF('Consequence of Failure'!H29=\"Yes\",1,0)","v":1},{"$f":"IF('Consequence of Failure'!I29=\"Yes\",1,0)","v":1},null,3.5,null,{"$f":"IF('Consequence of Failure'!K29=\"Yes\",1,0)","v":0},{"$f":"IF('Consequence of Failure'!L29=\"Above\",2,0)","v":0},{"$f":"IF('Consequence of Failure'!L29=\"At\",1,0)","v":1},{"$f":"IF('Consequence of Failure'!L29=\"Below\",0,0)","v":0},{"$f":"IF('Consequence of Failure'!M29=\"Yes\",1,0)","v":0},{"$f":"IF('Consequence of Failure'!N29=\"Yes\",1,0)","v":0},null,1,null,3.5]
[{"$f":"IF('Data Collection Sheet'!B30=\"Pump\",15,0)","v":0},{"$f":"IF('Data Collection Sheet'!B30=\"Hydrant\",50,0)","v":0},{"$f":"IF('Data Collection Sheet'!B30=\"Meter\",15,0)","v":0},{"$f":"IF('Data Collection Sheet'!B30=\"Pipe\",80,0)","v":0},{"$f":"IF('Data Collection Sheet'!B30=\"Source\",50,0)","v":0},{"$f":"IF('Data Collection Sheet'!B30=\"Tank\",50,0)","v":0},{"$f":"IF('Data Collection Sheet'!B30=\"Analytical\",10,0)","v":0},{"$f":"IF('Data Collection Sheet'!B30=\"Treatment\",20,0)","v":0},{"$f":"IF('Data Collection Sheet'!B30=\"Valve\",20,0)","v":0},{"$f":"IF('Data Collection Sheet'!B30=\"Control\",15,0)","v":15},{"$f":"IF('Data Collection Sheet'!B30=\"Safety\",10,0)","v":0},{"$f":"IF('Data Collection Sheet'!B30=\"Building\",50,0)","v":0},{"$f":"IF('Data Collection Sheet'!B30=\"Vehicle\",8,0)","v":0},{"$f":"IF('Data Collection Sheet'!B30=\"Other\",15,0)","v":0},{"$f":"IF('Data Collection Sheet'!I30=\"Bad\",(-0.8*$T27),0)","v":0},{"$f":"IF('Data Collection Sheet'!I30=\"Fair\",(-0.5*$T27),0)","v":0},{"$f":"IF('Data Collection Sheet'!I30=\"Good\",(-0.2*$T27),0)","v":0},{"$f":"IF('Data Collection Sheet'!I30=\"Great\",0,0)","v":0},null,15,15,15,null,null,null,{"$f":"IF('Consequence of Failure'!F30=\"No\",1,0)","v":1},{"$f":"IF('Consequence of Failure'!G30=\"0%-25%\",0.5,0)","v":0.5},{"$f":"IF('Consequence of Failure'!G30=\"26%-50%\",1,0)","v":0},{"$f":"IF('Consequence of Failure'!G30=\"51%-75%\",1.5,0)","v":0},{"$f":"IF('Consequence of Failure'!G30=\"76%-100%\",2,0)","v":0},{"$f":"IF('Consequence of Failure'!H30=\"Yes\",1,0)","v":1},{"$f":"IF('Consequence of Failure'!I30=\"Yes\",1,0)","v":1},null,3.5,null,{"$f":"IF('Consequence of Failure'!K30=\"Yes\",1,0)","v":0},{"$f":"IF('Consequence of Failure'!L30=\"Above\",2,0)","v":0},{"$f":"IF('Consequence of Failure'!L30=\"At\",1,0)","v":1},{"$f":"IF('Consequence of Failure'!L30=\"Below\",0,0)","v":0},{"$f":"IF('Consequence of Failure'!M30=\"Yes\",1,0)","v":0},{"$f":"IF('Consequence of Failure'!N30=\"Yes\",1,0)","v":0},null,1,null,3.5]
[{"$f":"IF('Data Collection Sheet'!B31=\"Pump\",15,0)","v":0},{"$f":"IF('Data Collection Sheet'!B31=\"Hydrant\",50,0)","v":0},{"$f":"IF('Data Collection Sheet'!B31=\"Meter\",15,0)","v":0},{"$f":"IF('Data Collection Sheet'!B31=\"Pipe\",80,0)","v":0},{"$f":"IF('Data Collection Sheet'!B31=\"Source\",50,0)","v":0},{"$f":"IF('Data Collection Sheet'!B31=\"Tank\",50,0)","v":0},{"$f":"IF('Data Collection Sheet'!B31=\"Analytical\",10,0)","v":0},{"$f":"IF('Data Collection Sheet'!B31=\"Treatment\",20,0)","v":20},{"$f":"IF('Data Collection Sheet'!B31=\"Valve\",20,0)","v":0},{"$f":"IF('Data Collection Sheet'!B31=\"Control\",15,0)","v":0},{"$f":"IF('Data Collection Sheet'!B31=\"Safety\",10,0)","v":0},{"$f":"IF('Data Collection Sheet'!B31=\"Building\",50,0)","v":0},{"$f":"IF('Data Collection Sheet'!B31=\"Vehicle\",8,0)","v":0},{"$f":"IF('Data Collection Sheet'!B31=\"Other\",15,0)","v":0},{"$f":"IF('Data Collection Sheet'!I31=\"Bad\",(-0.8*$T28),0)","v":0},{"$f":"IF('Data Collection Sheet'!I31=\"Fair\",(-0.5*$T28),0)","v":0},{"$f":"IF('Data Collection Sheet'!I31=\"Good\",(-0.2*$T28),0)","v":0},{"$f":"IF('Data Collection Sheet'!I31=\"Great\",0,0)","v":0},null,20,20,20,null,null,null,{"$f":"IF('Consequence of Failure'!F31=\"No\",1,0)","v":0},{"$f":"IF('Consequence of Failure'!G31=\"0%-25%\",0.5,0)","v":0.5},{"$f":"IF('Consequence of Failure'!G31=\"26%-50%\",1,0)","v":0},{"$f":"IF('Consequence of Failure'!G31=\"51%-75%\",1.5,0)","v":0},{"$f":"IF('Consequence of Failure'!G31=\"76%-100%\",2,0)","v":0},{"$f":"IF('Consequence of Failure'!H31=\"Yes\",1,0)","v":1},{"$f":"IF('Consequence of Failure'!I31=\"Yes\",1,0)","v":1},null,2.5,null,{"$f":"IF('Consequence of Failure'!K31=\"Yes\",1,0)","v":0},{"$f":"IF('Consequence of Failure'!L31=\"Above\",2,0)","v":0},{"$f":"IF('Consequence of Failure'!L31=\"At\",1,0)","v":1},{"$f":"IF('Consequence of Failure'!L31=\"Below\",0,0)","v":0},{"$f":"IF('Consequence of Failure'!M31=\"Yes\",1,0)","v":0},{"$f":"IF('Consequence of Failure'!N31=\"Yes\",1,0)","v":0},null,1,null,2.5]
[{"$f":"IF('Data Collection Sheet'!B32=\"Pump\",15,0)","v":0},{"$f":"IF('Data Collection Sheet'!B32=\"Hydrant\",50,0)","v":0},{"$f":"IF('Data Collection Sheet'!B32=\"Meter\",15,0)","v":0},{"$f":"IF('Data Collection Sheet'!B32=\"Pipe\",80,0)","v":0},{"$f":"IF('Data Collection Sheet'!B32=\"Source\",50,0)","v":0},{"$f":"IF('Data Collection Sheet'!B32=\"Tank\",50,0)","v":0},{"$f":"IF('Data Collection Sheet'!B32=\"Analytical\",10,0)","v":0},{"$f":"IF('Data Collection Sheet'!B32=\"Treatment\",20,0)","v":0},{"$f":"IF('Data Collection Sheet'!B32=\"Valve\",20,0)","v":0},{"$f":"IF('Data Collection Sheet'!B32=\"Control\",15,0)","v":0},{"$f":"IF('Data Collection Sheet'!B32=\"Safety\",10,0)","v":10},{"$f":"IF('Data Collection Sheet'!B32=\"Building\",50,0)","v":0},{"$f":"IF('Data Collection Sheet'!B32=\"Vehicle\",8,0)","v":0},{"$f":"IF('Data Collection Sheet'!B32=\"Other\",15,0)","v":0},{"$f":"IF('Data Collection Sheet'!I32=\"Bad\",(-0.8*$T29),0)","v":0},{"$f":"IF('Data Collection Sheet'!I32=\"Fair\",(-0.5*$T29),0)","v":0},{"$f":"IF('Data Collection Sheet'!I32=\"Good\",(-0.2*$T29),0)","v":0},{"$f":"IF('Data Collection Sheet'!I32=\"Great\",0,0)","v":0},null,10,10,10,null,null,null,{"$f":"IF('Consequence of Failure'!F32=\"No\",1,0)","v":1},{"$f":"IF('Consequence of Failure'!G32=\"0%-25%\",0.5,0)","v":0.5},{"$f":"IF('Consequence of Failure'!G32=\"26%-50%\",1,0)","v":0},{"$f":"IF('Consequence of Failure'!G32=\"51%-75%\",1.5,0)","v":0},{"$f":"IF('Consequence of Failure'!G32=\"76%-100%\",2,0)","v":0},{"$f":"IF('Consequence of Failure'!H32=\"Yes\",1,0)","v":1},{"$f":"IF('Consequence of Failure'!I32=\"Yes\",1,0)","v":1},null,3.5,null,{"$f":"IF('Consequence of Failure'!K32=\"Yes\",1,0)","v":0},{"$f":"IF('Consequence of Failure'!L32=\"Above\",2,0)","v":0},{"$f":"IF('Consequence of Failure'!L32=\"At\",1,0)","v":1},{"$f":"IF('Consequence of Failure'!L32=\"Below\",0,0)","v":0},{"$f":"IF('Consequence of Failure'!M32=\"Yes\",1,0)","v":0},{"$f":"IF('Consequence of Failure'!N32=\"Yes\",1,0)","v":0},null,1,null,3.5]
[{"$f":"IF('Data Collection Sheet'!B33=\"Pump\",15,0)","v":0},{"$f":"IF('Data Collection Sheet'!B33=\"Hydrant\",50,0)","v":0},{"$f":"IF('Data Collection Sheet'!B33=\"Meter\",15,0)","v":0},{"$f":"IF('Data Collection Sheet'!B33=\"Pipe\",80,0)","v":0},{"$f":"IF('Data Collection Sheet'!B33=\"Source\",50,0)","v":0},{"$f":"IF('Data Collection Sheet'!B33=\"Tank\",50,0)","v":0},{"$f":"IF('Data Collection Sheet'!B33=\"Analytical\",10,0)","v":0},{"$f":"IF('Data Collection Sheet'!B33=\"Treatment\",20,0)","v":20},{"$f":"IF('Data Collection Sheet'!B33=\"Valve\",20,0)","v":0},{"$f":"IF('Data Collection Sheet'!B33=\"Control\",15,0)","v":0},{"$f":"IF('Data Collection Sheet'!B33=\"Safety\",10,0)","v":0},{"$f":"IF('Data Collection Sheet'!B33=\"Building\",50,0)","v":0},{"$f":"IF('Data Collection Sheet'!B33=\"Vehicle\",8,0)","v":0},{"$f":"IF('Data Collection Sheet'!B33=\"Other\",15,0)","v":0},{"$f":"IF('Data Collection Sheet'!I33=\"Bad\",(-0.8*$T30),0)","v":0},{"$f":"IF('Data Collection Sheet'!I33=\"Fair\",(-0.5*$T30),0)","v":0},{"$f":"IF('Data Collection Sheet'!I33=\"Good\",(-0.2*$T30),0)","v":0},{"$f":"IF('Data Collection Sheet'!I33=\"Great\",0,0)","v":0},null,20,20,20,null,null,null,{"$f":"IF('Consequence of Failure'!F33=\"No\",1,0)","v":0},{"$f":"IF('Consequence of Failure'!G33=\"0%-25%\",0.5,0)","v":0.5},{"$f":"IF('Consequence of Failure'!G33=\"26%-50%\",1,0)","v":0},{"$f":"IF('Consequence of Failure'!G33=\"51%-75%\",1.5,0)","v":0},{"$f":"IF('Consequence of Failure'!G33=\"76%-100%\",2,0)","v":0},{"$f":"IF('Consequence of Failure'!H33=\"Yes\",1,0)","v":1},{"$f":"IF('Consequence of Failure'!I33=\"Yes\",1,0)","v":1},null,2.5,null,{"$f":"IF('Consequence of Failure'!K33=\"Yes\",1,0)","v":0},{"$f":"IF('Consequence of Failure'!L33=\"Above\",2,0)","v":0},{"$f":"IF('Consequence of Failure'!L33=\"At\",1,0)","v":1},{"$f":"IF('Consequence of Failure'!L33=\"Below\",0,0)","v":0},{"$f":"IF('Consequence of Failure'!M33=\"Yes\",1,0)","v":0},{"$f":"IF('Consequence of Failure'!N33=\"Yes\",1,0)","v":0},null,1,null,2.5]
[{"$f":"IF('Data Collection Sheet'!B34=\"Pump\",15,0)","v":0},{"$f":"IF('Data Collection Sheet'!B34=\"Hydrant\",50,0)","v":0},{"$f":"IF('Data Collection Sheet'!B34=\"Meter\",15,0)","v":0},{"$f":"IF('Data Collection Sheet'!B34=\"Pipe\",80,0)","v":0},{"$f":"IF('Data Collection Sheet'!B34=\"Source\",50,0)","v":0},{"$f":"IF('Data Collection Sheet'!B34=\"Tank\",50,0)","v":0},{"$f":"IF('Data Collection Sheet'!B34=\"Analytical\",10,0)","v":0},{"$f":"IF('Data Collection Sheet'!B34=\"Treatment\",20,0)","v":20},{"$f":"IF('Data Collection Sheet'!B34=\"Valve\",20,0)","v":0},{"$f":"IF('Data Collection Sheet'!B34=\"Control\",15,0)","v":0},{"$f":"IF('Data Collection Sheet'!B34=\"Safety\",10,0)","v":0},{"$f":"IF('Data Collection Sheet'!B34=\"Building\",50,0)","v":0},{"$f":"IF('Data Collection Sheet'!B34=\"Vehicle\",8,0)","v":0},{"$f":"IF('Data Collection Sheet'!B34=\"Other\",15,0)","v":0},{"$f":"IF('Data Collection Sheet'!I34=\"Bad\",(-0.8*$T31),0)","v":0},{"$f":"IF('Data Collection Sheet'!I34=\"Fair\",(-0.5*$T31),0)","v":0},{"$f":"IF('Data Collection Sheet'!I34=\"Good\",(-0.2*$T31),0)","v":0},{"$f":"IF('Data Collection Sheet'!I34=\"Great\",0,0)","v":0},null,20,20,20,null,null,null,{"$f":"IF('Consequence of Failure'!F34=\"No\",1,0)","v":0},{"$f":"IF('Consequence of Failure'!G34=\"0%-25%\",0.5,0)","v":0.5},{"$f":"IF('Consequence of Failure'!G34=\"26%-50%\",1,0)","v":0},{"$f":"IF('Consequence of Failure'!G34=\"51%-75%\",1.5,0)","v":0},{"$f":"IF('Consequence of Failure'!G34=\"76%-100%\",2,0)","v":0},{"$f":"IF('Consequence of Failure'!H34=\"Yes\",1,0)","v":0},{"$f":"IF('Consequence of Failure'!I34=\"Yes\",1,0)","v":0},null,0.5,null,{"$f":"IF('Consequence of Failure'!K34=\"Yes\",1,0)","v":0},{"$f":"IF('Consequence of Failure'!L34=\"Above\",2,0)","v":0},{"$f":"IF('Consequence of Failure'!L34=\"At\",1,0)","v":1},{"$f":"IF('Consequence of Failure'!L34=\"Below\",0,0)","v":0},{"$f":"IF('Consequence of Failure'!M34=\"Yes\",1,0)","v":0},{"$f":"IF('Consequence of Failure'!N34=\"Yes\",1,0)","v":0},null,1,null,0.5]
[{"$f":"IF('Data Collection Sheet'!B35=\"Pump\",15,0)","v":0},{"$f":"IF('Data Collection Sheet'!B35=\"Hydrant\",50,0)","v":0},{"$f":"IF('Data Collection Sheet'!B35=\"Meter\",15,0)","v":0},{"$f":"IF('Data Collection Sheet'!B35=\"Pipe\",80,0)","v":0},{"$f":"IF('Data Collection Sheet'!B35=\"Source\",50,0)","v":0},{"$f":"IF('Data Collection Sheet'!B35=\"Tank\",50,0)","v":0},{"$f":"IF('Data Collection Sheet'!B35=\"Analytical\",10,0)","v":0},{"$f":"IF('Data Collection Sheet'!B35=\"Treatment\",20,0)","v":20},{"$f":"IF('Data Collection Sheet'!B35=\"Valve\",20,0)","v":0},{"$f":"IF('Data Collection Sheet'!B35=\"Control\",15,0)","v":0},{"$f":"IF('Data Collection Sheet'!B35=\"Safety\",10,0)","v":0},{"$f":"IF('Data Collection Sheet'!B35=\"Building\",50,0)","v":0},{"$f":"IF('Data Collection Sheet'!B35=\"Vehicle\",8,0)","v":0},{"$f":"IF('Data Collection Sheet'!B35=\"Other\",15,0)","v":0},{"$f":"IF('Data Collection Sheet'!I35=\"Bad\",(-0.8*$T32),0)","v":0},{"$f":"IF('Data Collection Sheet'!I35=\"Fair\",(-0.5*$T32),0)","v":0},{"$f":"IF('Data Collection Sheet'!I35=\"Good\",(-0.2*$T32),0)","v":0},{"$f":"IF('Data Collection Sheet'!I35=\"Great\",0,0)","v":0},null,20,20,20,null,null,null,{"$f":"IF('Consequence of Failure'!F35=\"No\",1,0)","v":0},{"$f":"IF('Consequence of Failure'!G35=\"0%-25%\",0.5,0)","v":0.5},{"$f":"IF('Consequence of Failure'!G35=\"26%-50%\",1,0)","v":0},{"$f":"IF('Consequence of Failure'!G35=\"51%-75%\",1.5,0)","v":0},{"$f":"IF('Consequence of Failure'!G35=\"76%-100%\",2,0)","v":0},{"$f":"IF('Consequence of Failure'!H35=\"Yes\",1,0)","v":0},{"$f":"IF('Consequence of Failure'!I35=\"Yes\",1,0)","v":0},null,0.5,null,{"$f":"IF('Consequence of Failure'!K35=\"Yes\",1,0)","v":0},{"$f":"IF('Consequence of Failure'!L35=\"Above\",2,0)","v":0},{"$f":"IF('Consequence of Failure'!L35=\"At\",1,0)","v":0},{"$f":"IF('Consequence of Failure'!L35=\"Below\",0,0)","v":0},{"$f":"IF('Consequence of Failure'!M35=\"Yes\",1,0)","v":0},{"$f":"IF('Consequence of Failure'!N35=\"Yes\",1,0)","v":0},null,0,null,0]
[{"$f":"IF('Data Collection Sheet'!B36=\"Pump\",15,0)","v":15},{"$f":"IF('Data Collection Sheet'!B36=\"Hydrant\",50,0)","v":0},{"$f":"IF('Data Collection Sheet'!B36=\"Meter\",15,0)","v":0},{"$f":"IF('Data Collection Sheet'!B36=\"Pipe\",80,0)","v":0},{"$f":"IF('Data Collection Sheet'!B36=\"Source\",50,0)","v":0},{"$f":"IF('Data Collection Sheet'!B36=\"Tank\",50,0)","v":0},{"$f":"IF('Data Collection Sheet'!B36=\"Analytical\",10,0)","v":0},{"$f":"IF('Data Collection Sheet'!B36=\"Treatment\",20,0)","v":0},{"$f":"IF('Data Collection Sheet'!B36=\"Valve\",20,0)","v":0},{"$f":"IF('Data Collection Sheet'!B36=\"Control\",15,0)","v":0},{"$f":"IF('Data Collection Sheet'!B36=\"Safety\",10,0)","v":0},{"$f":"IF('Data Collection Sheet'!B36=\"Building\",50,0)","v":0},{"$f":"IF('Data Collection Sheet'!B36=\"Vehicle\",8,0)","v":0},{"$f":"IF('Data Collection Sheet'!B36=\"Other\",15,0)","v":0},{"$f":"IF('Data Collection Sheet'!I36=\"Bad\",(-0.8*$T33),0)","v":0},{"$f":"IF('Data Collection Sheet'!I36=\"Fair\",(-0.5*$T33),0)","v":0},{"$f":"IF('Data Collection Sheet'!I36=\"Good\",(-0.2*$T33),0)","v":0},{"$f":"IF('Data Collection Sheet'!I36=\"Great\",0,0)","v":0},null,15,15,15,null,null,null,{"$f":"IF('Consequence of Failure'!F36=\"No\",1,0)","v":0},{"$f":"IF('Consequence of Failure'!G36=\"0%-25%\",0.5,0)","v":0.5},{"$f":"IF('Consequence of Failure'!G36=\"26%-50%\",1,0)","v":0},{"$f":"IF('Consequence of Failure'!G36=\"51%-75%\",1.5,0)","v":0},{"$f":"IF('Consequence of Failure'!G36=\"76%-100%\",2,0)","v":0},{"$f":"IF('Consequence of Failure'!H36=\"Yes\",1,0)","v":0},{"$f":"IF('Consequence of Failure'!I36=\"Yes\",1,0)","v":0},null,0.5,null,{"$f":"IF('Consequence of Failure'!K36=\"Yes\",1,0)","v":0},{"$f":"IF('Consequence of Failure'!L36=\"Above\",2,0)","v":0},{"$f":"IF('Consequence of Failure'!L36=\"At\",1,0)","v":0},{"$f":"IF('Consequence of Failure'!L36=\"Below\",0,0)","v":0},{"$f":"IF('Consequence of Failure'!M36=\"Yes\",1,0)","v":0},{"$f":"IF('Consequence of Failure'!N36=\"Yes\",1,0)","v":0},null,0,null,0]
[{"$f":"IF('Data Collection Sheet'!B37=\"Pump\",15,0)","v":15},{"$f":"IF('Data Collection Sheet'!B37=\"Hydrant\",50,0)","v":0},{"$f":"IF('Data Collection Sheet'!B37=\"Meter\",15,0)","v":0},{"$f":"IF('Data Collection Sheet'!B37=\"Pipe\",80,0)","v":0},{"$f":"IF('Data Collection Sheet'!B37=\"Source\",50,0)","v":0},{"$f":"IF('Data Collection Sheet'!B37=\"Tank\",50,0)","v":0},{"$f":"IF('Data Collection Sheet'!B37=\"Analytical\",10,0)","v":0},{"$f":"IF('Data Collection Sheet'!B37=\"Treatment\",20,0)","v":0},{"$f":"IF('Data Collection Sheet'!B37=\"Valve\",20,0)","v":0},{"$f":"IF('Data Collection Sheet'!B37=\"Control\",15,0)","v":0},{"$f":"IF('Data Collection Sheet'!B37=\"Safety\",10,0)","v":0},{"$f":"IF('Data Collection Sheet'!B37=\"Building\",50,0)","v":0},{"$f":"IF('Data Collection Sheet'!B37=\"Vehicle\",8,0)","v":0},{"$f":"IF('Data Collection Sheet'!B37=\"Other\",15,0)","v":0},{"$f":"IF('Data Collection Sheet'!I37=\"Bad\",(-0.8*$T34),0)","v":0},{"$f":"IF('Data Collection Sheet'!I37=\"Fair\",(-0.5*$T34),0)","v":0},{"$f":"IF('Data Collection Sheet'!I37=\"Good\",(-0.2*$T34),0)","v":0},{"$f":"IF('Data Collection Sheet'!I37=\"Great\",0,0)","v":0},null,15,15,15,null,null,null,{"$f":"IF('Consequence of Failure'!F37=\"No\",1,0)","v":0},{"$f":"IF('Consequence of Failure'!G37=\"0%-25%\",0.5,0)","v":0.5},{"$f":"IF('Consequence of Failure'!G37=\"26%-50%\",1,0)","v":0},{"$f":"IF('Consequence of Failure'!G37=\"51%-75%\",1.5,0)","v":0},{"$f":"IF('Consequence of Failure'!G37=\"76%-100%\",2,0)","v":0},{"$f":"IF('Consequence of Failure'!H37=\"Yes\",1,0)","v":0},{"$f":"IF('Consequence of Failure'!I37=\"Yes\",1,0)","v":0},null,0.5,null,{"$f":"IF('Consequence of Failure'!K37=\"Yes\",1,0)","v":0},{"$f":"IF('Consequence of Failure'!L37=\"Above\",2,0)","v":0},{"$f":"IF('Consequence of Failure'!L37=\"At\",1,0)","v":0},{"$f":"IF('Consequence of Failure'!L37=\"Below\",0,0)","v":0},{"$f":"IF('Consequence of Failure'!M37=\"Yes\",1,0)","v":0},{"$f":"IF('Consequence of Failure'!N37=\"Yes\",1,0)","v":0},null,0,null,0]
[{"$f":"IF('Data Collection Sheet'!B38=\"Pump\",15,0)","v":15},{"$f":"IF('Data Collection Sheet'!B38=\"Hydrant\",50,0)","v":0},{"$f":"IF('Data Collection Sheet'!B38=\"Meter\",15,0)","v":0},{"$f":"IF('Data Collection Sheet'!B38=\"Pipe\",80,0)","v":0},{"$f":"IF('Data Collection Sheet'!B38=\"Source\",50,0)","v":0},{"$f":"IF('Data Collection Sheet'!B38=\"Tank\",50,0)","v":0},{"$f":"IF('Data Collection Sheet'!B38=\"Analytical\",10,0)","v":0},{"$f":"IF('Data Collection Sheet'!B38=\"Treatment\",20,0)","v":0},{"$f":"IF('Data Collection Sheet'!B38=\"Valve\",20,0)","v":0},{"$f":"IF('Data Collection Sheet'!B38=\"Control\",15,0)","v":0},{"$f":"IF('Data Collection Sheet'!B38=\"Safety\",10,0)","v":0},{"$f":"IF('Data Collection Sheet'!B38=\"Building\",50,0)","v":0},{"$f":"IF('Data Collection Sheet'!B38=\"Vehicle\",8,0)","v":0},{"$f":"IF('Data Collection Sheet'!B38=\"Other\",15,0)","v":0},{"$f":"IF('Data Collection Sheet'!I38=\"Bad\",(-0.8*$T35),0)","v":0},{"$f":"IF('Data Collection Sheet'!I38=\"Fair\",(-0.5*$T35),0)","v":0},{"$f":"IF('Data Collection Sheet'!I38=\"Good\",(-0.2*$T35),0)","v":0},{"$f":"IF('Data Collection Sheet'!I38=\"Great\",0,0)","v":0},null,15,15,15,null,null,null,{"$f":"IF('Consequence of Failure'!F38=\"No\",1,0)","v":0},{"$f":"IF('Consequence of Failure'!G38=\"0%-25%\",0.5,0)","v":0.5},{"$f":"IF('Consequence of Failure'!G38=\"26%-50%\",1,0)","v":0},{"$f":"IF('Consequence of Failure'!G38=\"51%-75%\",1.5,0)","v":0},{"$f":"IF('Consequence of Failure'!G38=\"76%-100%\",2,0)","v":0},{"$f":"IF('Consequence of Failure'!H38=\"Yes\",1,0)","v":0},{"$f":"IF('Consequence of Failure'!I38=\"Yes\",1,0)","v":0},null,0.5,null,{"$f":"IF('Consequence of Failure'!K38=\"Yes\",1,0)","v":0},{"$f":"IF('Consequence of Failure'!L38=\"Above\",2,0)","v":0},{"$f":"IF('Consequence of Failure'!L38=\"At\",1,0)","v":0},{"$f":"IF('Consequence of Failure'!L38=\"Below\",0,0)","v":0},{"$f":"IF('Consequence of Failure'!M38=\"Yes\",1,0)","v":0},{"$f":"IF('Consequence of Failure'!N38=\"Yes\",1,0)","v":0},null,0,null,0]
[{"$f":"IF('Data Collection Sheet'!B39=\"Pump\",15,0)","v":0},{"$f":"IF('Data Collection Sheet'!B39=\"Hydrant\",50,0)","v":0},{"$f":"IF('Data Collection Sheet'!B39=\"Meter\",15,0)","v":15},{"$f":"IF('Data Collection Sheet'!B39=\"Pipe\",80,0)","v":0},{"$f":"IF('Data Collection Sheet'!B39=\"Source\",50,0)","v":0},{"$f":"IF('Data Collection Sheet'!B39=\"Tank\",50,0)","v":0},{"$f":"IF('Data Collection Sheet'!B39=\"Analytical\",10,0)","v":0},{"$f":"IF('Data Collection Sheet'!B39=\"Treatment\",20,0)","v":0},{"$f":"IF('Data Collection Sheet'!B39=\"Valve\",20,0)","v":0},{"$f":"IF('Data Collection Sheet'!B39=\"Control\",15,0)","v":0},{"$f":"IF('Data Collection Sheet'!B39=\"Safety\",10,0)","v":0},{"$f":"IF('Data Collection Sheet'!B39=\"Building\",50,0)","v":0},{"$f":"IF('Data Collection Sheet'!B39=\"Vehicle\",8,0)","v":0},{"$f":"IF('Data Collection Sheet'!B39=\"Other\",15,0)","v":0},{"$f":"IF('Data Collection Sheet'!I39=\"Bad\",(-0.8*$T36),0)","v":0},{"$f":"IF('Data Collection Sheet'!I39=\"Fair\",(-0.5*$T36),0)","v":0},{"$f":"IF('Data Collection Sheet'!I39=\"Good\",(-0.2*$T36),0)","v":-3},{"$f":"IF('Data Collection Sheet'!I39=\"Great\",0,0)","v":0},null,15,12,12,null,null,null,{"$f":"IF('Consequence of Failure'!F39=\"No\",1,0)","v":0},{"$f":"IF('Consequence of Failure'!G39=\"0%-25%\",0.5,0)","v":0.5},{"$f":"IF('Consequence of Failure'!G39=\"26%-50%\",1,0)","v":0},{"$f":"IF('Consequence of Failure'!G39=\"51%-75%\",1.5,0)","v":0},{"$f":"IF('Consequence of Failure'!G39=\"76%-100%\",2,0)","v":0},{"$f":"IF('Consequence of Failure'!H39=\"Yes\",1,0)","v":0},{"$f":"IF('Consequence of Failure'!I39=\"Yes\",1,0)","v":0},null,0.5,null,{"$f":"IF('Consequence of Failure'!K39=\"Yes\",1,0)","v":0},{"$f":"IF('Consequence of Failure'!L39=\"Above\",2,0)","v":0},{"$f":"IF('Consequence of Failure'!L39=\"At\",1,0)","v":0},{"$f":"IF('Consequence of Failure'!L39=\"Below\",0,0)","v":0},{"$f":"IF('Consequence of Failure'!M39=\"Yes\",1,0)","v":0},{"$f":"IF('Consequence of Failure'!N39=\"Yes\",1,0)","v":0},null,0,null,0]
[{"$f":"IF('Data Collection Sheet'!B40=\"Pump\",15,0)","v":0},{"$f":"IF('Data Collection Sheet'!B40=\"Hydrant\",50,0)","v":50},{"$f":"IF('Data Collection Sheet'!B40=\"Meter\",15,0)","v":0},{"$f":"IF('Data Collection Sheet'!B40=\"Pipe\",80,0)","v":0},{"$f":"IF('Data Collection Sheet'!B40=\"Source\",50,0)","v":0},{"$f":"IF('Data Collection Sheet'!B40=\"Tank\",50,0)","v":0},{"$f":"IF('Data Collection Sheet'!B40=\"Analytical\",10,0)","v":0},{"$f":"IF('Data Collection Sheet'!B40=\"Treatment\",20,0)","v":0},{"$f":"IF('Data Collection Sheet'!B40=\"Valve\",20,0)","v":0},{"$f":"IF('Data Collection Sheet'!B40=\"Control\",15,0)","v":0},{"$f":"IF('Data Collection Sheet'!B40=\"Safety\",10,0)","v":0},{"$f":"IF('Data Collection Sheet'!B40=\"Building\",50,0)","v":0},{"$f":"IF('Data Collection Sheet'!B40=\"Vehicle\",8,0)","v":0},{"$f":"IF('Data Collection Sheet'!B40=\"Other\",15,0)","v":0},{"$f":"IF('Data Collection Sheet'!I40=\"Bad\",(-0.8*$T37),0)","v":0},{"$f":"IF('Data Collection Sheet'!I40=\"Fair\",(-0.5*$T37),0)","v":0},{"$f":"IF('Data Collection Sheet'!I40=\"Good\",(-0.2*$T37),0)","v":0},{"$f":"IF('Data Collection Sheet'!I40=\"Great\",0,0)","v":0},null,50,50,50,null,null,null,{"$f":"IF('Consequence of Failure'!F40=\"No\",1,0)","v":0},{"$f":"IF('Consequence of Failure'!G40=\"0%-25%\",0.5,0)","v":0.5},{"$f":"IF('Consequence of Failure'!G40=\"26%-50%\",1,0)","v":0},{"$f":"IF('Consequence of Failure'!G40=\"51%-75%\",1.5,0)","v":0},{"$f":"IF('Consequence of Failure'!G40=\"76%-100%\",2,0)","v":0},{"$f":"IF('Consequence of Failure'!H40=\"Yes\",1,0)","v":0},{"$f":"IF('Consequence of Failure'!I40=\"Yes\",1,0)","v":0},null,0.5,null,{"$f":"IF('Consequence of Failure'!K40=\"Yes\",1,0)","v":0},{"$f":"IF('Consequence of Failure'!L40=\"Above\",2,0)","v":0},{"$f":"IF('Consequence of Failure'!L40=\"At\",1,0)","v":0},{"$f":"IF('Consequence of Failure'!L40=\"Below\",0,0)","v":0},{"$f":"IF('Consequence of Failure'!M40=\"Yes\",1,0)","v":0},{"$f":"IF('Consequence of Failure'!N40=\"Yes\",1,0)","v":0},null,0,null,0]
[{"$f":"IF('Data Collection Sheet'!B41=\"Pump\",15,0)","v":0},{"$f":"IF('Data Collection Sheet'!B41=\"Hydrant\",50,0)","v":0},{"$f":"IF('Data Collection Sheet'!B41=\"Meter\",15,0)","v":0},{"$f":"IF('Data Collection Sheet'!B41=\"Pipe\",80,0)","v":80},{"$f":"IF('Data Collection Sheet'!B41=\"Source\",50,0)","v":0},{"$f":"IF('Data Collection Sheet'!B41=\"Tank\",50,0)","v":0},{"$f":"IF('Data Collection Sheet'!B41=\"Analytical\",10,0)","v":0},{"$f":"IF('Data Collection Sheet'!B41=\"Treatment\",20,0)","v":0},{"$f":"IF('Data Collection Sheet'!B41=\"Valve\",20,0)","v":0},{"$f":"IF('Data Collection Sheet'!B41=\"Control\",15,0)","v":0},{"$f":"IF('Data Collection Sheet'!B41=\"Safety\",10,0)","v":0},{"$f":"IF('Data Collection Sheet'!B41=\"Building\",50,0)","v":0},{"$f":"IF('Data Collection Sheet'!B41=\"Vehicle\",8,0)","v":0},{"$f":"IF('Data Collection Sheet'!B41=\"Other\",15,0)","v":0},{"$f":"IF('Data Collection Sheet'!I41=\"Bad\",(-0.8*$T38),0)","v":0},{"$f":"IF('Data Collection Sheet'!I41=\"Fair\",(-0.5*$T38),0)","v":0},{"$f":"IF('Data Collection Sheet'!I41=\"Good\",(-0.2*$T38),0)","v":0},{"$f":"IF('Data Collection Sheet'!I41=\"Great\",0,0)","v":0},null,80,80,80,null,null,null,{"$f":"IF('Consequence of Failure'!F41=\"No\",1,0)","v":0},{"$f":"IF('Consequence of Failure'!G41=\"0%-25%\",0.5,0)","v":0.5},{"$f":"IF('Consequence of Failure'!G41=\"26%-50%\",1,0)","v":0},{"$f":"IF('Consequence of Failure'!G41=\"51%-75%\",1.5,0)","v":0},{"$f":"IF('Consequence of Failure'!G41=\"76%-100%\",2,0)","v":0},{"$f":"IF('Consequence of Failure'!H41=\"Yes\",1,0)","v":0},{"$f":"IF('Consequence of Failure'!I41=\"Yes\",1,0)","v":0},null,0.5,null,{"$f":"IF('Consequence of Failure'!K41=\"Yes\",1,0)","v":0},{"$f":"IF('Consequence of Failure'!L41=\"Above\",2,0)","v":0},{"$f":"IF('Consequence of Failure'!L41=\"At\",1,0)","v":0},{"$f":"IF('Consequence of Failure'!L41=\"Below\",0,0)","v":0},{"$f":"IF('Consequence of Failure'!M41=\"Yes\",1,0)","v":0},{"$f":"IF('Consequence of Failure'!N41=\"Yes\",1,0)","v":0},null,0,null,0]
[{"$f":"IF('Data Collection Sheet'!B42=\"Pump\",15,0)","v":0},{"$f":"IF('Data Collection Sheet'!B42=\"Hydrant\",50,0)","v":0},{"$f":"IF('Data Collection Sheet'!B42=\"Meter\",15,0)","v":0},{"$f":"IF('Data Collection Sheet'!B42=\"Pipe\",80,0)","v":80},{"$f":"IF('Data Collection Sheet'!B42=\"Source\",50,0)","v":0},{"$f":"IF('Data Collection Sheet'!B42=\"Tank\",50,0)","v":0},{"$f":"IF('Data Collection Sheet'!B42=\"Analytical\",10,0)","v":0},{"$f":"IF('Data Collection Sheet'!B42=\"Treatment\",20,0)","v":0},{"$f":"IF('Data Collection Sheet'!B42=\"Valve\",20,0)","v":0},{"$f":"IF('Data Collection Sheet'!B42=\"Control\",15,0)","v":0},{"$f":"IF('Data Collection Sheet'!B42=\"Safety\",10,0)","v":0},{"$f":"IF('Data Collection Sheet'!B42=\"Building\",50,0)","v":0},{"$f":"IF('Data Collection Sheet'!B42=\"Vehicle\",8,0)","v":0},{"$f":"IF('Data Collection Sheet'!B42=\"Other\",15,0)","v":0},{"$f":"IF('Data Collection Sheet'!I42=\"Bad\",(-0.8*$T39),0)","v":0},{"$f":"IF('Data Collection Sheet'!I42=\"Fair\",(-0.5*$T39),0)","v":0},{"$f":"IF('Data Collection Sheet'!I42=\"Good\",(-0.2*$T39),0)","v":0},{"$f":"IF('Data Collection Sheet'!I42=\"Great\",0,0)","v":0},null,80,80,80,null,null,null,{"$f":"IF('Consequence of Failure'!F42=\"No\",1,0)","v":0},{"$f":"IF('Consequence of Failure'!G42=\"0%-25%\",0.5,0)","v":0.5},{"$f":"IF('Consequence of Failure'!G42=\"26%-50%\",1,0)","v":0},{"$f":"IF('Consequence of Failure'!G42=\"51%-75%\",1.5,0)","v":0},{"$f":"IF('Consequence of Failure'!G42=\"76%-100%\",2,0)","v":0},{"$f":"IF('Consequence of Failure'!H42=\"Yes\",1,0)","v":0},{"$f":"IF('Consequence of Failure'!I42=\"Yes\",1,0)","v":0},null,0.5,null,{"$f":"IF('Consequence of Failure'!K42=\"Yes\",1,0)","v":0},{"$f":"IF('Consequence of Failure'!L42=\"Above\",2,0)","v":0},{"$f":"IF('Consequence of Failure'!L42=\"At\",1,0)","v":0},{"$f":"IF('Consequence of Failure'!L42=\"Below\",0,0)","v":0},{"$f":"IF('Consequence of Failure'!M42=\"Yes\",1,0)","v":0},{"$f":"IF('Consequence of Failure'!N42=\"Yes\",1,0)","v":0},null,0,null,0]
[{"$f":"IF('Data Collection Sheet'!B43=\"Pump\",15,0)","v":0},{"$f":"IF('Data Collection Sheet'!B43=\"Hydrant\",50,0)","v":0},{"$f":"IF('Data Collection Sheet'!B43=\"Meter\",15,0)","v":0},{"$f":"IF('Data Collection Sheet'!B43=\"Pipe\",80,0)","v":80},{"$f":"IF('Data Collection Sheet'!B43=\"Source\",50,0)","v":0},{"$f":"IF('Data Collection Sheet'!B43=\"Tank\",50,0)","v":0},{"$f":"IF('Data Collection Sheet'!B43=\"Analytical\",10,0)","v":0},{"$f":"IF('Data Collection Sheet'!B43=\"Treatment\",20,0)","v":0},{"$f":"IF('Data Collection Sheet'!B43=\"Valve\",20,0)","v":0},{"$f":"IF('Data Collection Sheet'!B43=\"Control\",15,0)","v":0},{"$f":"IF('Data Collection Sheet'!B43=\"Safety\",10,0)","v":0},{"$f":"IF('Data Collection Sheet'!B43=\"Building\",50,0)","v":0},{"$f":"IF('Data Collection Sheet'!B43=\"Vehicle\",8,0)","v":0},{"$f":"IF('Data Collection Sheet'!B43=\"Other\",15,0)","v":0},{"$f":"IF('Data Collection Sheet'!I43=\"Bad\",(-0.8*$T40),0)","v":0},{"$f":"IF('Data Collection Sheet'!I43=\"Fair\",(-0.5*$T40),0)","v":0},{"$f":"IF('Data Collection Sheet'!I43=\"Good\",(-0.2*$T40),0)","v":0},{"$f":"IF('Data Collection Sheet'!I43=\"Great\",0,0)","v":0},null,80,80,80,null,null,null,{"$f":"IF('Consequence of Failure'!F43=\"No\",1,0)","v":0},{"$f":"IF('Consequence of Failure'!G43=\"0%-25%\",0.5,0)","v":0.5},{"$f":"IF('Consequence of Failure'!G43=\"26%-50%\",1,0)","v":0},{"$f":"IF('Consequence of Failure'!G43=\"51%-75%\",1.5,0)","v":0},{"$f":"IF('Consequence of Failure'!G43=\"76%-100%\",2,0)","v":0},{"$f":"IF('Consequence of Failure'!H43=\"Yes\",1,0)","v":0},{"$f":"IF('Consequence of Failure'!I43=\"Yes\",1,0)","v":0},null,0.5,null,{"$f":"IF('Consequence of Failure'!K43=\"Yes\",1,0)","v":0},{"$f":"IF('Consequence of Failure'!L43=\"Above\",2,0)","v":0},{"$f":"IF('Consequence of Failure'!L43=\"At\",1,0)","v":0},{"$f":"IF('Consequence of Failure'!L43=\"Below\",0,0)","v":0},{"$f":"IF('Consequence of Failure'!M43=\"Yes\",1,0)","v":0},{"$f":"IF('Consequence of Failure'!N43=\"Yes\",1,0)","v":0},null,0,null,0]
[{"$f":"IF('Data Collection Sheet'!B44=\"Pump\",15,0)","v":0},{"$f":"IF('Data Collection Sheet'!B44=\"Hydrant\",50,0)","v":50},{"$f":"IF('Data Collection Sheet'!B44=\"Meter\",15,0)","v":0},{"$f":"IF('Data Collection Sheet'!B44=\"Pipe\",80,0)","v":0},{"$f":"IF('Data Collection Sheet'!B44=\"Source\",50,0)","v":0},{"$f":"IF('Data Collection Sheet'!B44=\"Tank\",50,0)","v":0},{"$f":"IF('Data Collection Sheet'!B44=\"Analytical\",10,0)","v":0},{"$f":"IF('Data Collection Sheet'!B44=\"Treatment\",20,0)","v":0},{"$f":"IF('Data Collection Sheet'!B44=\"Valve\",20,0)","v":0},{"$f":"IF('Data Collection Sheet'!B44=\"Control\",15,0)","v":0},{"$f":"IF('Data Collection Sheet'!B44=\"Safety\",10,0)","v":0},{"$f":"IF('Data Collection Sheet'!B44=\"Building\",50,0)","v":0},{"$f":"IF('Data Collection Sheet'!B44=\"Vehicle\",8,0)","v":0},{"$f":"IF('Data Collection Sheet'!B44=\"Other\",15,0)","v":0},{"$f":"IF('Data Collection Sheet'!I44=\"Bad\",(-0.8*$T41),0)","v":0},{"$f":"IF('Data Collection Sheet'!I44=\"Fair\",(-0.5*$T41),0)","v":0},{"$f":"IF('Data Collection Sheet'!I44=\"Good\",(-0.2*$T41),0)","v":0},{"$f":"IF('Data Collection Sheet'!I44=\"Great\",0,0)","v":0},null,50,50,50,null,null,null,{"$f":"IF('Consequence of Failure'!F44=\"No\",1,0)","v":0},{"$f":"IF('Consequence of Failure'!G44=\"0%-25%\",0.5,0)","v":0.5},{"$f":"IF('Consequence of Failure'!G44=\"26%-50%\",1,0)","v":0},{"$f":"IF('Consequence of Failure'!G44=\"51%-75%\",1.5,0)","v":0},{"$f":"IF('Consequence of Failure'!G44=\"76%-100%\",2,0)","v":0},{"$f":"IF('Consequence of Failure'!H44=\"Yes\",1,0)","v":0},{"$f":"IF('Consequence of Failure'!I44=\"Yes\",1,0)","v":0},null,0.5,null,{"$f":"IF('Consequence of Failure'!K44=\"Yes\",1,0)","v":0},{"$f":"IF('Consequence of Failure'!L44=\"Above\",2,0)","v":0},{"$f":"IF('Consequence of Failure'!L44=\"At\",1,0)","v":0},{"$f":"IF('Consequence of Failure'!L44=\"Below\",0,0)","v":0},{"$f":"IF('Consequence of Failure'!M44=\"Yes\",1,0)","v":0},{"$f":"IF('Consequence of Failure'!N44=\"Yes\",1,0)","v":0},null,0,null,0]
[{"$f":"IF('Data Collection Sheet'!B45=\"Pump\",15,0)","v":0},{"$f":"IF('Data Collection Sheet'!B45=\"Hydrant\",50,0)","v":0},{"$f":"IF('Data Collection Sheet'!B45=\"Meter\",15,0)","v":15},{"$f":"IF('Data Collection Sheet'!B45=\"Pipe\",80,0)","v":0},{"$f":"IF('Data Collection Sheet'!B45=\"Source\",50,0)","v":0},{"$f":"IF('Data Collection Sheet'!B45=\"Tank\",50,0)","v":0},{"$f":"IF('Data Collection Sheet'!B45=\"Analytical\",10,0)","v":0},{"$f":"IF('Data Collection Sheet'!B45=\"Treatment\",20,0)","v":0},{"$f":"IF('Data Collection Sheet'!B45=\"Valve\",20,0)","v":0},{"$f":"IF('Data Collection Sheet'!B45=\"Control\",15,0)","v":0},{"$f":"IF('Data Collection Sheet'!B45=\"Safety\",10,0)","v":0},{"$f":"IF('Data Collection Sheet'!B45=\"Building\",50,0)","v":0},{"$f":"IF('Data Collection Sheet'!B45=\"Vehicle\",8,0)","v":0},{"$f":"IF('Data Collection Sheet'!B45=\"Other\",15,0)","v":0},{"$f":"IF('Data Collection Sheet'!I45=\"Bad\",(-0.8*$T42),0)","v":0},{"$f":"IF('Data Collection Sheet'!I45=\"Fair\",(-0.5*$T42),0)","v":0},{"$f":"IF('Data Collection Sheet'!I45=\"Good\",(-0.2*$T42),0)","v":0},{"$f":"IF('Data Collection Sheet'!I45=\"Great\",0,0)","v":0},null,15,15,15,null,null,null,{"$f":"IF('Consequence of Failure'!F45=\"No\",1,0)","v":0},{"$f":"IF('Consequence of Failure'!G45=\"0%-25%\",0.5,0)","v":0.5},{"$f":"IF('Consequence of Failure'!G45=\"26%-50%\",1,0)","v":0},{"$f":"IF('Consequence of Failure'!G45=\"51%-75%\",1.5,0)","v":0},{"$f":"IF('Consequence of Failure'!G45=\"76%-100%\",2,0)","v":0},{"$f":"IF('Consequence of Failure'!H45=\"Yes\",1,0)","v":0},{"$f":"IF('Consequence of Failure'!I45=\"Yes\",1,0)","v":0},null,0.5,null,{"$f":"IF('Consequence of Failure'!K45=\"Yes\",1,0)","v":0},{"$f":"IF('Consequence of Failure'!L45=\"Above\",2,0)","v":0},{"$f":"IF('Consequence of Failure'!L45=\"At\",1,0)","v":0},{"$f":"IF('Consequence of Failure'!L45=\"Below\",0,0)","v":0},{"$f":"IF('Consequence of Failure'!M45=\"Yes\",1,0)","v":0},{"$f":"IF('Consequence of Failure'!N45=\"Yes\",1,0)","v":0},null,0,null,0]
[{"$f":"IF('Data Collection Sheet'!B46=\"Pump\",15,0)","v":0},{"$f":"IF('Data Collection Sheet'!B46=\"Hydrant\",50,0)","v":0},{"$f":"IF('Data Collection Sheet'!B46=\"Meter\",15,0)","v":15},{"$f":"IF('Data Collection Sheet'!B46=\"Pipe\",80,0)","v":0},{"$f":"IF('Data Collection Sheet'!B46=\"Source\",50,0)","v":0},{"$f":"IF('Data Collection Sheet'!B46=\"Tank\",50,0)","v":0},{"$f":"IF('Data Collection Sheet'!B46=\"Analytical\",10,0)","v":0},{"$f":"IF('Data Collection Sheet'!B46=\"Treatment\",20,0)","v":0},{"$f":"IF('Data Collection Sheet'!B46=\"Valve\",20,0)","v":0},{"$f":"IF('Data Collection Sheet'!B46=\"Control\",15,0)","v":0},{"$f":"IF('Data Collection Sheet'!B46=\"Safety\",10,0)","v":0},{"$f":"IF('Data Collection Sheet'!B46=\"Building\",50,0)","v":0},{"$f":"IF('Data Collection Sheet'!B46=\"Vehicle\",8,0)","v":0},{"$f":"IF('Data Collection Sheet'!B46=\"Other\",15,0)","v":0},{"$f":"IF('Data Collection Sheet'!I46=\"Bad\",(-0.8*$T43),0)","v":0},{"$f":"IF('Data Collection Sheet'!I46=\"Fair\",(-0.5*$T43),0)","v":0},{"$f":"IF('Data Collection Sheet'!I46=\"Good\",(-0.2*$T43),0)","v":0},{"$f":"IF('Data Collection Sheet'!I46=\"Great\",0,0)","v":0},null,15,15,15,null,null,null,{"$f":"IF('Consequence of Failure'!F46=\"No\",1,0)","v":0},{"$f":"IF('Consequence of Failure'!G46=\"0%-25%\",0.5,0)","v":0.5},{"$f":"IF('Consequence of Failure'!G46=\"26%-50%\",1,0)","v":0},{"$f":"IF('Consequence of Failure'!G46=\"51%-75%\",1.5,0)","v":0},{"$f":"IF('Consequence of Failure'!G46=\"76%-100%\",2,0)","v":0},{"$f":"IF('Consequence of Failure'!H46=\"Yes\",1,0)","v":0},{"$f":"IF('Consequence of Failure'!I46=\"Yes\",1,0)","v":0},null,0.5,null,{"$f":"IF('Consequence of Failure'!K46=\"Yes\",1,0)","v":0},{"$f":"IF('Consequence of Failure'!L46=\"Above\",2,0)","v":0},{"$f":"IF('Consequence of Failure'!L46=\"At\",1,0)","v":0},{"$f":"IF('Consequence of Failure'!L46=\"Below\",0,0)","v":0},{"$f":"IF('Consequence of Failure'!M46=\"Yes\",1,0)","v":0},{"$f":"IF('Consequence of Failure'!N46=\"Yes\",1,0)","v":0},null,0,null,0]
[{"$f":"IF('Data Collection Sheet'!B47=\"Pump\",15,0)","v":0},{"$f":"IF('Data Collection Sheet'!B47=\"Hydrant\",50,0)","v":0},{"$f":"IF('Data Collection Sheet'!B47=\"Meter\",15,0)","v":15},{"$f":"IF('Data Collection Sheet'!B47=\"Pipe\",80,0)","v":0},{"$f":"IF('Data Collection Sheet'!B47=\"Source\",50,0)","v":0},{"$f":"IF('Data Collection Sheet'!B47=\"Tank\",50,0)","v":0},{"$f":"IF('Data Collection Sheet'!B47=\"Analytical\",10,0)","v":0},{"$f":"IF('Data Collection Sheet'!B47=\"Treatment\",20,0)","v":0},{"$f":"IF('Data Collection Sheet'!B47=\"Valve\",20,0)","v":0},{"$f":"IF('Data Collection Sheet'!B47=\"Control\",15,0)","v":0},{"$f":"IF('Data Collection Sheet'!B47=\"Safety\",10,0)","v":0},{"$f":"IF('Data Collection Sheet'!B47=\"Building\",50,0)","v":0},{"$f":"IF('Data Collection Sheet'!B47=\"Vehicle\",8,0)","v":0},{"$f":"IF('Data Collection Sheet'!B47=\"Other\",15,0)","v":0},{"$f":"IF('Data Collection Sheet'!I47=\"Bad\",(-0.8*$T44),0)","v":0},{"$f":"IF('Data Collection Sheet'!I47=\"Fair\",(-0.5*$T44),0)","v":0},{"$f":"IF('Data Collection Sheet'!I47=\"Good\",(-0.2*$T44),0)","v":0},{"$f":"IF('Data Collection Sheet'!I47=\"Great\",0,0)","v":0},null,15,15,15,null,null,null,{"$f":"IF('Consequence of Failure'!F47=\"No\",1,0)","v":0},{"$f":"IF('Consequence of Failure'!G47=\"0%-25%\",0.5,0)","v":0.5},{"$f":"IF('Consequence of Failure'!G47=\"26%-50%\",1,0)","v":0},{"$f":"IF('Consequence of Failure'!G47=\"51%-75%\",1.5,0)","v":0},{"$f":"IF('Consequence of Failure'!G47=\"76%-100%\",2,0)","v":0},{"$f":"IF('Consequence of Failure'!H47=\"Yes\",1,0)","v":0},{"$f":"IF('Consequence of Failure'!I47=\"Yes\",1,0)","v":0},null,0.5,null,{"$f":"IF('Consequence of Failure'!K47=\"Yes\",1,0)","v":0},{"$f":"IF('Consequence of Failure'!L47=\"Above\",2,0)","v":0},{"$f":"IF('Consequence of Failure'!L47=\"At\",1,0)","v":0},{"$f":"IF('Consequence of Failure'!L47=\"Below\",0,0)","v":0},{"$f":"IF('Consequence of Failure'!M47=\"Yes\",1,0)","v":0},{"$f":"IF('Consequence of Failure'!N47=\"Yes\",1,0)","v":0},null,0,null,0]
[{"$f":"IF('Data Collection Sheet'!B48=\"Pump\",15,0)","v":0},{"$f":"IF('Data Collection Sheet'!B48=\"Hydrant\",50,0)","v":0},{"$f":"IF('Data Collection Sheet'!B48=\"Meter\",15,0)","v":15},{"$f":"IF('Data Collection Sheet'!B48=\"Pipe\",80,0)","v":0},{"$f":"IF('Data Collection Sheet'!B48=\"Source\",50,0)","v":0},{"$f":"IF('Data Collection Sheet'!B48=\"Tank\",50,0)","v":0},{"$f":"IF('Data Collection Sheet'!B48=\"Analytical\",10,0)","v":0},{"$f":"IF('Data Collection Sheet'!B48=\"Treatment\",20,0)","v":0},{"$f":"IF('Data Collection Sheet'!B48=\"Valve\",20,0)","v":0},{"$f":"IF('Data Collection Sheet'!B48=\"Control\",15,0)","v":0},{"$f":"IF('Data Collection Sheet'!B48=\"Safety\",10,0)","v":0},{"$f":"IF('Data Collection Sheet'!B48=\"Building\",50,0)","v":0},{"$f":"IF('Data Collection Sheet'!B48=\"Vehicle\",8,0)","v":0},{"$f":"IF('Data Collection Sheet'!B48=\"Other\",15,0)","v":0},{"$f":"IF('Data Collection Sheet'!I48=\"Bad\",(-0.8*$T45),0)","v":0},{"$f":"IF('Data Collection Sheet'!I48=\"Fair\",(-0.5*$T45),0)","v":0},{"$f":"IF('Data Collection Sheet'!I48=\"Good\",(-0.2*$T45),0)","v":0},{"$f":"IF('Data Collection Sheet'!I48=\"Great\",0,0)","v":0},null,15,15,15,null,null,null,{"$f":"IF('Consequence of Failure'!F48=\"No\",1,0)","v":0},{"$f":"IF('Consequence of Failure'!G48=\"0%-25%\",0.5,0)","v":0.5},{"$f":"IF('Consequence of Failure'!G48=\"26%-50%\",1,0)","v":0},{"$f":"IF('Consequence of Failure'!G48=\"51%-75%\",1.5,0)","v":0},{"$f":"IF('Consequence of Failure'!G48=\"76%-100%\",2,0)","v":0},{"$f":"IF('Consequence of Failure'!H48=\"Yes\",1,0)","v":0},{"$f":"IF('Consequence of Failure'!I48=\"Yes\",1,0)","v":0},null,0.5,null,{"$f":"IF('Consequence of Failure'!K48=\"Yes\",1,0)","v":0},{"$f":"IF('Consequence of Failure'!L48=\"Above\",2,0)","v":0},{"$f":"IF('Consequence of Failure'!L48=\"At\",1,0)","v":0},{"$f":"IF('Consequence of Failure'!L48=\"Below\",0,0)","v":0},{"$f":"IF('Consequence of Failure'!M48=\"Yes\",1,0)","v":0},{"$f":"IF('Consequence of Failure'!N48=\"Yes\",1,0)","v":0},null,0,null,0]
[{"$f":"IF('Data Collection Sheet'!B49=\"Pump\",15,0)","v":0},{"$f":"IF('Data Collection Sheet'!B49=\"Hydrant\",50,0)","v":0},{"$f":"IF('Data Collection Sheet'!B49=\"Meter\",15,0)","v":15},{"$f":"IF('Data Collection Sheet'!B49=\"Pipe\",80,0)","v":0},{"$f":"IF('Data Collection Sheet'!B49=\"Source\",50,0)","v":0},{"$f":"IF('Data Collection Sheet'!B49=\"Tank\",50,0)","v":0},{"$f":"IF('Data Collection Sheet'!B49=\"Analytical\",10,0)","v":0},{"$f":"IF('Data Collection Sheet'!B49=\"Treatment\",20,0)","v":0},{"$f":"IF('Data Collection Sheet'!B49=\"Valve\",20,0)","v":0},{"$f":"IF('Data Collection Sheet'!B49=\"Control\",15,0)","v":0},{"$f":"IF('Data Collection Sheet'!B49=\"Safety\",10,0)","v":0},{"$f":"IF('Data Collection Sheet'!B49=\"Building\",50,0)","v":0},{"$f":"IF('Data Collection Sheet'!B49=\"Vehicle\",8,0)","v":0},{"$f":"IF('Data Collection Sheet'!B49=\"Other\",15,0)","v":0},{"$f":"IF('Data Collection Sheet'!I49=\"Bad\",(-0.8*$T46),0)","v":0},{"$f":"IF('Data Collection Sheet'!I49=\"Fair\",(-0.5*$T46),0)","v":0},{"$f":"IF('Data Collection Sheet'!I49=\"Good\",(-0.2*$T46),0)","v":0},{"$f":"IF('Data Collection Sheet'!I49=\"Great\",0,0)","v":0},null,15,15,15,null,null,null,{"$f":"IF('Consequence of Failure'!F49=\"No\",1,0)","v":0},{"$f":"IF('Consequence of Failure'!G49=\"0%-25%\",0.5,0)","v":0.5},{"$f":"IF('Consequence of Failure'!G49=\"26%-50%\",1,0)","v":0},{"$f":"IF('Consequence of Failure'!G49=\"51%-75%\",1.5,0)","v":0},{"$f":"IF('Consequence of Failure'!G49=\"76%-100%\",2,0)","v":0},{"$f":"IF('Consequence of Failure'!H49=\"Yes\",1,0)","v":0},{"$f":"IF('Consequence of Failure'!I49=\"Yes\",1,0)","v":0},null,0.5,null,{"$f":"IF('Consequence of Failure'!K49=\"Yes\",1,0)","v":0},{"$f":"IF('Consequence of Failure'!L49=\"Above\",2,0)","v":0},{"$f":"IF('Consequence of Failure'!L49=\"At\",1,0)","v":0},{"$f":"IF('Consequence of Failure'!L49=\"Below\",0,0)","v":0},{"$f":"IF('Consequence of Failure'!M49=\"Yes\",1,0)","v":0},{"$f":"IF('Consequence of Failure'!N49=\"Yes\",1,0)","v":0},null,0,null,0]
[{"$f":"IF('Data Collection Sheet'!B50=\"Pump\",15,0)","v":0},{"$f":"IF('Data Collection Sheet'!B50=\"Hydrant\",50,0)","v":0},{"$f":"IF('Data Collection Sheet'!B50=\"Meter\",15,0)","v":15},{"$f":"IF('Data Collection Sheet'!B50=\"Pipe\",80,0)","v":0},{"$f":"IF('Data Collection Sheet'!B50=\"Source\",50,0)","v":0},{"$f":"IF('Data Collection Sheet'!B50=\"Tank\",50,0)","v":0},{"$f":"IF('Data Collection Sheet'!B50=\"Analytical\",10,0)","v":0},{"$f":"IF('Data Collection Sheet'!B50=\"Treatment\",20,0)","v":0},{"$f":"IF('Data Collection Sheet'!B50=\"Valve\",20,0)","v":0},{"$f":"IF('Data Collection Sheet'!B50=\"Control\",15,0)","v":0},{"$f":"IF('Data Collection Sheet'!B50=\"Safety\",10,0)","v":0},{"$f":"IF('Data Collection Sheet'!B50=\"Building\",50,0)","v":0},{"$f":"IF('Data Collection Sheet'!B50=\"Vehicle\",8,0)","v":0},{"$f":"IF('Data Collection Sheet'!B50=\"Other\",15,0)","v":0},{"$f":"IF('Data Collection Sheet'!I50=\"Bad\",(-0.8*$T47),0)","v":0},{"$f":"IF('Data Collection Sheet'!I50=\"Fair\",(-0.5*$T47),0)","v":0},{"$f":"IF('Data Collection Sheet'!I50=\"Good\",(-0.2*$T47),0)","v":0},{"$f":"IF('Data Collection Sheet'!I50=\"Great\",0,0)","v":0},null,15,15,15,null,null,null,{"$f":"IF('Consequence of Failure'!F50=\"No\",1,0)","v":0},{"$f":"IF('Consequence of Failure'!G50=\"0%-25%\",0.5,0)","v":0.5},{"$f":"IF('Consequence of Failure'!G50=\"26%-50%\",1,0)","v":0},{"$f":"IF('Consequence of Failure'!G50=\"51%-75%\",1.5,0)","v":0},{"$f":"IF('Consequence of Failure'!G50=\"76%-100%\",2,0)","v":0},{"$f":"IF('Consequence of Failure'!H50=\"Yes\",1,0)","v":0},{"$f":"IF('Consequence of Failure'!I50=\"Yes\",1,0)","v":0},null,0.5,null,{"$f":"IF('Consequence of Failure'!K50=\"Yes\",1,0)","v":0},{"$f":"IF('Consequence of Failure'!L50=\"Above\",2,0)","v":0},{"$f":"IF('Consequence of Failure'!L50=\"At\",1,0)","v":1},{"$f":"IF('Consequence of Failure'!L50=\"Below\",0,0)","v":0},{"$f":"IF('Consequence of Failure'!M50=\"Yes\",1,0)","v":0},{"$f":"IF('Consequence of Failure'!N50=\"Yes\",1,0)","v":0},null,1,null,0.5]
[{"$f":"IF('Data Collection Sheet'!B51=\"Pump\",15,0)","v":0},{"$f":"IF('Data Collection Sheet'!B51=\"Hydrant\",50,0)","v":0},{"$f":"IF('Data Collection Sheet'!B51=\"Meter\",15,0)","v":15},{"$f":"IF('Data Collection Sheet'!B51=\"Pipe\",80,0)","v":0},{"$f":"IF('Data Collection Sheet'!B51=\"Source\",50,0)","v":0},{"$f":"IF('Data Collection Sheet'!B51=\"Tank\",50,0)","v":0},{"$f":"IF('Data Collection Sheet'!B51=\"Analytical\",10,0)","v":0},{"$f":"IF('Data Collection Sheet'!B51=\"Treatment\",20,0)","v":0},{"$f":"IF('Data Collection Sheet'!B51=\"Valve\",20,0)","v":0},{"$f":"IF('Data Collection Sheet'!B51=\"Control\",15,0)","v":0},{"$f":"IF('Data Collection Sheet'!B51=\"Safety\",10,0)","v":0},{"$f":"IF('Data Collection Sheet'!B51=\"Building\",50,0)","v":0},{"$f":"IF('Data Collection Sheet'!B51=\"Vehicle\",8,0)","v":0},{"$f":"IF('Data Collection Sheet'!B51=\"Other\",15,0)","v":0},{"$f":"IF('Data Collection Sheet'!I51=\"Bad\",(-0.8*$T48),0)","v":0},{"$f":"IF('Data Collection Sheet'!I51=\"Fair\",(-0.5*$T48),0)","v":0},{"$f":"IF('Data Collection Sheet'!I51=\"Good\",(-0.2*$T48),0)","v":0},{"$f":"IF('Data Collection Sheet'!I51=\"Great\",0,0)","v":0},null,15,15,15,null,null,null,{"$f":"IF('Consequence of Failure'!F51=\"No\",1,0)","v":0},{"$f":"IF('Consequence of Failure'!G51=\"0%-25%\",0.5,0)","v":0.5},{"$f":"IF('Consequence of Failure'!G51=\"26%-50%\",1,0)","v":0},{"$f":"IF('Consequence of Failure'!G51=\"51%-75%\",1.5,0)","v":0},{"$f":"IF('Consequence of Failure'!G51=\"76%-100%\",2,0)","v":0},{"$f":"IF('Consequence of Failure'!H51=\"Yes\",1,0)","v":0},{"$f":"IF('Consequence of Failure'!I51=\"Yes\",1,0)","v":0},null,0.5,null,{"$f":"IF('Consequence of Failure'!K51=\"Yes\",1,0)","v":0},{"$f":"IF('Consequence of Failure'!L51=\"Above\",2,0)","v":0},{"$f":"IF('Consequence of Failure'!L51=\"At\",1,0)","v":1},{"$f":"IF('Consequence of Failure'!L51=\"Below\",0,0)","v":0},{"$f":"IF('Consequence of Failure'!M51=\"Yes\",1,0)","v":0},{"$f":"IF('Consequence of Failure'!N51=\"Yes\",1,0)","v":0},null,1,null,0.5]
[{"$f":"IF('Data Collection Sheet'!B52=\"Pump\",15,0)","v":0},{"$f":"IF('Data Collection Sheet'!B52=\"Hydrant\",50,0)","v":0},{"$f":"IF('Data Collection Sheet'!B52=\"Meter\",15,0)","v":15},{"$f":"IF('Data Collection Sheet'!B52=\"Pipe\",80,0)","v":0},{"$f":"IF('Data Collection Sheet'!B52=\"Source\",50,0)","v":0},{"$f":"IF('Data Collection Sheet'!B52=\"Tank\",50,0)","v":0},{"$f":"IF('Data Collection Sheet'!B52=\"Analytical\",10,0)","v":0},{"$f":"IF('Data Collection Sheet'!B52=\"Treatment\",20,0)","v":0},{"$f":"IF('Data Collection Sheet'!B52=\"Valve\",20,0)","v":0},{"$f":"IF('Data Collection Sheet'!B52=\"Control\",15,0)","v":0},{"$f":"IF('Data Collection Sheet'!B52=\"Safety\",10,0)","v":0},{"$f":"IF('Data Collection Sheet'!B52=\"Building\",50,0)","v":0},{"$f":"IF('Data Collection Sheet'!B52=\"Vehicle\",8,0)","v":0},{"$f":"IF('Data Collection Sheet'!B52=\"Other\",15,0)","v":0},{"$f":"IF('Data Collection Sheet'!I52=\"Bad\",(-0.8*$T49),0)","v":0},{"$f":"IF('Data Collection Sheet'!I52=\"Fair\",(-0.5*$T49),0)","v":0},{"$f":"IF('Data Collection Sheet'!I52=\"Good\",(-0.2*$T49),0)","v":0},{"$f":"IF('Data Collection Sheet'!I52=\"Great\",0,0)","v":0},null,15,15,15,null,null,null,{"$f":"IF('Consequence of Failure'!F52=\"No\",1,0)","v":0},{"$f":"IF('Consequence of Failure'!G52=\"0%-25%\",0.5,0)","v":0.5},{"$f":"IF('Consequence of Failure'!G52=\"26%-50%\",1,0)","v":0},{"$f":"IF('Consequence of Failure'!G52=\"51%-75%\",1.5,0)","v":0},{"$f":"IF('Consequence of Failure'!G52=\"76%-100%\",2,0)","v":0},{"$f":"IF('Consequence of Failure'!H52=\"Yes\",1,0)","v":0},{"$f":"IF('Consequence of Failure'!I52=\"Yes\",1,0)","v":0},null,0.5,null,{"$f":"IF('Consequence of Failure'!K52=\"Yes\",1,0)","v":0},{"$f":"IF('Consequence of Failure'!L52=\"Above\",2,0)","v":0},{"$f":"IF('Consequence of Failure'!L52=\"At\",1,0)","v":1},{"$f":"IF('Consequence of Failure'!L52=\"Below\",0,0)","v":0},{"$f":"IF('Consequence of Failure'!M52=\"Yes\",1,0)","v":0},{"$f":"IF('Consequence of Failure'!N52=\"Yes\",1,0)","v":0},null,1,null,0.5]
[{"$f":"IF('Data Collection Sheet'!B53=\"Pump\",15,0)","v":0},{"$f":"IF('Data Collection Sheet'!B53=\"Hydrant\",50,0)","v":0},{"$f":"IF('Data Collection Sheet'!B53=\"Meter\",15,0)","v":15},{"$f":"IF('Data Collection Sheet'!B53=\"Pipe\",80,0)","v":0},{"$f":"IF('Data Collection Sheet'!B53=\"Source\",50,0)","v":0},{"$f":"IF('Data Collection Sheet'!B53=\"Tank\",50,0)","v":0},{"$f":"IF('Data Collection Sheet'!B53=\"Analytical\",10,0)","v":0},{"$f":"IF('Data Collection Sheet'!B53=\"Treatment\",20,0)","v":0},{"$f":"IF('Data Collection Sheet'!B53=\"Valve\",20,0)","v":0},{"$f":"IF('Data Collection Sheet'!B53=\"Control\",15,0)","v":0},{"$f":"IF('Data Collection Sheet'!B53=\"Safety\",10,0)","v":0},{"$f":"IF('Data Collection Sheet'!B53=\"Building\",50,0)","v":0},{"$f":"IF('Data Collection Sheet'!B53=\"Vehicle\",8,0)","v":0},{"$f":"IF('Data Collection Sheet'!B53=\"Other\",15,0)","v":0},{"$f":"IF('Data Collection Sheet'!I53=\"Bad\",(-0.8*$T50),0)","v":0},{"$f":"IF('Data Collection Sheet'!I53=\"Fair\",(-0.5*$T50),0)","v":0},{"$f":"IF('Data Collection Sheet'!I53=\"Good\",(-0.2*$T50),0)","v":0},{"$f":"IF('Data Collection Sheet'!I53=\"Great\",0,0)","v":0},null,15,15,15,null,null,null,{"$f":"IF('Consequence of Failure'!F53=\"No\",1,0)","v":0},{"$f":"IF('Consequence of Failure'!G53=\"0%-25%\",0.5,0)","v":0.5},{"$f":"IF('Consequence of Failure'!G53=\"26%-50%\",1,0)","v":0},{"$f":"IF('Consequence of Failure'!G53=\"51%-75%\",1.5,0)","v":0},{"$f":"IF('Consequence of Failure'!G53=\"76%-100%\",2,0)","v":0},{"$f":"IF('Consequence of Failure'!H53=\"Yes\",1,0)","v":0},{"$f":"IF('Consequence of Failure'!I53=\"Yes\",1,0)","v":0},null,0.5,null,{"$f":"IF('Consequence of Failure'!K53=\"Yes\",1,0)","v":0},{"$f":"IF('Consequence of Failure'!L53=\"Above\",2,0)","v":0},{"$f":"IF('Consequence of Failure'!L53=\"At\",1,0)","v":1},{"$f":"IF('Consequence of Failure'!L53=\"Below\",0,0)","v":0},{"$f":"IF('Consequence of Failure'!M53=\"Yes\",1,0)","v":0},{"$f":"IF('Consequence of Failure'!N53=\"Yes\",1,0)","v":0},null,1,null,0.5]
[{"$f":"IF('Data Collection Sheet'!B54=\"Pump\",15,0)","v":0},{"$f":"IF('Data Collection Sheet'!B54=\"Hydrant\",50,0)","v":0},{"$f":"IF('Data Collection Sheet'!B54=\"Meter\",15,0)","v":15},{"$f":"IF('Data Collection Sheet'!B54=\"Pipe\",80,0)","v":0},{"$f":"IF('Data Collection Sheet'!B54=\"Source\",50,0)","v":0},{"$f":"IF('Data Collection Sheet'!B54=\"Tank\",50,0)","v":0},{"$f":"IF('Data Collection Sheet'!B54=\"Analytical\",10,0)","v":0},{"$f":"IF('Data Collection Sheet'!B54=\"Treatment\",20,0)","v":0},{"$f":"IF('Data Collection Sheet'!B54=\"Valve\",20,0)","v":0},{"$f":"IF('Data Collection Sheet'!B54=\"Control\",15,0)","v":0},{"$f":"IF('Data Collection Sheet'!B54=\"Safety\",10,0)","v":0},{"$f":"IF('Data Collection Sheet'!B54=\"Building\",50,0)","v":0},{"$f":"IF('Data Collection Sheet'!B54=\"Vehicle\",8,0)","v":0},{"$f":"IF('Data Collection Sheet'!B54=\"Other\",15,0)","v":0},{"$f":"IF('Data Collection Sheet'!I54=\"Bad\",(-0.8*$T51),0)","v":0},{"$f":"IF('Data Collection Sheet'!I54=\"Fair\",(-0.5*$T51),0)","v":0},{"$f":"IF('Data Collection Sheet'!I54=\"Good\",(-0.2*$T51),0)","v":0},{"$f":"IF('Data Collection Sheet'!I54=\"Great\",0,0)","v":0},null,15,15,15,null,null,null,{"$f":"IF('Consequence of Failure'!F54=\"No\",1,0)","v":0},{"$f":"IF('Consequence of Failure'!G54=\"0%-25%\",0.5,0)","v":0.5},{"$f":"IF('Consequence of Failure'!G54=\"26%-50%\",1,0)","v":0},{"$f":"IF('Consequence of Failure'!G54=\"51%-75%\",1.5,0)","v":0},{"$f":"IF('Consequence of Failure'!G54=\"76%-100%\",2,0)","v":0},{"$f":"IF('Consequence of Failure'!H54=\"Yes\",1,0)","v":0},{"$f":"IF('Consequence of Failure'!I54=\"Yes\",1,0)","v":0},null,0.5,null,{"$f":"IF('Consequence of Failure'!K54=\"Yes\",1,0)","v":0},{"$f":"IF('Consequence of Failure'!L54=\"Above\",2,0)","v":0},{"$f":"IF('Consequence of Failure'!L54=\"At\",1,0)","v":1},{"$f":"IF('Consequence of Failure'!L54=\"Below\",0,0)","v":0},{"$f":"IF('Consequence of Failure'!M54=\"Yes\",1,0)","v":0},{"$f":"IF('Consequence of Failure'!N54=\"Yes\",1,0)","v":0},null,1,null,0.5]
[{"$f":"IF('Data Collection Sheet'!B55=\"Pump\",15,0)","v":0},{"$f":"IF('Data Collection Sheet'!B55=\"Hydrant\",50,0)","v":0},{"$f":"IF('Data Collection Sheet'!B55=\"Meter\",15,0)","v":15},{"$f":"IF('Data Collection Sheet'!B55=\"Pipe\",80,0)","v":0},{"$f":"IF('Data Collection Sheet'!B55=\"Source\",50,0)","v":0},{"$f":"IF('Data Collection Sheet'!B55=\"Tank\",50,0)","v":0},{"$f":"IF('Data Collection Sheet'!B55=\"Analytical\",10,0)","v":0},{"$f":"IF('Data Collection Sheet'!B55=\"Treatment\",20,0)","v":0},{"$f":"IF('Data Collection Sheet'!B55=\"Valve\",20,0)","v":0},{"$f":"IF('Data Collection Sheet'!B55=\"Control\",15,0)","v":0},{"$f":"IF('Data Collection Sheet'!B55=\"Safety\",10,0)","v":0},{"$f":"IF('Data Collection Sheet'!B55=\"Building\",50,0)","v":0},{"$f":"IF('Data Collection Sheet'!B55=\"Vehicle\",8,0)","v":0},{"$f":"IF('Data Collection Sheet'!B55=\"Other\",15,0)","v":0},{"$f":"IF('Data Collection Sheet'!I55=\"Bad\",(-0.8*$T52),0)","v":0},{"$f":"IF('Data Collection Sheet'!I55=\"Fair\",(-0.5*$T52),0)","v":0},{"$f":"IF('Data Collection Sheet'!I55=\"Good\",(-0.2*$T52),0)","v":0},{"$f":"IF('Data Collection Sheet'!I55=\"Great\",0,0)","v":0},null,15,15,15,null,null,null,{"$f":"IF('Consequence of Failure'!F55=\"No\",1,0)","v":0},{"$f":"IF('Consequence of Failure'!G55=\"0%-25%\",0.5,0)","v":0.5},{"$f":"IF('Consequence of Failure'!G55=\"26%-50%\",1,0)","v":0},{"$f":"IF('Consequence of Failure'!G55=\"51%-75%\",1.5,0)","v":0},{"$f":"IF('Consequence of Failure'!G55=\"76%-100%\",2,0)","v":0},{"$f":"IF('Consequence of Failure'!H55=\"Yes\",1,0)","v":0},{"$f":"IF('Consequence of Failure'!I55=\"Yes\",1,0)","v":0},null,0.5,null,{"$f":"IF('Consequence of Failure'!K55=\"Yes\",1,0)","v":0},{"$f":"IF('Consequence of Failure'!L55=\"Above\",2,0)","v":0},{"$f":"IF('Consequence of Failure'!L55=\"At\",1,0)","v":1},{"$f":"IF('Consequence of Failure'!L55=\"Below\",0,0)","v":0},{"$f":"IF('Consequence of Failure'!M55=\"Yes\",1,0)","v":0},{"$f":"IF('Consequence of Failure'!N55=\"Yes\",1,0)","v":0},null,1,null,0.5]
[{"$f":"IF('Data Collection Sheet'!B56=\"Pump\",15,0)","v":0},{"$f":"IF('Data Collection Sheet'!B56=\"Hydrant\",50,0)","v":0},{"$f":"IF('Data Collection Sheet'!B56=\"Meter\",15,0)","v":15},{"$f":"IF('Data Collection Sheet'!B56=\"Pipe\",80,0)","v":0},{"$f":"IF('Data Collection Sheet'!B56=\"Source\",50,0)","v":0},{"$f":"IF('Data Collection Sheet'!B56=\"Tank\",50,0)","v":0},{"$f":"IF('Data Collection Sheet'!B56=\"Analytical\",10,0)","v":0},{"$f":"IF('Data Collection Sheet'!B56=\"Treatment\",20,0)","v":0},{"$f":"IF('Data Collection Sheet'!B56=\"Valve\",20,0)","v":0},{"$f":"IF('Data Collection Sheet'!B56=\"Control\",15,0)","v":0},{"$f":"IF('Data Collection Sheet'!B56=\"Safety\",10,0)","v":0},{"$f":"IF('Data Collection Sheet'!B56=\"Building\",50,0)","v":0},{"$f":"IF('Data Collection Sheet'!B56=\"Vehicle\",8,0)","v":0},{"$f":"IF('Data Collection Sheet'!B56=\"Other\",15,0)","v":0},{"$f":"IF('Data Collection Sheet'!I56=\"Bad\",(-0.8*$T53),0)","v":0},{"$f":"IF('Data Collection Sheet'!I56=\"Fair\",(-0.5*$T53),0)","v":0},{"$f":"IF('Data Collection Sheet'!I56=\"Good\",(-0.2*$T53),0)","v":0},{"$f":"IF('Data Collection Sheet'!I56=\"Great\",0,0)","v":0},null,15,15,15,null,null,null,{"$f":"IF('Consequence of Failure'!F56=\"No\",1,0)","v":0},{"$f":"IF('Consequence of Failure'!G56=\"0%-25%\",0.5,0)","v":0.5},{"$f":"IF('Consequence of Failure'!G56=\"26%-50%\",1,0)","v":0},{"$f":"IF('Consequence of Failure'!G56=\"51%-75%\",1.5,0)","v":0},{"$f":"IF('Consequence of Failure'!G56=\"76%-100%\",2,0)","v":0},{"$f":"IF('Consequence of Failure'!H56=\"Yes\",1,0)","v":0},{"$f":"IF('Consequence of Failure'!I56=\"Yes\",1,0)","v":0},null,0.5,null,{"$f":"IF('Consequence of Failure'!K56=\"Yes\",1,0)","v":0},{"$f":"IF('Consequence of Failure'!L56=\"Above\",2,0)","v":0},{"$f":"IF('Consequence of Failure'!L56=\"At\",1,0)","v":1},{"$f":"IF('Consequence of Failure'!L56=\"Below\",0,0)","v":0},{"$f":"IF('Consequence of Failure'!M56=\"Yes\",1,0)","v":0},{"$f":"IF('Consequence of Failure'!N56=\"Yes\",1,0)","v":0},null,1,null,0.5]
[{"$f":"IF('Data Collection Sheet'!B57=\"Pump\",15,0)","v":0},{"$f":"IF('Data Collection Sheet'!B57=\"Hydrant\",50,0)","v":0},{"$f":"IF('Data Collection Sheet'!B57=\"Meter\",15,0)","v":0},{"$f":"IF('Data Collection Sheet'!B57=\"Pipe\",80,0)","v":0},{"$f":"IF('Data Collection Sheet'!B57=\"Source\",50,0)","v":0},{"$f":"IF('Data Collection Sheet'!B57=\"Tank\",50,0)","v":0},{"$f":"IF('Data Collection Sheet'!B57=\"Analytical\",10,0)","v":0},{"$f":"IF('Data Collection Sheet'!B57=\"Treatment\",20,0)","v":0},{"$f":"IF('Data Collection Sheet'!B57=\"Valve\",20,0)","v":20},{"$f":"IF('Data Collection Sheet'!B57=\"Control\",15,0)","v":0},{"$f":"IF('Data Collection Sheet'!B57=\"Safety\",10,0)","v":0},{"$f":"IF('Data Collection Sheet'!B57=\"Building\",50,0)","v":0},{"$f":"IF('Data Collection Sheet'!B57=\"Vehicle\",8,0)","v":0},{"$f":"IF('Data Collection Sheet'!B57=\"Other\",15,0)","v":0},{"$f":"IF('Data Collection Sheet'!I57=\"Bad\",(-0.8*$T54),0)","v":0},{"$f":"IF('Data Collection Sheet'!I57=\"Fair\",(-0.5*$T54),0)","v":0},{"$f":"IF('Data Collection Sheet'!I57=\"Good\",(-0.2*$T54),0)","v":0},{"$f":"IF('Data Collection Sheet'!I57=\"Great\",0,0)","v":0},null,20,20,20,null,null,null,{"$f":"IF('Consequence of Failure'!F57=\"No\",1,0)","v":0},{"$f":"IF('Consequence of Failure'!G57=\"0%-25%\",0.5,0)","v":0.5},{"$f":"IF('Consequence of Failure'!G57=\"26%-50%\",1,0)","v":0},{"$f":"IF('Consequence of Failure'!G57=\"51%-75%\",1.5,0)","v":0},{"$f":"IF('Consequence of Failure'!G57=\"76%-100%\",2,0)","v":0},{"$f":"IF('Consequence of Failure'!H57=\"Yes\",1,0)","v":0},{"$f":"IF('Consequence of Failure'!I57=\"Yes\",1,0)","v":0},null,0.5,null,{"$f":"IF('Consequence of Failure'!K57=\"Yes\",1,0)","v":0},{"$f":"IF('Consequence of Failure'!L57=\"Above\",2,0)","v":0},{"$f":"IF('Consequence of Failure'!L57=\"At\",1,0)","v":1},{"$f":"IF('Consequence of Failure'!L57=\"Below\",0,0)","v":0},{"$f":"IF('Consequence of Failure'!M57=\"Yes\",1,0)","v":0},{"$f":"IF('Consequence of Failure'!N57=\"Yes\",1,0)","v":0},null,1,null,0.5]
[{"$f":"IF('Data Collection Sheet'!B58=\"Pump\",15,0)","v":0},{"$f":"IF('Data Collection Sheet'!B58=\"Hydrant\",50,0)","v":0},{"$f":"IF('Data Collection Sheet'!B58=\"Meter\",15,0)","v":0},{"$f":"IF('Data Collection Sheet'!B58=\"Pipe\",80,0)","v":0},{"$f":"IF('Data Collection Sheet'!B58=\"Source\",50,0)","v":0},{"$f":"IF('Data Collection Sheet'!B58=\"Tank\",50,0)","v":0},{"$f":"IF('Data Collection Sheet'!B58=\"Analytical\",10,0)","v":0},{"$f":"IF('Data Collection Sheet'!B58=\"Treatment\",20,0)","v":0},{"$f":"IF('Data Collection Sheet'!B58=\"Valve\",20,0)","v":20},{"$f":"IF('Data Collection Sheet'!B58=\"Control\",15,0)","v":0},{"$f":"IF('Data Collection Sheet'!B58=\"Safety\",10,0)","v":0},{"$f":"IF('Data Collection Sheet'!B58=\"Building\",50,0)","v":0},{"$f":"IF('Data Collection Sheet'!B58=\"Vehicle\",8,0)","v":0},{"$f":"IF('Data Collection Sheet'!B58=\"Other\",15,0)","v":0},{"$f":"IF('Data Collection Sheet'!I58=\"Bad\",(-0.8*$T55),0)","v":0},{"$f":"IF('Data Collection Sheet'!I58=\"Fair\",(-0.5*$T55),0)","v":0},{"$f":"IF('Data Collection Sheet'!I58=\"Good\",(-0.2*$T55),0)","v":0},{"$f":"IF('Data Collection Sheet'!I58=\"Great\",0,0)","v":0},null,20,20,20,null,null,null,{"$f":"IF('Consequence of Failure'!F58=\"No\",1,0)","v":0},{"$f":"IF('Consequence of Failure'!G58=\"0%-25%\",0.5,0)","v":0.5},{"$f":"IF('Consequence of Failure'!G58=\"26%-50%\",1,0)","v":0},{"$f":"IF('Consequence of Failure'!G58=\"51%-75%\",1.5,0)","v":0},{"$f":"IF('Consequence of Failure'!G58=\"76%-100%\",2,0)","v":0},{"$f":"IF('Consequence of Failure'!H58=\"Yes\",1,0)","v":0},{"$f":"IF('Consequence of Failure'!I58=\"Yes\",1,0)","v":0},null,0.5,null,{"$f":"IF('Consequence of Failure'!K58=\"Yes\",1,0)","v":0},{"$f":"IF('Consequence of Failure'!L58=\"Above\",2,0)","v":0},{"$f":"IF('Consequence of Failure'!L58=\"At\",1,0)","v":1},{"$f":"IF('Consequence of Failure'!L58=\"Below\",0,0)","v":0},{"$f":"IF('Consequence of Failure'!M58=\"Yes\",1,0)","v":0},{"$f":"IF('Consequence of Failure'!N58=\"Yes\",1,0)","v":0},null,1,null,0.5]
[{"$f":"IF('Data Collection Sheet'!B59=\"Pump\",15,0)","v":0},{"$f":"IF('Data Collection Sheet'!B59=\"Hydrant\",50,0)","v":0},{"$f":"IF('Data Collection Sheet'!B59=\"Meter\",15,0)","v":0},{"$f":"IF('Data Collection Sheet'!B59=\"Pipe\",80,0)","v":0},{"$f":"IF('Data Collection Sheet'!B59=\"Source\",50,0)","v":0},{"$f":"IF('Data Collection Sheet'!B59=\"Tank\",50,0)","v":0},{"$f":"IF('Data Collection Sheet'!B59=\"Analytical\",10,0)","v":0},{"$f":"IF('Data Collection Sheet'!B59=\"Treatment\",20,0)","v":0},{"$f":"IF('Data Collection Sheet'!B59=\"Valve\",20,0)","v":20},{"$f":"IF('Data Collection Sheet'!B59=\"Control\",15,0)","v":0},{"$f":"IF('Data Collection Sheet'!B59=\"Safety\",10,0)","v":0},{"$f":"IF('Data Collection Sheet'!B59=\"Building\",50,0)","v":0},{"$f":"IF('Data Collection Sheet'!B59=\"Vehicle\",8,0)","v":0},{"$f":"IF('Data Collection Sheet'!B59=\"Other\",15,0)","v":0},{"$f":"IF('Data Collection Sheet'!I59=\"Bad\",(-0.8*$T56),0)","v":0},{"$f":"IF('Data Collection Sheet'!I59=\"Fair\",(-0.5*$T56),0)","v":0},{"$f":"IF('Data Collection Sheet'!I59=\"Good\",(-0.2*$T56),0)","v":0},{"$f":"IF('Data Collection Sheet'!I59=\"Great\",0,0)","v":0},null,20,20,20,null,null,null,{"$f":"IF('Consequence of Failure'!F59=\"No\",1,0)","v":0},{"$f":"IF('Consequence of Failure'!G59=\"0%-25%\",0.5,0)","v":0.5},{"$f":"IF('Consequence of Failure'!G59=\"26%-50%\",1,0)","v":0},{"$f":"IF('Consequence of Failure'!G59=\"51%-75%\",1.5,0)","v":0},{"$f":"IF('Consequence of Failure'!G59=\"76%-100%\",2,0)","v":0},{"$f":"IF('Consequence of Failure'!H59=\"Yes\",1,0)","v":0},{"$f":"IF('Consequence of Failure'!I59=\"Yes\",1,0)","v":0},null,0.5,null,{"$f":"IF('Consequence of Failure'!K59=\"Yes\",1,0)","v":0},{"$f":"IF('Consequence of Failure'!L59=\"Above\",2,0)","v":0},{"$f":"IF('Consequence of Failure'!L59=\"At\",1,0)","v":1},{"$f":"IF('Consequence of Failure'!L59=\"Below\",0,0)","v":0},{"$f":"IF('Consequence of Failure'!M59=\"Yes\",1,0)","v":0},{"$f":"IF('Consequence of Failure'!N59=\"Yes\",1,0)","v":0},null,1,null,0.5]
[{"$f":"IF('Data Collection Sheet'!B60=\"Pump\",15,0)","v":0},{"$f":"IF('Data Collection Sheet'!B60=\"Hydrant\",50,0)","v":0},{"$f":"IF('Data Collection Sheet'!B60=\"Meter\",15,0)","v":0},{"$f":"IF('Data Collection Sheet'!B60=\"Pipe\",80,0)","v":0},{"$f":"IF('Data Collection Sheet'!B60=\"Source\",50,0)","v":0},{"$f":"IF('Data Collection Sheet'!B60=\"Tank\",50,0)","v":0},{"$f":"IF('Data Collection Sheet'!B60=\"Analytical\",10,0)","v":0},{"$f":"IF('Data Collection Sheet'!B60=\"Treatment\",20,0)","v":0},{"$f":"IF('Data Collection Sheet'!B60=\"Valve\",20,0)","v":20},{"$f":"IF('Data Collection Sheet'!B60=\"Control\",15,0)","v":0},{"$f":"IF('Data Collection Sheet'!B60=\"Safety\",10,0)","v":0},{"$f":"IF('Data Collection Sheet'!B60=\"Building\",50,0)","v":0},{"$f":"IF('Data Collection Sheet'!B60=\"Vehicle\",8,0)","v":0},{"$f":"IF('Data Collection Sheet'!B60=\"Other\",15,0)","v":0},{"$f":"IF('Data Collection Sheet'!I60=\"Bad\",(-0.8*$T57),0)","v":0},{"$f":"IF('Data Collection Sheet'!I60=\"Fair\",(-0.5*$T57),0)","v":0},{"$f":"IF('Data Collection Sheet'!I60=\"Good\",(-0.2*$T57),0)","v":0},{"$f":"IF('Data Collection Sheet'!I60=\"Great\",0,0)","v":0},null,20,20,20,null,null,null,{"$f":"IF('Consequence of Failure'!F60=\"No\",1,0)","v":0},{"$f":"IF('Consequence of Failure'!G60=\"0%-25%\",0.5,0)","v":0.5},{"$f":"IF('Consequence of Failure'!G60=\"26%-50%\",1,0)","v":0},{"$f":"IF('Consequence of Failure'!G60=\"51%-75%\",1.5,0)","v":0},{"$f":"IF('Consequence of Failure'!G60=\"76%-100%\",2,0)","v":0},{"$f":"IF('Consequence of Failure'!H60=\"Yes\",1,0)","v":0},{"$f":"IF('Consequence of Failure'!I60=\"Yes\",1,0)","v":0},null,0.5,null,{"$f":"IF('Consequence of Failure'!K60=\"Yes\",1,0)","v":0},{"$f":"IF('Consequence of Failure'!L60=\"Above\",2,0)","v":0},{"$f":"IF('Consequence of Failure'!L60=\"At\",1,0)","v":1},{"$f":"IF('Consequence of Failure'!L60=\"Below\",0,0)","v":0},{"$f":"IF('Consequence of Failure'!M60=\"Yes\",1,0)","v":0},{"$f":"IF('Consequence of Failure'!N60=\"Yes\",1,0)","v":0},null,1,null,0.5]
[{"$f":"IF('Data Collection Sheet'!B61=\"Pump\",15,0)","v":0},{"$f":"IF('Data Collection Sheet'!B61=\"Hydrant\",50,0)","v":0},{"$f":"IF('Data Collection Sheet'!B61=\"Meter\",15,0)","v":0},{"$f":"IF('Data Collection Sheet'!B61=\"Pipe\",80,0)","v":0},{"$f":"IF('Data Collection Sheet'!B61=\"Source\",50,0)","v":0},{"$f":"IF('Data Collection Sheet'!B61=\"Tank\",50,0)","v":0},{"$f":"IF('Data Collection Sheet'!B61=\"Analytical\",10,0)","v":0},{"$f":"IF('Data Collection Sheet'!B61=\"Treatment\",20,0)","v":0},{"$f":"IF('Data Collection Sheet'!B61=\"Valve\",20,0)","v":20},{"$f":"IF('Data Collection Sheet'!B61=\"Control\",15,0)","v":0},{"$f":"IF('Data Collection Sheet'!B61=\"Safety\",10,0)","v":0},{"$f":"IF('Data Collection Sheet'!B61=\"Building\",50,0)","v":0},{"$f":"IF('Data Collection Sheet'!B61=\"Vehicle\",8,0)","v":0},{"$f":"IF('Data Collection Sheet'!B61=\"Other\",15,0)","v":0},{"$f":"IF('Data Collection Sheet'!I61=\"Bad\",(-0.8*$T58),0)","v":0},{"$f":"IF('Data Collection Sheet'!I61=\"Fair\",(-0.5*$T58),0)","v":0},{"$f":"IF('Data Collection Sheet'!I61=\"Good\",(-0.2*$T58),0)","v":0},{"$f":"IF('Data Collection Sheet'!I61=\"Great\",0,0)","v":0},null,20,20,20,null,null,null,{"$f":"IF('Consequence of Failure'!F61=\"No\",1,0)","v":0},{"$f":"IF('Consequence of Failure'!G61=\"0%-25%\",0.5,0)","v":0.5},{"$f":"IF('Consequence of Failure'!G61=\"26%-50%\",1,0)","v":0},{"$f":"IF('Consequence of Failure'!G61=\"51%-75%\",1.5,0)","v":0},{"$f":"IF('Consequence of Failure'!G61=\"76%-100%\",2,0)","v":0},{"$f":"IF('Consequence of Failure'!H61=\"Yes\",1,0)","v":0},{"$f":"IF('Consequence of Failure'!I61=\"Yes\",1,0)","v":0},null,0.5,null,{"$f":"IF('Consequence of Failure'!K61=\"Yes\",1,0)","v":0},{"$f":"IF('Consequence of Failure'!L61=\"Above\",2,0)","v":0},{"$f":"IF('Consequence of Failure'!L61=\"At\",1,0)","v":1},{"$f":"IF('Consequence of Failure'!L61=\"Below\",0,0)","v":0},{"$f":"IF('Consequence of Failure'!M61=\"Yes\",1,0)","v":0},{"$f":"IF('Consequence of Failure'!N61=\"Yes\",1,0)","v":0},null,1,null,0.5]
[{"$f":"IF('Data Collection Sheet'!B62=\"Pump\",15,0)","v":0},{"$f":"IF('Data Collection Sheet'!B62=\"Hydrant\",50,0)","v":0},{"$f":"IF('Data Collection Sheet'!B62=\"Meter\",15,0)","v":0},{"$f":"IF('Data Collection Sheet'!B62=\"Pipe\",80,0)","v":0},{"$f":"IF('Data Collection Sheet'!B62=\"Source\",50,0)","v":0},{"$f":"IF('Data Collection Sheet'!B62=\"Tank\",50,0)","v":0},{"$f":"IF('Data Collection Sheet'!B62=\"Analytical\",10,0)","v":0},{"$f":"IF('Data Collection Sheet'!B62=\"Treatment\",20,0)","v":0},{"$f":"IF('Data Collection Sheet'!B62=\"Valve\",20,0)","v":20},{"$f":"IF('Data Collection Sheet'!B62=\"Control\",15,0)","v":0},{"$f":"IF('Data Collection Sheet'!B62=\"Safety\",10,0)","v":0},{"$f":"IF('Data Collection Sheet'!B62=\"Building\",50,0)","v":0},{"$f":"IF('Data Collection Sheet'!B62=\"Vehicle\",8,0)","v":0},{"$f":"IF('Data Collection Sheet'!B62=\"Other\",15,0)","v":0},{"$f":"IF('Data Collection Sheet'!I62=\"Bad\",(-0.8*$T59),0)","v":0},{"$f":"IF('Data Collection Sheet'!I62=\"Fair\",(-0.5*$T59),0)","v":0},{"$f":"IF('Data Collection Sheet'!I62=\"Good\",(-0.2*$T59),0)","v":0},{"$f":"IF('Data Collection Sheet'!I62=\"Great\",0,0)","v":0},null,20,20,20,null,null,null,{"$f":"IF('Consequence of Failure'!F62=\"No\",1,0)","v":0},{"$f":"IF('Consequence of Failure'!G62=\"0%-25%\",0.5,0)","v":0.5},{"$f":"IF('Consequence of Failure'!G62=\"26%-50%\",1,0)","v":0},{"$f":"IF('Consequence of Failure'!G62=\"51%-75%\",1.5,0)","v":0},{"$f":"IF('Consequence of Failure'!G62=\"76%-100%\",2,0)","v":0},{"$f":"IF('Consequence of Failure'!H62=\"Yes\",1,0)","v":0},{"$f":"IF('Consequence of Failure'!I62=\"Yes\",1,0)","v":0},null,0.5,null,{"$f":"IF('Consequence of Failure'!K62=\"Yes\",1,0)","v":0},{"$f":"IF('Consequence of Failure'!L62=\"Above\",2,0)","v":0},{"$f":"IF('Consequence of Failure'!L62=\"At\",1,0)","v":1},{"$f":"IF('Consequence of Failure'!L62=\"Below\",0,0)","v":0},{"$f":"IF('Consequence of Failure'!M62=\"Yes\",1,0)","v":0},{"$f":"IF('Consequence of Failure'!N62=\"Yes\",1,0)","v":0},null,1,null,0.5]
[{"$f":"IF('Data Collection Sheet'!B63=\"Pump\",15,0)","v":0},{"$f":"IF('Data Collection Sheet'!B63=\"Hydrant\",50,0)","v":0},{"$f":"IF('Data Collection Sheet'!B63=\"Meter\",15,0)","v":0},{"$f":"IF('Data Collection Sheet'!B63=\"Pipe\",80,0)","v":0},{"$f":"IF('Data Collection Sheet'!B63=\"Source\",50,0)","v":0},{"$f":"IF('Data Collection Sheet'!B63=\"Tank\",50,0)","v":0},{"$f":"IF('Data Collection Sheet'!B63=\"Analytical\",10,0)","v":0},{"$f":"IF('Data Collection Sheet'!B63=\"Treatment\",20,0)","v":0},{"$f":"IF('Data Collection Sheet'!B63=\"Valve\",20,0)","v":20},{"$f":"IF('Data Collection Sheet'!B63=\"Control\",15,0)","v":0},{"$f":"IF('Data Collection Sheet'!B63=\"Safety\",10,0)","v":0},{"$f":"IF('Data Collection Sheet'!B63=\"Building\",50,0)","v":0},{"$f":"IF('Data Collection Sheet'!B63=\"Vehicle\",8,0)","v":0},{"$f":"IF('Data Collection Sheet'!B63=\"Other\",15,0)","v":0},{"$f":"IF('Data Collection Sheet'!I63=\"Bad\",(-0.8*$T60),0)","v":0},{"$f":"IF('Data Collection Sheet'!I63=\"Fair\",(-0.5*$T60),0)","v":0},{"$f":"IF('Data Collection Sheet'!I63=\"Good\",(-0.2*$T60),0)","v":0},{"$f":"IF('Data Collection Sheet'!I63=\"Great\",0,0)","v":0},null,20,20,20,null,null,null,{"$f":"IF('Consequence of Failure'!F63=\"No\",1,0)","v":0},{"$f":"IF('Consequence of Failure'!G63=\"0%-25%\",0.5,0)","v":0.5},{"$f":"IF('Consequence of Failure'!G63=\"26%-50%\",1,0)","v":0},{"$f":"IF('Consequence of Failure'!G63=\"51%-75%\",1.5,0)","v":0},{"$f":"IF('Consequence of Failure'!G63=\"76%-100%\",2,0)","v":0},{"$f":"IF('Consequence of Failure'!H63=\"Yes\",1,0)","v":0},{"$f":"IF('Consequence of Failure'!I63=\"Yes\",1,0)","v":0},null,0.5,null,{"$f":"IF('Consequence of Failure'!K63=\"Yes\",1,0)","v":0},{"$f":"IF('Consequence of Failure'!L63=\"Above\",2,0)","v":0},{"$f":"IF('Consequence of Failure'!L63=\"At\",1,0)","v":1},{"$f":"IF('Consequence of Failure'!L63=\"Below\",0,0)","v":0},{"$f":"IF('Consequence of Failure'!M63=\"Yes\",1,0)","v":0},{"$f":"IF('Consequence of Failure'!N63=\"Yes\",1,0)","v":0},null,1,null,0.5]
[{"$f":"IF('Data Collection Sheet'!B64=\"Pump\",15,0)","v":0},{"$f":"IF('Data Collection Sheet'!B64=\"Hydrant\",50,0)","v":0},{"$f":"IF('Data Collection Sheet'!B64=\"Meter\",15,0)","v":0},{"$f":"IF('Data Collection Sheet'!B64=\"Pipe\",80,0)","v":0},{"$f":"IF('Data Collection Sheet'!B64=\"Source\",50,0)","v":0},{"$f":"IF('Data Collection Sheet'!B64=\"Tank\",50,0)","v":0},{"$f":"IF('Data Collection Sheet'!B64=\"Analytical\",10,0)","v":0},{"$f":"IF('Data Collection Sheet'!B64=\"Treatment\",20,0)","v":0},{"$f":"IF('Data Collection Sheet'!B64=\"Valve\",20,0)","v":0},{"$f":"IF('Data Collection Sheet'!B64=\"Control\",15,0)","v":15},{"$f":"IF('Data Collection Sheet'!B64=\"Safety\",10,0)","v":0},{"$f":"IF('Data Collection Sheet'!B64=\"Building\",50,0)","v":0},{"$f":"IF('Data Collection Sheet'!B64=\"Vehicle\",8,0)","v":0},{"$f":"IF('Data Collection Sheet'!B64=\"Other\",15,0)","v":0},{"$f":"IF('Data Collection Sheet'!I64=\"Bad\",(-0.8*$T61),0)","v":0},{"$f":"IF('Data Collection Sheet'!I64=\"Fair\",(-0.5*$T61),0)","v":0},{"$f":"IF('Data Collection Sheet'!I64=\"Good\",(-0.2*$T61),0)","v":0},{"$f":"IF('Data Collection Sheet'!I64=\"Great\",0,0)","v":0},null,15,15,15,null,null,null,{"$f":"IF('Consequence of Failure'!F64=\"No\",1,0)","v":0},{"$f":"IF('Consequence of Failure'!G64=\"0%-25%\",0.5,0)","v":0.5},{"$f":"IF('Consequence of Failure'!G64=\"26%-50%\",1,0)","v":0},{"$f":"IF('Consequence of Failure'!G64=\"51%-75%\",1.5,0)","v":0},{"$f":"IF('Consequence of Failure'!G64=\"76%-100%\",2,0)","v":0},{"$f":"IF('Consequence of Failure'!H64=\"Yes\",1,0)","v":0},{"$f":"IF('Consequence of Failure'!I64=\"Yes\",1,0)","v":0},null,0.5,null,{"$f":"IF('Consequence of Failure'!K64=\"Yes\",1,0)","v":0},{"$f":"IF('Consequence of Failure'!L64=\"Above\",2,0)","v":0},{"$f":"IF('Consequence of Failure'!L64=\"At\",1,0)","v":1},{"$f":"IF('Consequence of Failure'!L64=\"Below\",0,0)","v":0},{"$f":"IF('Consequence of Failure'!M64=\"Yes\",1,0)","v":0},{"$f":"IF('Consequence of Failure'!N64=\"Yes\",1,0)","v":0},null,1,null,0.5]
[{"$f":"IF('Data Collection Sheet'!B65=\"Pump\",15,0)","v":0},{"$f":"IF('Data Collection Sheet'!B65=\"Hydrant\",50,0)","v":0},{"$f":"IF('Data Collection Sheet'!B65=\"Meter\",15,0)","v":15},{"$f":"IF('Data Collection Sheet'!B65=\"Pipe\",80,0)","v":0},{"$f":"IF('Data Collection Sheet'!B65=\"Source\",50,0)","v":0},{"$f":"IF('Data Collection Sheet'!B65=\"Tank\",50,0)","v":0},{"$f":"IF('Data Collection Sheet'!B65=\"Analytical\",10,0)","v":0},{"$f":"IF('Data Collection Sheet'!B65=\"Treatment\",20,0)","v":0},{"$f":"IF('Data Collection Sheet'!B65=\"Valve\",20,0)","v":0},{"$f":"IF('Data Collection Sheet'!B65=\"Control\",15,0)","v":0},{"$f":"IF('Data Collection Sheet'!B65=\"Safety\",10,0)","v":0},{"$f":"IF('Data Collection Sheet'!B65=\"Building\",50,0)","v":0},{"$f":"IF('Data Collection Sheet'!B65=\"Vehicle\",8,0)","v":0},{"$f":"IF('Data Collection Sheet'!B65=\"Other\",15,0)","v":0},{"$f":"IF('Data Collection Sheet'!I65=\"Bad\",(-0.8*$T62),0)","v":0},{"$f":"IF('Data Collection Sheet'!I65=\"Fair\",(-0.5*$T62),0)","v":0},{"$f":"IF('Data Collection Sheet'!I65=\"Good\",(-0.2*$T62),0)","v":0},{"$f":"IF('Data Collection Sheet'!I65=\"Great\",0,0)","v":0},null,15,15,15,null,null,null,{"$f":"IF('Consequence of Failure'!F65=\"No\",1,0)","v":0},{"$f":"IF('Consequence of Failure'!G65=\"0%-25%\",0.5,0)","v":0.5},{"$f":"IF('Consequence of Failure'!G65=\"26%-50%\",1,0)","v":0},{"$f":"IF('Consequence of Failure'!G65=\"51%-75%\",1.5,0)","v":0},{"$f":"IF('Consequence of Failure'!G65=\"76%-100%\",2,0)","v":0},{"$f":"IF('Consequence of Failure'!H65=\"Yes\",1,0)","v":0},{"$f":"IF('Consequence of Failure'!I65=\"Yes\",1,0)","v":0},null,0.5,null,{"$f":"IF('Consequence of Failure'!K65=\"Yes\",1,0)","v":0},{"$f":"IF('Consequence of Failure'!L65=\"Above\",2,0)","v":0},{"$f":"IF('Consequence of Failure'!L65=\"At\",1,0)","v":1},{"$f":"IF('Consequence of Failure'!L65=\"Below\",0,0)","v":0},{"$f":"IF('Consequence of Failure'!M65=\"Yes\",1,0)","v":0},{"$f":"IF('Consequence of Failure'!N65=\"Yes\",1,0)","v":0},null,1,null,0.5]
[{"$f":"IF('Data Collection Sheet'!B66=\"Pump\",15,0)","v":0},{"$f":"IF('Data Collection Sheet'!B66=\"Hydrant\",50,0)","v":0},{"$f":"IF('Data Collection Sheet'!B66=\"Meter\",15,0)","v":15},{"$f":"IF('Data Collection Sheet'!B66=\"Pipe\",80,0)","v":0},{"$f":"IF('Data Collection Sheet'!B66=\"Source\",50,0)","v":0},{"$f":"IF('Data Collection Sheet'!B66=\"Tank\",50,0)","v":0},{"$f":"IF('Data Collection Sheet'!B66=\"Analytical\",10,0)","v":0},{"$f":"IF('Data Collection Sheet'!B66=\"Treatment\",20,0)","v":0},{"$f":"IF('Data Collection Sheet'!B66=\"Valve\",20,0)","v":0},{"$f":"IF('Data Collection Sheet'!B66=\"Control\",15,0)","v":0},{"$f":"IF('Data Collection Sheet'!B66=\"Safety\",10,0)","v":0},{"$f":"IF('Data Collection Sheet'!B66=\"Building\",50,0)","v":0},{"$f":"IF('Data Collection Sheet'!B66=\"Vehicle\",8,0)","v":0},{"$f":"IF('Data Collection Sheet'!B66=\"Other\",15,0)","v":0},{"$f":"IF('Data Collection Sheet'!I66=\"Bad\",(-0.8*$T63),0)","v":0},{"$f":"IF('Data Collection Sheet'!I66=\"Fair\",(-0.5*$T63),0)","v":0},{"$f":"IF('Data Collection Sheet'!I66=\"Good\",(-0.2*$T63),0)","v":0},{"$f":"IF('Data Collection Sheet'!I66=\"Great\",0,0)","v":0},null,15,15,15,null,null,null,{"$f":"IF('Consequence of Failure'!F66=\"No\",1,0)","v":0},{"$f":"IF('Consequence of Failure'!G66=\"0%-25%\",0.5,0)","v":0.5},{"$f":"IF('Consequence of Failure'!G66=\"26%-50%\",1,0)","v":0},{"$f":"IF('Consequence of Failure'!G66=\"51%-75%\",1.5,0)","v":0},{"$f":"IF('Consequence of Failure'!G66=\"76%-100%\",2,0)","v":0},{"$f":"IF('Consequence of Failure'!H66=\"Yes\",1,0)","v":0},{"$f":"IF('Consequence of Failure'!I66=\"Yes\",1,0)","v":0},null,0.5,null,{"$f":"IF('Consequence of Failure'!K66=\"Yes\",1,0)","v":0},{"$f":"IF('Consequence of Failure'!L66=\"Above\",2,0)","v":0},{"$f":"IF('Consequence of Failure'!L66=\"At\",1,0)","v":1},{"$f":"IF('Consequence of Failure'!L66=\"Below\",0,0)","v":0},{"$f":"IF('Consequence of Failure'!M66=\"Yes\",1,0)","v":0},{"$f":"IF('Consequence of Failure'!N66=\"Yes\",1,0)","v":0},null,1,null,0.5]
[{"$f":"IF('Data Collection Sheet'!B67=\"Pump\",15,0)","v":0},{"$f":"IF('Data Collection Sheet'!B67=\"Hydrant\",50,0)","v":0},{"$f":"IF('Data Collection Sheet'!B67=\"Meter\",15,0)","v":0},{"$f":"IF('Data Collection Sheet'!B67=\"Pipe\",80,0)","v":0},{"$f":"IF('Data Collection Sheet'!B67=\"Source\",50,0)","v":0},{"$f":"IF('Data Collection Sheet'!B67=\"Tank\",50,0)","v":0},{"$f":"IF('Data Collection Sheet'!B67=\"Analytical\",10,0)","v":0},{"$f":"IF('Data Collection Sheet'!B67=\"Treatment\",20,0)","v":0},{"$f":"IF('Data Collection Sheet'!B67=\"Valve\",20,0)","v":20},{"$f":"IF('Data Collection Sheet'!B67=\"Control\",15,0)","v":0},{"$f":"IF('Data Collection Sheet'!B67=\"Safety\",10,0)","v":0},{"$f":"IF('Data Collection Sheet'!B67=\"Building\",50,0)","v":0},{"$f":"IF('Data Collection Sheet'!B67=\"Vehicle\",8,0)","v":0},{"$f":"IF('Data Collection Sheet'!B67=\"Other\",15,0)","v":0},{"$f":"IF('Data Collection Sheet'!I67=\"Bad\",(-0.8*$T64),0)","v":0},{"$f":"IF('Data Collection Sheet'!I67=\"Fair\",(-0.5*$T64),0)","v":0},{"$f":"IF('Data Collection Sheet'!I67=\"Good\",(-0.2*$T64),0)","v":0},{"$f":"IF('Data Collection Sheet'!I67=\"Great\",0,0)","v":0},null,20,20,20,null,null,null,{"$f":"IF('Consequence of Failure'!F67=\"No\",1,0)","v":0},{"$f":"IF('Consequence of Failure'!G67=\"0%-25%\",0.5,0)","v":0.5},{"$f":"IF('Consequence of Failure'!G67=\"26%-50%\",1,0)","v":0},{"$f":"IF('Consequence of Failure'!G67=\"51%-75%\",1.5,0)","v":0},{"$f":"IF('Consequence of Failure'!G67=\"76%-100%\",2,0)","v":0},{"$f":"IF('Consequence of Failure'!H67=\"Yes\",1,0)","v":0},{"$f":"IF('Consequence of Failure'!I67=\"Yes\",1,0)","v":0},null,0.5,null,{"$f":"IF('Consequence of Failure'!K67=\"Yes\",1,0)","v":0},{"$f":"IF('Consequence of Failure'!L67=\"Above\",2,0)","v":0},{"$f":"IF('Consequence of Failure'!L67=\"At\",1,0)","v":1},{"$f":"IF('Consequence of Failure'!L67=\"Below\",0,0)","v":0},{"$f":"IF('Consequence of Failure'!M67=\"Yes\",1,0)","v":0},{"$f":"IF('Consequence of Failure'!N67=\"Yes\",1,0)","v":0},null,1,null,0.5]
[{"$f":"IF('Data Collection Sheet'!B68=\"Pump\",15,0)","v":0},{"$f":"IF('Data Collection Sheet'!B68=\"Hydrant\",50,0)","v":0},{"$f":"IF('Data Collection Sheet'!B68=\"Meter\",15,0)","v":0},{"$f":"IF('Data Collection Sheet'!B68=\"Pipe\",80,0)","v":0},{"$f":"IF('Data Collection Sheet'!B68=\"Source\",50,0)","v":0},{"$f":"IF('Data Collection Sheet'!B68=\"Tank\",50,0)","v":0},{"$f":"IF('Data Collection Sheet'!B68=\"Analytical\",10,0)","v":0},{"$f":"IF('Data Collection Sheet'!B68=\"Treatment\",20,0)","v":0},{"$f":"IF('Data Collection Sheet'!B68=\"Valve\",20,0)","v":20},{"$f":"IF('Data Collection Sheet'!B68=\"Control\",15,0)","v":0},{"$f":"IF('Data Collection Sheet'!B68=\"Safety\",10,0)","v":0},{"$f":"IF('Data Collection Sheet'!B68=\"Building\",50,0)","v":0},{"$f":"IF('Data Collection Sheet'!B68=\"Vehicle\",8,0)","v":0},{"$f":"IF('Data Collection Sheet'!B68=\"Other\",15,0)","v":0},{"$f":"IF('Data Collection Sheet'!I68=\"Bad\",(-0.8*$T65),0)","v":0},{"$f":"IF('Data Collection Sheet'!I68=\"Fair\",(-0.5*$T65),0)","v":0},{"$f":"IF('Data Collection Sheet'!I68=\"Good\",(-0.2*$T65),0)","v":0},{"$f":"IF('Data Collection Sheet'!I68=\"Great\",0,0)","v":0},null,20,20,20,null,null,null,{"$f":"IF('Consequence of Failure'!F68=\"No\",1,0)","v":0},{"$f":"IF('Consequence of Failure'!G68=\"0%-25%\",0.5,0)","v":0.5},{"$f":"IF('Consequence of Failure'!G68=\"26%-50%\",1,0)","v":0},{"$f":"IF('Consequence of Failure'!G68=\"51%-75%\",1.5,0)","v":0},{"$f":"IF('Consequence of Failure'!G68=\"76%-100%\",2,0)","v":0},{"$f":"IF('Consequence of Failure'!H68=\"Yes\",1,0)","v":0},{"$f":"IF('Consequence of Failure'!I68=\"Yes\",1,0)","v":0},null,0.5,null,{"$f":"IF('Consequence of Failure'!K68=\"Yes\",1,0)","v":0},{"$f":"IF('Consequence of Failure'!L68=\"Above\",2,0)","v":0},{"$f":"IF('Consequence of Failure'!L68=\"At\",1,0)","v":1},{"$f":"IF('Consequence of Failure'!L68=\"Below\",0,0)","v":0},{"$f":"IF('Consequence of Failure'!M68=\"Yes\",1,0)","v":0},{"$f":"IF('Consequence of Failure'!N68=\"Yes\",1,0)","v":0},null,1,null,0.5]
[{"$f":"IF('Data Collection Sheet'!B69=\"Pump\",15,0)","v":0},{"$f":"IF('Data Collection Sheet'!B69=\"Hydrant\",50,0)","v":0},{"$f":"IF('Data Collection Sheet'!B69=\"Meter\",15,0)","v":0},{"$f":"IF('Data Collection Sheet'!B69=\"Pipe\",80,0)","v":80},{"$f":"IF('Data Collection Sheet'!B69=\"Source\",50,0)","v":0},{"$f":"IF('Data Collection Sheet'!B69=\"Tank\",50,0)","v":0},{"$f":"IF('Data Collection Sheet'!B69=\"Analytical\",10,0)","v":0},{"$f":"IF('Data Collection Sheet'!B69=\"Treatment\",20,0)","v":0},{"$f":"IF('Data Collection Sheet'!B69=\"Valve\",20,0)","v":0},{"$f":"IF('Data Collection Sheet'!B69=\"Control\",15,0)","v":0},{"$f":"IF('Data Collection Sheet'!B69=\"Safety\",10,0)","v":0},{"$f":"IF('Data Collection Sheet'!B69=\"Building\",50,0)","v":0},{"$f":"IF('Data Collection Sheet'!B69=\"Vehicle\",8,0)","v":0},{"$f":"IF('Data Collection Sheet'!B69=\"Other\",15,0)","v":0},{"$f":"IF('Data Collection Sheet'!I69=\"Bad\",(-0.8*$T66),0)","v":0},{"$f":"IF('Data Collection Sheet'!I69=\"Fair\",(-0.5*$T66),0)","v":0},{"$f":"IF('Data Collection Sheet'!I69=\"Good\",(-0.2*$T66),0)","v":0},{"$f":"IF('Data Collection Sheet'!I69=\"Great\",0,0)","v":0},null,80,80,80,null,null,null,{"$f":"IF('Consequence of Failure'!F69=\"No\",1,0)","v":0},{"$f":"IF('Consequence of Failure'!G69=\"0%-25%\",0.5,0)","v":0.5},{"$f":"IF('Consequence of Failure'!G69=\"26%-50%\",1,0)","v":0},{"$f":"IF('Consequence of Failure'!G69=\"51%-75%\",1.5,0)","v":0},{"$f":"IF('Consequence of Failure'!G69=\"76%-100%\",2,0)","v":0},{"$f":"IF('Consequence of Failure'!H69=\"Yes\",1,0)","v":0},{"$f":"IF('Consequence of Failure'!I69=\"Yes\",1,0)","v":0},null,0.5,null,{"$f":"IF('Consequence of Failure'!K69=\"Yes\",1,0)","v":0},{"$f":"IF('Consequence of Failure'!L69=\"Above\",2,0)","v":0},{"$f":"IF('Consequence of Failure'!L69=\"At\",1,0)","v":1},{"$f":"IF('Consequence of Failure'!L69=\"Below\",0,0)","v":0},{"$f":"IF('Consequence of Failure'!M69=\"Yes\",1,0)","v":0},{"$f":"IF('Consequence of Failure'!N69=\"Yes\",1,0)","v":0},null,1,null,0.5]
[{"$f":"IF('Data Collection Sheet'!B70=\"Pump\",15,0)","v":0},{"$f":"IF('Data Collection Sheet'!B70=\"Hydrant\",50,0)","v":0},{"$f":"IF('Data Collection Sheet'!B70=\"Meter\",15,0)","v":0},{"$f":"IF('Data Collection Sheet'!B70=\"Pipe\",80,0)","v":0},{"$f":"IF('Data Collection Sheet'!B70=\"Source\",50,0)","v":0},{"$f":"IF('Data Collection Sheet'!B70=\"Tank\",50,0)","v":0},{"$f":"IF('Data Collection Sheet'!B70=\"Analytical\",10,0)","v":0},{"$f":"IF('Data Collection Sheet'!B70=\"Treatment\",20,0)","v":0},{"$f":"IF('Data Collection Sheet'!B70=\"Valve\",20,0)","v":20},{"$f":"IF('Data Collection Sheet'!B70=\"Control\",15,0)","v":0},{"$f":"IF('Data Collection Sheet'!B70=\"Safety\",10,0)","v":0},{"$f":"IF('Data Collection Sheet'!B70=\"Building\",50,0)","v":0},{"$f":"IF('Data Collection Sheet'!B70=\"Vehicle\",8,0)","v":0},{"$f":"IF('Data Collection Sheet'!B70=\"Other\",15,0)","v":0},{"$f":"IF('Data Collection Sheet'!I70=\"Bad\",(-0.8*$T67),0)","v":0},{"$f":"IF('Data Collection Sheet'!I70=\"Fair\",(-0.5*$T67),0)","v":0},{"$f":"IF('Data Collection Sheet'!I70=\"Good\",(-0.2*$T67),0)","v":0},{"$f":"IF('Data Collection Sheet'!I70=\"Great\",0,0)","v":0},null,{"$f":"SUM(A67:N67)","v":20},{"$f":"SUM($A67:$R67)","v":20},{"$f":"ROUNDDOWN($U67,0)","v":20},null,null,null,{"$f":"IF('Consequence of Failure'!F70=\"No\",1,0)","v":0},{"$f":"IF('Consequence of Failure'!G70=\"0%-25%\",0.5,0)","v":0.5},{"$f":"IF('Consequence of Failure'!G70=\"26%-50%\",1,0)","v":0},{"$f":"IF('Consequence of Failure'!G70=\"51%-75%\",1.5,0)","v":0},{"$f":"IF('Consequence of Failure'!G70=\"76%-100%\",2,0)","v":0},{"$f":"IF('Consequence of Failure'!H70=\"Yes\",1,0)","v":0},{"$f":"IF('Consequence of Failure'!I70=\"Yes\",1,0)","v":0},null,0.5,null,{"$f":"IF('Consequence of Failure'!K70=\"Yes\",1,0)","v":0},{"$f":"IF('Consequence of Failure'!L70=\"Above\",2,0)","v":0},{"$f":"IF('Consequence of Failure'!L70=\"At\",1,0)","v":1},{"$f":"IF('Consequence of Failure'!L70=\"Below\",0,0)","v":0},{"$f":"IF('Consequence of Failure'!M70=\"Yes\",1,0)","v":0},{"$f":"IF('Consequence of Failure'!N70=\"Yes\",1,0)","v":0},null,1,null,0.5]
[{"$f":"IF('Data Collection Sheet'!B71=\"Pump\",15,0)","v":0},{"$f":"IF('Data Collection Sheet'!B71=\"Hydrant\",50,0)","v":0},{"$f":"IF('Data Collection Sheet'!B71=\"Meter\",15,0)","v":0},{"$f":"IF('Data Collection Sheet'!B71=\"Pipe\",80,0)","v":0},{"$f":"IF('Data Collection Sheet'!B71=\"Source\",50,0)","v":0},{"$f":"IF('Data Collection Sheet'!B71=\"Tank\",50,0)","v":0},{"$f":"IF('Data Collection Sheet'!B71=\"Analytical\",10,0)","v":0},{"$f":"IF('Data Collection Sheet'!B71=\"Treatment\",20,0)","v":0},{"$f":"IF('Data Collection Sheet'!B71=\"Valve\",20,0)","v":20},{"$f":"IF('Data Collection Sheet'!B71=\"Control\",15,0)","v":0},{"$f":"IF('Data Collection Sheet'!B71=\"Safety\",10,0)","v":0},{"$f":"IF('Data Collection Sheet'!B71=\"Building\",50,0)","v":0},{"$f":"IF('Data Collection Sheet'!B71=\"Vehicle\",8,0)","v":0},{"$f":"IF('Data Collection Sheet'!B71=\"Other\",15,0)","v":0},{"$f":"IF('Data Collection Sheet'!I71=\"Bad\",(-0.8*$T68),0)","v":0},{"$f":"IF('Data Collection Sheet'!I71=\"Fair\",(-0.5*$T68),0)","v":0},{"$f":"IF('Data Collection Sheet'!I71=\"Good\",(-0.2*$T68),0)","v":0},{"$f":"IF('Data Collection Sheet'!I71=\"Great\",0,0)","v":0},null,20,20,20,null,null,null,{"$f":"IF('Consequence of Failure'!F71=\"No\",1,0)","v":0},{"$f":"IF('Consequence of Failure'!G71=\"0%-25%\",0.5,0)","v":0.5},{"$f":"IF('Consequence of Failure'!G71=\"26%-50%\",1,0)","v":0},{"$f":"IF('Consequence of Failure'!G71=\"51%-75%\",1.5,0)","v":0},{"$f":"IF('Consequence of Failure'!G71=\"76%-100%\",2,0)","v":0},{"$f":"IF('Consequence of Failure'!H71=\"Yes\",1,0)","v":0},{"$f":"IF('Consequence of Failure'!I71=\"Yes\",1,0)","v":0},null,0.5,null,{"$f":"IF('Consequence of Failure'!K71=\"Yes\",1,0)","v":0},{"$f":"IF('Consequence of Failure'!L71=\"Above\",2,0)","v":0},{"$f":"IF('Consequence of Failure'!L71=\"At\",1,0)","v":1},{"$f":"IF('Consequence of Failure'!L71=\"Below\",0,0)","v":0},{"$f":"IF('Consequence of Failure'!M71=\"Yes\",1,0)","v":0},{"$f":"IF('Consequence of Failure'!N71=\"Yes\",1,0)","v":0},null,1,null,0.5]
[{"$f":"IF('Data Collection Sheet'!B72=\"Pump\",15,0)","v":0},{"$f":"IF('Data Collection Sheet'!B72=\"Hydrant\",50,0)","v":0},{"$f":"IF('Data Collection Sheet'!B72=\"Meter\",15,0)","v":0},{"$f":"IF('Data Collection Sheet'!B72=\"Pipe\",80,0)","v":0},{"$f":"IF('Data Collection Sheet'!B72=\"Source\",50,0)","v":0},{"$f":"IF('Data Collection Sheet'!B72=\"Tank\",50,0)","v":0},{"$f":"IF('Data Collection Sheet'!B72=\"Analytical\",10,0)","v":0},{"$f":"IF('Data Collection Sheet'!B72=\"Treatment\",20,0)","v":0},{"$f":"IF('Data Collection Sheet'!B72=\"Valve\",20,0)","v":20},{"$f":"IF('Data Collection Sheet'!B72=\"Control\",15,0)","v":0},{"$f":"IF('Data Collection Sheet'!B72=\"Safety\",10,0)","v":0},{"$f":"IF('Data Collection Sheet'!B72=\"Building\",50,0)","v":0},{"$f":"IF('Data Collection Sheet'!B72=\"Vehicle\",8,0)","v":0},{"$f":"IF('Data Collection Sheet'!B72=\"Other\",15,0)","v":0},{"$f":"IF('Data Collection Sheet'!I72=\"Bad\",(-0.8*$T69),0)","v":0},{"$f":"IF('Data Collection Sheet'!I72=\"Fair\",(-0.5*$T69),0)","v":0},{"$f":"IF('Data Collection Sheet'!I72=\"Good\",(-0.2*$T69),0)","v":0},{"$f":"IF('Data Collection Sheet'!I72=\"Great\",0,0)","v":0},null,20,20,20,null,null,null,{"$f":"IF('Consequence of Failure'!F72=\"No\",1,0)","v":0},{"$f":"IF('Consequence of Failure'!G72=\"0%-25%\",0.5,0)","v":0.5},{"$f":"IF('Consequence of Failure'!G72=\"26%-50%\",1,0)","v":0},{"$f":"IF('Consequence of Failure'!G72=\"51%-75%\",1.5,0)","v":0},{"$f":"IF('Consequence of Failure'!G72=\"76%-100%\",2,0)","v":0},{"$f":"IF('Consequence of Failure'!H72=\"Yes\",1,0)","v":0},{"$f":"IF('Consequence of Failure'!I72=\"Yes\",1,0)","v":0},null,{"$f":"SUM(Z69:AF69)","v":0.5},null,{"$f":"IF('Consequence of Failure'!K72=\"Yes\",1,0)","v":0},{"$f":"IF('Consequence of Failure'!L72=\"Above\",2,0)","v":0},{"$f":"IF('Consequence of Failure'!L72=\"At\",1,0)","v":1},{"$f":"IF('Consequence of Failure'!L72=\"Below\",0,0)","v":0},{"$f":"IF('Consequence of Failure'!M72=\"Yes\",1,0)","v":0},{"$f":"IF('Consequence of Failure'!N72=\"Yes\",1,0)","v":0},null,{"$f":"SUM(AJ69:AO69)","v":1},null,{"$f":"SUM(AH69*AQ69)","v":0.5}]
[{"$f":"IF('Data Collection Sheet'!B73=\"Pump\",15,0)","v":0},{"$f":"IF('Data Collection Sheet'!B73=\"Hydrant\",50,0)","v":0},{"$f":"IF('Data Collection Sheet'!B73=\"Meter\",15,0)","v":0},{"$f":"IF('Data Collection Sheet'!B73=\"Pipe\",80,0)","v":0},{"$f":"IF('Data Collection Sheet'!B73=\"Source\",50,0)","v":0},{"$f":"IF('Data Collection Sheet'!B73=\"Tank\",50,0)","v":0},{"$f":"IF('Data Collection Sheet'!B73=\"Analytical\",10,0)","v":0},{"$f":"IF('Data Collection Sheet'!B73=\"Treatment\",20,0)","v":0},{"$f":"IF('Data Collection Sheet'!B73=\"Valve\",20,0)","v":0},{"$f":"IF('Data Collection Sheet'!B73=\"Control\",15,0)","v":0},{"$f":"IF('Data Collection Sheet'!B73=\"Safety\",10,0)","v":0},{"$f":"IF('Data Collection Sheet'!B73=\"Building\",50,0)","v":0},{"$f":"IF('Data Collection Sheet'!B73=\"Vehicle\",8,0)","v":0},{"$f":"IF('Data Collection Sheet'!B73=\"Other\",15,0)","v":0},{"$f":"IF('Data Collection Sheet'!I73=\"Bad\",(-0.8*$T70),0)","v":0},{"$f":"IF('Data Collection Sheet'!I73=\"Fair\",(-0.5*$T70),0)","v":0},{"$f":"IF('Data Collection Sheet'!I73=\"Good\",(-0.2*$T70),0)","v":0},{"$f":"IF('Data Collection Sheet'!I73=\"Great\",0,0)","v":0},null,0,0,0,null,null,null,{"$f":"IF('Consequence of Failure'!F73=\"No\",1,0)","v":0},{"$f":"IF('Consequence of Failure'!G73=\"0%-25%\",0.5,0)","v":0},{"$f":"IF('Consequence of Failure'!G73=\"26%-50%\",1,0)","v":0},{"$f":"IF('Consequence of Failure'!G73=\"51%-75%\",1.5,0)","v":0},{"$f":"IF('Consequence of Failure'!G73=\"76%-100%\",2,0)","v":0},{"$f":"IF('Consequence of Failure'!H73=\"Yes\",1,0)","v":0},{"$f":"IF('Consequence of Failure'!I73=\"Yes\",1,0)","v":0},null,0,null,{"$f":"IF('Consequence of Failure'!K73=\"Yes\",1,0)","v":0},{"$f":"IF('Consequence of Failure'!L73=\"Above\",2,0)","v":0},{"$f":"IF('Consequence of Failure'!L73=\"At\",1,0)","v":0},{"$f":"IF('Consequence of Failure'!L73=\"Below\",0,0)","v":0},{"$f":"IF('Consequence of Failure'!M73=\"Yes\",1,0)","v":0},{"$f":"IF('Consequence of Failure'!N73=\"Yes\",1,0)","v":0},null,0,null,0]
[{"$f":"IF('Data Collection Sheet'!B74=\"Pump\",15,0)","v":0},{"$f":"IF('Data Collection Sheet'!B74=\"Hydrant\",50,0)","v":0},{"$f":"IF('Data Collection Sheet'!B74=\"Meter\",15,0)","v":0},{"$f":"IF('Data Collection Sheet'!B74=\"Pipe\",80,0)","v":0},{"$f":"IF('Data Collection Sheet'!B74=\"Source\",50,0)","v":0},{"$f":"IF('Data Collection Sheet'!B74=\"Tank\",50,0)","v":0},{"$f":"IF('Data Collection Sheet'!B74=\"Analytical\",10,0)","v":0},{"$f":"IF('Data Collection Sheet'!B74=\"Treatment\",20,0)","v":0},{"$f":"IF('Data Collection Sheet'!B74=\"Valve\",20,0)","v":0},{"$f":"IF('Data Collection Sheet'!B74=\"Control\",15,0)","v":0},{"$f":"IF('Data Collection Sheet'!B74=\"Safety\",10,0)","v":0},{"$f":"IF('Data Collection Sheet'!B74=\"Building\",50,0)","v":0},{"$f":"IF('Data Collection Sheet'!B74=\"Vehicle\",8,0)","v":0},{"$f":"IF('Data Collection Sheet'!B74=\"Other\",15,0)","v":0},{"$f":"IF('Data Collection Sheet'!I74=\"Bad\",(-0.8*$T71),0)","v":0},{"$f":"IF('Data Collection Sheet'!I74=\"Fair\",(-0.5*$T71),0)","v":0},{"$f":"IF('Data Collection Sheet'!I74=\"Good\",(-0.2*$T71),0)","v":0},{"$f":"IF('Data Collection Sheet'!I74=\"Great\",0,0)","v":0},null,0,0,0,null,null,null,{"$f":"IF('Consequence of Failure'!F74=\"No\",1,0)","v":0},{"$f":"IF('Consequence of Failure'!G74=\"0%-25%\",0.5,0)","v":0},{"$f":"IF('Consequence of Failure'!G74=\"26%-50%\",1,0)","v":0},{"$f":"IF('Consequence of Failure'!G74=\"51%-75%\",1.5,0)","v":0},{"$f":"IF('Consequence of Failure'!G74=\"76%-100%\",2,0)","v":0},{"$f":"IF('Consequence of Failure'!H74=\"Yes\",1,0)","v":0},{"$f":"IF('Consequence of Failure'!I74=\"Yes\",1,0)","v":0},null,0,null,{"$f":"IF('Consequence of Failure'!K74=\"Yes\",1,0)","v":0},{"$f":"IF('Consequence of Failure'!L74=\"Above\",2,0)","v":0},{"$f":"IF('Consequence of Failure'!L74=\"At\",1,0)","v":0},{"$f":"IF('Consequence of Failure'!L74=\"Below\",0,0)","v":0},{"$f":"IF('Consequence of Failure'!M74=\"Yes\",1,0)","v":0},{"$f":"IF('Consequence of Failure'!N74=\"Yes\",1,0)","v":0},null,0,null,0]
[{"$f":"IF('Data Collection Sheet'!B75=\"Pump\",15,0)","v":0},{"$f":"IF('Data Collection Sheet'!B75=\"Hydrant\",50,0)","v":0},{"$f":"IF('Data Collection Sheet'!B75=\"Meter\",15,0)","v":0},{"$f":"IF('Data Collection Sheet'!B75=\"Pipe\",80,0)","v":0},{"$f":"IF('Data Collection Sheet'!B75=\"Source\",50,0)","v":0},{"$f":"IF('Data Collection Sheet'!B75=\"Tank\",50,0)","v":0},{"$f":"IF('Data Collection Sheet'!B75=\"Analytical\",10,0)","v":0},{"$f":"IF('Data Collection Sheet'!B75=\"Treatment\",20,0)","v":0},{"$f":"IF('Data Collection Sheet'!B75=\"Valve\",20,0)","v":0},{"$f":"IF('Data Collection Sheet'!B75=\"Control\",15,0)","v":0},{"$f":"IF('Data Collection Sheet'!B75=\"Safety\",10,0)","v":0},{"$f":"IF('Data Collection Sheet'!B75=\"Building\",50,0)","v":0},{"$f":"IF('Data Collection Sheet'!B75=\"Vehicle\",8,0)","v":0},{"$f":"IF('Data Collection Sheet'!B75=\"Other\",15,0)","v":0},{"$f":"IF('Data Collection Sheet'!I75=\"Bad\",(-0.8*$T72),0)","v":0},{"$f":"IF('Data Collection Sheet'!I75=\"Fair\",(-0.5*$T72),0)","v":0},{"$f":"IF('Data Collection Sheet'!I75=\"Good\",(-0.2*$T72),0)","v":0},{"$f":"IF('Data Collection Sheet'!I75=\"Great\",0,0)","v":0},null,0,0,0,null,null,null,{"$f":"IF('Consequence of Failure'!F75=\"No\",1,0)","v":0},{"$f":"IF('Consequence of Failure'!G75=\"0%-25%\",0.5,0)","v":0},{"$f":"IF('Consequence of Failure'!G75=\"26%-50%\",1,0)","v":0},{"$f":"IF('Consequence of Failure'!G75=\"51%-75%\",1.5,0)","v":0},{"$f":"IF('Consequence of Failure'!G75=\"76%-100%\",2,0)","v":0},{"$f":"IF('Consequence of Failure'!H75=\"Yes\",1,0)","v":0},{"$f":"IF('Consequence of Failure'!I75=\"Yes\",1,0)","v":0},null,0,null,{"$f":"IF('Consequence of Failure'!K75=\"Yes\",1,0)","v":0},{"$f":"IF('Consequence of Failure'!L75=\"Above\",2,0)","v":0},{"$f":"IF('Consequence of Failure'!L75=\"At\",1,0)","v":0},{"$f":"IF('Consequence of Failure'!L75=\"Below\",0,0)","v":0},{"$f":"IF('Consequence of Failure'!M75=\"Yes\",1,0)","v":0},{"$f":"IF('Consequence of Failure'!N75=\"Yes\",1,0)","v":0},null,0,null,0]
[{"$f":"IF('Data Collection Sheet'!B76=\"Pump\",15,0)","v":0},{"$f":"IF('Data Collection Sheet'!B76=\"Hydrant\",50,0)","v":0},{"$f":"IF('Data Collection Sheet'!B76=\"Meter\",15,0)","v":0},{"$f":"IF('Data Collection Sheet'!B76=\"Pipe\",80,0)","v":0},{"$f":"IF('Data Collection Sheet'!B76=\"Source\",50,0)","v":0},{"$f":"IF('Data Collection Sheet'!B76=\"Tank\",50,0)","v":0},{"$f":"IF('Data Collection Sheet'!B76=\"Analytical\",10,0)","v":0},{"$f":"IF('Data Collection Sheet'!B76=\"Treatment\",20,0)","v":0},{"$f":"IF('Data Collection Sheet'!B76=\"Valve\",20,0)","v":0},{"$f":"IF('Data Collection Sheet'!B76=\"Control\",15,0)","v":0},{"$f":"IF('Data Collection Sheet'!B76=\"Safety\",10,0)","v":0},{"$f":"IF('Data Collection Sheet'!B76=\"Building\",50,0)","v":0},{"$f":"IF('Data Collection Sheet'!B76=\"Vehicle\",8,0)","v":0},{"$f":"IF('Data Collection Sheet'!B76=\"Other\",15,0)","v":0},{"$f":"IF('Data Collection Sheet'!I76=\"Bad\",(-0.8*$T73),0)","v":0},{"$f":"IF('Data Collection Sheet'!I76=\"Fair\",(-0.5*$T73),0)","v":0},{"$f":"IF('Data Collection Sheet'!I76=\"Good\",(-0.2*$T73),0)","v":0},{"$f":"IF('Data Collection Sheet'!I76=\"Great\",0,0)","v":0},null,0,0,0,null,null,null,{"$f":"IF('Consequence of Failure'!F76=\"No\",1,0)","v":0},{"$f":"IF('Consequence of Failure'!G76=\"0%-25%\",0.5,0)","v":0},{"$f":"IF('Consequence of Failure'!G76=\"26%-50%\",1,0)","v":0},{"$f":"IF('Consequence of Failure'!G76=\"51%-75%\",1.5,0)","v":0},{"$f":"IF('Consequence of Failure'!G76=\"76%-100%\",2,0)","v":0},{"$f":"IF('Consequence of Failure'!H76=\"Yes\",1,0)","v":0},{"$f":"IF('Consequence of Failure'!I76=\"Yes\",1,0)","v":0},null,0,null,{"$f":"IF('Consequence of Failure'!K76=\"Yes\",1,0)","v":0},{"$f":"IF('Consequence of Failure'!L76=\"Above\",2,0)","v":0},{"$f":"IF('Consequence of Failure'!L76=\"At\",1,0)","v":0},{"$f":"IF('Consequence of Failure'!L76=\"Below\",0,0)","v":0},{"$f":"IF('Consequence of Failure'!M76=\"Yes\",1,0)","v":0},{"$f":"IF('Consequence of Failure'!N76=\"Yes\",1,0)","v":0},null,0,null,0]
[{"$f":"IF('Data Collection Sheet'!B77=\"Pump\",15,0)","v":0},{"$f":"IF('Data Collection Sheet'!B77=\"Hydrant\",50,0)","v":0},{"$f":"IF('Data Collection Sheet'!B77=\"Meter\",15,0)","v":0},{"$f":"IF('Data Collection Sheet'!B77=\"Pipe\",80,0)","v":0},{"$f":"IF('Data Collection Sheet'!B77=\"Source\",50,0)","v":0},{"$f":"IF('Data Collection Sheet'!B77=\"Tank\",50,0)","v":0},{"$f":"IF('Data Collection Sheet'!B77=\"Analytical\",10,0)","v":0},{"$f":"IF('Data Collection Sheet'!B77=\"Treatment\",20,0)","v":0},{"$f":"IF('Data Collection Sheet'!B77=\"Valve\",20,0)","v":0},{"$f":"IF('Data Collection Sheet'!B77=\"Control\",15,0)","v":0},{"$f":"IF('Data Collection Sheet'!B77=\"Safety\",10,0)","v":0},{"$f":"IF('Data Collection Sheet'!B77=\"Building\",50,0)","v":0},{"$f":"IF('Data Collection Sheet'!B77=\"Vehicle\",8,0)","v":0},{"$f":"IF('Data Collection Sheet'!B77=\"Other\",15,0)","v":0},{"$f":"IF('Data Collection Sheet'!I77=\"Bad\",(-0.8*$T74),0)","v":0},{"$f":"IF('Data Collection Sheet'!I77=\"Fair\",(-0.5*$T74),0)","v":0},{"$f":"IF('Data Collection Sheet'!I77=\"Good\",(-0.2*$T74),0)","v":0},{"$f":"IF('Data Collection Sheet'!I77=\"Great\",0,0)","v":0},null,0,0,0,null,null,null,{"$f":"IF('Consequence of Failure'!F77=\"No\",1,0)","v":0},{"$f":"IF('Consequence of Failure'!G77=\"0%-25%\",0.5,0)","v":0},{"$f":"IF('Consequence of Failure'!G77=\"26%-50%\",1,0)","v":0},{"$f":"IF('Consequence of Failure'!G77=\"51%-75%\",1.5,0)","v":0},{"$f":"IF('Consequence of Failure'!G77=\"76%-100%\",2,0)","v":0},{"$f":"IF('Consequence of Failure'!H77=\"Yes\",1,0)","v":0},{"$f":"IF('Consequence of Failure'!I77=\"Yes\",1,0)","v":0},null,0,null,{"$f":"IF('Consequence of Failure'!K77=\"Yes\",1,0)","v":0},{"$f":"IF('Consequence of Failure'!L77=\"Above\",2,0)","v":0},{"$f":"IF('Consequence of Failure'!L77=\"At\",1,0)","v":0},{"$f":"IF('Consequence of Failure'!L77=\"Below\",0,0)","v":0},{"$f":"IF('Consequence of Failure'!M77=\"Yes\",1,0)","v":0},{"$f":"IF('Consequence of Failure'!N77=\"Yes\",1,0)","v":0},null,0,null,0]
[{"$f":"IF('Data Collection Sheet'!B78=\"Pump\",15,0)","v":0},{"$f":"IF('Data Collection Sheet'!B78=\"Hydrant\",50,0)","v":0},{"$f":"IF('Data Collection Sheet'!B78=\"Meter\",15,0)","v":0},{"$f":"IF('Data Collection Sheet'!B78=\"Pipe\",80,0)","v":0},{"$f":"IF('Data Collection Sheet'!B78=\"Source\",50,0)","v":0},{"$f":"IF('Data Collection Sheet'!B78=\"Tank\",50,0)","v":0},{"$f":"IF('Data Collection Sheet'!B78=\"Analytical\",10,0)","v":0},{"$f":"IF('Data Collection Sheet'!B78=\"Treatment\",20,0)","v":0},{"$f":"IF('Data Collection Sheet'!B78=\"Valve\",20,0)","v":0},{"$f":"IF('Data Collection Sheet'!B78=\"Control\",15,0)","v":0},{"$f":"IF('Data Collection Sheet'!B78=\"Safety\",10,0)","v":0},{"$f":"IF('Data Collection Sheet'!B78=\"Building\",50,0)","v":0},{"$f":"IF('Data Collection Sheet'!B78=\"Vehicle\",8,0)","v":0},{"$f":"IF('Data Collection Sheet'!B78=\"Other\",15,0)","v":0},{"$f":"IF('Data Collection Sheet'!I78=\"Bad\",(-0.8*$T75),0)","v":0},{"$f":"IF('Data Collection Sheet'!I78=\"Fair\",(-0.5*$T75),0)","v":0},{"$f":"IF('Data Collection Sheet'!I78=\"Good\",(-0.2*$T75),0)","v":0},{"$f":"IF('Data Collection Sheet'!I78=\"Great\",0,0)","v":0},null,0,0,0,null,null,null,{"$f":"IF('Consequence of Failure'!F78=\"No\",1,0)","v":0},{"$f":"IF('Consequence of Failure'!G78=\"0%-25%\",0.5,0)","v":0},{"$f":"IF('Consequence of Failure'!G78=\"26%-50%\",1,0)","v":0},{"$f":"IF('Consequence of Failure'!G78=\"51%-75%\",1.5,0)","v":0},{"$f":"IF('Consequence of Failure'!G78=\"76%-100%\",2,0)","v":0},{"$f":"IF('Consequence of Failure'!H78=\"Yes\",1,0)","v":0},{"$f":"IF('Consequence of Failure'!I78=\"Yes\",1,0)","v":0},null,0,null,{"$f":"IF('Consequence of Failure'!K78=\"Yes\",1,0)","v":0},{"$f":"IF('Consequence of Failure'!L78=\"Above\",2,0)","v":0},{"$f":"IF('Consequence of Failure'!L78=\"At\",1,0)","v":0},{"$f":"IF('Consequence of Failure'!L78=\"Below\",0,0)","v":0},{"$f":"IF('Consequence of Failure'!M78=\"Yes\",1,0)","v":0},{"$f":"IF('Consequence of Failure'!N78=\"Yes\",1,0)","v":0},null,0,null,0]
[{"$f":"IF('Data Collection Sheet'!B79=\"Pump\",15,0)","v":0},{"$f":"IF('Data Collection Sheet'!B79=\"Hydrant\",50,0)","v":0},{"$f":"IF('Data Collection Sheet'!B79=\"Meter\",15,0)","v":0},{"$f":"IF('Data Collection Sheet'!B79=\"Pipe\",80,0)","v":0},{"$f":"IF('Data Collection Sheet'!B79=\"Source\",50,0)","v":0},{"$f":"IF('Data Collection Sheet'!B79=\"Tank\",50,0)","v":0},{"$f":"IF('Data Collection Sheet'!B79=\"Analytical\",10,0)","v":0},{"$f":"IF('Data Collection Sheet'!B79=\"Treatment\",20,0)","v":0},{"$f":"IF('Data Collection Sheet'!B79=\"Valve\",20,0)","v":0},{"$f":"IF('Data Collection Sheet'!B79=\"Control\",15,0)","v":0},{"$f":"IF('Data Collection Sheet'!B79=\"Safety\",10,0)","v":0},{"$f":"IF('Data Collection Sheet'!B79=\"Building\",50,0)","v":0},{"$f":"IF('Data Collection Sheet'!B79=\"Vehicle\",8,0)","v":0},{"$f":"IF('Data Collection Sheet'!B79=\"Other\",15,0)","v":0},{"$f":"IF('Data Collection Sheet'!I79=\"Bad\",(-0.8*$T76),0)","v":0},{"$f":"IF('Data Collection Sheet'!I79=\"Fair\",(-0.5*$T76),0)","v":0},{"$f":"IF('Data Collection Sheet'!I79=\"Good\",(-0.2*$T76),0)","v":0},{"$f":"IF('Data Collection Sheet'!I79=\"Great\",0,0)","v":0},null,0,0,0,null,null,null,{"$f":"IF('Consequence of Failure'!F79=\"No\",1,0)","v":0},{"$f":"IF('Consequence of Failure'!G79=\"0%-25%\",0.5,0)","v":0},{"$f":"IF('Consequence of Failure'!G79=\"26%-50%\",1,0)","v":0},{"$f":"IF('Consequence of Failure'!G79=\"51%-75%\",1.5,0)","v":0},{"$f":"IF('Consequence of Failure'!G79=\"76%-100%\",2,0)","v":0},{"$f":"IF('Consequence of Failure'!H79=\"Yes\",1,0)","v":0},{"$f":"IF('Consequence of Failure'!I79=\"Yes\",1,0)","v":0},null,0,null,{"$f":"IF('Consequence of Failure'!K79=\"Yes\",1,0)","v":0},{"$f":"IF('Consequence of Failure'!L79=\"Above\",2,0)","v":0},{"$f":"IF('Consequence of Failure'!L79=\"At\",1,0)","v":0},{"$f":"IF('Consequence of Failure'!L79=\"Below\",0,0)","v":0},{"$f":"IF('Consequence of Failure'!M79=\"Yes\",1,0)","v":0},{"$f":"IF('Consequence of Failure'!N79=\"Yes\",1,0)","v":0},null,0,null,0]
[{"$f":"IF('Data Collection Sheet'!B80=\"Pump\",15,0)","v":0},{"$f":"IF('Data Collection Sheet'!B80=\"Hydrant\",50,0)","v":0},{"$f":"IF('Data Collection Sheet'!B80=\"Meter\",15,0)","v":0},{"$f":"IF('Data Collection Sheet'!B80=\"Pipe\",80,0)","v":0},{"$f":"IF('Data Collection Sheet'!B80=\"Source\",50,0)","v":0},{"$f":"IF('Data Collection Sheet'!B80=\"Tank\",50,0)","v":0},{"$f":"IF('Data Collection Sheet'!B80=\"Analytical\",10,0)","v":0},{"$f":"IF('Data Collection Sheet'!B80=\"Treatment\",20,0)","v":0},{"$f":"IF('Data Collection Sheet'!B80=\"Valve\",20,0)","v":0},{"$f":"IF('Data Collection Sheet'!B80=\"Control\",15,0)","v":0},{"$f":"IF('Data Collection Sheet'!B80=\"Safety\",10,0)","v":0},{"$f":"IF('Data Collection Sheet'!B80=\"Building\",50,0)","v":0},{"$f":"IF('Data Collection Sheet'!B80=\"Vehicle\",8,0)","v":0},{"$f":"IF('Data Collection Sheet'!B80=\"Other\",15,0)","v":0},{"$f":"IF('Data Collection Sheet'!I80=\"Bad\",(-0.8*$T77),0)","v":0},{"$f":"IF('Data Collection Sheet'!I80=\"Fair\",(-0.5*$T77),0)","v":0},{"$f":"IF('Data Collection Sheet'!I80=\"Good\",(-0.2*$T77),0)","v":0},{"$f":"IF('Data Collection Sheet'!I80=\"Great\",0,0)","v":0},null,0,0,0,null,null,null,{"$f":"IF('Consequence of Failure'!F80=\"No\",1,0)","v":0},{"$f":"IF('Consequence of Failure'!G80=\"0%-25%\",0.5,0)","v":0},{"$f":"IF('Consequence of Failure'!G80=\"26%-50%\",1,0)","v":0},{"$f":"IF('Consequence of Failure'!G80=\"51%-75%\",1.5,0)","v":0},{"$f":"IF('Consequence of Failure'!G80=\"76%-100%\",2,0)","v":0},{"$f":"IF('Consequence of Failure'!H80=\"Yes\",1,0)","v":0},{"$f":"IF('Consequence of Failure'!I80=\"Yes\",1,0)","v":0},null,0,null,{"$f":"IF('Consequence of Failure'!K80=\"Yes\",1,0)","v":0},{"$f":"IF('Consequence of Failure'!L80=\"Above\",2,0)","v":0},{"$f":"IF('Consequence of Failure'!L80=\"At\",1,0)","v":0},{"$f":"IF('Consequence of Failure'!L80=\"Below\",0,0)","v":0},{"$f":"IF('Consequence of Failure'!M80=\"Yes\",1,0)","v":0},{"$f":"IF('Consequence of Failure'!N80=\"Yes\",1,0)","v":0},null,0,null,0]
[{"$f":"IF('Data Collection Sheet'!B81=\"Pump\",15,0)","v":0},{"$f":"IF('Data Collection Sheet'!B81=\"Hydrant\",50,0)","v":0},{"$f":"IF('Data Collection Sheet'!B81=\"Meter\",15,0)","v":0},{"$f":"IF('Data Collection Sheet'!B81=\"Pipe\",80,0)","v":0},{"$f":"IF('Data Collection Sheet'!B81=\"Source\",50,0)","v":0},{"$f":"IF('Data Collection Sheet'!B81=\"Tank\",50,0)","v":0},{"$f":"IF('Data Collection Sheet'!B81=\"Analytical\",10,0)","v":0},{"$f":"IF('Data Collection Sheet'!B81=\"Treatment\",20,0)","v":0},{"$f":"IF('Data Collection Sheet'!B81=\"Valve\",20,0)","v":0},{"$f":"IF('Data Collection Sheet'!B81=\"Control\",15,0)","v":0},{"$f":"IF('Data Collection Sheet'!B81=\"Safety\",10,0)","v":0},{"$f":"IF('Data Collection Sheet'!B81=\"Building\",50,0)","v":0},{"$f":"IF('Data Collection Sheet'!B81=\"Vehicle\",8,0)","v":0},{"$f":"IF('Data Collection Sheet'!B81=\"Other\",15,0)","v":0},{"$f":"IF('Data Collection Sheet'!I81=\"Bad\",(-0.8*$T78),0)","v":0},{"$f":"IF('Data Collection Sheet'!I81=\"Fair\",(-0.5*$T78),0)","v":0},{"$f":"IF('Data Collection Sheet'!I81=\"Good\",(-0.2*$T78),0)","v":0},{"$f":"IF('Data Collection Sheet'!I81=\"Great\",0,0)","v":0},null,0,0,0,null,null,null,{"$f":"IF('Consequence of Failure'!F81=\"No\",1,0)","v":0},{"$f":"IF('Consequence of Failure'!G81=\"0%-25%\",0.5,0)","v":0},{"$f":"IF('Consequence of Failure'!G81=\"26%-50%\",1,0)","v":0},{"$f":"IF('Consequence of Failure'!G81=\"51%-75%\",1.5,0)","v":0},{"$f":"IF('Consequence of Failure'!G81=\"76%-100%\",2,0)","v":0},{"$f":"IF('Consequence of Failure'!H81=\"Yes\",1,0)","v":0},{"$f":"IF('Consequence of Failure'!I81=\"Yes\",1,0)","v":0},null,0,null,{"$f":"IF('Consequence of Failure'!K81=\"Yes\",1,0)","v":0},{"$f":"IF('Consequence of Failure'!L81=\"Above\",2,0)","v":0},{"$f":"IF('Consequence of Failure'!L81=\"At\",1,0)","v":0},{"$f":"IF('Consequence of Failure'!L81=\"Below\",0,0)","v":0},{"$f":"IF('Consequence of Failure'!M81=\"Yes\",1,0)","v":0},{"$f":"IF('Consequence of Failure'!N81=\"Yes\",1,0)","v":0},null,0,null,0]
[{"$f":"IF('Data Collection Sheet'!B82=\"Pump\",15,0)","v":0},{"$f":"IF('Data Collection Sheet'!B82=\"Hydrant\",50,0)","v":0},{"$f":"IF('Data Collection Sheet'!B82=\"Meter\",15,0)","v":0},{"$f":"IF('Data Collection Sheet'!B82=\"Pipe\",80,0)","v":0},{"$f":"IF('Data Collection Sheet'!B82=\"Source\",50,0)","v":0},{"$f":"IF('Data Collection Sheet'!B82=\"Tank\",50,0)","v":0},{"$f":"IF('Data Collection Sheet'!B82=\"Analytical\",10,0)","v":0},{"$f":"IF('Data Collection Sheet'!B82=\"Treatment\",20,0)","v":0},{"$f":"IF('Data Collection Sheet'!B82=\"Valve\",20,0)","v":0},{"$f":"IF('Data Collection Sheet'!B82=\"Control\",15,0)","v":0},{"$f":"IF('Data Collection Sheet'!B82=\"Safety\",10,0)","v":0},{"$f":"IF('Data Collection Sheet'!B82=\"Building\",50,0)","v":0},{"$f":"IF('Data Collection Sheet'!B82=\"Vehicle\",8,0)","v":0},{"$f":"IF('Data Collection Sheet'!B82=\"Other\",15,0)","v":0},{"$f":"IF('Data Collection Sheet'!I82=\"Bad\",(-0.8*$T79),0)","v":0},{"$f":"IF('Data Collection Sheet'!I82=\"Fair\",(-0.5*$T79),0)","v":0},{"$f":"IF('Data Collection Sheet'!I82=\"Good\",(-0.2*$T79),0)","v":0},{"$f":"IF('Data Collection Sheet'!I82=\"Great\",0,0)","v":0},null,0,0,0,null,null,null,{"$f":"IF('Consequence of Failure'!F82=\"No\",1,0)","v":0},{"$f":"IF('Consequence of Failure'!G82=\"0%-25%\",0.5,0)","v":0},{"$f":"IF('Consequence of Failure'!G82=\"26%-50%\",1,0)","v":0},{"$f":"IF('Consequence of Failure'!G82=\"51%-75%\",1.5,0)","v":0},{"$f":"IF('Consequence of Failure'!G82=\"76%-100%\",2,0)","v":0},{"$f":"IF('Consequence of Failure'!H82=\"Yes\",1,0)","v":0},{"$f":"IF('Consequence of Failure'!I82=\"Yes\",1,0)","v":0},null,0,null,{"$f":"IF('Consequence of Failure'!K82=\"Yes\",1,0)","v":0},{"$f":"IF('Consequence of Failure'!L82=\"Above\",2,0)","v":0},{"$f":"IF('Consequence of Failure'!L82=\"At\",1,0)","v":0},{"$f":"IF('Consequence of Failure'!L82=\"Below\",0,0)","v":0},{"$f":"IF('Consequence of Failure'!M82=\"Yes\",1,0)","v":0},{"$f":"IF('Consequence of Failure'!N82=\"Yes\",1,0)","v":0},null,0,null,0]
[{"$f":"IF('Data Collection Sheet'!B83=\"Pump\",15,0)","v":0},{"$f":"IF('Data Collection Sheet'!B83=\"Hydrant\",50,0)","v":0},{"$f":"IF('Data Collection Sheet'!B83=\"Meter\",15,0)","v":0},{"$f":"IF('Data Collection Sheet'!B83=\"Pipe\",80,0)","v":0},{"$f":"IF('Data Collection Sheet'!B83=\"Source\",50,0)","v":0},{"$f":"IF('Data Collection Sheet'!B83=\"Tank\",50,0)","v":0},{"$f":"IF('Data Collection Sheet'!B83=\"Analytical\",10,0)","v":0},{"$f":"IF('Data Collection Sheet'!B83=\"Treatment\",20,0)","v":0},{"$f":"IF('Data Collection Sheet'!B83=\"Valve\",20,0)","v":0},{"$f":"IF('Data Collection Sheet'!B83=\"Control\",15,0)","v":0},{"$f":"IF('Data Collection Sheet'!B83=\"Safety\",10,0)","v":0},{"$f":"IF('Data Collection Sheet'!B83=\"Building\",50,0)","v":0},{"$f":"IF('Data Collection Sheet'!B83=\"Vehicle\",8,0)","v":0},{"$f":"IF('Data Collection Sheet'!B83=\"Other\",15,0)","v":0},{"$f":"IF('Data Collection Sheet'!I83=\"Bad\",(-0.8*$T80),0)","v":0},{"$f":"IF('Data Collection Sheet'!I83=\"Fair\",(-0.5*$T80),0)","v":0},{"$f":"IF('Data Collection Sheet'!I83=\"Good\",(-0.2*$T80),0)","v":0},{"$f":"IF('Data Collection Sheet'!I83=\"Great\",0,0)","v":0},null,0,0,0,null,null,null,{"$f":"IF('Consequence of Failure'!F83=\"No\",1,0)","v":0},{"$f":"IF('Consequence of Failure'!G83=\"0%-25%\",0.5,0)","v":0},{"$f":"IF('Consequence of Failure'!G83=\"26%-50%\",1,0)","v":0},{"$f":"IF('Consequence of Failure'!G83=\"51%-75%\",1.5,0)","v":0},{"$f":"IF('Consequence of Failure'!G83=\"76%-100%\",2,0)","v":0},{"$f":"IF('Consequence of Failure'!H83=\"Yes\",1,0)","v":0},{"$f":"IF('Consequence of Failure'!I83=\"Yes\",1,0)","v":0},null,0,null,{"$f":"IF('Consequence of Failure'!K83=\"Yes\",1,0)","v":0},{"$f":"IF('Consequence of Failure'!L83=\"Above\",2,0)","v":0},{"$f":"IF('Consequence of Failure'!L83=\"At\",1,0)","v":0},{"$f":"IF('Consequence of Failure'!L83=\"Below\",0,0)","v":0},{"$f":"IF('Consequence of Failure'!M83=\"Yes\",1,0)","v":0},{"$f":"IF('Consequence of Failure'!N83=\"Yes\",1,0)","v":0},null,0,null,0]
[{"$f":"IF('Data Collection Sheet'!B84=\"Pump\",15,0)","v":0},{"$f":"IF('Data Collection Sheet'!B84=\"Hydrant\",50,0)","v":0},{"$f":"IF('Data Collection Sheet'!B84=\"Meter\",15,0)","v":0},{"$f":"IF('Data Collection Sheet'!B84=\"Pipe\",80,0)","v":0},{"$f":"IF('Data Collection Sheet'!B84=\"Source\",50,0)","v":0},{"$f":"IF('Data Collection Sheet'!B84=\"Tank\",50,0)","v":0},{"$f":"IF('Data Collection Sheet'!B84=\"Analytical\",10,0)","v":0},{"$f":"IF('Data Collection Sheet'!B84=\"Treatment\",20,0)","v":0},{"$f":"IF('Data Collection Sheet'!B84=\"Valve\",20,0)","v":0},{"$f":"IF('Data Collection Sheet'!B84=\"Control\",15,0)","v":0},{"$f":"IF('Data Collection Sheet'!B84=\"Safety\",10,0)","v":0},{"$f":"IF('Data Collection Sheet'!B84=\"Building\",50,0)","v":0},{"$f":"IF('Data Collection Sheet'!B84=\"Vehicle\",8,0)","v":0},{"$f":"IF('Data Collection Sheet'!B84=\"Other\",15,0)","v":0},{"$f":"IF('Data Collection Sheet'!I84=\"Bad\",(-0.8*$T81),0)","v":0},{"$f":"IF('Data Collection Sheet'!I84=\"Fair\",(-0.5*$T81),0)","v":0},{"$f":"IF('Data Collection Sheet'!I84=\"Good\",(-0.2*$T81),0)","v":0},{"$f":"IF('Data Collection Sheet'!I84=\"Great\",0,0)","v":0},null,0,0,0,null,null,null,{"$f":"IF('Consequence of Failure'!F84=\"No\",1,0)","v":0},{"$f":"IF('Consequence of Failure'!G84=\"0%-25%\",0.5,0)","v":0},{"$f":"IF('Consequence of Failure'!G84=\"26%-50%\",1,0)","v":0},{"$f":"IF('Consequence of Failure'!G84=\"51%-75%\",1.5,0)","v":0},{"$f":"IF('Consequence of Failure'!G84=\"76%-100%\",2,0)","v":0},{"$f":"IF('Consequence of Failure'!H84=\"Yes\",1,0)","v":0},{"$f":"IF('Consequence of Failure'!I84=\"Yes\",1,0)","v":0},null,0,null,{"$f":"IF('Consequence of Failure'!K84=\"Yes\",1,0)","v":0},{"$f":"IF('Consequence of Failure'!L84=\"Above\",2,0)","v":0},{"$f":"IF('Consequence of Failure'!L84=\"At\",1,0)","v":0},{"$f":"IF('Consequence of Failure'!L84=\"Below\",0,0)","v":0},{"$f":"IF('Consequence of Failure'!M84=\"Yes\",1,0)","v":0},{"$f":"IF('Consequence of Failure'!N84=\"Yes\",1,0)","v":0},null,0,null,0]
[{"$f":"IF('Data Collection Sheet'!B85=\"Pump\",15,0)","v":0},{"$f":"IF('Data Collection Sheet'!B85=\"Hydrant\",50,0)","v":0},{"$f":"IF('Data Collection Sheet'!B85=\"Meter\",15,0)","v":0},{"$f":"IF('Data Collection Sheet'!B85=\"Pipe\",80,0)","v":0},{"$f":"IF('Data Collection Sheet'!B85=\"Source\",50,0)","v":0},{"$f":"IF('Data Collection Sheet'!B85=\"Tank\",50,0)","v":0},{"$f":"IF('Data Collection Sheet'!B85=\"Analytical\",10,0)","v":0},{"$f":"IF('Data Collection Sheet'!B85=\"Treatment\",20,0)","v":0},{"$f":"IF('Data Collection Sheet'!B85=\"Valve\",20,0)","v":0},{"$f":"IF('Data Collection Sheet'!B85=\"Control\",15,0)","v":0},{"$f":"IF('Data Collection Sheet'!B85=\"Safety\",10,0)","v":0},{"$f":"IF('Data Collection Sheet'!B85=\"Building\",50,0)","v":0},{"$f":"IF('Data Collection Sheet'!B85=\"Vehicle\",8,0)","v":0},{"$f":"IF('Data Collection Sheet'!B85=\"Other\",15,0)","v":0},{"$f":"IF('Data Collection Sheet'!I85=\"Bad\",(-0.8*$T82),0)","v":0},{"$f":"IF('Data Collection Sheet'!I85=\"Fair\",(-0.5*$T82),0)","v":0},{"$f":"IF('Data Collection Sheet'!I85=\"Good\",(-0.2*$T82),0)","v":0},{"$f":"IF('Data Collection Sheet'!I85=\"Great\",0,0)","v":0},null,0,0,0,null,null,null,{"$f":"IF('Consequence of Failure'!F85=\"No\",1,0)","v":0},{"$f":"IF('Consequence of Failure'!G85=\"0%-25%\",0.5,0)","v":0},{"$f":"IF('Consequence of Failure'!G85=\"26%-50%\",1,0)","v":0},{"$f":"IF('Consequence of Failure'!G85=\"51%-75%\",1.5,0)","v":0},{"$f":"IF('Consequence of Failure'!G85=\"76%-100%\",2,0)","v":0},{"$f":"IF('Consequence of Failure'!H85=\"Yes\",1,0)","v":0},{"$f":"IF('Consequence of Failure'!I85=\"Yes\",1,0)","v":0},null,0,null,{"$f":"IF('Consequence of Failure'!K85=\"Yes\",1,0)","v":0},{"$f":"IF('Consequence of Failure'!L85=\"Above\",2,0)","v":0},{"$f":"IF('Consequence of Failure'!L85=\"At\",1,0)","v":0},{"$f":"IF('Consequence of Failure'!L85=\"Below\",0,0)","v":0},{"$f":"IF('Consequence of Failure'!M85=\"Yes\",1,0)","v":0},{"$f":"IF('Consequence of Failure'!N85=\"Yes\",1,0)","v":0},null,0,null,0]
[{"$f":"IF('Data Collection Sheet'!B86=\"Pump\",15,0)","v":0},{"$f":"IF('Data Collection Sheet'!B86=\"Hydrant\",50,0)","v":0},{"$f":"IF('Data Collection Sheet'!B86=\"Meter\",15,0)","v":0},{"$f":"IF('Data Collection Sheet'!B86=\"Pipe\",80,0)","v":0},{"$f":"IF('Data Collection Sheet'!B86=\"Source\",50,0)","v":0},{"$f":"IF('Data Collection Sheet'!B86=\"Tank\",50,0)","v":0},{"$f":"IF('Data Collection Sheet'!B86=\"Analytical\",10,0)","v":0},{"$f":"IF('Data Collection Sheet'!B86=\"Treatment\",20,0)","v":0},{"$f":"IF('Data Collection Sheet'!B86=\"Valve\",20,0)","v":0},{"$f":"IF('Data Collection Sheet'!B86=\"Control\",15,0)","v":0},{"$f":"IF('Data Collection Sheet'!B86=\"Safety\",10,0)","v":0},{"$f":"IF('Data Collection Sheet'!B86=\"Building\",50,0)","v":0},{"$f":"IF('Data Collection Sheet'!B86=\"Vehicle\",8,0)","v":0},{"$f":"IF('Data Collection Sheet'!B86=\"Other\",15,0)","v":0},{"$f":"IF('Data Collection Sheet'!I86=\"Bad\",(-0.8*$T83),0)","v":0},{"$f":"IF('Data Collection Sheet'!I86=\"Fair\",(-0.5*$T83),0)","v":0},{"$f":"IF('Data Collection Sheet'!I86=\"Good\",(-0.2*$T83),0)","v":0},{"$f":"IF('Data Collection Sheet'!I86=\"Great\",0,0)","v":0},null,0,0,0,null,null,null,{"$f":"IF('Consequence of Failure'!F86=\"No\",1,0)","v":0},{"$f":"IF('Consequence of Failure'!G86=\"0%-25%\",0.5,0)","v":0},{"$f":"IF('Consequence of Failure'!G86=\"26%-50%\",1,0)","v":0},{"$f":"IF('Consequence of Failure'!G86=\"51%-75%\",1.5,0)","v":0},{"$f":"IF('Consequence of Failure'!G86=\"76%-100%\",2,0)","v":0},{"$f":"IF('Consequence of Failure'!H86=\"Yes\",1,0)","v":0},{"$f":"IF('Consequence of Failure'!I86=\"Yes\",1,0)","v":0},null,0,null,{"$f":"IF('Consequence of Failure'!K86=\"Yes\",1,0)","v":0},{"$f":"IF('Consequence of Failure'!L86=\"Above\",2,0)","v":0},{"$f":"IF('Consequence of Failure'!L86=\"At\",1,0)","v":0},{"$f":"IF('Consequence of Failure'!L86=\"Below\",0,0)","v":0},{"$f":"IF('Consequence of Failure'!M86=\"Yes\",1,0)","v":0},{"$f":"IF('Consequence of Failure'!N86=\"Yes\",1,0)","v":0},null,0,null,0]
[{"$f":"IF('Data Collection Sheet'!B87=\"Pump\",15,0)","v":0},{"$f":"IF('Data Collection Sheet'!B87=\"Hydrant\",50,0)","v":0},{"$f":"IF('Data Collection Sheet'!B87=\"Meter\",15,0)","v":0},{"$f":"IF('Data Collection Sheet'!B87=\"Pipe\",80,0)","v":0},{"$f":"IF('Data Collection Sheet'!B87=\"Source\",50,0)","v":0},{"$f":"IF('Data Collection Sheet'!B87=\"Tank\",50,0)","v":0},{"$f":"IF('Data Collection Sheet'!B87=\"Analytical\",10,0)","v":0},{"$f":"IF('Data Collection Sheet'!B87=\"Treatment\",20,0)","v":0},{"$f":"IF('Data Collection Sheet'!B87=\"Valve\",20,0)","v":0},{"$f":"IF('Data Collection Sheet'!B87=\"Control\",15,0)","v":0},{"$f":"IF('Data Collection Sheet'!B87=\"Safety\",10,0)","v":0},{"$f":"IF('Data Collection Sheet'!B87=\"Building\",50,0)","v":0},{"$f":"IF('Data Collection Sheet'!B87=\"Vehicle\",8,0)","v":0},{"$f":"IF('Data Collection Sheet'!B87=\"Other\",15,0)","v":0},{"$f":"IF('Data Collection Sheet'!I87=\"Bad\",(-0.8*$T84),0)","v":0},{"$f":"IF('Data Collection Sheet'!I87=\"Fair\",(-0.5*$T84),0)","v":0},{"$f":"IF('Data Collection Sheet'!I87=\"Good\",(-0.2*$T84),0)","v":0},{"$f":"IF('Data Collection Sheet'!I87=\"Great\",0,0)","v":0},null,0,0,0,null,null,null,{"$f":"IF('Consequence of Failure'!F87=\"No\",1,0)","v":0},{"$f":"IF('Consequence of Failure'!G87=\"0%-25%\",0.5,0)","v":0},{"$f":"IF('Consequence of Failure'!G87=\"26%-50%\",1,0)","v":0},{"$f":"IF('Consequence of Failure'!G87=\"51%-75%\",1.5,0)","v":0},{"$f":"IF('Consequence of Failure'!G87=\"76%-100%\",2,0)","v":0},{"$f":"IF('Consequence of Failure'!H87=\"Yes\",1,0)","v":0},{"$f":"IF('Consequence of Failure'!I87=\"Yes\",1,0)","v":0},null,0,null,{"$f":"IF('Consequence of Failure'!K87=\"Yes\",1,0)","v":0},{"$f":"IF('Consequence of Failure'!L87=\"Above\",2,0)","v":0},{"$f":"IF('Consequence of Failure'!L87=\"At\",1,0)","v":0},{"$f":"IF('Consequence of Failure'!L87=\"Below\",0,0)","v":0},{"$f":"IF('Consequence of Failure'!M87=\"Yes\",1,0)","v":0},{"$f":"IF('Consequence of Failure'!N87=\"Yes\",1,0)","v":0},null,0,null,0]
[{"$f":"IF('Data Collection Sheet'!B88=\"Pump\",15,0)","v":0},{"$f":"IF('Data Collection Sheet'!B88=\"Hydrant\",50,0)","v":0},{"$f":"IF('Data Collection Sheet'!B88=\"Meter\",15,0)","v":0},{"$f":"IF('Data Collection Sheet'!B88=\"Pipe\",80,0)","v":0},{"$f":"IF('Data Collection Sheet'!B88=\"Source\",50,0)","v":0},{"$f":"IF('Data Collection Sheet'!B88=\"Tank\",50,0)","v":0},{"$f":"IF('Data Collection Sheet'!B88=\"Analytical\",10,0)","v":0},{"$f":"IF('Data Collection Sheet'!B88=\"Treatment\",20,0)","v":0},{"$f":"IF('Data Collection Sheet'!B88=\"Valve\",20,0)","v":0},{"$f":"IF('Data Collection Sheet'!B88=\"Control\",15,0)","v":0},{"$f":"IF('Data Collection Sheet'!B88=\"Safety\",10,0)","v":0},{"$f":"IF('Data Collection Sheet'!B88=\"Building\",50,0)","v":0},{"$f":"IF('Data Collection Sheet'!B88=\"Vehicle\",8,0)","v":0},{"$f":"IF('Data Collection Sheet'!B88=\"Other\",15,0)","v":0},{"$f":"IF('Data Collection Sheet'!I88=\"Bad\",(-0.8*$T85),0)","v":0},{"$f":"IF('Data Collection Sheet'!I88=\"Fair\",(-0.5*$T85),0)","v":0},{"$f":"IF('Data Collection Sheet'!I88=\"Good\",(-0.2*$T85),0)","v":0},{"$f":"IF('Data Collection Sheet'!I88=\"Great\",0,0)","v":0},null,0,0,0,null,null,null,{"$f":"IF('Consequence of Failure'!F88=\"No\",1,0)","v":0},{"$f":"IF('Consequence of Failure'!G88=\"0%-25%\",0.5,0)","v":0},{"$f":"IF('Consequence of Failure'!G88=\"26%-50%\",1,0)","v":0},{"$f":"IF('Consequence of Failure'!G88=\"51%-75%\",1.5,0)","v":0},{"$f":"IF('Consequence of Failure'!G88=\"76%-100%\",2,0)","v":0},{"$f":"IF('Consequence of Failure'!H88=\"Yes\",1,0)","v":0},{"$f":"IF('Consequence of Failure'!I88=\"Yes\",1,0)","v":0},null,0,null,{"$f":"IF('Consequence of Failure'!K88=\"Yes\",1,0)","v":0},{"$f":"IF('Consequence of Failure'!L88=\"Above\",2,0)","v":0},{"$f":"IF('Consequence of Failure'!L88=\"At\",1,0)","v":0},{"$f":"IF('Consequence of Failure'!L88=\"Below\",0,0)","v":0},{"$f":"IF('Consequence of Failure'!M88=\"Yes\",1,0)","v":0},{"$f":"IF('Consequence of Failure'!N88=\"Yes\",1,0)","v":0},null,0,null,0]
[{"$f":"IF('Data Collection Sheet'!B89=\"Pump\",15,0)","v":0},{"$f":"IF('Data Collection Sheet'!B89=\"Hydrant\",50,0)","v":0},{"$f":"IF('Data Collection Sheet'!B89=\"Meter\",15,0)","v":0},{"$f":"IF('Data Collection Sheet'!B89=\"Pipe\",80,0)","v":0},{"$f":"IF('Data Collection Sheet'!B89=\"Source\",50,0)","v":0},{"$f":"IF('Data Collection Sheet'!B89=\"Tank\",50,0)","v":0},{"$f":"IF('Data Collection Sheet'!B89=\"Analytical\",10,0)","v":0},{"$f":"IF('Data Collection Sheet'!B89=\"Treatment\",20,0)","v":0},{"$f":"IF('Data Collection Sheet'!B89=\"Valve\",20,0)","v":0},{"$f":"IF('Data Collection Sheet'!B89=\"Control\",15,0)","v":0},{"$f":"IF('Data Collection Sheet'!B89=\"Safety\",10,0)","v":0},{"$f":"IF('Data Collection Sheet'!B89=\"Building\",50,0)","v":0},{"$f":"IF('Data Collection Sheet'!B89=\"Vehicle\",8,0)","v":0},{"$f":"IF('Data Collection Sheet'!B89=\"Other\",15,0)","v":0},{"$f":"IF('Data Collection Sheet'!I89=\"Bad\",(-0.8*$T86),0)","v":0},{"$f":"IF('Data Collection Sheet'!I89=\"Fair\",(-0.5*$T86),0)","v":0},{"$f":"IF('Data Collection Sheet'!I89=\"Good\",(-0.2*$T86),0)","v":0},{"$f":"IF('Data Collection Sheet'!I89=\"Great\",0,0)","v":0},null,0,0,0,null,null,null,{"$f":"IF('Consequence of Failure'!F89=\"No\",1,0)","v":0},{"$f":"IF('Consequence of Failure'!G89=\"0%-25%\",0.5,0)","v":0},{"$f":"IF('Consequence of Failure'!G89=\"26%-50%\",1,0)","v":0},{"$f":"IF('Consequence of Failure'!G89=\"51%-75%\",1.5,0)","v":0},{"$f":"IF('Consequence of Failure'!G89=\"76%-100%\",2,0)","v":0},{"$f":"IF('Consequence of Failure'!H89=\"Yes\",1,0)","v":0},{"$f":"IF('Consequence of Failure'!I89=\"Yes\",1,0)","v":0},null,0,null,{"$f":"IF('Consequence of Failure'!K89=\"Yes\",1,0)","v":0},{"$f":"IF('Consequence of Failure'!L89=\"Above\",2,0)","v":0},{"$f":"IF('Consequence of Failure'!L89=\"At\",1,0)","v":0},{"$f":"IF('Consequence of Failure'!L89=\"Below\",0,0)","v":0},{"$f":"IF('Consequence of Failure'!M89=\"Yes\",1,0)","v":0},{"$f":"IF('Consequence of Failure'!N89=\"Yes\",1,0)","v":0},null,0,null,0]
[{"$f":"IF('Data Collection Sheet'!B90=\"Pump\",15,0)","v":0},{"$f":"IF('Data Collection Sheet'!B90=\"Hydrant\",50,0)","v":0},{"$f":"IF('Data Collection Sheet'!B90=\"Meter\",15,0)","v":0},{"$f":"IF('Data Collection Sheet'!B90=\"Pipe\",80,0)","v":0},{"$f":"IF('Data Collection Sheet'!B90=\"Source\",50,0)","v":0},{"$f":"IF('Data Collection Sheet'!B90=\"Tank\",50,0)","v":0},{"$f":"IF('Data Collection Sheet'!B90=\"Analytical\",10,0)","v":0},{"$f":"IF('Data Collection Sheet'!B90=\"Treatment\",20,0)","v":0},{"$f":"IF('Data Collection Sheet'!B90=\"Valve\",20,0)","v":0},{"$f":"IF('Data Collection Sheet'!B90=\"Control\",15,0)","v":0},{"$f":"IF('Data Collection Sheet'!B90=\"Safety\",10,0)","v":0},{"$f":"IF('Data Collection Sheet'!B90=\"Building\",50,0)","v":0},{"$f":"IF('Data Collection Sheet'!B90=\"Vehicle\",8,0)","v":0},{"$f":"IF('Data Collection Sheet'!B90=\"Other\",15,0)","v":0},{"$f":"IF('Data Collection Sheet'!I90=\"Bad\",(-0.8*$T87),0)","v":0},{"$f":"IF('Data Collection Sheet'!I90=\"Fair\",(-0.5*$T87),0)","v":0},{"$f":"IF('Data Collection Sheet'!I90=\"Good\",(-0.2*$T87),0)","v":0},{"$f":"IF('Data Collection Sheet'!I90=\"Great\",0,0)","v":0},null,0,0,0,null,null,null,{"$f":"IF('Consequence of Failure'!F90=\"No\",1,0)","v":0},{"$f":"IF('Consequence of Failure'!G90=\"0%-25%\",0.5,0)","v":0},{"$f":"IF('Consequence of Failure'!G90=\"26%-50%\",1,0)","v":0},{"$f":"IF('Consequence of Failure'!G90=\"51%-75%\",1.5,0)","v":0},{"$f":"IF('Consequence of Failure'!G90=\"76%-100%\",2,0)","v":0},{"$f":"IF('Consequence of Failure'!H90=\"Yes\",1,0)","v":0},{"$f":"IF('Consequence of Failure'!I90=\"Yes\",1,0)","v":0},null,0,null,{"$f":"IF('Consequence of Failure'!K90=\"Yes\",1,0)","v":0},{"$f":"IF('Consequence of Failure'!L90=\"Above\",2,0)","v":0},{"$f":"IF('Consequence of Failure'!L90=\"At\",1,0)","v":0},{"$f":"IF('Consequence of Failure'!L90=\"Below\",0,0)","v":0},{"$f":"IF('Consequence of Failure'!M90=\"Yes\",1,0)","v":0},{"$f":"IF('Consequence of Failure'!N90=\"Yes\",1,0)","v":0},null,0,null,0]
[{"$f":"IF('Data Collection Sheet'!B91=\"Pump\",15,0)","v":0},{"$f":"IF('Data Collection Sheet'!B91=\"Hydrant\",50,0)","v":0},{"$f":"IF('Data Collection Sheet'!B91=\"Meter\",15,0)","v":0},{"$f":"IF('Data Collection Sheet'!B91=\"Pipe\",80,0)","v":0},{"$f":"IF('Data Collection Sheet'!B91=\"Source\",50,0)","v":0},{"$f":"IF('Data Collection Sheet'!B91=\"Tank\",50,0)","v":0},{"$f":"IF('Data Collection Sheet'!B91=\"Analytical\",10,0)","v":0},{"$f":"IF('Data Collection Sheet'!B91=\"Treatment\",20,0)","v":0},{"$f":"IF('Data Collection Sheet'!B91=\"Valve\",20,0)","v":0},{"$f":"IF('Data Collection Sheet'!B91=\"Control\",15,0)","v":0},{"$f":"IF('Data Collection Sheet'!B91=\"Safety\",10,0)","v":0},{"$f":"IF('Data Collection Sheet'!B91=\"Building\",50,0)","v":0},{"$f":"IF('Data Collection Sheet'!B91=\"Vehicle\",8,0)","v":0},{"$f":"IF('Data Collection Sheet'!B91=\"Other\",15,0)","v":0},{"$f":"IF('Data Collection Sheet'!I91=\"Bad\",(-0.8*$T88),0)","v":0},{"$f":"IF('Data Collection Sheet'!I91=\"Fair\",(-0.5*$T88),0)","v":0},{"$f":"IF('Data Collection Sheet'!I91=\"Good\",(-0.2*$T88),0)","v":0},{"$f":"IF('Data Collection Sheet'!I91=\"Great\",0,0)","v":0},null,0,0,0,null,null,null,{"$f":"IF('Consequence of Failure'!F91=\"No\",1,0)","v":0},{"$f":"IF('Consequence of Failure'!G91=\"0%-25%\",0.5,0)","v":0},{"$f":"IF('Consequence of Failure'!G91=\"26%-50%\",1,0)","v":0},{"$f":"IF('Consequence of Failure'!G91=\"51%-75%\",1.5,0)","v":0},{"$f":"IF('Consequence of Failure'!G91=\"76%-100%\",2,0)","v":0},{"$f":"IF('Consequence of Failure'!H91=\"Yes\",1,0)","v":0},{"$f":"IF('Consequence of Failure'!I91=\"Yes\",1,0)","v":0},null,0,null,{"$f":"IF('Consequence of Failure'!K91=\"Yes\",1,0)","v":0},{"$f":"IF('Consequence of Failure'!L91=\"Above\",2,0)","v":0},{"$f":"IF('Consequence of Failure'!L91=\"At\",1,0)","v":0},{"$f":"IF('Consequence of Failure'!L91=\"Below\",0,0)","v":0},{"$f":"IF('Consequence of Failure'!M91=\"Yes\",1,0)","v":0},{"$f":"IF('Consequence of Failure'!N91=\"Yes\",1,0)","v":0},null,0,null,0]
[{"$f":"IF('Data Collection Sheet'!B92=\"Pump\",15,0)","v":0},{"$f":"IF('Data Collection Sheet'!B92=\"Hydrant\",50,0)","v":0},{"$f":"IF('Data Collection Sheet'!B92=\"Meter\",15,0)","v":0},{"$f":"IF('Data Collection Sheet'!B92=\"Pipe\",80,0)","v":0},{"$f":"IF('Data Collection Sheet'!B92=\"Source\",50,0)","v":0},{"$f":"IF('Data Collection Sheet'!B92=\"Tank\",50,0)","v":0},{"$f":"IF('Data Collection Sheet'!B92=\"Analytical\",10,0)","v":0},{"$f":"IF('Data Collection Sheet'!B92=\"Treatment\",20,0)","v":0},{"$f":"IF('Data Collection Sheet'!B92=\"Valve\",20,0)","v":0},{"$f":"IF('Data Collection Sheet'!B92=\"Control\",15,0)","v":0},{"$f":"IF('Data Collection Sheet'!B92=\"Safety\",10,0)","v":0},{"$f":"IF('Data Collection Sheet'!B92=\"Building\",50,0)","v":0},{"$f":"IF('Data Collection Sheet'!B92=\"Vehicle\",8,0)","v":0},{"$f":"IF('Data Collection Sheet'!B92=\"Other\",15,0)","v":0},{"$f":"IF('Data Collection Sheet'!I92=\"Bad\",(-0.8*$T89),0)","v":0},{"$f":"IF('Data Collection Sheet'!I92=\"Fair\",(-0.5*$T89),0)","v":0},{"$f":"IF('Data Collection Sheet'!I92=\"Good\",(-0.2*$T89),0)","v":0},{"$f":"IF('Data Collection Sheet'!I92=\"Great\",0,0)","v":0},null,0,0,0,null,null,null,{"$f":"IF('Consequence of Failure'!F92=\"No\",1,0)","v":0},{"$f":"IF('Consequence of Failure'!G92=\"0%-25%\",0.5,0)","v":0},{"$f":"IF('Consequence of Failure'!G92=\"26%-50%\",1,0)","v":0},{"$f":"IF('Consequence of Failure'!G92=\"51%-75%\",1.5,0)","v":0},{"$f":"IF('Consequence of Failure'!G92=\"76%-100%\",2,0)","v":0},{"$f":"IF('Consequence of Failure'!H92=\"Yes\",1,0)","v":0},{"$f":"IF('Consequence of Failure'!I92=\"Yes\",1,0)","v":0},null,0,null,{"$f":"IF('Consequence of Failure'!K92=\"Yes\",1,0)","v":0},{"$f":"IF('Consequence of Failure'!L92=\"Above\",2,0)","v":0},{"$f":"IF('Consequence of Failure'!L92=\"At\",1,0)","v":0},{"$f":"IF('Consequence of Failure'!L92=\"Below\",0,0)","v":0},{"$f":"IF('Consequence of Failure'!M92=\"Yes\",1,0)","v":0},{"$f":"IF('Consequence of Failure'!N92=\"Yes\",1,0)","v":0},null,0,null,0]
[{"$f":"IF('Data Collection Sheet'!B93=\"Pump\",15,0)","v":0},{"$f":"IF('Data Collection Sheet'!B93=\"Hydrant\",50,0)","v":0},{"$f":"IF('Data Collection Sheet'!B93=\"Meter\",15,0)","v":0},{"$f":"IF('Data Collection Sheet'!B93=\"Pipe\",80,0)","v":0},{"$f":"IF('Data Collection Sheet'!B93=\"Source\",50,0)","v":0},{"$f":"IF('Data Collection Sheet'!B93=\"Tank\",50,0)","v":0},{"$f":"IF('Data Collection Sheet'!B93=\"Analytical\",10,0)","v":0},{"$f":"IF('Data Collection Sheet'!B93=\"Treatment\",20,0)","v":0},{"$f":"IF('Data Collection Sheet'!B93=\"Valve\",20,0)","v":0},{"$f":"IF('Data Collection Sheet'!B93=\"Control\",15,0)","v":0},{"$f":"IF('Data Collection Sheet'!B93=\"Safety\",10,0)","v":0},{"$f":"IF('Data Collection Sheet'!B93=\"Building\",50,0)","v":0},{"$f":"IF('Data Collection Sheet'!B93=\"Vehicle\",8,0)","v":0},{"$f":"IF('Data Collection Sheet'!B93=\"Other\",15,0)","v":0},{"$f":"IF('Data Collection Sheet'!I93=\"Bad\",(-0.8*$T90),0)","v":0},{"$f":"IF('Data Collection Sheet'!I93=\"Fair\",(-0.5*$T90),0)","v":0},{"$f":"IF('Data Collection Sheet'!I93=\"Good\",(-0.2*$T90),0)","v":0},{"$f":"IF('Data Collection Sheet'!I93=\"Great\",0,0)","v":0},null,0,0,0,null,null,null,{"$f":"IF('Consequence of Failure'!F93=\"No\",1,0)","v":0},{"$f":"IF('Consequence of Failure'!G93=\"0%-25%\",0.5,0)","v":0},{"$f":"IF('Consequence of Failure'!G93=\"26%-50%\",1,0)","v":0},{"$f":"IF('Consequence of Failure'!G93=\"51%-75%\",1.5,0)","v":0},{"$f":"IF('Consequence of Failure'!G93=\"76%-100%\",2,0)","v":0},{"$f":"IF('Consequence of Failure'!H93=\"Yes\",1,0)","v":0},{"$f":"IF('Consequence of Failure'!I93=\"Yes\",1,0)","v":0},null,0,null,{"$f":"IF('Consequence of Failure'!K93=\"Yes\",1,0)","v":0},{"$f":"IF('Consequence of Failure'!L93=\"Above\",2,0)","v":0},{"$f":"IF('Consequence of Failure'!L93=\"At\",1,0)","v":0},{"$f":"IF('Consequence of Failure'!L93=\"Below\",0,0)","v":0},{"$f":"IF('Consequence of Failure'!M93=\"Yes\",1,0)","v":0},{"$f":"IF('Consequence of Failure'!N93=\"Yes\",1,0)","v":0},null,0,null,0]
[{"$f":"IF('Data Collection Sheet'!B94=\"Pump\",15,0)","v":0},{"$f":"IF('Data Collection Sheet'!B94=\"Hydrant\",50,0)","v":0},{"$f":"IF('Data Collection Sheet'!B94=\"Meter\",15,0)","v":0},{"$f":"IF('Data Collection Sheet'!B94=\"Pipe\",80,0)","v":0},{"$f":"IF('Data Collection Sheet'!B94=\"Source\",50,0)","v":0},{"$f":"IF('Data Collection Sheet'!B94=\"Tank\",50,0)","v":0},{"$f":"IF('Data Collection Sheet'!B94=\"Analytical\",10,0)","v":0},{"$f":"IF('Data Collection Sheet'!B94=\"Treatment\",20,0)","v":0},{"$f":"IF('Data Collection Sheet'!B94=\"Valve\",20,0)","v":0},{"$f":"IF('Data Collection Sheet'!B94=\"Control\",15,0)","v":0},{"$f":"IF('Data Collection Sheet'!B94=\"Safety\",10,0)","v":0},{"$f":"IF('Data Collection Sheet'!B94=\"Building\",50,0)","v":0},{"$f":"IF('Data Collection Sheet'!B94=\"Vehicle\",8,0)","v":0},{"$f":"IF('Data Collection Sheet'!B94=\"Other\",15,0)","v":0},{"$f":"IF('Data Collection Sheet'!I94=\"Bad\",(-0.8*$T91),0)","v":0},{"$f":"IF('Data Collection Sheet'!I94=\"Fair\",(-0.5*$T91),0)","v":0},{"$f":"IF('Data Collection Sheet'!I94=\"Good\",(-0.2*$T91),0)","v":0},{"$f":"IF('Data Collection Sheet'!I94=\"Great\",0,0)","v":0},null,0,0,0,null,null,null,{"$f":"IF('Consequence of Failure'!F94=\"No\",1,0)","v":0},{"$f":"IF('Consequence of Failure'!G94=\"0%-25%\",0.5,0)","v":0},{"$f":"IF('Consequence of Failure'!G94=\"26%-50%\",1,0)","v":0},{"$f":"IF('Consequence of Failure'!G94=\"51%-75%\",1.5,0)","v":0},{"$f":"IF('Consequence of Failure'!G94=\"76%-100%\",2,0)","v":0},{"$f":"IF('Consequence of Failure'!H94=\"Yes\",1,0)","v":0},{"$f":"IF('Consequence of Failure'!I94=\"Yes\",1,0)","v":0},null,0,null,{"$f":"IF('Consequence of Failure'!K94=\"Yes\",1,0)","v":0},{"$f":"IF('Consequence of Failure'!L94=\"Above\",2,0)","v":0},{"$f":"IF('Consequence of Failure'!L94=\"At\",1,0)","v":0},{"$f":"IF('Consequence of Failure'!L94=\"Below\",0,0)","v":0},{"$f":"IF('Consequence of Failure'!M94=\"Yes\",1,0)","v":0},{"$f":"IF('Consequence of Failure'!N94=\"Yes\",1,0)","v":0},null,0,null,0]
[{"$f":"IF('Data Collection Sheet'!B95=\"Pump\",15,0)","v":0},{"$f":"IF('Data Collection Sheet'!B95=\"Hydrant\",50,0)","v":0},{"$f":"IF('Data Collection Sheet'!B95=\"Meter\",15,0)","v":0},{"$f":"IF('Data Collection Sheet'!B95=\"Pipe\",80,0)","v":0},{"$f":"IF('Data Collection Sheet'!B95=\"Source\",50,0)","v":0},{"$f":"IF('Data Collection Sheet'!B95=\"Tank\",50,0)","v":0},{"$f":"IF('Data Collection Sheet'!B95=\"Analytical\",10,0)","v":0},{"$f":"IF('Data Collection Sheet'!B95=\"Treatment\",20,0)","v":0},{"$f":"IF('Data Collection Sheet'!B95=\"Valve\",20,0)","v":0},{"$f":"IF('Data Collection Sheet'!B95=\"Control\",15,0)","v":0},{"$f":"IF('Data Collection Sheet'!B95=\"Safety\",10,0)","v":0},{"$f":"IF('Data Collection Sheet'!B95=\"Building\",50,0)","v":0},{"$f":"IF('Data Collection Sheet'!B95=\"Vehicle\",8,0)","v":0},{"$f":"IF('Data Collection Sheet'!B95=\"Other\",15,0)","v":0},{"$f":"IF('Data Collection Sheet'!I95=\"Bad\",(-0.8*$T92),0)","v":0},{"$f":"IF('Data Collection Sheet'!I95=\"Fair\",(-0.5*$T92),0)","v":0},{"$f":"IF('Data Collection Sheet'!I95=\"Good\",(-0.2*$T92),0)","v":0},{"$f":"IF('Data Collection Sheet'!I95=\"Great\",0,0)","v":0},null,0,0,0,null,null,null,{"$f":"IF('Consequence of Failure'!F95=\"No\",1,0)","v":0},{"$f":"IF('Consequence of Failure'!G95=\"0%-25%\",0.5,0)","v":0},{"$f":"IF('Consequence of Failure'!G95=\"26%-50%\",1,0)","v":0},{"$f":"IF('Consequence of Failure'!G95=\"51%-75%\",1.5,0)","v":0},{"$f":"IF('Consequence of Failure'!G95=\"76%-100%\",2,0)","v":0},{"$f":"IF('Consequence of Failure'!H95=\"Yes\",1,0)","v":0},{"$f":"IF('Consequence of Failure'!I95=\"Yes\",1,0)","v":0},null,0,null,{"$f":"IF('Consequence of Failure'!K95=\"Yes\",1,0)","v":0},{"$f":"IF('Consequence of Failure'!L95=\"Above\",2,0)","v":0},{"$f":"IF('Consequence of Failure'!L95=\"At\",1,0)","v":0},{"$f":"IF('Consequence of Failure'!L95=\"Below\",0,0)","v":0},{"$f":"IF('Consequence of Failure'!M95=\"Yes\",1,0)","v":0},{"$f":"IF('Consequence of Failure'!N95=\"Yes\",1,0)","v":0},null,0,null,0]
[{"$f":"IF('Data Collection Sheet'!B96=\"Pump\",15,0)","v":0},{"$f":"IF('Data Collection Sheet'!B96=\"Hydrant\",50,0)","v":0},{"$f":"IF('Data Collection Sheet'!B96=\"Meter\",15,0)","v":0},{"$f":"IF('Data Collection Sheet'!B96=\"Pipe\",80,0)","v":0},{"$f":"IF('Data Collection Sheet'!B96=\"Source\",50,0)","v":0},{"$f":"IF('Data Collection Sheet'!B96=\"Tank\",50,0)","v":0},{"$f":"IF('Data Collection Sheet'!B96=\"Analytical\",10,0)","v":0},{"$f":"IF('Data Collection Sheet'!B96=\"Treatment\",20,0)","v":0},{"$f":"IF('Data Collection Sheet'!B96=\"Valve\",20,0)","v":0},{"$f":"IF('Data Collection Sheet'!B96=\"Control\",15,0)","v":0},{"$f":"IF('Data Collection Sheet'!B96=\"Safety\",10,0)","v":0},{"$f":"IF('Data Collection Sheet'!B96=\"Building\",50,0)","v":0},{"$f":"IF('Data Collection Sheet'!B96=\"Vehicle\",8,0)","v":0},{"$f":"IF('Data Collection Sheet'!B96=\"Other\",15,0)","v":0},{"$f":"IF('Data Collection Sheet'!I96=\"Bad\",(-0.8*$T93),0)","v":0},{"$f":"IF('Data Collection Sheet'!I96=\"Fair\",(-0.5*$T93),0)","v":0},{"$f":"IF('Data Collection Sheet'!I96=\"Good\",(-0.2*$T93),0)","v":0},{"$f":"IF('Data Collection Sheet'!I96=\"Great\",0,0)","v":0},null,0,0,0,null,null,null,{"$f":"IF('Consequence of Failure'!F96=\"No\",1,0)","v":0},{"$f":"IF('Consequence of Failure'!G96=\"0%-25%\",0.5,0)","v":0},{"$f":"IF('Consequence of Failure'!G96=\"26%-50%\",1,0)","v":0},{"$f":"IF('Consequence of Failure'!G96=\"51%-75%\",1.5,0)","v":0},{"$f":"IF('Consequence of Failure'!G96=\"76%-100%\",2,0)","v":0},{"$f":"IF('Consequence of Failure'!H96=\"Yes\",1,0)","v":0},{"$f":"IF('Consequence of Failure'!I96=\"Yes\",1,0)","v":0},null,0,null,{"$f":"IF('Consequence of Failure'!K96=\"Yes\",1,0)","v":0},{"$f":"IF('Consequence of Failure'!L96=\"Above\",2,0)","v":0},{"$f":"IF('Consequence of Failure'!L96=\"At\",1,0)","v":0},{"$f":"IF('Consequence of Failure'!L96=\"Below\",0,0)","v":0},{"$f":"IF('Consequence of Failure'!M96=\"Yes\",1,0)","v":0},{"$f":"IF('Consequence of Failure'!N96=\"Yes\",1,0)","v":0},null,0,null,0]
[{"$f":"IF('Data Collection Sheet'!B97=\"Pump\",15,0)","v":0},{"$f":"IF('Data Collection Sheet'!B97=\"Hydrant\",50,0)","v":0},{"$f":"IF('Data Collection Sheet'!B97=\"Meter\",15,0)","v":0},{"$f":"IF('Data Collection Sheet'!B97=\"Pipe\",80,0)","v":0},{"$f":"IF('Data Collection Sheet'!B97=\"Source\",50,0)","v":0},{"$f":"IF('Data Collection Sheet'!B97=\"Tank\",50,0)","v":0},{"$f":"IF('Data Collection Sheet'!B97=\"Analytical\",10,0)","v":0},{"$f":"IF('Data Collection Sheet'!B97=\"Treatment\",20,0)","v":0},{"$f":"IF('Data Collection Sheet'!B97=\"Valve\",20,0)","v":0},{"$f":"IF('Data Collection Sheet'!B97=\"Control\",15,0)","v":0},{"$f":"IF('Data Collection Sheet'!B97=\"Safety\",10,0)","v":0},{"$f":"IF('Data Collection Sheet'!B97=\"Building\",50,0)","v":0},{"$f":"IF('Data Collection Sheet'!B97=\"Vehicle\",8,0)","v":0},{"$f":"IF('Data Collection Sheet'!B97=\"Other\",15,0)","v":0},{"$f":"IF('Data Collection Sheet'!I97=\"Bad\",(-0.8*$T94),0)","v":0},{"$f":"IF('Data Collection Sheet'!I97=\"Fair\",(-0.5*$T94),0)","v":0},{"$f":"IF('Data Collection Sheet'!I97=\"Good\",(-0.2*$T94),0)","v":0},{"$f":"IF('Data Collection Sheet'!I97=\"Great\",0,0)","v":0},null,0,0,0,null,null,null,{"$f":"IF('Consequence of Failure'!F97=\"No\",1,0)","v":0},{"$f":"IF('Consequence of Failure'!G97=\"0%-25%\",0.5,0)","v":0},{"$f":"IF('Consequence of Failure'!G97=\"26%-50%\",1,0)","v":0},{"$f":"IF('Consequence of Failure'!G97=\"51%-75%\",1.5,0)","v":0},{"$f":"IF('Consequence of Failure'!G97=\"76%-100%\",2,0)","v":0},{"$f":"IF('Consequence of Failure'!H97=\"Yes\",1,0)","v":0},{"$f":"IF('Consequence of Failure'!I97=\"Yes\",1,0)","v":0},null,0,null,{"$f":"IF('Consequence of Failure'!K97=\"Yes\",1,0)","v":0},{"$f":"IF('Consequence of Failure'!L97=\"Above\",2,0)","v":0},{"$f":"IF('Consequence of Failure'!L97=\"At\",1,0)","v":0},{"$f":"IF('Consequence of Failure'!L97=\"Below\",0,0)","v":0},{"$f":"IF('Consequence of Failure'!M97=\"Yes\",1,0)","v":0},{"$f":"IF('Consequence of Failure'!N97=\"Yes\",1,0)","v":0},null,0,null,0]
[{"$f":"IF('Data Collection Sheet'!B98=\"Pump\",15,0)","v":0},{"$f":"IF('Data Collection Sheet'!B98=\"Hydrant\",50,0)","v":0},{"$f":"IF('Data Collection Sheet'!B98=\"Meter\",15,0)","v":0},{"$f":"IF('Data Collection Sheet'!B98=\"Pipe\",80,0)","v":0},{"$f":"IF('Data Collection Sheet'!B98=\"Source\",50,0)","v":0},{"$f":"IF('Data Collection Sheet'!B98=\"Tank\",50,0)","v":0},{"$f":"IF('Data Collection Sheet'!B98=\"Analytical\",10,0)","v":0},{"$f":"IF('Data Collection Sheet'!B98=\"Treatment\",20,0)","v":0},{"$f":"IF('Data Collection Sheet'!B98=\"Valve\",20,0)","v":0},{"$f":"IF('Data Collection Sheet'!B98=\"Control\",15,0)","v":0},{"$f":"IF('Data Collection Sheet'!B98=\"Safety\",10,0)","v":0},{"$f":"IF('Data Collection Sheet'!B98=\"Building\",50,0)","v":0},{"$f":"IF('Data Collection Sheet'!B98=\"Vehicle\",8,0)","v":0},{"$f":"IF('Data Collection Sheet'!B98=\"Other\",15,0)","v":0},{"$f":"IF('Data Collection Sheet'!I98=\"Bad\",(-0.8*$T95),0)","v":0},{"$f":"IF('Data Collection Sheet'!I98=\"Fair\",(-0.5*$T95),0)","v":0},{"$f":"IF('Data Collection Sheet'!I98=\"Good\",(-0.2*$T95),0)","v":0},{"$f":"IF('Data Collection Sheet'!I98=\"Great\",0,0)","v":0},null,0,0,0,null,null,null,{"$f":"IF('Consequence of Failure'!F98=\"No\",1,0)","v":0},{"$f":"IF('Consequence of Failure'!G98=\"0%-25%\",0.5,0)","v":0},{"$f":"IF('Consequence of Failure'!G98=\"26%-50%\",1,0)","v":0},{"$f":"IF('Consequence of Failure'!G98=\"51%-75%\",1.5,0)","v":0},{"$f":"IF('Consequence of Failure'!G98=\"76%-100%\",2,0)","v":0},{"$f":"IF('Consequence of Failure'!H98=\"Yes\",1,0)","v":0},{"$f":"IF('Consequence of Failure'!I98=\"Yes\",1,0)","v":0},null,0,null,{"$f":"IF('Consequence of Failure'!K98=\"Yes\",1,0)","v":0},{"$f":"IF('Consequence of Failure'!L98=\"Above\",2,0)","v":0},{"$f":"IF('Consequence of Failure'!L98=\"At\",1,0)","v":0},{"$f":"IF('Consequence of Failure'!L98=\"Below\",0,0)","v":0},{"$f":"IF('Consequence of Failure'!M98=\"Yes\",1,0)","v":0},{"$f":"IF('Consequence of Failure'!N98=\"Yes\",1,0)","v":0},null,0,null,0]
[{"$f":"IF('Data Collection Sheet'!B99=\"Pump\",15,0)","v":0},{"$f":"IF('Data Collection Sheet'!B99=\"Hydrant\",50,0)","v":0},{"$f":"IF('Data Collection Sheet'!B99=\"Meter\",15,0)","v":0},{"$f":"IF('Data Collection Sheet'!B99=\"Pipe\",80,0)","v":0},{"$f":"IF('Data Collection Sheet'!B99=\"Source\",50,0)","v":0},{"$f":"IF('Data Collection Sheet'!B99=\"Tank\",50,0)","v":0},{"$f":"IF('Data Collection Sheet'!B99=\"Analytical\",10,0)","v":0},{"$f":"IF('Data Collection Sheet'!B99=\"Treatment\",20,0)","v":0},{"$f":"IF('Data Collection Sheet'!B99=\"Valve\",20,0)","v":0},{"$f":"IF('Data Collection Sheet'!B99=\"Control\",15,0)","v":0},{"$f":"IF('Data Collection Sheet'!B99=\"Safety\",10,0)","v":0},{"$f":"IF('Data Collection Sheet'!B99=\"Building\",50,0)","v":0},{"$f":"IF('Data Collection Sheet'!B99=\"Vehicle\",8,0)","v":0},{"$f":"IF('Data Collection Sheet'!B99=\"Other\",15,0)","v":0},{"$f":"IF('Data Collection Sheet'!I99=\"Bad\",(-0.8*$T96),0)","v":0},{"$f":"IF('Data Collection Sheet'!I99=\"Fair\",(-0.5*$T96),0)","v":0},{"$f":"IF('Data Collection Sheet'!I99=\"Good\",(-0.2*$T96),0)","v":0},{"$f":"IF('Data Collection Sheet'!I99=\"Great\",0,0)","v":0},null,0,0,0,null,null,null,{"$f":"IF('Consequence of Failure'!F99=\"No\",1,0)","v":0},{"$f":"IF('Consequence of Failure'!G99=\"0%-25%\",0.5,0)","v":0},{"$f":"IF('Consequence of Failure'!G99=\"26%-50%\",1,0)","v":0},{"$f":"IF('Consequence of Failure'!G99=\"51%-75%\",1.5,0)","v":0},{"$f":"IF('Consequence of Failure'!G99=\"76%-100%\",2,0)","v":0},{"$f":"IF('Consequence of Failure'!H99=\"Yes\",1,0)","v":0},{"$f":"IF('Consequence of Failure'!I99=\"Yes\",1,0)","v":0},null,0,null,{"$f":"IF('Consequence of Failure'!K99=\"Yes\",1,0)","v":0},{"$f":"IF('Consequence of Failure'!L99=\"Above\",2,0)","v":0},{"$f":"IF('Consequence of Failure'!L99=\"At\",1,0)","v":0},{"$f":"IF('Consequence of Failure'!L99=\"Below\",0,0)","v":0},{"$f":"IF('Consequence of Failure'!M99=\"Yes\",1,0)","v":0},{"$f":"IF('Consequence of Failure'!N99=\"Yes\",1,0)","v":0},null,0,null,0]
[{"$f":"IF('Data Collection Sheet'!B100=\"Pump\",15,0)","v":0},{"$f":"IF('Data Collection Sheet'!B100=\"Hydrant\",50,0)","v":0},{"$f":"IF('Data Collection Sheet'!B100=\"Meter\",15,0)","v":0},{"$f":"IF('Data Collection Sheet'!B100=\"Pipe\",80,0)","v":0},{"$f":"IF('Data Collection Sheet'!B100=\"Source\",50,0)","v":0},{"$f":"IF('Data Collection Sheet'!B100=\"Tank\",50,0)","v":0},{"$f":"IF('Data Collection Sheet'!B100=\"Analytical\",10,0)","v":0},{"$f":"IF('Data Collection Sheet'!B100=\"Treatment\",20,0)","v":0},{"$f":"IF('Data Collection Sheet'!B100=\"Valve\",20,0)","v":0},{"$f":"IF('Data Collection Sheet'!B100=\"Control\",15,0)","v":0},{"$f":"IF('Data Collection Sheet'!B100=\"Safety\",10,0)","v":0},{"$f":"IF('Data Collection Sheet'!B100=\"Building\",50,0)","v":0},{"$f":"IF('Data Collection Sheet'!B100=\"Vehicle\",8,0)","v":0},{"$f":"IF('Data Collection Sheet'!B100=\"Other\",15,0)","v":0},{"$f":"IF('Data Collection Sheet'!I100=\"Bad\",(-0.8*$T97),0)","v":0},{"$f":"IF('Data Collection Sheet'!I100=\"Fair\",(-0.5*$T97),0)","v":0},{"$f":"IF('Data Collection Sheet'!I100=\"Good\",(-0.2*$T97),0)","v":0},{"$f":"IF('Data Collection Sheet'!I100=\"Great\",0,0)","v":0},null,0,0,0,null,null,null,{"$f":"IF('Consequence of Failure'!F100=\"No\",1,0)","v":0},{"$f":"IF('Consequence of Failure'!G100=\"0%-25%\",0.5,0)","v":0},{"$f":"IF('Consequence of Failure'!G100=\"26%-50%\",1,0)","v":0},{"$f":"IF('Consequence of Failure'!G100=\"51%-75%\",1.5,0)","v":0},{"$f":"IF('Consequence of Failure'!G100=\"76%-100%\",2,0)","v":0},{"$f":"IF('Consequence of Failure'!H100=\"Yes\",1,0)","v":0},{"$f":"IF('Consequence of Failure'!I100=\"Yes\",1,0)","v":0},null,0,null,{"$f":"IF('Consequence of Failure'!K100=\"Yes\",1,0)","v":0},{"$f":"IF('Consequence of Failure'!L100=\"Above\",2,0)","v":0},{"$f":"IF('Consequence of Failure'!L100=\"At\",1,0)","v":0},{"$f":"IF('Consequence of Failure'!L100=\"Below\",0,0)","v":0},{"$f":"IF('Consequence of Failure'!M100=\"Yes\",1,0)","v":0},{"$f":"IF('Consequence of Failure'!N100=\"Yes\",1,0)","v":0},null,0,null,0]
[{"$f":"IF('Data Collection Sheet'!B101=\"Pump\",15,0)","v":0},{"$f":"IF('Data Collection Sheet'!B101=\"Hydrant\",50,0)","v":0},{"$f":"IF('Data Collection Sheet'!B101=\"Meter\",15,0)","v":0},{"$f":"IF('Data Collection Sheet'!B101=\"Pipe\",80,0)","v":0},{"$f":"IF('Data Collection Sheet'!B101=\"Source\",50,0)","v":0},{"$f":"IF('Data Collection Sheet'!B101=\"Tank\",50,0)","v":0},{"$f":"IF('Data Collection Sheet'!B101=\"Analytical\",10,0)","v":0},{"$f":"IF('Data Collection Sheet'!B101=\"Treatment\",20,0)","v":0},{"$f":"IF('Data Collection Sheet'!B101=\"Valve\",20,0)","v":0},{"$f":"IF('Data Collection Sheet'!B101=\"Control\",15,0)","v":0},{"$f":"IF('Data Collection Sheet'!B101=\"Safety\",10,0)","v":0},{"$f":"IF('Data Collection Sheet'!B101=\"Building\",50,0)","v":0},{"$f":"IF('Data Collection Sheet'!B101=\"Vehicle\",8,0)","v":0},{"$f":"IF('Data Collection Sheet'!B101=\"Other\",15,0)","v":0},{"$f":"IF('Data Collection Sheet'!I101=\"Bad\",(-0.8*$T98),0)","v":0},{"$f":"IF('Data Collection Sheet'!I101=\"Fair\",(-0.5*$T98),0)","v":0},{"$f":"IF('Data Collection Sheet'!I101=\"Good\",(-0.2*$T98),0)","v":0},{"$f":"IF('Data Collection Sheet'!I101=\"Great\",0,0)","v":0},null,0,0,0,null,null,null,{"$f":"IF('Consequence of Failure'!F101=\"No\",1,0)","v":0},{"$f":"IF('Consequence of Failure'!G101=\"0%-25%\",0.5,0)","v":0},{"$f":"IF('Consequence of Failure'!G101=\"26%-50%\",1,0)","v":0},{"$f":"IF('Consequence of Failure'!G101=\"51%-75%\",1.5,0)","v":0},{"$f":"IF('Consequence of Failure'!G101=\"76%-100%\",2,0)","v":0},{"$f":"IF('Consequence of Failure'!H101=\"Yes\",1,0)","v":0},{"$f":"IF('Consequence of Failure'!I101=\"Yes\",1,0)","v":0},null,0,null,{"$f":"IF('Consequence of Failure'!K101=\"Yes\",1,0)","v":0},{"$f":"IF('Consequence of Failure'!L101=\"Above\",2,0)","v":0},{"$f":"IF('Consequence of Failure'!L101=\"At\",1,0)","v":0},{"$f":"IF('Consequence of Failure'!L101=\"Below\",0,0)","v":0},{"$f":"IF('Consequence of Failure'!M101=\"Yes\",1,0)","v":0},{"$f":"IF('Consequence of Failure'!N101=\"Yes\",1,0)","v":0},null,0,null,0]
[{"$f":"IF('Data Collection Sheet'!B102=\"Pump\",15,0)","v":0},{"$f":"IF('Data Collection Sheet'!B102=\"Hydrant\",50,0)","v":0},{"$f":"IF('Data Collection Sheet'!B102=\"Meter\",15,0)","v":0},{"$f":"IF('Data Collection Sheet'!B102=\"Pipe\",80,0)","v":0},{"$f":"IF('Data Collection Sheet'!B102=\"Source\",50,0)","v":0},{"$f":"IF('Data Collection Sheet'!B102=\"Tank\",50,0)","v":0},{"$f":"IF('Data Collection Sheet'!B102=\"Analytical\",10,0)","v":0},{"$f":"IF('Data Collection Sheet'!B102=\"Treatment\",20,0)","v":0},{"$f":"IF('Data Collection Sheet'!B102=\"Valve\",20,0)","v":0},{"$f":"IF('Data Collection Sheet'!B102=\"Control\",15,0)","v":0},{"$f":"IF('Data Collection Sheet'!B102=\"Safety\",10,0)","v":0},{"$f":"IF('Data Collection Sheet'!B102=\"Building\",50,0)","v":0},{"$f":"IF('Data Collection Sheet'!B102=\"Vehicle\",8,0)","v":0},{"$f":"IF('Data Collection Sheet'!B102=\"Other\",15,0)","v":0},{"$f":"IF('Data Collection Sheet'!I102=\"Bad\",(-0.8*$T99),0)","v":0},{"$f":"IF('Data Collection Sheet'!I102=\"Fair\",(-0.5*$T99),0)","v":0},{"$f":"IF('Data Collection Sheet'!I102=\"Good\",(-0.2*$T99),0)","v":0},{"$f":"IF('Data Collection Sheet'!I102=\"Great\",0,0)","v":0},null,0,0,0,null,null,null,{"$f":"IF('Consequence of Failure'!F102=\"No\",1,0)","v":0},{"$f":"IF('Consequence of Failure'!G102=\"0%-25%\",0.5,0)","v":0},{"$f":"IF('Consequence of Failure'!G102=\"26%-50%\",1,0)","v":0},{"$f":"IF('Consequence of Failure'!G102=\"51%-75%\",1.5,0)","v":0},{"$f":"IF('Consequence of Failure'!G102=\"76%-100%\",2,0)","v":0},{"$f":"IF('Consequence of Failure'!H102=\"Yes\",1,0)","v":0},{"$f":"IF('Consequence of Failure'!I102=\"Yes\",1,0)","v":0},null,0,null,{"$f":"IF('Consequence of Failure'!K102=\"Yes\",1,0)","v":0},{"$f":"IF('Consequence of Failure'!L102=\"Above\",2,0)","v":0},{"$f":"IF('Consequence of Failure'!L102=\"At\",1,0)","v":0},{"$f":"IF('Consequence of Failure'!L102=\"Below\",0,0)","v":0},{"$f":"IF('Consequence of Failure'!M102=\"Yes\",1,0)","v":0},{"$f":"IF('Consequence of Failure'!N102=\"Yes\",1,0)","v":0},null,0,null,0]
[{"$f":"IF('Data Collection Sheet'!B103=\"Pump\",15,0)","v":0},{"$f":"IF('Data Collection Sheet'!B103=\"Hydrant\",50,0)","v":0},{"$f":"IF('Data Collection Sheet'!B103=\"Meter\",15,0)","v":0},{"$f":"IF('Data Collection Sheet'!B103=\"Pipe\",80,0)","v":0},{"$f":"IF('Data Collection Sheet'!B103=\"Source\",50,0)","v":0},{"$f":"IF('Data Collection Sheet'!B103=\"Tank\",50,0)","v":0},{"$f":"IF('Data Collection Sheet'!B103=\"Analytical\",10,0)","v":0},{"$f":"IF('Data Collection Sheet'!B103=\"Treatment\",20,0)","v":0},{"$f":"IF('Data Collection Sheet'!B103=\"Valve\",20,0)","v":0},{"$f":"IF('Data Collection Sheet'!B103=\"Control\",15,0)","v":0},{"$f":"IF('Data Collection Sheet'!B103=\"Safety\",10,0)","v":0},{"$f":"IF('Data Collection Sheet'!B103=\"Building\",50,0)","v":0},{"$f":"IF('Data Collection Sheet'!B103=\"Vehicle\",8,0)","v":0},{"$f":"IF('Data Collection Sheet'!B103=\"Other\",15,0)","v":0},{"$f":"IF('Data Collection Sheet'!I103=\"Bad\",(-0.8*$T100),0)","v":0},{"$f":"IF('Data Collection Sheet'!I103=\"Fair\",(-0.5*$T100),0)","v":0},{"$f":"IF('Data Collection Sheet'!I103=\"Good\",(-0.2*$T100),0)","v":0},{"$f":"IF('Data Collection Sheet'!I103=\"Great\",0,0)","v":0},null,0,0,0,null,null,null,{"$f":"IF('Consequence of Failure'!F103=\"No\",1,0)","v":0},{"$f":"IF('Consequence of Failure'!G103=\"0%-25%\",0.5,0)","v":0},{"$f":"IF('Consequence of Failure'!G103=\"26%-50%\",1,0)","v":0},{"$f":"IF('Consequence of Failure'!G103=\"51%-75%\",1.5,0)","v":0},{"$f":"IF('Consequence of Failure'!G103=\"76%-100%\",2,0)","v":0},{"$f":"IF('Consequence of Failure'!H103=\"Yes\",1,0)","v":0},{"$f":"IF('Consequence of Failure'!I103=\"Yes\",1,0)","v":0},null,0,null,{"$f":"IF('Consequence of Failure'!K103=\"Yes\",1,0)","v":0},{"$f":"IF('Consequence of Failure'!L103=\"Above\",2,0)","v":0},{"$f":"IF('Consequence of Failure'!L103=\"At\",1,0)","v":0},{"$f":"IF('Consequence of Failure'!L103=\"Below\",0,0)","v":0},{"$f":"IF('Consequence of Failure'!M103=\"Yes\",1,0)","v":0},{"$f":"IF('Consequence of Failure'!N103=\"Yes\",1,0)","v":0},null,0,null,0]
[{"$f":"IF('Data Collection Sheet'!B104=\"Pump\",15,0)","v":0},{"$f":"IF('Data Collection Sheet'!B104=\"Hydrant\",50,0)","v":0},{"$f":"IF('Data Collection Sheet'!B104=\"Meter\",15,0)","v":0},{"$f":"IF('Data Collection Sheet'!B104=\"Pipe\",80,0)","v":0},{"$f":"IF('Data Collection Sheet'!B104=\"Source\",50,0)","v":0},{"$f":"IF('Data Collection Sheet'!B104=\"Tank\",50,0)","v":0},{"$f":"IF('Data Collection Sheet'!B104=\"Analytical\",10,0)","v":0},{"$f":"IF('Data Collection Sheet'!B104=\"Treatment\",20,0)","v":0},{"$f":"IF('Data Collection Sheet'!B104=\"Valve\",20,0)","v":0},{"$f":"IF('Data Collection Sheet'!B104=\"Control\",15,0)","v":0},{"$f":"IF('Data Collection Sheet'!B104=\"Safety\",10,0)","v":0},{"$f":"IF('Data Collection Sheet'!B104=\"Building\",50,0)","v":0},{"$f":"IF('Data Collection Sheet'!B104=\"Vehicle\",8,0)","v":0},{"$f":"IF('Data Collection Sheet'!B104=\"Other\",15,0)","v":0},{"$f":"IF('Data Collection Sheet'!I104=\"Bad\",(-0.8*$T101),0)","v":0},{"$f":"IF('Data Collection Sheet'!I104=\"Fair\",(-0.5*$T101),0)","v":0},{"$f":"IF('Data Collection Sheet'!I104=\"Good\",(-0.2*$T101),0)","v":0},{"$f":"IF('Data Collection Sheet'!I104=\"Great\",0,0)","v":0},null,0,0,0,null,null,null,{"$f":"IF('Consequence of Failure'!F104=\"No\",1,0)","v":0},{"$f":"IF('Consequence of Failure'!G104=\"0%-25%\",0.5,0)","v":0},{"$f":"IF('Consequence of Failure'!G104=\"26%-50%\",1,0)","v":0},{"$f":"IF('Consequence of Failure'!G104=\"51%-75%\",1.5,0)","v":0},{"$f":"IF('Consequence of Failure'!G104=\"76%-100%\",2,0)","v":0},{"$f":"IF('Consequence of Failure'!H104=\"Yes\",1,0)","v":0},{"$f":"IF('Consequence of Failure'!I104=\"Yes\",1,0)","v":0},null,0,null,{"$f":"IF('Consequence of Failure'!K104=\"Yes\",1,0)","v":0},{"$f":"IF('Consequence of Failure'!L104=\"Above\",2,0)","v":0},{"$f":"IF('Consequence of Failure'!L104=\"At\",1,0)","v":0},{"$f":"IF('Consequence of Failure'!L104=\"Below\",0,0)","v":0},{"$f":"IF('Consequence of Failure'!M104=\"Yes\",1,0)","v":0},{"$f":"IF('Consequence of Failure'!N104=\"Yes\",1,0)","v":0},null,0,null,0]
[{"$f":"IF('Data Collection Sheet'!B105=\"Pump\",15,0)","v":0},{"$f":"IF('Data Collection Sheet'!B105=\"Hydrant\",50,0)","v":0},{"$f":"IF('Data Collection Sheet'!B105=\"Meter\",15,0)","v":0},{"$f":"IF('Data Collection Sheet'!B105=\"Pipe\",80,0)","v":0},{"$f":"IF('Data Collection Sheet'!B105=\"Source\",50,0)","v":0},{"$f":"IF('Data Collection Sheet'!B105=\"Tank\",50,0)","v":0},{"$f":"IF('Data Collection Sheet'!B105=\"Analytical\",10,0)","v":0},{"$f":"IF('Data Collection Sheet'!B105=\"Treatment\",20,0)","v":0},{"$f":"IF('Data Collection Sheet'!B105=\"Valve\",20,0)","v":0},{"$f":"IF('Data Collection Sheet'!B105=\"Control\",15,0)","v":0},{"$f":"IF('Data Collection Sheet'!B105=\"Safety\",10,0)","v":0},{"$f":"IF('Data Collection Sheet'!B105=\"Building\",50,0)","v":0},{"$f":"IF('Data Collection Sheet'!B105=\"Vehicle\",8,0)","v":0},{"$f":"IF('Data Collection Sheet'!B105=\"Other\",15,0)","v":0},{"$f":"IF('Data Collection Sheet'!I105=\"Bad\",(-0.8*$T102),0)","v":0},{"$f":"IF('Data Collection Sheet'!I105=\"Fair\",(-0.5*$T102),0)","v":0},{"$f":"IF('Data Collection Sheet'!I105=\"Good\",(-0.2*$T102),0)","v":0},{"$f":"IF('Data Collection Sheet'!I105=\"Great\",0,0)","v":0},null,0,0,0,null,null,null,{"$f":"IF('Consequence of Failure'!F105=\"No\",1,0)","v":0},{"$f":"IF('Consequence of Failure'!G105=\"0%-25%\",0.5,0)","v":0},{"$f":"IF('Consequence of Failure'!G105=\"26%-50%\",1,0)","v":0},{"$f":"IF('Consequence of Failure'!G105=\"51%-75%\",1.5,0)","v":0},{"$f":"IF('Consequence of Failure'!G105=\"76%-100%\",2,0)","v":0},{"$f":"IF('Consequence of Failure'!H105=\"Yes\",1,0)","v":0},{"$f":"IF('Consequence of Failure'!I105=\"Yes\",1,0)","v":0},null,0,null,{"$f":"IF('Consequence of Failure'!K105=\"Yes\",1,0)","v":0},{"$f":"IF('Consequence of Failure'!L105=\"Above\",2,0)","v":0},{"$f":"IF('Consequence of Failure'!L105=\"At\",1,0)","v":0},{"$f":"IF('Consequence of Failure'!L105=\"Below\",0,0)","v":0},{"$f":"IF('Consequence of Failure'!M105=\"Yes\",1,0)","v":0},{"$f":"IF('Consequence of Failure'!N105=\"Yes\",1,0)","v":0},null,0,null,0]
[{"$f":"IF('Data Collection Sheet'!B106=\"Pump\",15,0)","v":0},{"$f":"IF('Data Collection Sheet'!B106=\"Hydrant\",50,0)","v":0},{"$f":"IF('Data Collection Sheet'!B106=\"Meter\",15,0)","v":0},{"$f":"IF('Data Collection Sheet'!B106=\"Pipe\",80,0)","v":0},{"$f":"IF('Data Collection Sheet'!B106=\"Source\",50,0)","v":0},{"$f":"IF('Data Collection Sheet'!B106=\"Tank\",50,0)","v":0},{"$f":"IF('Data Collection Sheet'!B106=\"Analytical\",10,0)","v":0},{"$f":"IF('Data Collection Sheet'!B106=\"Treatment\",20,0)","v":0},{"$f":"IF('Data Collection Sheet'!B106=\"Valve\",20,0)","v":0},{"$f":"IF('Data Collection Sheet'!B106=\"Control\",15,0)","v":0},{"$f":"IF('Data Collection Sheet'!B106=\"Safety\",10,0)","v":0},{"$f":"IF('Data Collection Sheet'!B106=\"Building\",50,0)","v":0},{"$f":"IF('Data Collection Sheet'!B106=\"Vehicle\",8,0)","v":0},{"$f":"IF('Data Collection Sheet'!B106=\"Other\",15,0)","v":0},{"$f":"IF('Data Collection Sheet'!I106=\"Bad\",(-0.8*$T103),0)","v":0},{"$f":"IF('Data Collection Sheet'!I106=\"Fair\",(-0.5*$T103),0)","v":0},{"$f":"IF('Data Collection Sheet'!I106=\"Good\",(-0.2*$T103),0)","v":0},{"$f":"IF('Data Collection Sheet'!I106=\"Great\",0,0)","v":0},null,0,0,0,null,null,null,{"$f":"IF('Consequence of Failure'!F106=\"No\",1,0)","v":0},{"$f":"IF('Consequence of Failure'!G106=\"0%-25%\",0.5,0)","v":0},{"$f":"IF('Consequence of Failure'!G106=\"26%-50%\",1,0)","v":0},{"$f":"IF('Consequence of Failure'!G106=\"51%-75%\",1.5,0)","v":0},{"$f":"IF('Consequence of Failure'!G106=\"76%-100%\",2,0)","v":0},{"$f":"IF('Consequence of Failure'!H106=\"Yes\",1,0)","v":0},{"$f":"IF('Consequence of Failure'!I106=\"Yes\",1,0)","v":0},null,0,null,{"$f":"IF('Consequence of Failure'!K106=\"Yes\",1,0)","v":0},{"$f":"IF('Consequence of Failure'!L106=\"Above\",2,0)","v":0},{"$f":"IF('Consequence of Failure'!L106=\"At\",1,0)","v":0},{"$f":"IF('Consequence of Failure'!L106=\"Below\",0,0)","v":0},{"$f":"IF('Consequence of Failure'!M106=\"Yes\",1,0)","v":0},{"$f":"IF('Consequence of Failure'!N106=\"Yes\",1,0)","v":0},null,0,null,0]
[{"$f":"IF('Data Collection Sheet'!B107=\"Pump\",15,0)","v":0},{"$f":"IF('Data Collection Sheet'!B107=\"Hydrant\",50,0)","v":0},{"$f":"IF('Data Collection Sheet'!B107=\"Meter\",15,0)","v":0},{"$f":"IF('Data Collection Sheet'!B107=\"Pipe\",80,0)","v":0},{"$f":"IF('Data Collection Sheet'!B107=\"Source\",50,0)","v":0},{"$f":"IF('Data Collection Sheet'!B107=\"Tank\",50,0)","v":0},{"$f":"IF('Data Collection Sheet'!B107=\"Analytical\",10,0)","v":0},{"$f":"IF('Data Collection Sheet'!B107=\"Treatment\",20,0)","v":0},{"$f":"IF('Data Collection Sheet'!B107=\"Valve\",20,0)","v":0},{"$f":"IF('Data Collection Sheet'!B107=\"Control\",15,0)","v":0},{"$f":"IF('Data Collection Sheet'!B107=\"Safety\",10,0)","v":0},{"$f":"IF('Data Collection Sheet'!B107=\"Building\",50,0)","v":0},{"$f":"IF('Data Collection Sheet'!B107=\"Vehicle\",8,0)","v":0},{"$f":"IF('Data Collection Sheet'!B107=\"Other\",15,0)","v":0},{"$f":"IF('Data Collection Sheet'!I107=\"Bad\",(-0.8*$T104),0)","v":0},{"$f":"IF('Data Collection Sheet'!I107=\"Fair\",(-0.5*$T104),0)","v":0},{"$f":"IF('Data Collection Sheet'!I107=\"Good\",(-0.2*$T104),0)","v":0},{"$f":"IF('Data Collection Sheet'!I107=\"Great\",0,0)","v":0},null,0,0,0,null,null,null,{"$f":"IF('Consequence of Failure'!F107=\"No\",1,0)","v":0},{"$f":"IF('Consequence of Failure'!G107=\"0%-25%\",0.5,0)","v":0},{"$f":"IF('Consequence of Failure'!G107=\"26%-50%\",1,0)","v":0},{"$f":"IF('Consequence of Failure'!G107=\"51%-75%\",1.5,0)","v":0},{"$f":"IF('Consequence of Failure'!G107=\"76%-100%\",2,0)","v":0},{"$f":"IF('Consequence of Failure'!H107=\"Yes\",1,0)","v":0},{"$f":"IF('Consequence of Failure'!I107=\"Yes\",1,0)","v":0},null,0,null,{"$f":"IF('Consequence of Failure'!K107=\"Yes\",1,0)","v":0},{"$f":"IF('Consequence of Failure'!L107=\"Above\",2,0)","v":0},{"$f":"IF('Consequence of Failure'!L107=\"At\",1,0)","v":0},{"$f":"IF('Consequence of Failure'!L107=\"Below\",0,0)","v":0},{"$f":"IF('Consequence of Failure'!M107=\"Yes\",1,0)","v":0},{"$f":"IF('Consequence of Failure'!N107=\"Yes\",1,0)","v":0},null,0,null,0]
[{"$f":"IF('Data Collection Sheet'!B108=\"Pump\",15,0)","v":0},{"$f":"IF('Data Collection Sheet'!B108=\"Hydrant\",50,0)","v":0},{"$f":"IF('Data Collection Sheet'!B108=\"Meter\",15,0)","v":0},{"$f":"IF('Data Collection Sheet'!B108=\"Pipe\",80,0)","v":0},{"$f":"IF('Data Collection Sheet'!B108=\"Source\",50,0)","v":0},{"$f":"IF('Data Collection Sheet'!B108=\"Tank\",50,0)","v":0},{"$f":"IF('Data Collection Sheet'!B108=\"Analytical\",10,0)","v":0},{"$f":"IF('Data Collection Sheet'!B108=\"Treatment\",20,0)","v":0},{"$f":"IF('Data Collection Sheet'!B108=\"Valve\",20,0)","v":0},{"$f":"IF('Data Collection Sheet'!B108=\"Control\",15,0)","v":0},{"$f":"IF('Data Collection Sheet'!B108=\"Safety\",10,0)","v":0},{"$f":"IF('Data Collection Sheet'!B108=\"Building\",50,0)","v":0},{"$f":"IF('Data Collection Sheet'!B108=\"Vehicle\",8,0)","v":0},{"$f":"IF('Data Collection Sheet'!B108=\"Other\",15,0)","v":0},{"$f":"IF('Data Collection Sheet'!I108=\"Bad\",(-0.8*$T105),0)","v":0},{"$f":"IF('Data Collection Sheet'!I108=\"Fair\",(-0.5*$T105),0)","v":0},{"$f":"IF('Data Collection Sheet'!I108=\"Good\",(-0.2*$T105),0)","v":0},{"$f":"IF('Data Collection Sheet'!I108=\"Great\",0,0)","v":0},null,0,0,0,null,null,null,{"$f":"IF('Consequence of Failure'!F108=\"No\",1,0)","v":0},{"$f":"IF('Consequence of Failure'!G108=\"0%-25%\",0.5,0)","v":0},{"$f":"IF('Consequence of Failure'!G108=\"26%-50%\",1,0)","v":0},{"$f":"IF('Consequence of Failure'!G108=\"51%-75%\",1.5,0)","v":0},{"$f":"IF('Consequence of Failure'!G108=\"76%-100%\",2,0)","v":0},{"$f":"IF('Consequence of Failure'!H108=\"Yes\",1,0)","v":0},{"$f":"IF('Consequence of Failure'!I108=\"Yes\",1,0)","v":0},null,0,null,{"$f":"IF('Consequence of Failure'!K108=\"Yes\",1,0)","v":0},{"$f":"IF('Consequence of Failure'!L108=\"Above\",2,0)","v":0},{"$f":"IF('Consequence of Failure'!L108=\"At\",1,0)","v":0},{"$f":"IF('Consequence of Failure'!L108=\"Below\",0,0)","v":0},{"$f":"IF('Consequence of Failure'!M108=\"Yes\",1,0)","v":0},{"$f":"IF('Consequence of Failure'!N108=\"Yes\",1,0)","v":0},null,0,null,0]
[{"$f":"IF('Data Collection Sheet'!B109=\"Pump\",15,0)","v":0},{"$f":"IF('Data Collection Sheet'!B109=\"Hydrant\",50,0)","v":0},{"$f":"IF('Data Collection Sheet'!B109=\"Meter\",15,0)","v":0},{"$f":"IF('Data Collection Sheet'!B109=\"Pipe\",80,0)","v":0},{"$f":"IF('Data Collection Sheet'!B109=\"Source\",50,0)","v":0},{"$f":"IF('Data Collection Sheet'!B109=\"Tank\",50,0)","v":0},{"$f":"IF('Data Collection Sheet'!B109=\"Analytical\",10,0)","v":0},{"$f":"IF('Data Collection Sheet'!B109=\"Treatment\",20,0)","v":0},{"$f":"IF('Data Collection Sheet'!B109=\"Valve\",20,0)","v":0},{"$f":"IF('Data Collection Sheet'!B109=\"Control\",15,0)","v":0},{"$f":"IF('Data Collection Sheet'!B109=\"Safety\",10,0)","v":0},{"$f":"IF('Data Collection Sheet'!B109=\"Building\",50,0)","v":0},{"$f":"IF('Data Collection Sheet'!B109=\"Vehicle\",8,0)","v":0},{"$f":"IF('Data Collection Sheet'!B109=\"Other\",15,0)","v":0},{"$f":"IF('Data Collection Sheet'!I109=\"Bad\",(-0.8*$T106),0)","v":0},{"$f":"IF('Data Collection Sheet'!I109=\"Fair\",(-0.5*$T106),0)","v":0},{"$f":"IF('Data Collection Sheet'!I109=\"Good\",(-0.2*$T106),0)","v":0},{"$f":"IF('Data Collection Sheet'!I109=\"Great\",0,0)","v":0},null,0,0,0,null,null,null,{"$f":"IF('Consequence of Failure'!F109=\"No\",1,0)","v":0},{"$f":"IF('Consequence of Failure'!G109=\"0%-25%\",0.5,0)","v":0},{"$f":"IF('Consequence of Failure'!G109=\"26%-50%\",1,0)","v":0},{"$f":"IF('Consequence of Failure'!G109=\"51%-75%\",1.5,0)","v":0},{"$f":"IF('Consequence of Failure'!G109=\"76%-100%\",2,0)","v":0},{"$f":"IF('Consequence of Failure'!H109=\"Yes\",1,0)","v":0},{"$f":"IF('Consequence of Failure'!I109=\"Yes\",1,0)","v":0},null,0,null,{"$f":"IF('Consequence of Failure'!K109=\"Yes\",1,0)","v":0},{"$f":"IF('Consequence of Failure'!L109=\"Above\",2,0)","v":0},{"$f":"IF('Consequence of Failure'!L109=\"At\",1,0)","v":0},{"$f":"IF('Consequence of Failure'!L109=\"Below\",0,0)","v":0},{"$f":"IF('Consequence of Failure'!M109=\"Yes\",1,0)","v":0},{"$f":"IF('Consequence of Failure'!N109=\"Yes\",1,0)","v":0},null,0,null,0]
[{"$f":"IF('Data Collection Sheet'!B110=\"Pump\",15,0)","v":0},{"$f":"IF('Data Collection Sheet'!B110=\"Hydrant\",50,0)","v":0},{"$f":"IF('Data Collection Sheet'!B110=\"Meter\",15,0)","v":0},{"$f":"IF('Data Collection Sheet'!B110=\"Pipe\",80,0)","v":0},{"$f":"IF('Data Collection Sheet'!B110=\"Source\",50,0)","v":0},{"$f":"IF('Data Collection Sheet'!B110=\"Tank\",50,0)","v":0},{"$f":"IF('Data Collection Sheet'!B110=\"Analytical\",10,0)","v":0},{"$f":"IF('Data Collection Sheet'!B110=\"Treatment\",20,0)","v":0},{"$f":"IF('Data Collection Sheet'!B110=\"Valve\",20,0)","v":0},{"$f":"IF('Data Collection Sheet'!B110=\"Control\",15,0)","v":0},{"$f":"IF('Data Collection Sheet'!B110=\"Safety\",10,0)","v":0},{"$f":"IF('Data Collection Sheet'!B110=\"Building\",50,0)","v":0},{"$f":"IF('Data Collection Sheet'!B110=\"Vehicle\",8,0)","v":0},{"$f":"IF('Data Collection Sheet'!B110=\"Other\",15,0)","v":0},{"$f":"IF('Data Collection Sheet'!I110=\"Bad\",(-0.8*$T107),0)","v":0},{"$f":"IF('Data Collection Sheet'!I110=\"Fair\",(-0.5*$T107),0)","v":0},{"$f":"IF('Data Collection Sheet'!I110=\"Good\",(-0.2*$T107),0)","v":0},{"$f":"IF('Data Collection Sheet'!I110=\"Great\",0,0)","v":0},null,0,0,0,null,null,null,{"$f":"IF('Consequence of Failure'!F110=\"No\",1,0)","v":0},{"$f":"IF('Consequence of Failure'!G110=\"0%-25%\",0.5,0)","v":0},{"$f":"IF('Consequence of Failure'!G110=\"26%-50%\",1,0)","v":0},{"$f":"IF('Consequence of Failure'!G110=\"51%-75%\",1.5,0)","v":0},{"$f":"IF('Consequence of Failure'!G110=\"76%-100%\",2,0)","v":0},{"$f":"IF('Consequence of Failure'!H110=\"Yes\",1,0)","v":0},{"$f":"IF('Consequence of Failure'!I110=\"Yes\",1,0)","v":0},null,0,null,{"$f":"IF('Consequence of Failure'!K110=\"Yes\",1,0)","v":0},{"$f":"IF('Consequence of Failure'!L110=\"Above\",2,0)","v":0},{"$f":"IF('Consequence of Failure'!L110=\"At\",1,0)","v":0},{"$f":"IF('Consequence of Failure'!L110=\"Below\",0,0)","v":0},{"$f":"IF('Consequence of Failure'!M110=\"Yes\",1,0)","v":0},{"$f":"IF('Consequence of Failure'!N110=\"Yes\",1,0)","v":0},null,0,null,0]
[{"$f":"IF('Data Collection Sheet'!B111=\"Pump\",15,0)","v":0},{"$f":"IF('Data Collection Sheet'!B111=\"Hydrant\",50,0)","v":0},{"$f":"IF('Data Collection Sheet'!B111=\"Meter\",15,0)","v":0},{"$f":"IF('Data Collection Sheet'!B111=\"Pipe\",80,0)","v":0},{"$f":"IF('Data Collection Sheet'!B111=\"Source\",50,0)","v":0},{"$f":"IF('Data Collection Sheet'!B111=\"Tank\",50,0)","v":0},{"$f":"IF('Data Collection Sheet'!B111=\"Analytical\",10,0)","v":0},{"$f":"IF('Data Collection Sheet'!B111=\"Treatment\",20,0)","v":0},{"$f":"IF('Data Collection Sheet'!B111=\"Valve\",20,0)","v":0},{"$f":"IF('Data Collection Sheet'!B111=\"Control\",15,0)","v":0},{"$f":"IF('Data Collection Sheet'!B111=\"Safety\",10,0)","v":0},{"$f":"IF('Data Collection Sheet'!B111=\"Building\",50,0)","v":0},{"$f":"IF('Data Collection Sheet'!B111=\"Vehicle\",8,0)","v":0},{"$f":"IF('Data Collection Sheet'!B111=\"Other\",15,0)","v":0},{"$f":"IF('Data Collection Sheet'!I111=\"Bad\",(-0.8*$T108),0)","v":0},{"$f":"IF('Data Collection Sheet'!I111=\"Fair\",(-0.5*$T108),0)","v":0},{"$f":"IF('Data Collection Sheet'!I111=\"Good\",(-0.2*$T108),0)","v":0},{"$f":"IF('Data Collection Sheet'!I111=\"Great\",0,0)","v":0},null,0,0,0,null,null,null,{"$f":"IF('Consequence of Failure'!F111=\"No\",1,0)","v":0},{"$f":"IF('Consequence of Failure'!G111=\"0%-25%\",0.5,0)","v":0},{"$f":"IF('Consequence of Failure'!G111=\"26%-50%\",1,0)","v":0},{"$f":"IF('Consequence of Failure'!G111=\"51%-75%\",1.5,0)","v":0},{"$f":"IF('Consequence of Failure'!G111=\"76%-100%\",2,0)","v":0},{"$f":"IF('Consequence of Failure'!H111=\"Yes\",1,0)","v":0},{"$f":"IF('Consequence of Failure'!I111=\"Yes\",1,0)","v":0},null,0,null,{"$f":"IF('Consequence of Failure'!K111=\"Yes\",1,0)","v":0},{"$f":"IF('Consequence of Failure'!L111=\"Above\",2,0)","v":0},{"$f":"IF('Consequence of Failure'!L111=\"At\",1,0)","v":0},{"$f":"IF('Consequence of Failure'!L111=\"Below\",0,0)","v":0},{"$f":"IF('Consequence of Failure'!M111=\"Yes\",1,0)","v":0},{"$f":"IF('Consequence of Failure'!N111=\"Yes\",1,0)","v":0},null,0,null,0]
[{"$f":"IF('Data Collection Sheet'!B112=\"Pump\",15,0)","v":0},{"$f":"IF('Data Collection Sheet'!B112=\"Hydrant\",50,0)","v":0},{"$f":"IF('Data Collection Sheet'!B112=\"Meter\",15,0)","v":0},{"$f":"IF('Data Collection Sheet'!B112=\"Pipe\",80,0)","v":0},{"$f":"IF('Data Collection Sheet'!B112=\"Source\",50,0)","v":0},{"$f":"IF('Data Collection Sheet'!B112=\"Tank\",50,0)","v":0},{"$f":"IF('Data Collection Sheet'!B112=\"Analytical\",10,0)","v":0},{"$f":"IF('Data Collection Sheet'!B112=\"Treatment\",20,0)","v":0},{"$f":"IF('Data Collection Sheet'!B112=\"Valve\",20,0)","v":0},{"$f":"IF('Data Collection Sheet'!B112=\"Control\",15,0)","v":0},{"$f":"IF('Data Collection Sheet'!B112=\"Safety\",10,0)","v":0},{"$f":"IF('Data Collection Sheet'!B112=\"Building\",50,0)","v":0},{"$f":"IF('Data Collection Sheet'!B112=\"Vehicle\",8,0)","v":0},{"$f":"IF('Data Collection Sheet'!B112=\"Other\",15,0)","v":0},{"$f":"IF('Data Collection Sheet'!I112=\"Bad\",(-0.8*$T109),0)","v":0},{"$f":"IF('Data Collection Sheet'!I112=\"Fair\",(-0.5*$T109),0)","v":0},{"$f":"IF('Data Collection Sheet'!I112=\"Good\",(-0.2*$T109),0)","v":0},{"$f":"IF('Data Collection Sheet'!I112=\"Great\",0,0)","v":0},null,0,0,0,null,null,null,{"$f":"IF('Consequence of Failure'!F112=\"No\",1,0)","v":0},{"$f":"IF('Consequence of Failure'!G112=\"0%-25%\",0.5,0)","v":0},{"$f":"IF('Consequence of Failure'!G112=\"26%-50%\",1,0)","v":0},{"$f":"IF('Consequence of Failure'!G112=\"51%-75%\",1.5,0)","v":0},{"$f":"IF('Consequence of Failure'!G112=\"76%-100%\",2,0)","v":0},{"$f":"IF('Consequence of Failure'!H112=\"Yes\",1,0)","v":0},{"$f":"IF('Consequence of Failure'!I112=\"Yes\",1,0)","v":0},null,0,null,{"$f":"IF('Consequence of Failure'!K112=\"Yes\",1,0)","v":0},{"$f":"IF('Consequence of Failure'!L112=\"Above\",2,0)","v":0},{"$f":"IF('Consequence of Failure'!L112=\"At\",1,0)","v":0},{"$f":"IF('Consequence of Failure'!L112=\"Below\",0,0)","v":0},{"$f":"IF('Consequence of Failure'!M112=\"Yes\",1,0)","v":0},{"$f":"IF('Consequence of Failure'!N112=\"Yes\",1,0)","v":0},null,0,null,0]
[{"$f":"IF('Data Collection Sheet'!B113=\"Pump\",15,0)","v":0},{"$f":"IF('Data Collection Sheet'!B113=\"Hydrant\",50,0)","v":0},{"$f":"IF('Data Collection Sheet'!B113=\"Meter\",15,0)","v":0},{"$f":"IF('Data Collection Sheet'!B113=\"Pipe\",80,0)","v":0},{"$f":"IF('Data Collection Sheet'!B113=\"Source\",50,0)","v":0},{"$f":"IF('Data Collection Sheet'!B113=\"Tank\",50,0)","v":0},{"$f":"IF('Data Collection Sheet'!B113=\"Analytical\",10,0)","v":0},{"$f":"IF('Data Collection Sheet'!B113=\"Treatment\",20,0)","v":0},{"$f":"IF('Data Collection Sheet'!B113=\"Valve\",20,0)","v":0},{"$f":"IF('Data Collection Sheet'!B113=\"Control\",15,0)","v":0},{"$f":"IF('Data Collection Sheet'!B113=\"Safety\",10,0)","v":0},{"$f":"IF('Data Collection Sheet'!B113=\"Building\",50,0)","v":0},{"$f":"IF('Data Collection Sheet'!B113=\"Vehicle\",8,0)","v":0},{"$f":"IF('Data Collection Sheet'!B113=\"Other\",15,0)","v":0},{"$f":"IF('Data Collection Sheet'!I113=\"Bad\",(-0.8*$T110),0)","v":0},{"$f":"IF('Data Collection Sheet'!I113=\"Fair\",(-0.5*$T110),0)","v":0},{"$f":"IF('Data Collection Sheet'!I113=\"Good\",(-0.2*$T110),0)","v":0},{"$f":"IF('Data Collection Sheet'!I113=\"Great\",0,0)","v":0},null,0,0,0,null,null,null,{"$f":"IF('Consequence of Failure'!F113=\"No\",1,0)","v":0},{"$f":"IF('Consequence of Failure'!G113=\"0%-25%\",0.5,0)","v":0},{"$f":"IF('Consequence of Failure'!G113=\"26%-50%\",1,0)","v":0},{"$f":"IF('Consequence of Failure'!G113=\"51%-75%\",1.5,0)","v":0},{"$f":"IF('Consequence of Failure'!G113=\"76%-100%\",2,0)","v":0},{"$f":"IF('Consequence of Failure'!H113=\"Yes\",1,0)","v":0},{"$f":"IF('Consequence of Failure'!I113=\"Yes\",1,0)","v":0},null,0,null,{"$f":"IF('Consequence of Failure'!K113=\"Yes\",1,0)","v":0},{"$f":"IF('Consequence of Failure'!L113=\"Above\",2,0)","v":0},{"$f":"IF('Consequence of Failure'!L113=\"At\",1,0)","v":0},{"$f":"IF('Consequence of Failure'!L113=\"Below\",0,0)","v":0},{"$f":"IF('Consequence of Failure'!M113=\"Yes\",1,0)","v":0},{"$f":"IF('Consequence of Failure'!N113=\"Yes\",1,0)","v":0},null,0,null,0]
[{"$f":"IF('Data Collection Sheet'!B114=\"Pump\",15,0)","v":0},{"$f":"IF('Data Collection Sheet'!B114=\"Hydrant\",50,0)","v":0},{"$f":"IF('Data Collection Sheet'!B114=\"Meter\",15,0)","v":0},{"$f":"IF('Data Collection Sheet'!B114=\"Pipe\",80,0)","v":0},{"$f":"IF('Data Collection Sheet'!B114=\"Source\",50,0)","v":0},{"$f":"IF('Data Collection Sheet'!B114=\"Tank\",50,0)","v":0},{"$f":"IF('Data Collection Sheet'!B114=\"Analytical\",10,0)","v":0},{"$f":"IF('Data Collection Sheet'!B114=\"Treatment\",20,0)","v":0},{"$f":"IF('Data Collection Sheet'!B114=\"Valve\",20,0)","v":0},{"$f":"IF('Data Collection Sheet'!B114=\"Control\",15,0)","v":0},{"$f":"IF('Data Collection Sheet'!B114=\"Safety\",10,0)","v":0},{"$f":"IF('Data Collection Sheet'!B114=\"Building\",50,0)","v":0},{"$f":"IF('Data Collection Sheet'!B114=\"Vehicle\",8,0)","v":0},{"$f":"IF('Data Collection Sheet'!B114=\"Other\",15,0)","v":0},{"$f":"IF('Data Collection Sheet'!I114=\"Bad\",(-0.8*$T111),0)","v":0},{"$f":"IF('Data Collection Sheet'!I114=\"Fair\",(-0.5*$T111),0)","v":0},{"$f":"IF('Data Collection Sheet'!I114=\"Good\",(-0.2*$T111),0)","v":0},{"$f":"IF('Data Collection Sheet'!I114=\"Great\",0,0)","v":0},null,0,0,0,null,null,null,{"$f":"IF('Consequence of Failure'!F114=\"No\",1,0)","v":0},{"$f":"IF('Consequence of Failure'!G114=\"0%-25%\",0.5,0)","v":0},{"$f":"IF('Consequence of Failure'!G114=\"26%-50%\",1,0)","v":0},{"$f":"IF('Consequence of Failure'!G114=\"51%-75%\",1.5,0)","v":0},{"$f":"IF('Consequence of Failure'!G114=\"76%-100%\",2,0)","v":0},{"$f":"IF('Consequence of Failure'!H114=\"Yes\",1,0)","v":0},{"$f":"IF('Consequence of Failure'!I114=\"Yes\",1,0)","v":0},null,0,null,{"$f":"IF('Consequence of Failure'!K114=\"Yes\",1,0)","v":0},{"$f":"IF('Consequence of Failure'!L114=\"Above\",2,0)","v":0},{"$f":"IF('Consequence of Failure'!L114=\"At\",1,0)","v":0},{"$f":"IF('Consequence of Failure'!L114=\"Below\",0,0)","v":0},{"$f":"IF('Consequence of Failure'!M114=\"Yes\",1,0)","v":0},{"$f":"IF('Consequence of Failure'!N114=\"Yes\",1,0)","v":0},null,0,null,0]
[{"$f":"IF('Data Collection Sheet'!B115=\"Pump\",15,0)","v":0},{"$f":"IF('Data Collection Sheet'!B115=\"Hydrant\",50,0)","v":0},{"$f":"IF('Data Collection Sheet'!B115=\"Meter\",15,0)","v":0},{"$f":"IF('Data Collection Sheet'!B115=\"Pipe\",80,0)","v":0},{"$f":"IF('Data Collection Sheet'!B115=\"Source\",50,0)","v":0},{"$f":"IF('Data Collection Sheet'!B115=\"Tank\",50,0)","v":0},{"$f":"IF('Data Collection Sheet'!B115=\"Analytical\",10,0)","v":0},{"$f":"IF('Data Collection Sheet'!B115=\"Treatment\",20,0)","v":0},{"$f":"IF('Data Collection Sheet'!B115=\"Valve\",20,0)","v":0},{"$f":"IF('Data Collection Sheet'!B115=\"Control\",15,0)","v":0},{"$f":"IF('Data Collection Sheet'!B115=\"Safety\",10,0)","v":0},{"$f":"IF('Data Collection Sheet'!B115=\"Building\",50,0)","v":0},{"$f":"IF('Data Collection Sheet'!B115=\"Vehicle\",8,0)","v":0},{"$f":"IF('Data Collection Sheet'!B115=\"Other\",15,0)","v":0},{"$f":"IF('Data Collection Sheet'!I115=\"Bad\",(-0.8*$T112),0)","v":0},{"$f":"IF('Data Collection Sheet'!I115=\"Fair\",(-0.5*$T112),0)","v":0},{"$f":"IF('Data Collection Sheet'!I115=\"Good\",(-0.2*$T112),0)","v":0},{"$f":"IF('Data Collection Sheet'!I115=\"Great\",0,0)","v":0},null,0,0,0,null,null,null,{"$f":"IF('Consequence of Failure'!F115=\"No\",1,0)","v":0},{"$f":"IF('Consequence of Failure'!G115=\"0%-25%\",0.5,0)","v":0},{"$f":"IF('Consequence of Failure'!G115=\"26%-50%\",1,0)","v":0},{"$f":"IF('Consequence of Failure'!G115=\"51%-75%\",1.5,0)","v":0},{"$f":"IF('Consequence of Failure'!G115=\"76%-100%\",2,0)","v":0},{"$f":"IF('Consequence of Failure'!H115=\"Yes\",1,0)","v":0},{"$f":"IF('Consequence of Failure'!I115=\"Yes\",1,0)","v":0},null,0,null,{"$f":"IF('Consequence of Failure'!K115=\"Yes\",1,0)","v":0},{"$f":"IF('Consequence of Failure'!L115=\"Above\",2,0)","v":0},{"$f":"IF('Consequence of Failure'!L115=\"At\",1,0)","v":0},{"$f":"IF('Consequence of Failure'!L115=\"Below\",0,0)","v":0},{"$f":"IF('Consequence of Failure'!M115=\"Yes\",1,0)","v":0},{"$f":"IF('Consequence of Failure'!N115=\"Yes\",1,0)","v":0},null,0,null,0]
[{"$f":"IF('Data Collection Sheet'!B116=\"Pump\",15,0)","v":0},{"$f":"IF('Data Collection Sheet'!B116=\"Hydrant\",50,0)","v":0},{"$f":"IF('Data Collection Sheet'!B116=\"Meter\",15,0)","v":0},{"$f":"IF('Data Collection Sheet'!B116=\"Pipe\",80,0)","v":0},{"$f":"IF('Data Collection Sheet'!B116=\"Source\",50,0)","v":0},{"$f":"IF('Data Collection Sheet'!B116=\"Tank\",50,0)","v":0},{"$f":"IF('Data Collection Sheet'!B116=\"Analytical\",10,0)","v":0},{"$f":"IF('Data Collection Sheet'!B116=\"Treatment\",20,0)","v":0},{"$f":"IF('Data Collection Sheet'!B116=\"Valve\",20,0)","v":0},{"$f":"IF('Data Collection Sheet'!B116=\"Control\",15,0)","v":0},{"$f":"IF('Data Collection Sheet'!B116=\"Safety\",10,0)","v":0},{"$f":"IF('Data Collection Sheet'!B116=\"Building\",50,0)","v":0},{"$f":"IF('Data Collection Sheet'!B116=\"Vehicle\",8,0)","v":0},{"$f":"IF('Data Collection Sheet'!B116=\"Other\",15,0)","v":0},{"$f":"IF('Data Collection Sheet'!I116=\"Bad\",(-0.8*$T113),0)","v":0},{"$f":"IF('Data Collection Sheet'!I116=\"Fair\",(-0.5*$T113),0)","v":0},{"$f":"IF('Data Collection Sheet'!I116=\"Good\",(-0.2*$T113),0)","v":0},{"$f":"IF('Data Collection Sheet'!I116=\"Great\",0,0)","v":0},null,0,0,0,null,null,null,{"$f":"IF('Consequence of Failure'!F116=\"No\",1,0)","v":0},{"$f":"IF('Consequence of Failure'!G116=\"0%-25%\",0.5,0)","v":0},{"$f":"IF('Consequence of Failure'!G116=\"26%-50%\",1,0)","v":0},{"$f":"IF('Consequence of Failure'!G116=\"51%-75%\",1.5,0)","v":0},{"$f":"IF('Consequence of Failure'!G116=\"76%-100%\",2,0)","v":0},{"$f":"IF('Consequence of Failure'!H116=\"Yes\",1,0)","v":0},{"$f":"IF('Consequence of Failure'!I116=\"Yes\",1,0)","v":0},null,0,null,{"$f":"IF('Consequence of Failure'!K116=\"Yes\",1,0)","v":0},{"$f":"IF('Consequence of Failure'!L116=\"Above\",2,0)","v":0},{"$f":"IF('Consequence of Failure'!L116=\"At\",1,0)","v":0},{"$f":"IF('Consequence of Failure'!L116=\"Below\",0,0)","v":0},{"$f":"IF('Consequence of Failure'!M116=\"Yes\",1,0)","v":0},{"$f":"IF('Consequence of Failure'!N116=\"Yes\",1,0)","v":0},null,0,null,0]
[{"$f":"IF('Data Collection Sheet'!B117=\"Pump\",15,0)","v":0},{"$f":"IF('Data Collection Sheet'!B117=\"Hydrant\",50,0)","v":0},{"$f":"IF('Data Collection Sheet'!B117=\"Meter\",15,0)","v":0},{"$f":"IF('Data Collection Sheet'!B117=\"Pipe\",80,0)","v":0},{"$f":"IF('Data Collection Sheet'!B117=\"Source\",50,0)","v":0},{"$f":"IF('Data Collection Sheet'!B117=\"Tank\",50,0)","v":0},{"$f":"IF('Data Collection Sheet'!B117=\"Analytical\",10,0)","v":0},{"$f":"IF('Data Collection Sheet'!B117=\"Treatment\",20,0)","v":0},{"$f":"IF('Data Collection Sheet'!B117=\"Valve\",20,0)","v":0},{"$f":"IF('Data Collection Sheet'!B117=\"Control\",15,0)","v":0},{"$f":"IF('Data Collection Sheet'!B117=\"Safety\",10,0)","v":0},{"$f":"IF('Data Collection Sheet'!B117=\"Building\",50,0)","v":0},{"$f":"IF('Data Collection Sheet'!B117=\"Vehicle\",8,0)","v":0},{"$f":"IF('Data Collection Sheet'!B117=\"Other\",15,0)","v":0},{"$f":"IF('Data Collection Sheet'!I117=\"Bad\",(-0.8*$T114),0)","v":0},{"$f":"IF('Data Collection Sheet'!I117=\"Fair\",(-0.5*$T114),0)","v":0},{"$f":"IF('Data Collection Sheet'!I117=\"Good\",(-0.2*$T114),0)","v":0},{"$f":"IF('Data Collection Sheet'!I117=\"Great\",0,0)","v":0},null,0,0,0,null,null,null,{"$f":"IF('Consequence of Failure'!F117=\"No\",1,0)","v":0},{"$f":"IF('Consequence of Failure'!G117=\"0%-25%\",0.5,0)","v":0},{"$f":"IF('Consequence of Failure'!G117=\"26%-50%\",1,0)","v":0},{"$f":"IF('Consequence of Failure'!G117=\"51%-75%\",1.5,0)","v":0},{"$f":"IF('Consequence of Failure'!G117=\"76%-100%\",2,0)","v":0},{"$f":"IF('Consequence of Failure'!H117=\"Yes\",1,0)","v":0},{"$f":"IF('Consequence of Failure'!I117=\"Yes\",1,0)","v":0},null,0,null,{"$f":"IF('Consequence of Failure'!K117=\"Yes\",1,0)","v":0},{"$f":"IF('Consequence of Failure'!L117=\"Above\",2,0)","v":0},{"$f":"IF('Consequence of Failure'!L117=\"At\",1,0)","v":0},{"$f":"IF('Consequence of Failure'!L117=\"Below\",0,0)","v":0},{"$f":"IF('Consequence of Failure'!M117=\"Yes\",1,0)","v":0},{"$f":"IF('Consequence of Failure'!N117=\"Yes\",1,0)","v":0},null,0,null,0]
[{"$f":"IF('Data Collection Sheet'!B118=\"Pump\",15,0)","v":0},{"$f":"IF('Data Collection Sheet'!B118=\"Hydrant\",50,0)","v":0},{"$f":"IF('Data Collection Sheet'!B118=\"Meter\",15,0)","v":0},{"$f":"IF('Data Collection Sheet'!B118=\"Pipe\",80,0)","v":0},{"$f":"IF('Data Collection Sheet'!B118=\"Source\",50,0)","v":0},{"$f":"IF('Data Collection Sheet'!B118=\"Tank\",50,0)","v":0},{"$f":"IF('Data Collection Sheet'!B118=\"Analytical\",10,0)","v":0},{"$f":"IF('Data Collection Sheet'!B118=\"Treatment\",20,0)","v":0},{"$f":"IF('Data Collection Sheet'!B118=\"Valve\",20,0)","v":0},{"$f":"IF('Data Collection Sheet'!B118=\"Control\",15,0)","v":0},{"$f":"IF('Data Collection Sheet'!B118=\"Safety\",10,0)","v":0},{"$f":"IF('Data Collection Sheet'!B118=\"Building\",50,0)","v":0},{"$f":"IF('Data Collection Sheet'!B118=\"Vehicle\",8,0)","v":0},{"$f":"IF('Data Collection Sheet'!B118=\"Other\",15,0)","v":0},{"$f":"IF('Data Collection Sheet'!I118=\"Bad\",(-0.8*$T115),0)","v":0},{"$f":"IF('Data Collection Sheet'!I118=\"Fair\",(-0.5*$T115),0)","v":0},{"$f":"IF('Data Collection Sheet'!I118=\"Good\",(-0.2*$T115),0)","v":0},{"$f":"IF('Data Collection Sheet'!I118=\"Great\",0,0)","v":0},null,0,0,0,null,null,null,{"$f":"IF('Consequence of Failure'!F118=\"No\",1,0)","v":0},{"$f":"IF('Consequence of Failure'!G118=\"0%-25%\",0.5,0)","v":0},{"$f":"IF('Consequence of Failure'!G118=\"26%-50%\",1,0)","v":0},{"$f":"IF('Consequence of Failure'!G118=\"51%-75%\",1.5,0)","v":0},{"$f":"IF('Consequence of Failure'!G118=\"76%-100%\",2,0)","v":0},{"$f":"IF('Consequence of Failure'!H118=\"Yes\",1,0)","v":0},{"$f":"IF('Consequence of Failure'!I118=\"Yes\",1,0)","v":0},null,0,null,{"$f":"IF('Consequence of Failure'!K118=\"Yes\",1,0)","v":0},{"$f":"IF('Consequence of Failure'!L118=\"Above\",2,0)","v":0},{"$f":"IF('Consequence of Failure'!L118=\"At\",1,0)","v":0},{"$f":"IF('Consequence of Failure'!L118=\"Below\",0,0)","v":0},{"$f":"IF('Consequence of Failure'!M118=\"Yes\",1,0)","v":0},{"$f":"IF('Consequence of Failure'!N118=\"Yes\",1,0)","v":0},null,0,null,0]
[{"$f":"IF('Data Collection Sheet'!B119=\"Pump\",15,0)","v":0},{"$f":"IF('Data Collection Sheet'!B119=\"Hydrant\",50,0)","v":0},{"$f":"IF('Data Collection Sheet'!B119=\"Meter\",15,0)","v":0},{"$f":"IF('Data Collection Sheet'!B119=\"Pipe\",80,0)","v":0},{"$f":"IF('Data Collection Sheet'!B119=\"Source\",50,0)","v":0},{"$f":"IF('Data Collection Sheet'!B119=\"Tank\",50,0)","v":0},{"$f":"IF('Data Collection Sheet'!B119=\"Analytical\",10,0)","v":0},{"$f":"IF('Data Collection Sheet'!B119=\"Treatment\",20,0)","v":0},{"$f":"IF('Data Collection Sheet'!B119=\"Valve\",20,0)","v":0},{"$f":"IF('Data Collection Sheet'!B119=\"Control\",15,0)","v":0},{"$f":"IF('Data Collection Sheet'!B119=\"Safety\",10,0)","v":0},{"$f":"IF('Data Collection Sheet'!B119=\"Building\",50,0)","v":0},{"$f":"IF('Data Collection Sheet'!B119=\"Vehicle\",8,0)","v":0},{"$f":"IF('Data Collection Sheet'!B119=\"Other\",15,0)","v":0},{"$f":"IF('Data Collection Sheet'!I119=\"Bad\",(-0.8*$T116),0)","v":0},{"$f":"IF('Data Collection Sheet'!I119=\"Fair\",(-0.5*$T116),0)","v":0},{"$f":"IF('Data Collection Sheet'!I119=\"Good\",(-0.2*$T116),0)","v":0},{"$f":"IF('Data Collection Sheet'!I119=\"Great\",0,0)","v":0},null,0,0,0,null,null,null,{"$f":"IF('Consequence of Failure'!F119=\"No\",1,0)","v":0},{"$f":"IF('Consequence of Failure'!G119=\"0%-25%\",0.5,0)","v":0},{"$f":"IF('Consequence of Failure'!G119=\"26%-50%\",1,0)","v":0},{"$f":"IF('Consequence of Failure'!G119=\"51%-75%\",1.5,0)","v":0},{"$f":"IF('Consequence of Failure'!G119=\"76%-100%\",2,0)","v":0},{"$f":"IF('Consequence of Failure'!H119=\"Yes\",1,0)","v":0},{"$f":"IF('Consequence of Failure'!I119=\"Yes\",1,0)","v":0},null,0,null,{"$f":"IF('Consequence of Failure'!K119=\"Yes\",1,0)","v":0},{"$f":"IF('Consequence of Failure'!L119=\"Above\",2,0)","v":0},{"$f":"IF('Consequence of Failure'!L119=\"At\",1,0)","v":0},{"$f":"IF('Consequence of Failure'!L119=\"Below\",0,0)","v":0},{"$f":"IF('Consequence of Failure'!M119=\"Yes\",1,0)","v":0},{"$f":"IF('Consequence of Failure'!N119=\"Yes\",1,0)","v":0},null,0,null,0]
[{"$f":"IF('Data Collection Sheet'!B120=\"Pump\",15,0)","v":0},{"$f":"IF('Data Collection Sheet'!B120=\"Hydrant\",50,0)","v":0},{"$f":"IF('Data Collection Sheet'!B120=\"Meter\",15,0)","v":0},{"$f":"IF('Data Collection Sheet'!B120=\"Pipe\",80,0)","v":0},{"$f":"IF('Data Collection Sheet'!B120=\"Source\",50,0)","v":0},{"$f":"IF('Data Collection Sheet'!B120=\"Tank\",50,0)","v":0},{"$f":"IF('Data Collection Sheet'!B120=\"Analytical\",10,0)","v":0},{"$f":"IF('Data Collection Sheet'!B120=\"Treatment\",20,0)","v":0},{"$f":"IF('Data Collection Sheet'!B120=\"Valve\",20,0)","v":0},{"$f":"IF('Data Collection Sheet'!B120=\"Control\",15,0)","v":0},{"$f":"IF('Data Collection Sheet'!B120=\"Safety\",10,0)","v":0},{"$f":"IF('Data Collection Sheet'!B120=\"Building\",50,0)","v":0},{"$f":"IF('Data Collection Sheet'!B120=\"Vehicle\",8,0)","v":0},{"$f":"IF('Data Collection Sheet'!B120=\"Other\",15,0)","v":0},{"$f":"IF('Data Collection Sheet'!I120=\"Bad\",(-0.8*$T117),0)","v":0},{"$f":"IF('Data Collection Sheet'!I120=\"Fair\",(-0.5*$T117),0)","v":0},{"$f":"IF('Data Collection Sheet'!I120=\"Good\",(-0.2*$T117),0)","v":0},{"$f":"IF('Data Collection Sheet'!I120=\"Great\",0,0)","v":0},null,0,0,0,null,null,null,{"$f":"IF('Consequence of Failure'!F120=\"No\",1,0)","v":0},{"$f":"IF('Consequence of Failure'!G120=\"0%-25%\",0.5,0)","v":0},{"$f":"IF('Consequence of Failure'!G120=\"26%-50%\",1,0)","v":0},{"$f":"IF('Consequence of Failure'!G120=\"51%-75%\",1.5,0)","v":0},{"$f":"IF('Consequence of Failure'!G120=\"76%-100%\",2,0)","v":0},{"$f":"IF('Consequence of Failure'!H120=\"Yes\",1,0)","v":0},{"$f":"IF('Consequence of Failure'!I120=\"Yes\",1,0)","v":0},null,0,null,{"$f":"IF('Consequence of Failure'!K120=\"Yes\",1,0)","v":0},{"$f":"IF('Consequence of Failure'!L120=\"Above\",2,0)","v":0},{"$f":"IF('Consequence of Failure'!L120=\"At\",1,0)","v":0},{"$f":"IF('Consequence of Failure'!L120=\"Below\",0,0)","v":0},{"$f":"IF('Consequence of Failure'!M120=\"Yes\",1,0)","v":0},{"$f":"IF('Consequence of Failure'!N120=\"Yes\",1,0)","v":0},null,0,null,0]
[{"$f":"IF('Data Collection Sheet'!B121=\"Pump\",15,0)","v":0},{"$f":"IF('Data Collection Sheet'!B121=\"Hydrant\",50,0)","v":0},{"$f":"IF('Data Collection Sheet'!B121=\"Meter\",15,0)","v":0},{"$f":"IF('Data Collection Sheet'!B121=\"Pipe\",80,0)","v":0},{"$f":"IF('Data Collection Sheet'!B121=\"Source\",50,0)","v":0},{"$f":"IF('Data Collection Sheet'!B121=\"Tank\",50,0)","v":0},{"$f":"IF('Data Collection Sheet'!B121=\"Analytical\",10,0)","v":0},{"$f":"IF('Data Collection Sheet'!B121=\"Treatment\",20,0)","v":0},{"$f":"IF('Data Collection Sheet'!B121=\"Valve\",20,0)","v":0},{"$f":"IF('Data Collection Sheet'!B121=\"Control\",15,0)","v":0},{"$f":"IF('Data Collection Sheet'!B121=\"Safety\",10,0)","v":0},{"$f":"IF('Data Collection Sheet'!B121=\"Building\",50,0)","v":0},{"$f":"IF('Data Collection Sheet'!B121=\"Vehicle\",8,0)","v":0},{"$f":"IF('Data Collection Sheet'!B121=\"Other\",15,0)","v":0},{"$f":"IF('Data Collection Sheet'!I121=\"Bad\",(-0.8*$T118),0)","v":0},{"$f":"IF('Data Collection Sheet'!I121=\"Fair\",(-0.5*$T118),0)","v":0},{"$f":"IF('Data Collection Sheet'!I121=\"Good\",(-0.2*$T118),0)","v":0},{"$f":"IF('Data Collection Sheet'!I121=\"Great\",0,0)","v":0},null,0,0,0,null,null,null,{"$f":"IF('Consequence of Failure'!F121=\"No\",1,0)","v":0},{"$f":"IF('Consequence of Failure'!G121=\"0%-25%\",0.5,0)","v":0},{"$f":"IF('Consequence of Failure'!G121=\"26%-50%\",1,0)","v":0},{"$f":"IF('Consequence of Failure'!G121=\"51%-75%\",1.5,0)","v":0},{"$f":"IF('Consequence of Failure'!G121=\"76%-100%\",2,0)","v":0},{"$f":"IF('Consequence of Failure'!H121=\"Yes\",1,0)","v":0},{"$f":"IF('Consequence of Failure'!I121=\"Yes\",1,0)","v":0},null,0,null,{"$f":"IF('Consequence of Failure'!K121=\"Yes\",1,0)","v":0},{"$f":"IF('Consequence of Failure'!L121=\"Above\",2,0)","v":0},{"$f":"IF('Consequence of Failure'!L121=\"At\",1,0)","v":0},{"$f":"IF('Consequence of Failure'!L121=\"Below\",0,0)","v":0},{"$f":"IF('Consequence of Failure'!M121=\"Yes\",1,0)","v":0},{"$f":"IF('Consequence of Failure'!N121=\"Yes\",1,0)","v":0},null,0,null,0]
[{"$f":"IF('Data Collection Sheet'!B122=\"Pump\",15,0)","v":0},{"$f":"IF('Data Collection Sheet'!B122=\"Hydrant\",50,0)","v":0},{"$f":"IF('Data Collection Sheet'!B122=\"Meter\",15,0)","v":0},{"$f":"IF('Data Collection Sheet'!B122=\"Pipe\",80,0)","v":0},{"$f":"IF('Data Collection Sheet'!B122=\"Source\",50,0)","v":0},{"$f":"IF('Data Collection Sheet'!B122=\"Tank\",50,0)","v":0},{"$f":"IF('Data Collection Sheet'!B122=\"Analytical\",10,0)","v":0},{"$f":"IF('Data Collection Sheet'!B122=\"Treatment\",20,0)","v":0},{"$f":"IF('Data Collection Sheet'!B122=\"Valve\",20,0)","v":0},{"$f":"IF('Data Collection Sheet'!B122=\"Control\",15,0)","v":0},{"$f":"IF('Data Collection Sheet'!B122=\"Safety\",10,0)","v":0},{"$f":"IF('Data Collection Sheet'!B122=\"Building\",50,0)","v":0},{"$f":"IF('Data Collection Sheet'!B122=\"Vehicle\",8,0)","v":0},{"$f":"IF('Data Collection Sheet'!B122=\"Other\",15,0)","v":0},{"$f":"IF('Data Collection Sheet'!I122=\"Bad\",(-0.8*$T119),0)","v":0},{"$f":"IF('Data Collection Sheet'!I122=\"Fair\",(-0.5*$T119),0)","v":0},{"$f":"IF('Data Collection Sheet'!I122=\"Good\",(-0.2*$T119),0)","v":0},{"$f":"IF('Data Collection Sheet'!I122=\"Great\",0,0)","v":0},null,0,0,0,null,null,null,{"$f":"IF('Consequence of Failure'!F122=\"No\",1,0)","v":0},{"$f":"IF('Consequence of Failure'!G122=\"0%-25%\",0.5,0)","v":0},{"$f":"IF('Consequence of Failure'!G122=\"26%-50%\",1,0)","v":0},{"$f":"IF('Consequence of Failure'!G122=\"51%-75%\",1.5,0)","v":0},{"$f":"IF('Consequence of Failure'!G122=\"76%-100%\",2,0)","v":0},{"$f":"IF('Consequence of Failure'!H122=\"Yes\",1,0)","v":0},{"$f":"IF('Consequence of Failure'!I122=\"Yes\",1,0)","v":0},null,0,null,{"$f":"IF('Consequence of Failure'!K122=\"Yes\",1,0)","v":0},{"$f":"IF('Consequence of Failure'!L122=\"Above\",2,0)","v":0},{"$f":"IF('Consequence of Failure'!L122=\"At\",1,0)","v":0},{"$f":"IF('Consequence of Failure'!L122=\"Below\",0,0)","v":0},{"$f":"IF('Consequence of Failure'!M122=\"Yes\",1,0)","v":0},{"$f":"IF('Consequence of Failure'!N122=\"Yes\",1,0)","v":0},null,0,null,0]
[{"$f":"IF('Data Collection Sheet'!B123=\"Pump\",15,0)","v":0},{"$f":"IF('Data Collection Sheet'!B123=\"Hydrant\",50,0)","v":0},{"$f":"IF('Data Collection Sheet'!B123=\"Meter\",15,0)","v":0},{"$f":"IF('Data Collection Sheet'!B123=\"Pipe\",80,0)","v":0},{"$f":"IF('Data Collection Sheet'!B123=\"Source\",50,0)","v":0},{"$f":"IF('Data Collection Sheet'!B123=\"Tank\",50,0)","v":0},{"$f":"IF('Data Collection Sheet'!B123=\"Analytical\",10,0)","v":0},{"$f":"IF('Data Collection Sheet'!B123=\"Treatment\",20,0)","v":0},{"$f":"IF('Data Collection Sheet'!B123=\"Valve\",20,0)","v":0},{"$f":"IF('Data Collection Sheet'!B123=\"Control\",15,0)","v":0},{"$f":"IF('Data Collection Sheet'!B123=\"Safety\",10,0)","v":0},{"$f":"IF('Data Collection Sheet'!B123=\"Building\",50,0)","v":0},{"$f":"IF('Data Collection Sheet'!B123=\"Vehicle\",8,0)","v":0},{"$f":"IF('Data Collection Sheet'!B123=\"Other\",15,0)","v":0},{"$f":"IF('Data Collection Sheet'!I123=\"Bad\",(-0.8*$T120),0)","v":0},{"$f":"IF('Data Collection Sheet'!I123=\"Fair\",(-0.5*$T120),0)","v":0},{"$f":"IF('Data Collection Sheet'!I123=\"Good\",(-0.2*$T120),0)","v":0},{"$f":"IF('Data Collection Sheet'!I123=\"Great\",0,0)","v":0},null,0,0,0,null,null,null,{"$f":"IF('Consequence of Failure'!F123=\"No\",1,0)","v":0},{"$f":"IF('Consequence of Failure'!G123=\"0%-25%\",0.5,0)","v":0},{"$f":"IF('Consequence of Failure'!G123=\"26%-50%\",1,0)","v":0},{"$f":"IF('Consequence of Failure'!G123=\"51%-75%\",1.5,0)","v":0},{"$f":"IF('Consequence of Failure'!G123=\"76%-100%\",2,0)","v":0},{"$f":"IF('Consequence of Failure'!H123=\"Yes\",1,0)","v":0},{"$f":"IF('Consequence of Failure'!I123=\"Yes\",1,0)","v":0},null,0,null,{"$f":"IF('Consequence of Failure'!K123=\"Yes\",1,0)","v":0},{"$f":"IF('Consequence of Failure'!L123=\"Above\",2,0)","v":0},{"$f":"IF('Consequence of Failure'!L123=\"At\",1,0)","v":0},{"$f":"IF('Consequence of Failure'!L123=\"Below\",0,0)","v":0},{"$f":"IF('Consequence of Failure'!M123=\"Yes\",1,0)","v":0},{"$f":"IF('Consequence of Failure'!N123=\"Yes\",1,0)","v":0},null,0,null,0]
[{"$f":"IF('Data Collection Sheet'!B124=\"Pump\",15,0)","v":0},{"$f":"IF('Data Collection Sheet'!B124=\"Hydrant\",50,0)","v":0},{"$f":"IF('Data Collection Sheet'!B124=\"Meter\",15,0)","v":0},{"$f":"IF('Data Collection Sheet'!B124=\"Pipe\",80,0)","v":0},{"$f":"IF('Data Collection Sheet'!B124=\"Source\",50,0)","v":0},{"$f":"IF('Data Collection Sheet'!B124=\"Tank\",50,0)","v":0},{"$f":"IF('Data Collection Sheet'!B124=\"Analytical\",10,0)","v":0},{"$f":"IF('Data Collection Sheet'!B124=\"Treatment\",20,0)","v":0},{"$f":"IF('Data Collection Sheet'!B124=\"Valve\",20,0)","v":0},{"$f":"IF('Data Collection Sheet'!B124=\"Control\",15,0)","v":0},{"$f":"IF('Data Collection Sheet'!B124=\"Safety\",10,0)","v":0},{"$f":"IF('Data Collection Sheet'!B124=\"Building\",50,0)","v":0},{"$f":"IF('Data Collection Sheet'!B124=\"Vehicle\",8,0)","v":0},{"$f":"IF('Data Collection Sheet'!B124=\"Other\",15,0)","v":0},{"$f":"IF('Data Collection Sheet'!I124=\"Bad\",(-0.8*$T121),0)","v":0},{"$f":"IF('Data Collection Sheet'!I124=\"Fair\",(-0.5*$T121),0)","v":0},{"$f":"IF('Data Collection Sheet'!I124=\"Good\",(-0.2*$T121),0)","v":0},{"$f":"IF('Data Collection Sheet'!I124=\"Great\",0,0)","v":0},null,0,0,0,null,null,null,{"$f":"IF('Consequence of Failure'!F124=\"No\",1,0)","v":0},{"$f":"IF('Consequence of Failure'!G124=\"0%-25%\",0.5,0)","v":0},{"$f":"IF('Consequence of Failure'!G124=\"26%-50%\",1,0)","v":0},{"$f":"IF('Consequence of Failure'!G124=\"51%-75%\",1.5,0)","v":0},{"$f":"IF('Consequence of Failure'!G124=\"76%-100%\",2,0)","v":0},{"$f":"IF('Consequence of Failure'!H124=\"Yes\",1,0)","v":0},{"$f":"IF('Consequence of Failure'!I124=\"Yes\",1,0)","v":0},null,0,null,{"$f":"IF('Consequence of Failure'!K124=\"Yes\",1,0)","v":0},{"$f":"IF('Consequence of Failure'!L124=\"Above\",2,0)","v":0},{"$f":"IF('Consequence of Failure'!L124=\"At\",1,0)","v":0},{"$f":"IF('Consequence of Failure'!L124=\"Below\",0,0)","v":0},{"$f":"IF('Consequence of Failure'!M124=\"Yes\",1,0)","v":0},{"$f":"IF('Consequence of Failure'!N124=\"Yes\",1,0)","v":0},null,0,null,0]
[{"$f":"IF('Data Collection Sheet'!B125=\"Pump\",15,0)","v":0},{"$f":"IF('Data Collection Sheet'!B125=\"Hydrant\",50,0)","v":0},{"$f":"IF('Data Collection Sheet'!B125=\"Meter\",15,0)","v":0},{"$f":"IF('Data Collection Sheet'!B125=\"Pipe\",80,0)","v":0},{"$f":"IF('Data Collection Sheet'!B125=\"Source\",50,0)","v":0},{"$f":"IF('Data Collection Sheet'!B125=\"Tank\",50,0)","v":0},{"$f":"IF('Data Collection Sheet'!B125=\"Analytical\",10,0)","v":0},{"$f":"IF('Data Collection Sheet'!B125=\"Treatment\",20,0)","v":0},{"$f":"IF('Data Collection Sheet'!B125=\"Valve\",20,0)","v":0},{"$f":"IF('Data Collection Sheet'!B125=\"Control\",15,0)","v":0},{"$f":"IF('Data Collection Sheet'!B125=\"Safety\",10,0)","v":0},{"$f":"IF('Data Collection Sheet'!B125=\"Building\",50,0)","v":0},{"$f":"IF('Data Collection Sheet'!B125=\"Vehicle\",8,0)","v":0},{"$f":"IF('Data Collection Sheet'!B125=\"Other\",15,0)","v":0},{"$f":"IF('Data Collection Sheet'!I125=\"Bad\",(-0.8*$T122),0)","v":0},{"$f":"IF('Data Collection Sheet'!I125=\"Fair\",(-0.5*$T122),0)","v":0},{"$f":"IF('Data Collection Sheet'!I125=\"Good\",(-0.2*$T122),0)","v":0},{"$f":"IF('Data Collection Sheet'!I125=\"Great\",0,0)","v":0},null,0,0,0,null,null,null,{"$f":"IF('Consequence of Failure'!F125=\"No\",1,0)","v":0},{"$f":"IF('Consequence of Failure'!G125=\"0%-25%\",0.5,0)","v":0},{"$f":"IF('Consequence of Failure'!G125=\"26%-50%\",1,0)","v":0},{"$f":"IF('Consequence of Failure'!G125=\"51%-75%\",1.5,0)","v":0},{"$f":"IF('Consequence of Failure'!G125=\"76%-100%\",2,0)","v":0},{"$f":"IF('Consequence of Failure'!H125=\"Yes\",1,0)","v":0},{"$f":"IF('Consequence of Failure'!I125=\"Yes\",1,0)","v":0},null,0,null,{"$f":"IF('Consequence of Failure'!K125=\"Yes\",1,0)","v":0},{"$f":"IF('Consequence of Failure'!L125=\"Above\",2,0)","v":0},{"$f":"IF('Consequence of Failure'!L125=\"At\",1,0)","v":0},{"$f":"IF('Consequence of Failure'!L125=\"Below\",0,0)","v":0},{"$f":"IF('Consequence of Failure'!M125=\"Yes\",1,0)","v":0},{"$f":"IF('Consequence of Failure'!N125=\"Yes\",1,0)","v":0},null,0,null,0]
[{"$f":"IF('Data Collection Sheet'!B126=\"Pump\",15,0)","v":0},{"$f":"IF('Data Collection Sheet'!B126=\"Hydrant\",50,0)","v":0},{"$f":"IF('Data Collection Sheet'!B126=\"Meter\",15,0)","v":0},{"$f":"IF('Data Collection Sheet'!B126=\"Pipe\",80,0)","v":0},{"$f":"IF('Data Collection Sheet'!B126=\"Source\",50,0)","v":0},{"$f":"IF('Data Collection Sheet'!B126=\"Tank\",50,0)","v":0},{"$f":"IF('Data Collection Sheet'!B126=\"Analytical\",10,0)","v":0},{"$f":"IF('Data Collection Sheet'!B126=\"Treatment\",20,0)","v":0},{"$f":"IF('Data Collection Sheet'!B126=\"Valve\",20,0)","v":0},{"$f":"IF('Data Collection Sheet'!B126=\"Control\",15,0)","v":0},{"$f":"IF('Data Collection Sheet'!B126=\"Safety\",10,0)","v":0},{"$f":"IF('Data Collection Sheet'!B126=\"Building\",50,0)","v":0},{"$f":"IF('Data Collection Sheet'!B126=\"Vehicle\",8,0)","v":0},{"$f":"IF('Data Collection Sheet'!B126=\"Other\",15,0)","v":0},{"$f":"IF('Data Collection Sheet'!I126=\"Bad\",(-0.8*$T123),0)","v":0},{"$f":"IF('Data Collection Sheet'!I126=\"Fair\",(-0.5*$T123),0)","v":0},{"$f":"IF('Data Collection Sheet'!I126=\"Good\",(-0.2*$T123),0)","v":0},{"$f":"IF('Data Collection Sheet'!I126=\"Great\",0,0)","v":0},null,0,0,0,null,null,null,{"$f":"IF('Consequence of Failure'!F126=\"No\",1,0)","v":0},{"$f":"IF('Consequence of Failure'!G126=\"0%-25%\",0.5,0)","v":0},{"$f":"IF('Consequence of Failure'!G126=\"26%-50%\",1,0)","v":0},{"$f":"IF('Consequence of Failure'!G126=\"51%-75%\",1.5,0)","v":0},{"$f":"IF('Consequence of Failure'!G126=\"76%-100%\",2,0)","v":0},{"$f":"IF('Consequence of Failure'!H126=\"Yes\",1,0)","v":0},{"$f":"IF('Consequence of Failure'!I126=\"Yes\",1,0)","v":0},null,0,null,{"$f":"IF('Consequence of Failure'!K126=\"Yes\",1,0)","v":0},{"$f":"IF('Consequence of Failure'!L126=\"Above\",2,0)","v":0},{"$f":"IF('Consequence of Failure'!L126=\"At\",1,0)","v":0},{"$f":"IF('Consequence of Failure'!L126=\"Below\",0,0)","v":0},{"$f":"IF('Consequence of Failure'!M126=\"Yes\",1,0)","v":0},{"$f":"IF('Consequence of Failure'!N126=\"Yes\",1,0)","v":0},null,0,null,0]
[{"$f":"IF('Data Collection Sheet'!B127=\"Pump\",15,0)","v":0},{"$f":"IF('Data Collection Sheet'!B127=\"Hydrant\",50,0)","v":0},{"$f":"IF('Data Collection Sheet'!B127=\"Meter\",15,0)","v":0},{"$f":"IF('Data Collection Sheet'!B127=\"Pipe\",80,0)","v":0},{"$f":"IF('Data Collection Sheet'!B127=\"Source\",50,0)","v":0},{"$f":"IF('Data Collection Sheet'!B127=\"Tank\",50,0)","v":0},{"$f":"IF('Data Collection Sheet'!B127=\"Analytical\",10,0)","v":0},{"$f":"IF('Data Collection Sheet'!B127=\"Treatment\",20,0)","v":0},{"$f":"IF('Data Collection Sheet'!B127=\"Valve\",20,0)","v":0},{"$f":"IF('Data Collection Sheet'!B127=\"Control\",15,0)","v":0},{"$f":"IF('Data Collection Sheet'!B127=\"Safety\",10,0)","v":0},{"$f":"IF('Data Collection Sheet'!B127=\"Building\",50,0)","v":0},{"$f":"IF('Data Collection Sheet'!B127=\"Vehicle\",8,0)","v":0},{"$f":"IF('Data Collection Sheet'!B127=\"Other\",15,0)","v":0},{"$f":"IF('Data Collection Sheet'!I127=\"Bad\",(-0.8*$T124),0)","v":0},{"$f":"IF('Data Collection Sheet'!I127=\"Fair\",(-0.5*$T124),0)","v":0},{"$f":"IF('Data Collection Sheet'!I127=\"Good\",(-0.2*$T124),0)","v":0},{"$f":"IF('Data Collection Sheet'!I127=\"Great\",0,0)","v":0},null,0,0,0,null,null,null,{"$f":"IF('Consequence of Failure'!F127=\"No\",1,0)","v":0},{"$f":"IF('Consequence of Failure'!G127=\"0%-25%\",0.5,0)","v":0},{"$f":"IF('Consequence of Failure'!G127=\"26%-50%\",1,0)","v":0},{"$f":"IF('Consequence of Failure'!G127=\"51%-75%\",1.5,0)","v":0},{"$f":"IF('Consequence of Failure'!G127=\"76%-100%\",2,0)","v":0},{"$f":"IF('Consequence of Failure'!H127=\"Yes\",1,0)","v":0},{"$f":"IF('Consequence of Failure'!I127=\"Yes\",1,0)","v":0},null,0,null,{"$f":"IF('Consequence of Failure'!K127=\"Yes\",1,0)","v":0},{"$f":"IF('Consequence of Failure'!L127=\"Above\",2,0)","v":0},{"$f":"IF('Consequence of Failure'!L127=\"At\",1,0)","v":0},{"$f":"IF('Consequence of Failure'!L127=\"Below\",0,0)","v":0},{"$f":"IF('Consequence of Failure'!M127=\"Yes\",1,0)","v":0},{"$f":"IF('Consequence of Failure'!N127=\"Yes\",1,0)","v":0},null,0,null,0]
[{"$f":"IF('Data Collection Sheet'!B128=\"Pump\",15,0)","v":0},{"$f":"IF('Data Collection Sheet'!B128=\"Hydrant\",50,0)","v":0},{"$f":"IF('Data Collection Sheet'!B128=\"Meter\",15,0)","v":0},{"$f":"IF('Data Collection Sheet'!B128=\"Pipe\",80,0)","v":0},{"$f":"IF('Data Collection Sheet'!B128=\"Source\",50,0)","v":0},{"$f":"IF('Data Collection Sheet'!B128=\"Tank\",50,0)","v":0},{"$f":"IF('Data Collection Sheet'!B128=\"Analytical\",10,0)","v":0},{"$f":"IF('Data Collection Sheet'!B128=\"Treatment\",20,0)","v":0},{"$f":"IF('Data Collection Sheet'!B128=\"Valve\",20,0)","v":0},{"$f":"IF('Data Collection Sheet'!B128=\"Control\",15,0)","v":0},{"$f":"IF('Data Collection Sheet'!B128=\"Safety\",10,0)","v":0},{"$f":"IF('Data Collection Sheet'!B128=\"Building\",50,0)","v":0},{"$f":"IF('Data Collection Sheet'!B128=\"Vehicle\",8,0)","v":0},{"$f":"IF('Data Collection Sheet'!B128=\"Other\",15,0)","v":0},{"$f":"IF('Data Collection Sheet'!I128=\"Bad\",(-0.8*$T125),0)","v":0},{"$f":"IF('Data Collection Sheet'!I128=\"Fair\",(-0.5*$T125),0)","v":0},{"$f":"IF('Data Collection Sheet'!I128=\"Good\",(-0.2*$T125),0)","v":0},{"$f":"IF('Data Collection Sheet'!I128=\"Great\",0,0)","v":0},null,0,0,0,null,null,null,{"$f":"IF('Consequence of Failure'!F128=\"No\",1,0)","v":0},{"$f":"IF('Consequence of Failure'!G128=\"0%-25%\",0.5,0)","v":0},{"$f":"IF('Consequence of Failure'!G128=\"26%-50%\",1,0)","v":0},{"$f":"IF('Consequence of Failure'!G128=\"51%-75%\",1.5,0)","v":0},{"$f":"IF('Consequence of Failure'!G128=\"76%-100%\",2,0)","v":0},{"$f":"IF('Consequence of Failure'!H128=\"Yes\",1,0)","v":0},{"$f":"IF('Consequence of Failure'!I128=\"Yes\",1,0)","v":0},null,0,null,{"$f":"IF('Consequence of Failure'!K128=\"Yes\",1,0)","v":0},{"$f":"IF('Consequence of Failure'!L128=\"Above\",2,0)","v":0},{"$f":"IF('Consequence of Failure'!L128=\"At\",1,0)","v":0},{"$f":"IF('Consequence of Failure'!L128=\"Below\",0,0)","v":0},{"$f":"IF('Consequence of Failure'!M128=\"Yes\",1,0)","v":0},{"$f":"IF('Consequence of Failure'!N128=\"Yes\",1,0)","v":0},null,0,null,0]
[{"$f":"IF('Data Collection Sheet'!B129=\"Pump\",15,0)","v":0},{"$f":"IF('Data Collection Sheet'!B129=\"Hydrant\",50,0)","v":0},{"$f":"IF('Data Collection Sheet'!B129=\"Meter\",15,0)","v":0},{"$f":"IF('Data Collection Sheet'!B129=\"Pipe\",80,0)","v":0},{"$f":"IF('Data Collection Sheet'!B129=\"Source\",50,0)","v":0},{"$f":"IF('Data Collection Sheet'!B129=\"Tank\",50,0)","v":0},{"$f":"IF('Data Collection Sheet'!B129=\"Analytical\",10,0)","v":0},{"$f":"IF('Data Collection Sheet'!B129=\"Treatment\",20,0)","v":0},{"$f":"IF('Data Collection Sheet'!B129=\"Valve\",20,0)","v":0},{"$f":"IF('Data Collection Sheet'!B129=\"Control\",15,0)","v":0},{"$f":"IF('Data Collection Sheet'!B129=\"Safety\",10,0)","v":0},{"$f":"IF('Data Collection Sheet'!B129=\"Building\",50,0)","v":0},{"$f":"IF('Data Collection Sheet'!B129=\"Vehicle\",8,0)","v":0},{"$f":"IF('Data Collection Sheet'!B129=\"Other\",15,0)","v":0},{"$f":"IF('Data Collection Sheet'!I129=\"Bad\",(-0.8*$T126),0)","v":0},{"$f":"IF('Data Collection Sheet'!I129=\"Fair\",(-0.5*$T126),0)","v":0},{"$f":"IF('Data Collection Sheet'!I129=\"Good\",(-0.2*$T126),0)","v":0},{"$f":"IF('Data Collection Sheet'!I129=\"Great\",0,0)","v":0},null,0,0,0,null,null,null,{"$f":"IF('Consequence of Failure'!F129=\"No\",1,0)","v":0},{"$f":"IF('Consequence of Failure'!G129=\"0%-25%\",0.5,0)","v":0},{"$f":"IF('Consequence of Failure'!G129=\"26%-50%\",1,0)","v":0},{"$f":"IF('Consequence of Failure'!G129=\"51%-75%\",1.5,0)","v":0},{"$f":"IF('Consequence of Failure'!G129=\"76%-100%\",2,0)","v":0},{"$f":"IF('Consequence of Failure'!H129=\"Yes\",1,0)","v":0},{"$f":"IF('Consequence of Failure'!I129=\"Yes\",1,0)","v":0},null,0,null,{"$f":"IF('Consequence of Failure'!K129=\"Yes\",1,0)","v":0},{"$f":"IF('Consequence of Failure'!L129=\"Above\",2,0)","v":0},{"$f":"IF('Consequence of Failure'!L129=\"At\",1,0)","v":0},{"$f":"IF('Consequence of Failure'!L129=\"Below\",0,0)","v":0},{"$f":"IF('Consequence of Failure'!M129=\"Yes\",1,0)","v":0},{"$f":"IF('Consequence of Failure'!N129=\"Yes\",1,0)","v":0},null,0,null,0]
[{"$f":"IF('Data Collection Sheet'!B130=\"Pump\",15,0)","v":0},{"$f":"IF('Data Collection Sheet'!B130=\"Hydrant\",50,0)","v":0},{"$f":"IF('Data Collection Sheet'!B130=\"Meter\",15,0)","v":0},{"$f":"IF('Data Collection Sheet'!B130=\"Pipe\",80,0)","v":0},{"$f":"IF('Data Collection Sheet'!B130=\"Source\",50,0)","v":0},{"$f":"IF('Data Collection Sheet'!B130=\"Tank\",50,0)","v":0},{"$f":"IF('Data Collection Sheet'!B130=\"Analytical\",10,0)","v":0},{"$f":"IF('Data Collection Sheet'!B130=\"Treatment\",20,0)","v":0},{"$f":"IF('Data Collection Sheet'!B130=\"Valve\",20,0)","v":0},{"$f":"IF('Data Collection Sheet'!B130=\"Control\",15,0)","v":0},{"$f":"IF('Data Collection Sheet'!B130=\"Safety\",10,0)","v":0},{"$f":"IF('Data Collection Sheet'!B130=\"Building\",50,0)","v":0},{"$f":"IF('Data Collection Sheet'!B130=\"Vehicle\",8,0)","v":0},{"$f":"IF('Data Collection Sheet'!B130=\"Other\",15,0)","v":0},{"$f":"IF('Data Collection Sheet'!I130=\"Bad\",(-0.8*$T127),0)","v":0},{"$f":"IF('Data Collection Sheet'!I130=\"Fair\",(-0.5*$T127),0)","v":0},{"$f":"IF('Data Collection Sheet'!I130=\"Good\",(-0.2*$T127),0)","v":0},{"$f":"IF('Data Collection Sheet'!I130=\"Great\",0,0)","v":0},null,0,0,0,null,null,null,{"$f":"IF('Consequence of Failure'!F130=\"No\",1,0)","v":0},{"$f":"IF('Consequence of Failure'!G130=\"0%-25%\",0.5,0)","v":0},{"$f":"IF('Consequence of Failure'!G130=\"26%-50%\",1,0)","v":0},{"$f":"IF('Consequence of Failure'!G130=\"51%-75%\",1.5,0)","v":0},{"$f":"IF('Consequence of Failure'!G130=\"76%-100%\",2,0)","v":0},{"$f":"IF('Consequence of Failure'!H130=\"Yes\",1,0)","v":0},{"$f":"IF('Consequence of Failure'!I130=\"Yes\",1,0)","v":0},null,0,null,{"$f":"IF('Consequence of Failure'!K130=\"Yes\",1,0)","v":0},{"$f":"IF('Consequence of Failure'!L130=\"Above\",2,0)","v":0},{"$f":"IF('Consequence of Failure'!L130=\"At\",1,0)","v":0},{"$f":"IF('Consequence of Failure'!L130=\"Below\",0,0)","v":0},{"$f":"IF('Consequence of Failure'!M130=\"Yes\",1,0)","v":0},{"$f":"IF('Consequence of Failure'!N130=\"Yes\",1,0)","v":0},null,0,null,0]
[{"$f":"IF('Data Collection Sheet'!B131=\"Pump\",15,0)","v":0},{"$f":"IF('Data Collection Sheet'!B131=\"Hydrant\",50,0)","v":0},{"$f":"IF('Data Collection Sheet'!B131=\"Meter\",15,0)","v":0},{"$f":"IF('Data Collection Sheet'!B131=\"Pipe\",80,0)","v":0},{"$f":"IF('Data Collection Sheet'!B131=\"Source\",50,0)","v":0},{"$f":"IF('Data Collection Sheet'!B131=\"Tank\",50,0)","v":0},{"$f":"IF('Data Collection Sheet'!B131=\"Analytical\",10,0)","v":0},{"$f":"IF('Data Collection Sheet'!B131=\"Treatment\",20,0)","v":0},{"$f":"IF('Data Collection Sheet'!B131=\"Valve\",20,0)","v":0},{"$f":"IF('Data Collection Sheet'!B131=\"Control\",15,0)","v":0},{"$f":"IF('Data Collection Sheet'!B131=\"Safety\",10,0)","v":0},{"$f":"IF('Data Collection Sheet'!B131=\"Building\",50,0)","v":0},{"$f":"IF('Data Collection Sheet'!B131=\"Vehicle\",8,0)","v":0},{"$f":"IF('Data Collection Sheet'!B131=\"Other\",15,0)","v":0},{"$f":"IF('Data Collection Sheet'!I131=\"Bad\",(-0.8*$T128),0)","v":0},{"$f":"IF('Data Collection Sheet'!I131=\"Fair\",(-0.5*$T128),0)","v":0},{"$f":"IF('Data Collection Sheet'!I131=\"Good\",(-0.2*$T128),0)","v":0},{"$f":"IF('Data Collection Sheet'!I131=\"Great\",0,0)","v":0},null,0,0,0,null,null,null,{"$f":"IF('Consequence of Failure'!F131=\"No\",1,0)","v":0},{"$f":"IF('Consequence of Failure'!G131=\"0%-25%\",0.5,0)","v":0},{"$f":"IF('Consequence of Failure'!G131=\"26%-50%\",1,0)","v":0},{"$f":"IF('Consequence of Failure'!G131=\"51%-75%\",1.5,0)","v":0},{"$f":"IF('Consequence of Failure'!G131=\"76%-100%\",2,0)","v":0},{"$f":"IF('Consequence of Failure'!H131=\"Yes\",1,0)","v":0},{"$f":"IF('Consequence of Failure'!I131=\"Yes\",1,0)","v":0},null,0,null,{"$f":"IF('Consequence of Failure'!K131=\"Yes\",1,0)","v":0},{"$f":"IF('Consequence of Failure'!L131=\"Above\",2,0)","v":0},{"$f":"IF('Consequence of Failure'!L131=\"At\",1,0)","v":0},{"$f":"IF('Consequence of Failure'!L131=\"Below\",0,0)","v":0},{"$f":"IF('Consequence of Failure'!M131=\"Yes\",1,0)","v":0},{"$f":"IF('Consequence of Failure'!N131=\"Yes\",1,0)","v":0},null,0,null,0]
[{"$f":"IF('Data Collection Sheet'!B132=\"Pump\",15,0)","v":0},{"$f":"IF('Data Collection Sheet'!B132=\"Hydrant\",50,0)","v":0},{"$f":"IF('Data Collection Sheet'!B132=\"Meter\",15,0)","v":0},{"$f":"IF('Data Collection Sheet'!B132=\"Pipe\",80,0)","v":0},{"$f":"IF('Data Collection Sheet'!B132=\"Source\",50,0)","v":0},{"$f":"IF('Data Collection Sheet'!B132=\"Tank\",50,0)","v":0},{"$f":"IF('Data Collection Sheet'!B132=\"Analytical\",10,0)","v":0},{"$f":"IF('Data Collection Sheet'!B132=\"Treatment\",20,0)","v":0},{"$f":"IF('Data Collection Sheet'!B132=\"Valve\",20,0)","v":0},{"$f":"IF('Data Collection Sheet'!B132=\"Control\",15,0)","v":0},{"$f":"IF('Data Collection Sheet'!B132=\"Safety\",10,0)","v":0},{"$f":"IF('Data Collection Sheet'!B132=\"Building\",50,0)","v":0},{"$f":"IF('Data Collection Sheet'!B132=\"Vehicle\",8,0)","v":0},{"$f":"IF('Data Collection Sheet'!B132=\"Other\",15,0)","v":0},{"$f":"IF('Data Collection Sheet'!I132=\"Bad\",(-0.8*$T129),0)","v":0},{"$f":"IF('Data Collection Sheet'!I132=\"Fair\",(-0.5*$T129),0)","v":0},{"$f":"IF('Data Collection Sheet'!I132=\"Good\",(-0.2*$T129),0)","v":0},{"$f":"IF('Data Collection Sheet'!I132=\"Great\",0,0)","v":0},null,0,0,0,null,null,null,{"$f":"IF('Consequence of Failure'!F132=\"No\",1,0)","v":0},{"$f":"IF('Consequence of Failure'!G132=\"0%-25%\",0.5,0)","v":0},{"$f":"IF('Consequence of Failure'!G132=\"26%-50%\",1,0)","v":0},{"$f":"IF('Consequence of Failure'!G132=\"51%-75%\",1.5,0)","v":0},{"$f":"IF('Consequence of Failure'!G132=\"76%-100%\",2,0)","v":0},{"$f":"IF('Consequence of Failure'!H132=\"Yes\",1,0)","v":0},{"$f":"IF('Consequence of Failure'!I132=\"Yes\",1,0)","v":0},null,0,null,{"$f":"IF('Consequence of Failure'!K132=\"Yes\",1,0)","v":0},{"$f":"IF('Consequence of Failure'!L132=\"Above\",2,0)","v":0},{"$f":"IF('Consequence of Failure'!L132=\"At\",1,0)","v":0},{"$f":"IF('Consequence of Failure'!L132=\"Below\",0,0)","v":0},{"$f":"IF('Consequence of Failure'!M132=\"Yes\",1,0)","v":0},{"$f":"IF('Consequence of Failure'!N132=\"Yes\",1,0)","v":0},null,0,null,0]
[{"$f":"IF('Data Collection Sheet'!B133=\"Pump\",15,0)","v":0},{"$f":"IF('Data Collection Sheet'!B133=\"Hydrant\",50,0)","v":0},{"$f":"IF('Data Collection Sheet'!B133=\"Meter\",15,0)","v":0},{"$f":"IF('Data Collection Sheet'!B133=\"Pipe\",80,0)","v":0},{"$f":"IF('Data Collection Sheet'!B133=\"Source\",50,0)","v":0},{"$f":"IF('Data Collection Sheet'!B133=\"Tank\",50,0)","v":0},{"$f":"IF('Data Collection Sheet'!B133=\"Analytical\",10,0)","v":0},{"$f":"IF('Data Collection Sheet'!B133=\"Treatment\",20,0)","v":0},{"$f":"IF('Data Collection Sheet'!B133=\"Valve\",20,0)","v":0},{"$f":"IF('Data Collection Sheet'!B133=\"Control\",15,0)","v":0},{"$f":"IF('Data Collection Sheet'!B133=\"Safety\",10,0)","v":0},{"$f":"IF('Data Collection Sheet'!B133=\"Building\",50,0)","v":0},{"$f":"IF('Data Collection Sheet'!B133=\"Vehicle\",8,0)","v":0},{"$f":"IF('Data Collection Sheet'!B133=\"Other\",15,0)","v":0},{"$f":"IF('Data Collection Sheet'!I133=\"Bad\",(-0.8*$T130),0)","v":0},{"$f":"IF('Data Collection Sheet'!I133=\"Fair\",(-0.5*$T130),0)","v":0},{"$f":"IF('Data Collection Sheet'!I133=\"Good\",(-0.2*$T130),0)","v":0},{"$f":"IF('Data Collection Sheet'!I133=\"Great\",0,0)","v":0},null,0,0,0,null,null,null,{"$f":"IF('Consequence of Failure'!F133=\"No\",1,0)","v":0},{"$f":"IF('Consequence of Failure'!G133=\"0%-25%\",0.5,0)","v":0},{"$f":"IF('Consequence of Failure'!G133=\"26%-50%\",1,0)","v":0},{"$f":"IF('Consequence of Failure'!G133=\"51%-75%\",1.5,0)","v":0},{"$f":"IF('Consequence of Failure'!G133=\"76%-100%\",2,0)","v":0},{"$f":"IF('Consequence of Failure'!H133=\"Yes\",1,0)","v":0},{"$f":"IF('Consequence of Failure'!I133=\"Yes\",1,0)","v":0},null,0,null,{"$f":"IF('Consequence of Failure'!K133=\"Yes\",1,0)","v":0},{"$f":"IF('Consequence of Failure'!L133=\"Above\",2,0)","v":0},{"$f":"IF('Consequence of Failure'!L133=\"At\",1,0)","v":0},{"$f":"IF('Consequence of Failure'!L133=\"Below\",0,0)","v":0},{"$f":"IF('Consequence of Failure'!M133=\"Yes\",1,0)","v":0},{"$f":"IF('Consequence of Failure'!N133=\"Yes\",1,0)","v":0},null,0,null,0]
[{"$f":"IF('Data Collection Sheet'!B134=\"Pump\",15,0)","v":0},{"$f":"IF('Data Collection Sheet'!B134=\"Hydrant\",50,0)","v":0},{"$f":"IF('Data Collection Sheet'!B134=\"Meter\",15,0)","v":0},{"$f":"IF('Data Collection Sheet'!B134=\"Pipe\",80,0)","v":0},{"$f":"IF('Data Collection Sheet'!B134=\"Source\",50,0)","v":0},{"$f":"IF('Data Collection Sheet'!B134=\"Tank\",50,0)","v":0},{"$f":"IF('Data Collection Sheet'!B134=\"Analytical\",10,0)","v":0},{"$f":"IF('Data Collection Sheet'!B134=\"Treatment\",20,0)","v":0},{"$f":"IF('Data Collection Sheet'!B134=\"Valve\",20,0)","v":0},{"$f":"IF('Data Collection Sheet'!B134=\"Control\",15,0)","v":0},{"$f":"IF('Data Collection Sheet'!B134=\"Safety\",10,0)","v":0},{"$f":"IF('Data Collection Sheet'!B134=\"Building\",50,0)","v":0},{"$f":"IF('Data Collection Sheet'!B134=\"Vehicle\",8,0)","v":0},{"$f":"IF('Data Collection Sheet'!B134=\"Other\",15,0)","v":0},{"$f":"IF('Data Collection Sheet'!I134=\"Bad\",(-0.8*$T131),0)","v":0},{"$f":"IF('Data Collection Sheet'!I134=\"Fair\",(-0.5*$T131),0)","v":0},{"$f":"IF('Data Collection Sheet'!I134=\"Good\",(-0.2*$T131),0)","v":0},{"$f":"IF('Data Collection Sheet'!I134=\"Great\",0,0)","v":0},null,{"$f":"SUM(A131:N131)","v":0},{"$f":"SUM($A131:$R131)","v":0},{"$f":"ROUNDDOWN($U131,0)","v":0},null,null,null,{"$f":"IF('Consequence of Failure'!F134=\"No\",1,0)","v":0},{"$f":"IF('Consequence of Failure'!G134=\"0%-25%\",0.5,0)","v":0},{"$f":"IF('Consequence of Failure'!G134=\"26%-50%\",1,0)","v":0},{"$f":"IF('Consequence of Failure'!G134=\"51%-75%\",1.5,0)","v":0},{"$f":"IF('Consequence of Failure'!G134=\"76%-100%\",2,0)","v":0},{"$f":"IF('Consequence of Failure'!H134=\"Yes\",1,0)","v":0},{"$f":"IF('Consequence of Failure'!I134=\"Yes\",1,0)","v":0},null,0,null,{"$f":"IF('Consequence of Failure'!K134=\"Yes\",1,0)","v":0},{"$f":"IF('Consequence of Failure'!L134=\"Above\",2,0)","v":0},{"$f":"IF('Consequence of Failure'!L134=\"At\",1,0)","v":0},{"$f":"IF('Consequence of Failure'!L134=\"Below\",0,0)","v":0},{"$f":"IF('Consequence of Failure'!M134=\"Yes\",1,0)","v":0},{"$f":"IF('Consequence of Failure'!N134=\"Yes\",1,0)","v":0},null,0,null,0]
[{"$f":"IF('Data Collection Sheet'!B135=\"Pump\",15,0)","v":0},{"$f":"IF('Data Collection Sheet'!B135=\"Hydrant\",50,0)","v":0},{"$f":"IF('Data Collection Sheet'!B135=\"Meter\",15,0)","v":0},{"$f":"IF('Data Collection Sheet'!B135=\"Pipe\",80,0)","v":0},{"$f":"IF('Data Collection Sheet'!B135=\"Source\",50,0)","v":0},{"$f":"IF('Data Collection Sheet'!B135=\"Tank\",50,0)","v":0},{"$f":"IF('Data Collection Sheet'!B135=\"Analytical\",10,0)","v":0},{"$f":"IF('Data Collection Sheet'!B135=\"Treatment\",20,0)","v":0},{"$f":"IF('Data Collection Sheet'!B135=\"Valve\",20,0)","v":0},{"$f":"IF('Data Collection Sheet'!B135=\"Control\",15,0)","v":0},{"$f":"IF('Data Collection Sheet'!B135=\"Safety\",10,0)","v":0},{"$f":"IF('Data Collection Sheet'!B135=\"Building\",50,0)","v":0},{"$f":"IF('Data Collection Sheet'!B135=\"Vehicle\",8,0)","v":0},{"$f":"IF('Data Collection Sheet'!B135=\"Other\",15,0)","v":0},{"$f":"IF('Data Collection Sheet'!I135=\"Bad\",(-0.8*$T132),0)","v":0},{"$f":"IF('Data Collection Sheet'!I135=\"Fair\",(-0.5*$T132),0)","v":0},{"$f":"IF('Data Collection Sheet'!I135=\"Good\",(-0.2*$T132),0)","v":0},{"$f":"IF('Data Collection Sheet'!I135=\"Great\",0,0)","v":0},null,0,0,0,null,null,null,{"$f":"IF('Consequence of Failure'!F135=\"No\",1,0)","v":0},{"$f":"IF('Consequence of Failure'!G135=\"0%-25%\",0.5,0)","v":0},{"$f":"IF('Consequence of Failure'!G135=\"26%-50%\",1,0)","v":0},{"$f":"IF('Consequence of Failure'!G135=\"51%-75%\",1.5,0)","v":0},{"$f":"IF('Consequence of Failure'!G135=\"76%-100%\",2,0)","v":0},{"$f":"IF('Consequence of Failure'!H135=\"Yes\",1,0)","v":0},{"$f":"IF('Consequence of Failure'!I135=\"Yes\",1,0)","v":0},null,0,null,{"$f":"IF('Consequence of Failure'!K135=\"Yes\",1,0)","v":0},{"$f":"IF('Consequence of Failure'!L135=\"Above\",2,0)","v":0},{"$f":"IF('Consequence of Failure'!L135=\"At\",1,0)","v":0},{"$f":"IF('Consequence of Failure'!L135=\"Below\",0,0)","v":0},{"$f":"IF('Consequence of Failure'!M135=\"Yes\",1,0)","v":0},{"$f":"IF('Consequence of Failure'!N135=\"Yes\",1,0)","v":0},null,0,null,0]
[{"$f":"IF('Data Collection Sheet'!B136=\"Pump\",15,0)","v":0},{"$f":"IF('Data Collection Sheet'!B136=\"Hydrant\",50,0)","v":0},{"$f":"IF('Data Collection Sheet'!B136=\"Meter\",15,0)","v":0},{"$f":"IF('Data Collection Sheet'!B136=\"Pipe\",80,0)","v":0},{"$f":"IF('Data Collection Sheet'!B136=\"Source\",50,0)","v":0},{"$f":"IF('Data Collection Sheet'!B136=\"Tank\",50,0)","v":0},{"$f":"IF('Data Collection Sheet'!B136=\"Analytical\",10,0)","v":0},{"$f":"IF('Data Collection Sheet'!B136=\"Treatment\",20,0)","v":0},{"$f":"IF('Data Collection Sheet'!B136=\"Valve\",20,0)","v":0},{"$f":"IF('Data Collection Sheet'!B136=\"Control\",15,0)","v":0},{"$f":"IF('Data Collection Sheet'!B136=\"Safety\",10,0)","v":0},{"$f":"IF('Data Collection Sheet'!B136=\"Building\",50,0)","v":0},{"$f":"IF('Data Collection Sheet'!B136=\"Vehicle\",8,0)","v":0},{"$f":"IF('Data Collection Sheet'!B136=\"Other\",15,0)","v":0},{"$f":"IF('Data Collection Sheet'!I136=\"Bad\",(-0.8*$T133),0)","v":0},{"$f":"IF('Data Collection Sheet'!I136=\"Fair\",(-0.5*$T133),0)","v":0},{"$f":"IF('Data Collection Sheet'!I136=\"Good\",(-0.2*$T133),0)","v":0},{"$f":"IF('Data Collection Sheet'!I136=\"Great\",0,0)","v":0},null,0,0,0,null,null,null,{"$f":"IF('Consequence of Failure'!F136=\"No\",1,0)","v":0},{"$f":"IF('Consequence of Failure'!G136=\"0%-25%\",0.5,0)","v":0},{"$f":"IF('Consequence of Failure'!G136=\"26%-50%\",1,0)","v":0},{"$f":"IF('Consequence of Failure'!G136=\"51%-75%\",1.5,0)","v":0},{"$f":"IF('Consequence of Failure'!G136=\"76%-100%\",2,0)","v":0},{"$f":"IF('Consequence of Failure'!H136=\"Yes\",1,0)","v":0},{"$f":"IF('Consequence of Failure'!I136=\"Yes\",1,0)","v":0},null,{"$f":"SUM(Z133:AF133)","v":0},null,{"$f":"IF('Consequence of Failure'!K136=\"Yes\",1,0)","v":0},{"$f":"IF('Consequence of Failure'!L136=\"Above\",2,0)","v":0},{"$f":"IF('Consequence of Failure'!L136=\"At\",1,0)","v":0},{"$f":"IF('Consequence of Failure'!L136=\"Below\",0,0)","v":0},{"$f":"IF('Consequence of Failure'!M136=\"Yes\",1,0)","v":0},{"$f":"IF('Consequence of Failure'!N136=\"Yes\",1,0)","v":0},null,{"$f":"SUM(AJ133:AO133)","v":0},null,{"$f":"SUM(AH133*AQ133)","v":0}]
[{"$f":"IF('Data Collection Sheet'!B137=\"Pump\",15,0)","v":0},{"$f":"IF('Data Collection Sheet'!B137=\"Hydrant\",50,0)","v":0},{"$f":"IF('Data Collection Sheet'!B137=\"Meter\",15,0)","v":0},{"$f":"IF('Data Collection Sheet'!B137=\"Pipe\",80,0)","v":0},{"$f":"IF('Data Collection Sheet'!B137=\"Source\",50,0)","v":0},{"$f":"IF('Data Collection Sheet'!B137=\"Tank\",50,0)","v":0},{"$f":"IF('Data Collection Sheet'!B137=\"Analytical\",10,0)","v":0},{"$f":"IF('Data Collection Sheet'!B137=\"Treatment\",20,0)","v":0},{"$f":"IF('Data Collection Sheet'!B137=\"Valve\",20,0)","v":0},{"$f":"IF('Data Collection Sheet'!B137=\"Control\",15,0)","v":0},{"$f":"IF('Data Collection Sheet'!B137=\"Safety\",10,0)","v":0},{"$f":"IF('Data Collection Sheet'!B137=\"Building\",50,0)","v":0},{"$f":"IF('Data Collection Sheet'!B137=\"Vehicle\",8,0)","v":0},{"$f":"IF('Data Collection Sheet'!B137=\"Other\",15,0)","v":0},{"$f":"IF('Data Collection Sheet'!I137=\"Bad\",(-0.8*$T134),0)","v":0},{"$f":"IF('Data Collection Sheet'!I137=\"Fair\",(-0.5*$T134),0)","v":0},{"$f":"IF('Data Collection Sheet'!I137=\"Good\",(-0.2*$T134),0)","v":0},{"$f":"IF('Data Collection Sheet'!I137=\"Great\",0,0)","v":0},null,0,0,0,null,null,null,{"$f":"IF('Consequence of Failure'!F137=\"No\",1,0)","v":0},{"$f":"IF('Consequence of Failure'!G137=\"0%-25%\",0.5,0)","v":0},{"$f":"IF('Consequence of Failure'!G137=\"26%-50%\",1,0)","v":0},{"$f":"IF('Consequence of Failure'!G137=\"51%-75%\",1.5,0)","v":0},{"$f":"IF('Consequence of Failure'!G137=\"76%-100%\",2,0)","v":0},{"$f":"IF('Consequence of Failure'!H137=\"Yes\",1,0)","v":0},{"$f":"IF('Consequence of Failure'!I137=\"Yes\",1,0)","v":0},null,0,null,{"$f":"IF('Consequence of Failure'!K137=\"Yes\",1,0)","v":0},{"$f":"IF('Consequence of Failure'!L137=\"Above\",2,0)","v":0},{"$f":"IF('Consequence of Failure'!L137=\"At\",1,0)","v":0},{"$f":"IF('Consequence of Failure'!L137=\"Below\",0,0)","v":0},{"$f":"IF('Consequence of Failure'!M137=\"Yes\",1,0)","v":0},{"$f":"IF('Consequence of Failure'!N137=\"Yes\",1,0)","v":0},null,0,null,0]
[{"$f":"IF('Data Collection Sheet'!B138=\"Pump\",15,0)","v":0},{"$f":"IF('Data Collection Sheet'!B138=\"Hydrant\",50,0)","v":0},{"$f":"IF('Data Collection Sheet'!B138=\"Meter\",15,0)","v":0},{"$f":"IF('Data Collection Sheet'!B138=\"Pipe\",80,0)","v":0},{"$f":"IF('Data Collection Sheet'!B138=\"Source\",50,0)","v":0},{"$f":"IF('Data Collection Sheet'!B138=\"Tank\",50,0)","v":0},{"$f":"IF('Data Collection Sheet'!B138=\"Analytical\",10,0)","v":0},{"$f":"IF('Data Collection Sheet'!B138=\"Treatment\",20,0)","v":0},{"$f":"IF('Data Collection Sheet'!B138=\"Valve\",20,0)","v":0},{"$f":"IF('Data Collection Sheet'!B138=\"Control\",15,0)","v":0},{"$f":"IF('Data Collection Sheet'!B138=\"Safety\",10,0)","v":0},{"$f":"IF('Data Collection Sheet'!B138=\"Building\",50,0)","v":0},{"$f":"IF('Data Collection Sheet'!B138=\"Vehicle\",8,0)","v":0},{"$f":"IF('Data Collection Sheet'!B138=\"Other\",15,0)","v":0},{"$f":"IF('Data Collection Sheet'!I138=\"Bad\",(-0.8*$T135),0)","v":0},{"$f":"IF('Data Collection Sheet'!I138=\"Fair\",(-0.5*$T135),0)","v":0},{"$f":"IF('Data Collection Sheet'!I138=\"Good\",(-0.2*$T135),0)","v":0},{"$f":"IF('Data Collection Sheet'!I138=\"Great\",0,0)","v":0},null,0,0,0,null,null,null,{"$f":"IF('Consequence of Failure'!F138=\"No\",1,0)","v":0},{"$f":"IF('Consequence of Failure'!G138=\"0%-25%\",0.5,0)","v":0},{"$f":"IF('Consequence of Failure'!G138=\"26%-50%\",1,0)","v":0},{"$f":"IF('Consequence of Failure'!G138=\"51%-75%\",1.5,0)","v":0},{"$f":"IF('Consequence of Failure'!G138=\"76%-100%\",2,0)","v":0},{"$f":"IF('Consequence of Failure'!H138=\"Yes\",1,0)","v":0},{"$f":"IF('Consequence of Failure'!I138=\"Yes\",1,0)","v":0},null,0,null,{"$f":"IF('Consequence of Failure'!K138=\"Yes\",1,0)","v":0},{"$f":"IF('Consequence of Failure'!L138=\"Above\",2,0)","v":0},{"$f":"IF('Consequence of Failure'!L138=\"At\",1,0)","v":0},{"$f":"IF('Consequence of Failure'!L138=\"Below\",0,0)","v":0},{"$f":"IF('Consequence of Failure'!M138=\"Yes\",1,0)","v":0},{"$f":"IF('Consequence of Failure'!N138=\"Yes\",1,0)","v":0},null,0,null,0]
[{"$f":"IF('Data Collection Sheet'!B139=\"Pump\",15,0)","v":0},{"$f":"IF('Data Collection Sheet'!B139=\"Hydrant\",50,0)","v":0},{"$f":"IF('Data Collection Sheet'!B139=\"Meter\",15,0)","v":0},{"$f":"IF('Data Collection Sheet'!B139=\"Pipe\",80,0)","v":0},{"$f":"IF('Data Collection Sheet'!B139=\"Source\",50,0)","v":0},{"$f":"IF('Data Collection Sheet'!B139=\"Tank\",50,0)","v":0},{"$f":"IF('Data Collection Sheet'!B139=\"Analytical\",10,0)","v":0},{"$f":"IF('Data Collection Sheet'!B139=\"Treatment\",20,0)","v":0},{"$f":"IF('Data Collection Sheet'!B139=\"Valve\",20,0)","v":0},{"$f":"IF('Data Collection Sheet'!B139=\"Control\",15,0)","v":0},{"$f":"IF('Data Collection Sheet'!B139=\"Safety\",10,0)","v":0},{"$f":"IF('Data Collection Sheet'!B139=\"Building\",50,0)","v":0},{"$f":"IF('Data Collection Sheet'!B139=\"Vehicle\",8,0)","v":0},{"$f":"IF('Data Collection Sheet'!B139=\"Other\",15,0)","v":0},{"$f":"IF('Data Collection Sheet'!I139=\"Bad\",(-0.8*$T136),0)","v":0},{"$f":"IF('Data Collection Sheet'!I139=\"Fair\",(-0.5*$T136),0)","v":0},{"$f":"IF('Data Collection Sheet'!I139=\"Good\",(-0.2*$T136),0)","v":0},{"$f":"IF('Data Collection Sheet'!I139=\"Great\",0,0)","v":0},null,0,0,0,null,null,null,{"$f":"IF('Consequence of Failure'!F139=\"No\",1,0)","v":0},{"$f":"IF('Consequence of Failure'!G139=\"0%-25%\",0.5,0)","v":0},{"$f":"IF('Consequence of Failure'!G139=\"26%-50%\",1,0)","v":0},{"$f":"IF('Consequence of Failure'!G139=\"51%-75%\",1.5,0)","v":0},{"$f":"IF('Consequence of Failure'!G139=\"76%-100%\",2,0)","v":0},{"$f":"IF('Consequence of Failure'!H139=\"Yes\",1,0)","v":0},{"$f":"IF('Consequence of Failure'!I139=\"Yes\",1,0)","v":0},null,0,null,{"$f":"IF('Consequence of Failure'!K139=\"Yes\",1,0)","v":0},{"$f":"IF('Consequence of Failure'!L139=\"Above\",2,0)","v":0},{"$f":"IF('Consequence of Failure'!L139=\"At\",1,0)","v":0},{"$f":"IF('Consequence of Failure'!L139=\"Below\",0,0)","v":0},{"$f":"IF('Consequence of Failure'!M139=\"Yes\",1,0)","v":0},{"$f":"IF('Consequence of Failure'!N139=\"Yes\",1,0)","v":0},null,0,null,0]
[{"$f":"IF('Data Collection Sheet'!B140=\"Pump\",15,0)","v":0},{"$f":"IF('Data Collection Sheet'!B140=\"Hydrant\",50,0)","v":0},{"$f":"IF('Data Collection Sheet'!B140=\"Meter\",15,0)","v":0},{"$f":"IF('Data Collection Sheet'!B140=\"Pipe\",80,0)","v":0},{"$f":"IF('Data Collection Sheet'!B140=\"Source\",50,0)","v":0},{"$f":"IF('Data Collection Sheet'!B140=\"Tank\",50,0)","v":0},{"$f":"IF('Data Collection Sheet'!B140=\"Analytical\",10,0)","v":0},{"$f":"IF('Data Collection Sheet'!B140=\"Treatment\",20,0)","v":0},{"$f":"IF('Data Collection Sheet'!B140=\"Valve\",20,0)","v":0},{"$f":"IF('Data Collection Sheet'!B140=\"Control\",15,0)","v":0},{"$f":"IF('Data Collection Sheet'!B140=\"Safety\",10,0)","v":0},{"$f":"IF('Data Collection Sheet'!B140=\"Building\",50,0)","v":0},{"$f":"IF('Data Collection Sheet'!B140=\"Vehicle\",8,0)","v":0},{"$f":"IF('Data Collection Sheet'!B140=\"Other\",15,0)","v":0},{"$f":"IF('Data Collection Sheet'!I140=\"Bad\",(-0.8*$T137),0)","v":0},{"$f":"IF('Data Collection Sheet'!I140=\"Fair\",(-0.5*$T137),0)","v":0},{"$f":"IF('Data Collection Sheet'!I140=\"Good\",(-0.2*$T137),0)","v":0},{"$f":"IF('Data Collection Sheet'!I140=\"Great\",0,0)","v":0},null,0,0,0,null,null,null,{"$f":"IF('Consequence of Failure'!F140=\"No\",1,0)","v":0},{"$f":"IF('Consequence of Failure'!G140=\"0%-25%\",0.5,0)","v":0},{"$f":"IF('Consequence of Failure'!G140=\"26%-50%\",1,0)","v":0},{"$f":"IF('Consequence of Failure'!G140=\"51%-75%\",1.5,0)","v":0},{"$f":"IF('Consequence of Failure'!G140=\"76%-100%\",2,0)","v":0},{"$f":"IF('Consequence of Failure'!H140=\"Yes\",1,0)","v":0},{"$f":"IF('Consequence of Failure'!I140=\"Yes\",1,0)","v":0},null,0,null,{"$f":"IF('Consequence of Failure'!K140=\"Yes\",1,0)","v":0},{"$f":"IF('Consequence of Failure'!L140=\"Above\",2,0)","v":0},{"$f":"IF('Consequence of Failure'!L140=\"At\",1,0)","v":0},{"$f":"IF('Consequence of Failure'!L140=\"Below\",0,0)","v":0},{"$f":"IF('Consequence of Failure'!M140=\"Yes\",1,0)","v":0},{"$f":"IF('Consequence of Failure'!N140=\"Yes\",1,0)","v":0},null,0,null,0]
[{"$f":"IF('Data Collection Sheet'!B141=\"Pump\",15,0)","v":0},{"$f":"IF('Data Collection Sheet'!B141=\"Hydrant\",50,0)","v":0},{"$f":"IF('Data Collection Sheet'!B141=\"Meter\",15,0)","v":0},{"$f":"IF('Data Collection Sheet'!B141=\"Pipe\",80,0)","v":0},{"$f":"IF('Data Collection Sheet'!B141=\"Source\",50,0)","v":0},{"$f":"IF('Data Collection Sheet'!B141=\"Tank\",50,0)","v":0},{"$f":"IF('Data Collection Sheet'!B141=\"Analytical\",10,0)","v":0},{"$f":"IF('Data Collection Sheet'!B141=\"Treatment\",20,0)","v":0},{"$f":"IF('Data Collection Sheet'!B141=\"Valve\",20,0)","v":0},{"$f":"IF('Data Collection Sheet'!B141=\"Control\",15,0)","v":0},{"$f":"IF('Data Collection Sheet'!B141=\"Safety\",10,0)","v":0},{"$f":"IF('Data Collection Sheet'!B141=\"Building\",50,0)","v":0},{"$f":"IF('Data Collection Sheet'!B141=\"Vehicle\",8,0)","v":0},{"$f":"IF('Data Collection Sheet'!B141=\"Other\",15,0)","v":0},{"$f":"IF('Data Collection Sheet'!I141=\"Bad\",(-0.8*$T138),0)","v":0},{"$f":"IF('Data Collection Sheet'!I141=\"Fair\",(-0.5*$T138),0)","v":0},{"$f":"IF('Data Collection Sheet'!I141=\"Good\",(-0.2*$T138),0)","v":0},{"$f":"IF('Data Collection Sheet'!I141=\"Great\",0,0)","v":0},null,0,0,0,null,null,null,{"$f":"IF('Consequence of Failure'!F141=\"No\",1,0)","v":0},{"$f":"IF('Consequence of Failure'!G141=\"0%-25%\",0.5,0)","v":0},{"$f":"IF('Consequence of Failure'!G141=\"26%-50%\",1,0)","v":0},{"$f":"IF('Consequence of Failure'!G141=\"51%-75%\",1.5,0)","v":0},{"$f":"IF('Consequence of Failure'!G141=\"76%-100%\",2,0)","v":0},{"$f":"IF('Consequence of Failure'!H141=\"Yes\",1,0)","v":0},{"$f":"IF('Consequence of Failure'!I141=\"Yes\",1,0)","v":0},null,0,null,{"$f":"IF('Consequence of Failure'!K141=\"Yes\",1,0)","v":0},{"$f":"IF('Consequence of Failure'!L141=\"Above\",2,0)","v":0},{"$f":"IF('Consequence of Failure'!L141=\"At\",1,0)","v":0},{"$f":"IF('Consequence of Failure'!L141=\"Below\",0,0)","v":0},{"$f":"IF('Consequence of Failure'!M141=\"Yes\",1,0)","v":0},{"$f":"IF('Consequence of Failure'!N141=\"Yes\",1,0)","v":0},null,0,null,0]
[{"$f":"IF('Data Collection Sheet'!B142=\"Pump\",15,0)","v":0},{"$f":"IF('Data Collection Sheet'!B142=\"Hydrant\",50,0)","v":0},{"$f":"IF('Data Collection Sheet'!B142=\"Meter\",15,0)","v":0},{"$f":"IF('Data Collection Sheet'!B142=\"Pipe\",80,0)","v":0},{"$f":"IF('Data Collection Sheet'!B142=\"Source\",50,0)","v":0},{"$f":"IF('Data Collection Sheet'!B142=\"Tank\",50,0)","v":0},{"$f":"IF('Data Collection Sheet'!B142=\"Analytical\",10,0)","v":0},{"$f":"IF('Data Collection Sheet'!B142=\"Treatment\",20,0)","v":0},{"$f":"IF('Data Collection Sheet'!B142=\"Valve\",20,0)","v":0},{"$f":"IF('Data Collection Sheet'!B142=\"Control\",15,0)","v":0},{"$f":"IF('Data Collection Sheet'!B142=\"Safety\",10,0)","v":0},{"$f":"IF('Data Collection Sheet'!B142=\"Building\",50,0)","v":0},{"$f":"IF('Data Collection Sheet'!B142=\"Vehicle\",8,0)","v":0},{"$f":"IF('Data Collection Sheet'!B142=\"Other\",15,0)","v":0},{"$f":"IF('Data Collection Sheet'!I142=\"Bad\",(-0.8*$T139),0)","v":0},{"$f":"IF('Data Collection Sheet'!I142=\"Fair\",(-0.5*$T139),0)","v":0},{"$f":"IF('Data Collection Sheet'!I142=\"Good\",(-0.2*$T139),0)","v":0},{"$f":"IF('Data Collection Sheet'!I142=\"Great\",0,0)","v":0},null,0,0,0,null,null,null,{"$f":"IF('Consequence of Failure'!F142=\"No\",1,0)","v":0},{"$f":"IF('Consequence of Failure'!G142=\"0%-25%\",0.5,0)","v":0},{"$f":"IF('Consequence of Failure'!G142=\"26%-50%\",1,0)","v":0},{"$f":"IF('Consequence of Failure'!G142=\"51%-75%\",1.5,0)","v":0},{"$f":"IF('Consequence of Failure'!G142=\"76%-100%\",2,0)","v":0},{"$f":"IF('Consequence of Failure'!H142=\"Yes\",1,0)","v":0},{"$f":"IF('Consequence of Failure'!I142=\"Yes\",1,0)","v":0},null,0,null,{"$f":"IF('Consequence of Failure'!K142=\"Yes\",1,0)","v":0},{"$f":"IF('Consequence of Failure'!L142=\"Above\",2,0)","v":0},{"$f":"IF('Consequence of Failure'!L142=\"At\",1,0)","v":0},{"$f":"IF('Consequence of Failure'!L142=\"Below\",0,0)","v":0},{"$f":"IF('Consequence of Failure'!M142=\"Yes\",1,0)","v":0},{"$f":"IF('Consequence of Failure'!N142=\"Yes\",1,0)","v":0},null,0,null,0]
[{"$f":"IF('Data Collection Sheet'!B143=\"Pump\",15,0)","v":0},{"$f":"IF('Data Collection Sheet'!B143=\"Hydrant\",50,0)","v":0},{"$f":"IF('Data Collection Sheet'!B143=\"Meter\",15,0)","v":0},{"$f":"IF('Data Collection Sheet'!B143=\"Pipe\",80,0)","v":0},{"$f":"IF('Data Collection Sheet'!B143=\"Source\",50,0)","v":0},{"$f":"IF('Data Collection Sheet'!B143=\"Tank\",50,0)","v":0},{"$f":"IF('Data Collection Sheet'!B143=\"Analytical\",10,0)","v":0},{"$f":"IF('Data Collection Sheet'!B143=\"Treatment\",20,0)","v":0},{"$f":"IF('Data Collection Sheet'!B143=\"Valve\",20,0)","v":0},{"$f":"IF('Data Collection Sheet'!B143=\"Control\",15,0)","v":0},{"$f":"IF('Data Collection Sheet'!B143=\"Safety\",10,0)","v":0},{"$f":"IF('Data Collection Sheet'!B143=\"Building\",50,0)","v":0},{"$f":"IF('Data Collection Sheet'!B143=\"Vehicle\",8,0)","v":0},{"$f":"IF('Data Collection Sheet'!B143=\"Other\",15,0)","v":0},{"$f":"IF('Data Collection Sheet'!I143=\"Bad\",(-0.8*$T140),0)","v":0},{"$f":"IF('Data Collection Sheet'!I143=\"Fair\",(-0.5*$T140),0)","v":0},{"$f":"IF('Data Collection Sheet'!I143=\"Good\",(-0.2*$T140),0)","v":0},{"$f":"IF('Data Collection Sheet'!I143=\"Great\",0,0)","v":0},null,0,0,0,null,null,null,{"$f":"IF('Consequence of Failure'!F143=\"No\",1,0)","v":0},{"$f":"IF('Consequence of Failure'!G143=\"0%-25%\",0.5,0)","v":0},{"$f":"IF('Consequence of Failure'!G143=\"26%-50%\",1,0)","v":0},{"$f":"IF('Consequence of Failure'!G143=\"51%-75%\",1.5,0)","v":0},{"$f":"IF('Consequence of Failure'!G143=\"76%-100%\",2,0)","v":0},{"$f":"IF('Consequence of Failure'!H143=\"Yes\",1,0)","v":0},{"$f":"IF('Consequence of Failure'!I143=\"Yes\",1,0)","v":0},null,0,null,{"$f":"IF('Consequence of Failure'!K143=\"Yes\",1,0)","v":0},{"$f":"IF('Consequence of Failure'!L143=\"Above\",2,0)","v":0},{"$f":"IF('Consequence of Failure'!L143=\"At\",1,0)","v":0},{"$f":"IF('Consequence of Failure'!L143=\"Below\",0,0)","v":0},{"$f":"IF('Consequence of Failure'!M143=\"Yes\",1,0)","v":0},{"$f":"IF('Consequence of Failure'!N143=\"Yes\",1,0)","v":0},null,0,null,0]
[{"$f":"IF('Data Collection Sheet'!B144=\"Pump\",15,0)","v":0},{"$f":"IF('Data Collection Sheet'!B144=\"Hydrant\",50,0)","v":0},{"$f":"IF('Data Collection Sheet'!B144=\"Meter\",15,0)","v":0},{"$f":"IF('Data Collection Sheet'!B144=\"Pipe\",80,0)","v":0},{"$f":"IF('Data Collection Sheet'!B144=\"Source\",50,0)","v":0},{"$f":"IF('Data Collection Sheet'!B144=\"Tank\",50,0)","v":0},{"$f":"IF('Data Collection Sheet'!B144=\"Analytical\",10,0)","v":0},{"$f":"IF('Data Collection Sheet'!B144=\"Treatment\",20,0)","v":0},{"$f":"IF('Data Collection Sheet'!B144=\"Valve\",20,0)","v":0},{"$f":"IF('Data Collection Sheet'!B144=\"Control\",15,0)","v":0},{"$f":"IF('Data Collection Sheet'!B144=\"Safety\",10,0)","v":0},{"$f":"IF('Data Collection Sheet'!B144=\"Building\",50,0)","v":0},{"$f":"IF('Data Collection Sheet'!B144=\"Vehicle\",8,0)","v":0},{"$f":"IF('Data Collection Sheet'!B144=\"Other\",15,0)","v":0},{"$f":"IF('Data Collection Sheet'!I144=\"Bad\",(-0.8*$T141),0)","v":0},{"$f":"IF('Data Collection Sheet'!I144=\"Fair\",(-0.5*$T141),0)","v":0},{"$f":"IF('Data Collection Sheet'!I144=\"Good\",(-0.2*$T141),0)","v":0},{"$f":"IF('Data Collection Sheet'!I144=\"Great\",0,0)","v":0},null,0,0,0,null,null,null,{"$f":"IF('Consequence of Failure'!F144=\"No\",1,0)","v":0},{"$f":"IF('Consequence of Failure'!G144=\"0%-25%\",0.5,0)","v":0},{"$f":"IF('Consequence of Failure'!G144=\"26%-50%\",1,0)","v":0},{"$f":"IF('Consequence of Failure'!G144=\"51%-75%\",1.5,0)","v":0},{"$f":"IF('Consequence of Failure'!G144=\"76%-100%\",2,0)","v":0},{"$f":"IF('Consequence of Failure'!H144=\"Yes\",1,0)","v":0},{"$f":"IF('Consequence of Failure'!I144=\"Yes\",1,0)","v":0},null,0,null,{"$f":"IF('Consequence of Failure'!K144=\"Yes\",1,0)","v":0},{"$f":"IF('Consequence of Failure'!L144=\"Above\",2,0)","v":0},{"$f":"IF('Consequence of Failure'!L144=\"At\",1,0)","v":0},{"$f":"IF('Consequence of Failure'!L144=\"Below\",0,0)","v":0},{"$f":"IF('Consequence of Failure'!M144=\"Yes\",1,0)","v":0},{"$f":"IF('Consequence of Failure'!N144=\"Yes\",1,0)","v":0},null,0,null,0]
[{"$f":"IF('Data Collection Sheet'!B145=\"Pump\",15,0)","v":0},{"$f":"IF('Data Collection Sheet'!B145=\"Hydrant\",50,0)","v":0},{"$f":"IF('Data Collection Sheet'!B145=\"Meter\",15,0)","v":0},{"$f":"IF('Data Collection Sheet'!B145=\"Pipe\",80,0)","v":0},{"$f":"IF('Data Collection Sheet'!B145=\"Source\",50,0)","v":0},{"$f":"IF('Data Collection Sheet'!B145=\"Tank\",50,0)","v":0},{"$f":"IF('Data Collection Sheet'!B145=\"Analytical\",10,0)","v":0},{"$f":"IF('Data Collection Sheet'!B145=\"Treatment\",20,0)","v":0},{"$f":"IF('Data Collection Sheet'!B145=\"Valve\",20,0)","v":0},{"$f":"IF('Data Collection Sheet'!B145=\"Control\",15,0)","v":0},{"$f":"IF('Data Collection Sheet'!B145=\"Safety\",10,0)","v":0},{"$f":"IF('Data Collection Sheet'!B145=\"Building\",50,0)","v":0},{"$f":"IF('Data Collection Sheet'!B145=\"Vehicle\",8,0)","v":0},{"$f":"IF('Data Collection Sheet'!B145=\"Other\",15,0)","v":0},{"$f":"IF('Data Collection Sheet'!I145=\"Bad\",(-0.8*$T142),0)","v":0},{"$f":"IF('Data Collection Sheet'!I145=\"Fair\",(-0.5*$T142),0)","v":0},{"$f":"IF('Data Collection Sheet'!I145=\"Good\",(-0.2*$T142),0)","v":0},{"$f":"IF('Data Collection Sheet'!I145=\"Great\",0,0)","v":0},null,0,0,0,null,null,null,{"$f":"IF('Consequence of Failure'!F145=\"No\",1,0)","v":0},{"$f":"IF('Consequence of Failure'!G145=\"0%-25%\",0.5,0)","v":0},{"$f":"IF('Consequence of Failure'!G145=\"26%-50%\",1,0)","v":0},{"$f":"IF('Consequence of Failure'!G145=\"51%-75%\",1.5,0)","v":0},{"$f":"IF('Consequence of Failure'!G145=\"76%-100%\",2,0)","v":0},{"$f":"IF('Consequence of Failure'!H145=\"Yes\",1,0)","v":0},{"$f":"IF('Consequence of Failure'!I145=\"Yes\",1,0)","v":0},null,0,null,{"$f":"IF('Consequence of Failure'!K145=\"Yes\",1,0)","v":0},{"$f":"IF('Consequence of Failure'!L145=\"Above\",2,0)","v":0},{"$f":"IF('Consequence of Failure'!L145=\"At\",1,0)","v":0},{"$f":"IF('Consequence of Failure'!L145=\"Below\",0,0)","v":0},{"$f":"IF('Consequence of Failure'!M145=\"Yes\",1,0)","v":0},{"$f":"IF('Consequence of Failure'!N145=\"Yes\",1,0)","v":0},null,0,null,0]
[{"$f":"IF('Data Collection Sheet'!B146=\"Pump\",15,0)","v":0},{"$f":"IF('Data Collection Sheet'!B146=\"Hydrant\",50,0)","v":0},{"$f":"IF('Data Collection Sheet'!B146=\"Meter\",15,0)","v":0},{"$f":"IF('Data Collection Sheet'!B146=\"Pipe\",80,0)","v":0},{"$f":"IF('Data Collection Sheet'!B146=\"Source\",50,0)","v":0},{"$f":"IF('Data Collection Sheet'!B146=\"Tank\",50,0)","v":0},{"$f":"IF('Data Collection Sheet'!B146=\"Analytical\",10,0)","v":0},{"$f":"IF('Data Collection Sheet'!B146=\"Treatment\",20,0)","v":0},{"$f":"IF('Data Collection Sheet'!B146=\"Valve\",20,0)","v":0},{"$f":"IF('Data Collection Sheet'!B146=\"Control\",15,0)","v":0},{"$f":"IF('Data Collection Sheet'!B146=\"Safety\",10,0)","v":0},{"$f":"IF('Data Collection Sheet'!B146=\"Building\",50,0)","v":0},{"$f":"IF('Data Collection Sheet'!B146=\"Vehicle\",8,0)","v":0},{"$f":"IF('Data Collection Sheet'!B146=\"Other\",15,0)","v":0},{"$f":"IF('Data Collection Sheet'!I146=\"Bad\",(-0.8*$T143),0)","v":0},{"$f":"IF('Data Collection Sheet'!I146=\"Fair\",(-0.5*$T143),0)","v":0},{"$f":"IF('Data Collection Sheet'!I146=\"Good\",(-0.2*$T143),0)","v":0},{"$f":"IF('Data Collection Sheet'!I146=\"Great\",0,0)","v":0},null,0,0,0,null,null,null,{"$f":"IF('Consequence of Failure'!F146=\"No\",1,0)","v":0},{"$f":"IF('Consequence of Failure'!G146=\"0%-25%\",0.5,0)","v":0},{"$f":"IF('Consequence of Failure'!G146=\"26%-50%\",1,0)","v":0},{"$f":"IF('Consequence of Failure'!G146=\"51%-75%\",1.5,0)","v":0},{"$f":"IF('Consequence of Failure'!G146=\"76%-100%\",2,0)","v":0},{"$f":"IF('Consequence of Failure'!H146=\"Yes\",1,0)","v":0},{"$f":"IF('Consequence of Failure'!I146=\"Yes\",1,0)","v":0},null,0,null,{"$f":"IF('Consequence of Failure'!K146=\"Yes\",1,0)","v":0},{"$f":"IF('Consequence of Failure'!L146=\"Above\",2,0)","v":0},{"$f":"IF('Consequence of Failure'!L146=\"At\",1,0)","v":0},{"$f":"IF('Consequence of Failure'!L146=\"Below\",0,0)","v":0},{"$f":"IF('Consequence of Failure'!M146=\"Yes\",1,0)","v":0},{"$f":"IF('Consequence of Failure'!N146=\"Yes\",1,0)","v":0},null,0,null,0]
[{"$f":"IF('Data Collection Sheet'!B147=\"Pump\",15,0)","v":0},{"$f":"IF('Data Collection Sheet'!B147=\"Hydrant\",50,0)","v":0},{"$f":"IF('Data Collection Sheet'!B147=\"Meter\",15,0)","v":0},{"$f":"IF('Data Collection Sheet'!B147=\"Pipe\",80,0)","v":0},{"$f":"IF('Data Collection Sheet'!B147=\"Source\",50,0)","v":0},{"$f":"IF('Data Collection Sheet'!B147=\"Tank\",50,0)","v":0},{"$f":"IF('Data Collection Sheet'!B147=\"Analytical\",10,0)","v":0},{"$f":"IF('Data Collection Sheet'!B147=\"Treatment\",20,0)","v":0},{"$f":"IF('Data Collection Sheet'!B147=\"Valve\",20,0)","v":0},{"$f":"IF('Data Collection Sheet'!B147=\"Control\",15,0)","v":0},{"$f":"IF('Data Collection Sheet'!B147=\"Safety\",10,0)","v":0},{"$f":"IF('Data Collection Sheet'!B147=\"Building\",50,0)","v":0},{"$f":"IF('Data Collection Sheet'!B147=\"Vehicle\",8,0)","v":0},{"$f":"IF('Data Collection Sheet'!B147=\"Other\",15,0)","v":0},{"$f":"IF('Data Collection Sheet'!I147=\"Bad\",(-0.8*$T144),0)","v":0},{"$f":"IF('Data Collection Sheet'!I147=\"Fair\",(-0.5*$T144),0)","v":0},{"$f":"IF('Data Collection Sheet'!I147=\"Good\",(-0.2*$T144),0)","v":0},{"$f":"IF('Data Collection Sheet'!I147=\"Great\",0,0)","v":0},null,0,0,0,null,null,null,{"$f":"IF('Consequence of Failure'!F147=\"No\",1,0)","v":0},{"$f":"IF('Consequence of Failure'!G147=\"0%-25%\",0.5,0)","v":0},{"$f":"IF('Consequence of Failure'!G147=\"26%-50%\",1,0)","v":0},{"$f":"IF('Consequence of Failure'!G147=\"51%-75%\",1.5,0)","v":0},{"$f":"IF('Consequence of Failure'!G147=\"76%-100%\",2,0)","v":0},{"$f":"IF('Consequence of Failure'!H147=\"Yes\",1,0)","v":0},{"$f":"IF('Consequence of Failure'!I147=\"Yes\",1,0)","v":0},null,0,null,{"$f":"IF('Consequence of Failure'!K147=\"Yes\",1,0)","v":0},{"$f":"IF('Consequence of Failure'!L147=\"Above\",2,0)","v":0},{"$f":"IF('Consequence of Failure'!L147=\"At\",1,0)","v":0},{"$f":"IF('Consequence of Failure'!L147=\"Below\",0,0)","v":0},{"$f":"IF('Consequence of Failure'!M147=\"Yes\",1,0)","v":0},{"$f":"IF('Consequence of Failure'!N147=\"Yes\",1,0)","v":0},null,0,null,0]
[{"$f":"IF('Data Collection Sheet'!B148=\"Pump\",15,0)","v":0},{"$f":"IF('Data Collection Sheet'!B148=\"Hydrant\",50,0)","v":0},{"$f":"IF('Data Collection Sheet'!B148=\"Meter\",15,0)","v":0},{"$f":"IF('Data Collection Sheet'!B148=\"Pipe\",80,0)","v":0},{"$f":"IF('Data Collection Sheet'!B148=\"Source\",50,0)","v":0},{"$f":"IF('Data Collection Sheet'!B148=\"Tank\",50,0)","v":0},{"$f":"IF('Data Collection Sheet'!B148=\"Analytical\",10,0)","v":0},{"$f":"IF('Data Collection Sheet'!B148=\"Treatment\",20,0)","v":0},{"$f":"IF('Data Collection Sheet'!B148=\"Valve\",20,0)","v":0},{"$f":"IF('Data Collection Sheet'!B148=\"Control\",15,0)","v":0},{"$f":"IF('Data Collection Sheet'!B148=\"Safety\",10,0)","v":0},{"$f":"IF('Data Collection Sheet'!B148=\"Building\",50,0)","v":0},{"$f":"IF('Data Collection Sheet'!B148=\"Vehicle\",8,0)","v":0},{"$f":"IF('Data Collection Sheet'!B148=\"Other\",15,0)","v":0},{"$f":"IF('Data Collection Sheet'!I148=\"Bad\",(-0.8*$T145),0)","v":0},{"$f":"IF('Data Collection Sheet'!I148=\"Fair\",(-0.5*$T145),0)","v":0},{"$f":"IF('Data Collection Sheet'!I148=\"Good\",(-0.2*$T145),0)","v":0},{"$f":"IF('Data Collection Sheet'!I148=\"Great\",0,0)","v":0},null,0,0,0,null,null,null,{"$f":"IF('Consequence of Failure'!F148=\"No\",1,0)","v":0},{"$f":"IF('Consequence of Failure'!G148=\"0%-25%\",0.5,0)","v":0},{"$f":"IF('Consequence of Failure'!G148=\"26%-50%\",1,0)","v":0},{"$f":"IF('Consequence of Failure'!G148=\"51%-75%\",1.5,0)","v":0},{"$f":"IF('Consequence of Failure'!G148=\"76%-100%\",2,0)","v":0},{"$f":"IF('Consequence of Failure'!H148=\"Yes\",1,0)","v":0},{"$f":"IF('Consequence of Failure'!I148=\"Yes\",1,0)","v":0},null,0,null,{"$f":"IF('Consequence of Failure'!K148=\"Yes\",1,0)","v":0},{"$f":"IF('Consequence of Failure'!L148=\"Above\",2,0)","v":0},{"$f":"IF('Consequence of Failure'!L148=\"At\",1,0)","v":0},{"$f":"IF('Consequence of Failure'!L148=\"Below\",0,0)","v":0},{"$f":"IF('Consequence of Failure'!M148=\"Yes\",1,0)","v":0},{"$f":"IF('Consequence of Failure'!N148=\"Yes\",1,0)","v":0},null,0,null,0]
[{"$f":"IF('Data Collection Sheet'!B149=\"Pump\",15,0)","v":0},{"$f":"IF('Data Collection Sheet'!B149=\"Hydrant\",50,0)","v":0},{"$f":"IF('Data Collection Sheet'!B149=\"Meter\",15,0)","v":0},{"$f":"IF('Data Collection Sheet'!B149=\"Pipe\",80,0)","v":0},{"$f":"IF('Data Collection Sheet'!B149=\"Source\",50,0)","v":0},{"$f":"IF('Data Collection Sheet'!B149=\"Tank\",50,0)","v":0},{"$f":"IF('Data Collection Sheet'!B149=\"Analytical\",10,0)","v":0},{"$f":"IF('Data Collection Sheet'!B149=\"Treatment\",20,0)","v":0},{"$f":"IF('Data Collection Sheet'!B149=\"Valve\",20,0)","v":0},{"$f":"IF('Data Collection Sheet'!B149=\"Control\",15,0)","v":0},{"$f":"IF('Data Collection Sheet'!B149=\"Safety\",10,0)","v":0},{"$f":"IF('Data Collection Sheet'!B149=\"Building\",50,0)","v":0},{"$f":"IF('Data Collection Sheet'!B149=\"Vehicle\",8,0)","v":0},{"$f":"IF('Data Collection Sheet'!B149=\"Other\",15,0)","v":0},{"$f":"IF('Data Collection Sheet'!I149=\"Bad\",(-0.8*$T146),0)","v":0},{"$f":"IF('Data Collection Sheet'!I149=\"Fair\",(-0.5*$T146),0)","v":0},{"$f":"IF('Data Collection Sheet'!I149=\"Good\",(-0.2*$T146),0)","v":0},{"$f":"IF('Data Collection Sheet'!I149=\"Great\",0,0)","v":0},null,0,0,0,null,null,null,{"$f":"IF('Consequence of Failure'!F149=\"No\",1,0)","v":0},{"$f":"IF('Consequence of Failure'!G149=\"0%-25%\",0.5,0)","v":0},{"$f":"IF('Consequence of Failure'!G149=\"26%-50%\",1,0)","v":0},{"$f":"IF('Consequence of Failure'!G149=\"51%-75%\",1.5,0)","v":0},{"$f":"IF('Consequence of Failure'!G149=\"76%-100%\",2,0)","v":0},{"$f":"IF('Consequence of Failure'!H149=\"Yes\",1,0)","v":0},{"$f":"IF('Consequence of Failure'!I149=\"Yes\",1,0)","v":0},null,0,null,{"$f":"IF('Consequence of Failure'!K149=\"Yes\",1,0)","v":0},{"$f":"IF('Consequence of Failure'!L149=\"Above\",2,0)","v":0},{"$f":"IF('Consequence of Failure'!L149=\"At\",1,0)","v":0},{"$f":"IF('Consequence of Failure'!L149=\"Below\",0,0)","v":0},{"$f":"IF('Consequence of Failure'!M149=\"Yes\",1,0)","v":0},{"$f":"IF('Consequence of Failure'!N149=\"Yes\",1,0)","v":0},null,0,null,0]
[{"$f":"IF('Data Collection Sheet'!B150=\"Pump\",15,0)","v":0},{"$f":"IF('Data Collection Sheet'!B150=\"Hydrant\",50,0)","v":0},{"$f":"IF('Data Collection Sheet'!B150=\"Meter\",15,0)","v":0},{"$f":"IF('Data Collection Sheet'!B150=\"Pipe\",80,0)","v":0},{"$f":"IF('Data Collection Sheet'!B150=\"Source\",50,0)","v":0},{"$f":"IF('Data Collection Sheet'!B150=\"Tank\",50,0)","v":0},{"$f":"IF('Data Collection Sheet'!B150=\"Analytical\",10,0)","v":0},{"$f":"IF('Data Collection Sheet'!B150=\"Treatment\",20,0)","v":0},{"$f":"IF('Data Collection Sheet'!B150=\"Valve\",20,0)","v":0},{"$f":"IF('Data Collection Sheet'!B150=\"Control\",15,0)","v":0},{"$f":"IF('Data Collection Sheet'!B150=\"Safety\",10,0)","v":0},{"$f":"IF('Data Collection Sheet'!B150=\"Building\",50,0)","v":0},{"$f":"IF('Data Collection Sheet'!B150=\"Vehicle\",8,0)","v":0},{"$f":"IF('Data Collection Sheet'!B150=\"Other\",15,0)","v":0},{"$f":"IF('Data Collection Sheet'!I150=\"Bad\",(-0.8*$T147),0)","v":0},{"$f":"IF('Data Collection Sheet'!I150=\"Fair\",(-0.5*$T147),0)","v":0},{"$f":"IF('Data Collection Sheet'!I150=\"Good\",(-0.2*$T147),0)","v":0},{"$f":"IF('Data Collection Sheet'!I150=\"Great\",0,0)","v":0},null,0,0,0,null,null,null,{"$f":"IF('Consequence of Failure'!F150=\"No\",1,0)","v":0},{"$f":"IF('Consequence of Failure'!G150=\"0%-25%\",0.5,0)","v":0},{"$f":"IF('Consequence of Failure'!G150=\"26%-50%\",1,0)","v":0},{"$f":"IF('Consequence of Failure'!G150=\"51%-75%\",1.5,0)","v":0},{"$f":"IF('Consequence of Failure'!G150=\"76%-100%\",2,0)","v":0},{"$f":"IF('Consequence of Failure'!H150=\"Yes\",1,0)","v":0},{"$f":"IF('Consequence of Failure'!I150=\"Yes\",1,0)","v":0},null,0,null,{"$f":"IF('Consequence of Failure'!K150=\"Yes\",1,0)","v":0},{"$f":"IF('Consequence of Failure'!L150=\"Above\",2,0)","v":0},{"$f":"IF('Consequence of Failure'!L150=\"At\",1,0)","v":0},{"$f":"IF('Consequence of Failure'!L150=\"Below\",0,0)","v":0},{"$f":"IF('Consequence of Failure'!M150=\"Yes\",1,0)","v":0},{"$f":"IF('Consequence of Failure'!N150=\"Yes\",1,0)","v":0},null,0,null,0]
[{"$f":"IF('Data Collection Sheet'!B151=\"Pump\",15,0)","v":0},{"$f":"IF('Data Collection Sheet'!B151=\"Hydrant\",50,0)","v":0},{"$f":"IF('Data Collection Sheet'!B151=\"Meter\",15,0)","v":0},{"$f":"IF('Data Collection Sheet'!B151=\"Pipe\",80,0)","v":0},{"$f":"IF('Data Collection Sheet'!B151=\"Source\",50,0)","v":0},{"$f":"IF('Data Collection Sheet'!B151=\"Tank\",50,0)","v":0},{"$f":"IF('Data Collection Sheet'!B151=\"Analytical\",10,0)","v":0},{"$f":"IF('Data Collection Sheet'!B151=\"Treatment\",20,0)","v":0},{"$f":"IF('Data Collection Sheet'!B151=\"Valve\",20,0)","v":0},{"$f":"IF('Data Collection Sheet'!B151=\"Control\",15,0)","v":0},{"$f":"IF('Data Collection Sheet'!B151=\"Safety\",10,0)","v":0},{"$f":"IF('Data Collection Sheet'!B151=\"Building\",50,0)","v":0},{"$f":"IF('Data Collection Sheet'!B151=\"Vehicle\",8,0)","v":0},{"$f":"IF('Data Collection Sheet'!B151=\"Other\",15,0)","v":0},{"$f":"IF('Data Collection Sheet'!I151=\"Bad\",(-0.8*$T148),0)","v":0},{"$f":"IF('Data Collection Sheet'!I151=\"Fair\",(-0.5*$T148),0)","v":0},{"$f":"IF('Data Collection Sheet'!I151=\"Good\",(-0.2*$T148),0)","v":0},{"$f":"IF('Data Collection Sheet'!I151=\"Great\",0,0)","v":0},null,0,0,0,null,null,null,{"$f":"IF('Consequence of Failure'!F151=\"No\",1,0)","v":0},{"$f":"IF('Consequence of Failure'!G151=\"0%-25%\",0.5,0)","v":0},{"$f":"IF('Consequence of Failure'!G151=\"26%-50%\",1,0)","v":0},{"$f":"IF('Consequence of Failure'!G151=\"51%-75%\",1.5,0)","v":0},{"$f":"IF('Consequence of Failure'!G151=\"76%-100%\",2,0)","v":0},{"$f":"IF('Consequence of Failure'!H151=\"Yes\",1,0)","v":0},{"$f":"IF('Consequence of Failure'!I151=\"Yes\",1,0)","v":0},null,0,null,{"$f":"IF('Consequence of Failure'!K151=\"Yes\",1,0)","v":0},{"$f":"IF('Consequence of Failure'!L151=\"Above\",2,0)","v":0},{"$f":"IF('Consequence of Failure'!L151=\"At\",1,0)","v":0},{"$f":"IF('Consequence of Failure'!L151=\"Below\",0,0)","v":0},{"$f":"IF('Consequence of Failure'!M151=\"Yes\",1,0)","v":0},{"$f":"IF('Consequence of Failure'!N151=\"Yes\",1,0)","v":0},null,0,null,0]
[{"$f":"IF('Data Collection Sheet'!B152=\"Pump\",15,0)","v":0},{"$f":"IF('Data Collection Sheet'!B152=\"Hydrant\",50,0)","v":0},{"$f":"IF('Data Collection Sheet'!B152=\"Meter\",15,0)","v":0},{"$f":"IF('Data Collection Sheet'!B152=\"Pipe\",80,0)","v":0},{"$f":"IF('Data Collection Sheet'!B152=\"Source\",50,0)","v":0},{"$f":"IF('Data Collection Sheet'!B152=\"Tank\",50,0)","v":0},{"$f":"IF('Data Collection Sheet'!B152=\"Analytical\",10,0)","v":0},{"$f":"IF('Data Collection Sheet'!B152=\"Treatment\",20,0)","v":0},{"$f":"IF('Data Collection Sheet'!B152=\"Valve\",20,0)","v":0},{"$f":"IF('Data Collection Sheet'!B152=\"Control\",15,0)","v":0},{"$f":"IF('Data Collection Sheet'!B152=\"Safety\",10,0)","v":0},{"$f":"IF('Data Collection Sheet'!B152=\"Building\",50,0)","v":0},{"$f":"IF('Data Collection Sheet'!B152=\"Vehicle\",8,0)","v":0},{"$f":"IF('Data Collection Sheet'!B152=\"Other\",15,0)","v":0},{"$f":"IF('Data Collection Sheet'!I152=\"Bad\",(-0.8*$T149),0)","v":0},{"$f":"IF('Data Collection Sheet'!I152=\"Fair\",(-0.5*$T149),0)","v":0},{"$f":"IF('Data Collection Sheet'!I152=\"Good\",(-0.2*$T149),0)","v":0},{"$f":"IF('Data Collection Sheet'!I152=\"Great\",0,0)","v":0},null,0,0,0,null,null,null,{"$f":"IF('Consequence of Failure'!F152=\"No\",1,0)","v":0},{"$f":"IF('Consequence of Failure'!G152=\"0%-25%\",0.5,0)","v":0},{"$f":"IF('Consequence of Failure'!G152=\"26%-50%\",1,0)","v":0},{"$f":"IF('Consequence of Failure'!G152=\"51%-75%\",1.5,0)","v":0},{"$f":"IF('Consequence of Failure'!G152=\"76%-100%\",2,0)","v":0},{"$f":"IF('Consequence of Failure'!H152=\"Yes\",1,0)","v":0},{"$f":"IF('Consequence of Failure'!I152=\"Yes\",1,0)","v":0},null,0,null,{"$f":"IF('Consequence of Failure'!K152=\"Yes\",1,0)","v":0},{"$f":"IF('Consequence of Failure'!L152=\"Above\",2,0)","v":0},{"$f":"IF('Consequence of Failure'!L152=\"At\",1,0)","v":0},{"$f":"IF('Consequence of Failure'!L152=\"Below\",0,0)","v":0},{"$f":"IF('Consequence of Failure'!M152=\"Yes\",1,0)","v":0},{"$f":"IF('Consequence of Failure'!N152=\"Yes\",1,0)","v":0},null,0,null,0]
[{"$f":"IF('Data Collection Sheet'!B153=\"Pump\",15,0)","v":0},{"$f":"IF('Data Collection Sheet'!B153=\"Hydrant\",50,0)","v":0},{"$f":"IF('Data Collection Sheet'!B153=\"Meter\",15,0)","v":0},{"$f":"IF('Data Collection Sheet'!B153=\"Pipe\",80,0)","v":0},{"$f":"IF('Data Collection Sheet'!B153=\"Source\",50,0)","v":0},{"$f":"IF('Data Collection Sheet'!B153=\"Tank\",50,0)","v":0},{"$f":"IF('Data Collection Sheet'!B153=\"Analytical\",10,0)","v":0},{"$f":"IF('Data Collection Sheet'!B153=\"Treatment\",20,0)","v":0},{"$f":"IF('Data Collection Sheet'!B153=\"Valve\",20,0)","v":0},{"$f":"IF('Data Collection Sheet'!B153=\"Control\",15,0)","v":0},{"$f":"IF('Data Collection Sheet'!B153=\"Safety\",10,0)","v":0},{"$f":"IF('Data Collection Sheet'!B153=\"Building\",50,0)","v":0},{"$f":"IF('Data Collection Sheet'!B153=\"Vehicle\",8,0)","v":0},{"$f":"IF('Data Collection Sheet'!B153=\"Other\",15,0)","v":0},{"$f":"IF('Data Collection Sheet'!I153=\"Bad\",(-0.8*$T150),0)","v":0},{"$f":"IF('Data Collection Sheet'!I153=\"Fair\",(-0.5*$T150),0)","v":0},{"$f":"IF('Data Collection Sheet'!I153=\"Good\",(-0.2*$T150),0)","v":0},{"$f":"IF('Data Collection Sheet'!I153=\"Great\",0,0)","v":0},null,0,0,0,null,null,null,{"$f":"IF('Consequence of Failure'!F153=\"No\",1,0)","v":0},{"$f":"IF('Consequence of Failure'!G153=\"0%-25%\",0.5,0)","v":0},{"$f":"IF('Consequence of Failure'!G153=\"26%-50%\",1,0)","v":0},{"$f":"IF('Consequence of Failure'!G153=\"51%-75%\",1.5,0)","v":0},{"$f":"IF('Consequence of Failure'!G153=\"76%-100%\",2,0)","v":0},{"$f":"IF('Consequence of Failure'!H153=\"Yes\",1,0)","v":0},{"$f":"IF('Consequence of Failure'!I153=\"Yes\",1,0)","v":0},null,0,null,{"$f":"IF('Consequence of Failure'!K153=\"Yes\",1,0)","v":0},{"$f":"IF('Consequence of Failure'!L153=\"Above\",2,0)","v":0},{"$f":"IF('Consequence of Failure'!L153=\"At\",1,0)","v":0},{"$f":"IF('Consequence of Failure'!L153=\"Below\",0,0)","v":0},{"$f":"IF('Consequence of Failure'!M153=\"Yes\",1,0)","v":0},{"$f":"IF('Consequence of Failure'!N153=\"Yes\",1,0)","v":0},null,0,null,0]
[{"$f":"IF('Data Collection Sheet'!B154=\"Pump\",15,0)","v":0},{"$f":"IF('Data Collection Sheet'!B154=\"Hydrant\",50,0)","v":0},{"$f":"IF('Data Collection Sheet'!B154=\"Meter\",15,0)","v":0},{"$f":"IF('Data Collection Sheet'!B154=\"Pipe\",80,0)","v":0},{"$f":"IF('Data Collection Sheet'!B154=\"Source\",50,0)","v":0},{"$f":"IF('Data Collection Sheet'!B154=\"Tank\",50,0)","v":0},{"$f":"IF('Data Collection Sheet'!B154=\"Analytical\",10,0)","v":0},{"$f":"IF('Data Collection Sheet'!B154=\"Treatment\",20,0)","v":0},{"$f":"IF('Data Collection Sheet'!B154=\"Valve\",20,0)","v":0},{"$f":"IF('Data Collection Sheet'!B154=\"Control\",15,0)","v":0},{"$f":"IF('Data Collection Sheet'!B154=\"Safety\",10,0)","v":0},{"$f":"IF('Data Collection Sheet'!B154=\"Building\",50,0)","v":0},{"$f":"IF('Data Collection Sheet'!B154=\"Vehicle\",8,0)","v":0},{"$f":"IF('Data Collection Sheet'!B154=\"Other\",15,0)","v":0},{"$f":"IF('Data Collection Sheet'!I154=\"Bad\",(-0.8*$T151),0)","v":0},{"$f":"IF('Data Collection Sheet'!I154=\"Fair\",(-0.5*$T151),0)","v":0},{"$f":"IF('Data Collection Sheet'!I154=\"Good\",(-0.2*$T151),0)","v":0},{"$f":"IF('Data Collection Sheet'!I154=\"Great\",0,0)","v":0},null,0,0,0,null,null,null,{"$f":"IF('Consequence of Failure'!F154=\"No\",1,0)","v":0},{"$f":"IF('Consequence of Failure'!G154=\"0%-25%\",0.5,0)","v":0},{"$f":"IF('Consequence of Failure'!G154=\"26%-50%\",1,0)","v":0},{"$f":"IF('Consequence of Failure'!G154=\"51%-75%\",1.5,0)","v":0},{"$f":"IF('Consequence of Failure'!G154=\"76%-100%\",2,0)","v":0},{"$f":"IF('Consequence of Failure'!H154=\"Yes\",1,0)","v":0},{"$f":"IF('Consequence of Failure'!I154=\"Yes\",1,0)","v":0},null,0,null,{"$f":"IF('Consequence of Failure'!K154=\"Yes\",1,0)","v":0},{"$f":"IF('Consequence of Failure'!L154=\"Above\",2,0)","v":0},{"$f":"IF('Consequence of Failure'!L154=\"At\",1,0)","v":0},{"$f":"IF('Consequence of Failure'!L154=\"Below\",0,0)","v":0},{"$f":"IF('Consequence of Failure'!M154=\"Yes\",1,0)","v":0},{"$f":"IF('Consequence of Failure'!N154=\"Yes\",1,0)","v":0},null,0,null,0]
[{"$f":"IF('Data Collection Sheet'!B155=\"Pump\",15,0)","v":0},{"$f":"IF('Data Collection Sheet'!B155=\"Hydrant\",50,0)","v":0},{"$f":"IF('Data Collection Sheet'!B155=\"Meter\",15,0)","v":0},{"$f":"IF('Data Collection Sheet'!B155=\"Pipe\",80,0)","v":0},{"$f":"IF('Data Collection Sheet'!B155=\"Source\",50,0)","v":0},{"$f":"IF('Data Collection Sheet'!B155=\"Tank\",50,0)","v":0},{"$f":"IF('Data Collection Sheet'!B155=\"Analytical\",10,0)","v":0},{"$f":"IF('Data Collection Sheet'!B155=\"Treatment\",20,0)","v":0},{"$f":"IF('Data Collection Sheet'!B155=\"Valve\",20,0)","v":0},{"$f":"IF('Data Collection Sheet'!B155=\"Control\",15,0)","v":0},{"$f":"IF('Data Collection Sheet'!B155=\"Safety\",10,0)","v":0},{"$f":"IF('Data Collection Sheet'!B155=\"Building\",50,0)","v":0},{"$f":"IF('Data Collection Sheet'!B155=\"Vehicle\",8,0)","v":0},{"$f":"IF('Data Collection Sheet'!B155=\"Other\",15,0)","v":0},{"$f":"IF('Data Collection Sheet'!I155=\"Bad\",(-0.8*$T152),0)","v":0},{"$f":"IF('Data Collection Sheet'!I155=\"Fair\",(-0.5*$T152),0)","v":0},{"$f":"IF('Data Collection Sheet'!I155=\"Good\",(-0.2*$T152),0)","v":0},{"$f":"IF('Data Collection Sheet'!I155=\"Great\",0,0)","v":0},null,0,0,0,null,null,null,{"$f":"IF('Consequence of Failure'!F155=\"No\",1,0)","v":0},{"$f":"IF('Consequence of Failure'!G155=\"0%-25%\",0.5,0)","v":0},{"$f":"IF('Consequence of Failure'!G155=\"26%-50%\",1,0)","v":0},{"$f":"IF('Consequence of Failure'!G155=\"51%-75%\",1.5,0)","v":0},{"$f":"IF('Consequence of Failure'!G155=\"76%-100%\",2,0)","v":0},{"$f":"IF('Consequence of Failure'!H155=\"Yes\",1,0)","v":0},{"$f":"IF('Consequence of Failure'!I155=\"Yes\",1,0)","v":0},null,0,null,{"$f":"IF('Consequence of Failure'!K155=\"Yes\",1,0)","v":0},{"$f":"IF('Consequence of Failure'!L155=\"Above\",2,0)","v":0},{"$f":"IF('Consequence of Failure'!L155=\"At\",1,0)","v":0},{"$f":"IF('Consequence of Failure'!L155=\"Below\",0,0)","v":0},{"$f":"IF('Consequence of Failure'!M155=\"Yes\",1,0)","v":0},{"$f":"IF('Consequence of Failure'!N155=\"Yes\",1,0)","v":0},null,0,null,0]
[{"$f":"IF('Data Collection Sheet'!B156=\"Pump\",15,0)","v":0},{"$f":"IF('Data Collection Sheet'!B156=\"Hydrant\",50,0)","v":0},{"$f":"IF('Data Collection Sheet'!B156=\"Meter\",15,0)","v":0},{"$f":"IF('Data Collection Sheet'!B156=\"Pipe\",80,0)","v":0},{"$f":"IF('Data Collection Sheet'!B156=\"Source\",50,0)","v":0},{"$f":"IF('Data Collection Sheet'!B156=\"Tank\",50,0)","v":0},{"$f":"IF('Data Collection Sheet'!B156=\"Analytical\",10,0)","v":0},{"$f":"IF('Data Collection Sheet'!B156=\"Treatment\",20,0)","v":0},{"$f":"IF('Data Collection Sheet'!B156=\"Valve\",20,0)","v":0},{"$f":"IF('Data Collection Sheet'!B156=\"Control\",15,0)","v":0},{"$f":"IF('Data Collection Sheet'!B156=\"Safety\",10,0)","v":0},{"$f":"IF('Data Collection Sheet'!B156=\"Building\",50,0)","v":0},{"$f":"IF('Data Collection Sheet'!B156=\"Vehicle\",8,0)","v":0},{"$f":"IF('Data Collection Sheet'!B156=\"Other\",15,0)","v":0},{"$f":"IF('Data Collection Sheet'!I156=\"Bad\",(-0.8*$T153),0)","v":0},{"$f":"IF('Data Collection Sheet'!I156=\"Fair\",(-0.5*$T153),0)","v":0},{"$f":"IF('Data Collection Sheet'!I156=\"Good\",(-0.2*$T153),0)","v":0},{"$f":"IF('Data Collection Sheet'!I156=\"Great\",0,0)","v":0},null,0,0,0,null,null,null,{"$f":"IF('Consequence of Failure'!F156=\"No\",1,0)","v":0},{"$f":"IF('Consequence of Failure'!G156=\"0%-25%\",0.5,0)","v":0},{"$f":"IF('Consequence of Failure'!G156=\"26%-50%\",1,0)","v":0},{"$f":"IF('Consequence of Failure'!G156=\"51%-75%\",1.5,0)","v":0},{"$f":"IF('Consequence of Failure'!G156=\"76%-100%\",2,0)","v":0},{"$f":"IF('Consequence of Failure'!H156=\"Yes\",1,0)","v":0},{"$f":"IF('Consequence of Failure'!I156=\"Yes\",1,0)","v":0},null,0,null,{"$f":"IF('Consequence of Failure'!K156=\"Yes\",1,0)","v":0},{"$f":"IF('Consequence of Failure'!L156=\"Above\",2,0)","v":0},{"$f":"IF('Consequence of Failure'!L156=\"At\",1,0)","v":0},{"$f":"IF('Consequence of Failure'!L156=\"Below\",0,0)","v":0},{"$f":"IF('Consequence of Failure'!M156=\"Yes\",1,0)","v":0},{"$f":"IF('Consequence of Failure'!N156=\"Yes\",1,0)","v":0},null,0,null,0]
[{"$f":"IF('Data Collection Sheet'!B157=\"Pump\",15,0)","v":0},{"$f":"IF('Data Collection Sheet'!B157=\"Hydrant\",50,0)","v":0},{"$f":"IF('Data Collection Sheet'!B157=\"Meter\",15,0)","v":0},{"$f":"IF('Data Collection Sheet'!B157=\"Pipe\",80,0)","v":0},{"$f":"IF('Data Collection Sheet'!B157=\"Source\",50,0)","v":0},{"$f":"IF('Data Collection Sheet'!B157=\"Tank\",50,0)","v":0},{"$f":"IF('Data Collection Sheet'!B157=\"Analytical\",10,0)","v":0},{"$f":"IF('Data Collection Sheet'!B157=\"Treatment\",20,0)","v":0},{"$f":"IF('Data Collection Sheet'!B157=\"Valve\",20,0)","v":0},{"$f":"IF('Data Collection Sheet'!B157=\"Control\",15,0)","v":0},{"$f":"IF('Data Collection Sheet'!B157=\"Safety\",10,0)","v":0},{"$f":"IF('Data Collection Sheet'!B157=\"Building\",50,0)","v":0},{"$f":"IF('Data Collection Sheet'!B157=\"Vehicle\",8,0)","v":0},{"$f":"IF('Data Collection Sheet'!B157=\"Other\",15,0)","v":0},{"$f":"IF('Data Collection Sheet'!I157=\"Bad\",(-0.8*$T154),0)","v":0},{"$f":"IF('Data Collection Sheet'!I157=\"Fair\",(-0.5*$T154),0)","v":0},{"$f":"IF('Data Collection Sheet'!I157=\"Good\",(-0.2*$T154),0)","v":0},{"$f":"IF('Data Collection Sheet'!I157=\"Great\",0,0)","v":0},null,0,0,0,null,null,null,{"$f":"IF('Consequence of Failure'!F157=\"No\",1,0)","v":0},{"$f":"IF('Consequence of Failure'!G157=\"0%-25%\",0.5,0)","v":0},{"$f":"IF('Consequence of Failure'!G157=\"26%-50%\",1,0)","v":0},{"$f":"IF('Consequence of Failure'!G157=\"51%-75%\",1.5,0)","v":0},{"$f":"IF('Consequence of Failure'!G157=\"76%-100%\",2,0)","v":0},{"$f":"IF('Consequence of Failure'!H157=\"Yes\",1,0)","v":0},{"$f":"IF('Consequence of Failure'!I157=\"Yes\",1,0)","v":0},null,0,null,{"$f":"IF('Consequence of Failure'!K157=\"Yes\",1,0)","v":0},{"$f":"IF('Consequence of Failure'!L157=\"Above\",2,0)","v":0},{"$f":"IF('Consequence of Failure'!L157=\"At\",1,0)","v":0},{"$f":"IF('Consequence of Failure'!L157=\"Below\",0,0)","v":0},{"$f":"IF('Consequence of Failure'!M157=\"Yes\",1,0)","v":0},{"$f":"IF('Consequence of Failure'!N157=\"Yes\",1,0)","v":0},null,0,null,0]
[{"$f":"IF('Data Collection Sheet'!B158=\"Pump\",15,0)","v":0},{"$f":"IF('Data Collection Sheet'!B158=\"Hydrant\",50,0)","v":0},{"$f":"IF('Data Collection Sheet'!B158=\"Meter\",15,0)","v":0},{"$f":"IF('Data Collection Sheet'!B158=\"Pipe\",80,0)","v":0},{"$f":"IF('Data Collection Sheet'!B158=\"Source\",50,0)","v":0},{"$f":"IF('Data Collection Sheet'!B158=\"Tank\",50,0)","v":0},{"$f":"IF('Data Collection Sheet'!B158=\"Analytical\",10,0)","v":0},{"$f":"IF('Data Collection Sheet'!B158=\"Treatment\",20,0)","v":0},{"$f":"IF('Data Collection Sheet'!B158=\"Valve\",20,0)","v":0},{"$f":"IF('Data Collection Sheet'!B158=\"Control\",15,0)","v":0},{"$f":"IF('Data Collection Sheet'!B158=\"Safety\",10,0)","v":0},{"$f":"IF('Data Collection Sheet'!B158=\"Building\",50,0)","v":0},{"$f":"IF('Data Collection Sheet'!B158=\"Vehicle\",8,0)","v":0},{"$f":"IF('Data Collection Sheet'!B158=\"Other\",15,0)","v":0},{"$f":"IF('Data Collection Sheet'!I158=\"Bad\",(-0.8*$T155),0)","v":0},{"$f":"IF('Data Collection Sheet'!I158=\"Fair\",(-0.5*$T155),0)","v":0},{"$f":"IF('Data Collection Sheet'!I158=\"Good\",(-0.2*$T155),0)","v":0},{"$f":"IF('Data Collection Sheet'!I158=\"Great\",0,0)","v":0},null,0,0,0,null,null,null,{"$f":"IF('Consequence of Failure'!F158=\"No\",1,0)","v":0},{"$f":"IF('Consequence of Failure'!G158=\"0%-25%\",0.5,0)","v":0},{"$f":"IF('Consequence of Failure'!G158=\"26%-50%\",1,0)","v":0},{"$f":"IF('Consequence of Failure'!G158=\"51%-75%\",1.5,0)","v":0},{"$f":"IF('Consequence of Failure'!G158=\"76%-100%\",2,0)","v":0},{"$f":"IF('Consequence of Failure'!H158=\"Yes\",1,0)","v":0},{"$f":"IF('Consequence of Failure'!I158=\"Yes\",1,0)","v":0},null,0,null,{"$f":"IF('Consequence of Failure'!K158=\"Yes\",1,0)","v":0},{"$f":"IF('Consequence of Failure'!L158=\"Above\",2,0)","v":0},{"$f":"IF('Consequence of Failure'!L158=\"At\",1,0)","v":0},{"$f":"IF('Consequence of Failure'!L158=\"Below\",0,0)","v":0},{"$f":"IF('Consequence of Failure'!M158=\"Yes\",1,0)","v":0},{"$f":"IF('Consequence of Failure'!N158=\"Yes\",1,0)","v":0},null,0,null,0]
[{"$f":"IF('Data Collection Sheet'!B159=\"Pump\",15,0)","v":0},{"$f":"IF('Data Collection Sheet'!B159=\"Hydrant\",50,0)","v":0},{"$f":"IF('Data Collection Sheet'!B159=\"Meter\",15,0)","v":0},{"$f":"IF('Data Collection Sheet'!B159=\"Pipe\",80,0)","v":0},{"$f":"IF('Data Collection Sheet'!B159=\"Source\",50,0)","v":0},{"$f":"IF('Data Collection Sheet'!B159=\"Tank\",50,0)","v":0},{"$f":"IF('Data Collection Sheet'!B159=\"Analytical\",10,0)","v":0},{"$f":"IF('Data Collection Sheet'!B159=\"Treatment\",20,0)","v":0},{"$f":"IF('Data Collection Sheet'!B159=\"Valve\",20,0)","v":0},{"$f":"IF('Data Collection Sheet'!B159=\"Control\",15,0)","v":0},{"$f":"IF('Data Collection Sheet'!B159=\"Safety\",10,0)","v":0},{"$f":"IF('Data Collection Sheet'!B159=\"Building\",50,0)","v":0},{"$f":"IF('Data Collection Sheet'!B159=\"Vehicle\",8,0)","v":0},{"$f":"IF('Data Collection Sheet'!B159=\"Other\",15,0)","v":0},{"$f":"IF('Data Collection Sheet'!I159=\"Bad\",(-0.8*$T156),0)","v":0},{"$f":"IF('Data Collection Sheet'!I159=\"Fair\",(-0.5*$T156),0)","v":0},{"$f":"IF('Data Collection Sheet'!I159=\"Good\",(-0.2*$T156),0)","v":0},{"$f":"IF('Data Collection Sheet'!I159=\"Great\",0,0)","v":0},null,0,0,0,null,null,null,{"$f":"IF('Consequence of Failure'!F159=\"No\",1,0)","v":0},{"$f":"IF('Consequence of Failure'!G159=\"0%-25%\",0.5,0)","v":0},{"$f":"IF('Consequence of Failure'!G159=\"26%-50%\",1,0)","v":0},{"$f":"IF('Consequence of Failure'!G159=\"51%-75%\",1.5,0)","v":0},{"$f":"IF('Consequence of Failure'!G159=\"76%-100%\",2,0)","v":0},{"$f":"IF('Consequence of Failure'!H159=\"Yes\",1,0)","v":0},{"$f":"IF('Consequence of Failure'!I159=\"Yes\",1,0)","v":0},null,0,null,{"$f":"IF('Consequence of Failure'!K159=\"Yes\",1,0)","v":0},{"$f":"IF('Consequence of Failure'!L159=\"Above\",2,0)","v":0},{"$f":"IF('Consequence of Failure'!L159=\"At\",1,0)","v":0},{"$f":"IF('Consequence of Failure'!L159=\"Below\",0,0)","v":0},{"$f":"IF('Consequence of Failure'!M159=\"Yes\",1,0)","v":0},{"$f":"IF('Consequence of Failure'!N159=\"Yes\",1,0)","v":0},null,0,null,0]
[{"$f":"IF('Data Collection Sheet'!B160=\"Pump\",15,0)","v":0},{"$f":"IF('Data Collection Sheet'!B160=\"Hydrant\",50,0)","v":0},{"$f":"IF('Data Collection Sheet'!B160=\"Meter\",15,0)","v":0},{"$f":"IF('Data Collection Sheet'!B160=\"Pipe\",80,0)","v":0},{"$f":"IF('Data Collection Sheet'!B160=\"Source\",50,0)","v":0},{"$f":"IF('Data Collection Sheet'!B160=\"Tank\",50,0)","v":0},{"$f":"IF('Data Collection Sheet'!B160=\"Analytical\",10,0)","v":0},{"$f":"IF('Data Collection Sheet'!B160=\"Treatment\",20,0)","v":0},{"$f":"IF('Data Collection Sheet'!B160=\"Valve\",20,0)","v":0},{"$f":"IF('Data Collection Sheet'!B160=\"Control\",15,0)","v":0},{"$f":"IF('Data Collection Sheet'!B160=\"Safety\",10,0)","v":0},{"$f":"IF('Data Collection Sheet'!B160=\"Building\",50,0)","v":0},{"$f":"IF('Data Collection Sheet'!B160=\"Vehicle\",8,0)","v":0},{"$f":"IF('Data Collection Sheet'!B160=\"Other\",15,0)","v":0},{"$f":"IF('Data Collection Sheet'!I160=\"Bad\",(-0.8*$T157),0)","v":0},{"$f":"IF('Data Collection Sheet'!I160=\"Fair\",(-0.5*$T157),0)","v":0},{"$f":"IF('Data Collection Sheet'!I160=\"Good\",(-0.2*$T157),0)","v":0},{"$f":"IF('Data Collection Sheet'!I160=\"Great\",0,0)","v":0},null,0,0,0,null,null,null,{"$f":"IF('Consequence of Failure'!F160=\"No\",1,0)","v":0},{"$f":"IF('Consequence of Failure'!G160=\"0%-25%\",0.5,0)","v":0},{"$f":"IF('Consequence of Failure'!G160=\"26%-50%\",1,0)","v":0},{"$f":"IF('Consequence of Failure'!G160=\"51%-75%\",1.5,0)","v":0},{"$f":"IF('Consequence of Failure'!G160=\"76%-100%\",2,0)","v":0},{"$f":"IF('Consequence of Failure'!H160=\"Yes\",1,0)","v":0},{"$f":"IF('Consequence of Failure'!I160=\"Yes\",1,0)","v":0},null,0,null,{"$f":"IF('Consequence of Failure'!K160=\"Yes\",1,0)","v":0},{"$f":"IF('Consequence of Failure'!L160=\"Above\",2,0)","v":0},{"$f":"IF('Consequence of Failure'!L160=\"At\",1,0)","v":0},{"$f":"IF('Consequence of Failure'!L160=\"Below\",0,0)","v":0},{"$f":"IF('Consequence of Failure'!M160=\"Yes\",1,0)","v":0},{"$f":"IF('Consequence of Failure'!N160=\"Yes\",1,0)","v":0},null,0,null,0]
[{"$f":"IF('Data Collection Sheet'!B161=\"Pump\",15,0)","v":0},{"$f":"IF('Data Collection Sheet'!B161=\"Hydrant\",50,0)","v":0},{"$f":"IF('Data Collection Sheet'!B161=\"Meter\",15,0)","v":0},{"$f":"IF('Data Collection Sheet'!B161=\"Pipe\",80,0)","v":0},{"$f":"IF('Data Collection Sheet'!B161=\"Source\",50,0)","v":0},{"$f":"IF('Data Collection Sheet'!B161=\"Tank\",50,0)","v":0},{"$f":"IF('Data Collection Sheet'!B161=\"Analytical\",10,0)","v":0},{"$f":"IF('Data Collection Sheet'!B161=\"Treatment\",20,0)","v":0},{"$f":"IF('Data Collection Sheet'!B161=\"Valve\",20,0)","v":0},{"$f":"IF('Data Collection Sheet'!B161=\"Control\",15,0)","v":0},{"$f":"IF('Data Collection Sheet'!B161=\"Safety\",10,0)","v":0},{"$f":"IF('Data Collection Sheet'!B161=\"Building\",50,0)","v":0},{"$f":"IF('Data Collection Sheet'!B161=\"Vehicle\",8,0)","v":0},{"$f":"IF('Data Collection Sheet'!B161=\"Other\",15,0)","v":0},{"$f":"IF('Data Collection Sheet'!I161=\"Bad\",(-0.8*$T158),0)","v":0},{"$f":"IF('Data Collection Sheet'!I161=\"Fair\",(-0.5*$T158),0)","v":0},{"$f":"IF('Data Collection Sheet'!I161=\"Good\",(-0.2*$T158),0)","v":0},{"$f":"IF('Data Collection Sheet'!I161=\"Great\",0,0)","v":0},null,0,0,0,null,null,null,{"$f":"IF('Consequence of Failure'!F161=\"No\",1,0)","v":0},{"$f":"IF('Consequence of Failure'!G161=\"0%-25%\",0.5,0)","v":0},{"$f":"IF('Consequence of Failure'!G161=\"26%-50%\",1,0)","v":0},{"$f":"IF('Consequence of Failure'!G161=\"51%-75%\",1.5,0)","v":0},{"$f":"IF('Consequence of Failure'!G161=\"76%-100%\",2,0)","v":0},{"$f":"IF('Consequence of Failure'!H161=\"Yes\",1,0)","v":0},{"$f":"IF('Consequence of Failure'!I161=\"Yes\",1,0)","v":0},null,0,null,{"$f":"IF('Consequence of Failure'!K161=\"Yes\",1,0)","v":0},{"$f":"IF('Consequence of Failure'!L161=\"Above\",2,0)","v":0},{"$f":"IF('Consequence of Failure'!L161=\"At\",1,0)","v":0},{"$f":"IF('Consequence of Failure'!L161=\"Below\",0,0)","v":0},{"$f":"IF('Consequence of Failure'!M161=\"Yes\",1,0)","v":0},{"$f":"IF('Consequence of Failure'!N161=\"Yes\",1,0)","v":0},null,0,null,0]
[{"$f":"IF('Data Collection Sheet'!B162=\"Pump\",15,0)","v":0},{"$f":"IF('Data Collection Sheet'!B162=\"Hydrant\",50,0)","v":0},{"$f":"IF('Data Collection Sheet'!B162=\"Meter\",15,0)","v":0},{"$f":"IF('Data Collection Sheet'!B162=\"Pipe\",80,0)","v":0},{"$f":"IF('Data Collection Sheet'!B162=\"Source\",50,0)","v":0},{"$f":"IF('Data Collection Sheet'!B162=\"Tank\",50,0)","v":0},{"$f":"IF('Data Collection Sheet'!B162=\"Analytical\",10,0)","v":0},{"$f":"IF('Data Collection Sheet'!B162=\"Treatment\",20,0)","v":0},{"$f":"IF('Data Collection Sheet'!B162=\"Valve\",20,0)","v":0},{"$f":"IF('Data Collection Sheet'!B162=\"Control\",15,0)","v":0},{"$f":"IF('Data Collection Sheet'!B162=\"Safety\",10,0)","v":0},{"$f":"IF('Data Collection Sheet'!B162=\"Building\",50,0)","v":0},{"$f":"IF('Data Collection Sheet'!B162=\"Vehicle\",8,0)","v":0},{"$f":"IF('Data Collection Sheet'!B162=\"Other\",15,0)","v":0},{"$f":"IF('Data Collection Sheet'!I162=\"Bad\",(-0.8*$T159),0)","v":0},{"$f":"IF('Data Collection Sheet'!I162=\"Fair\",(-0.5*$T159),0)","v":0},{"$f":"IF('Data Collection Sheet'!I162=\"Good\",(-0.2*$T159),0)","v":0},{"$f":"IF('Data Collection Sheet'!I162=\"Great\",0,0)","v":0},null,0,0,0,null,null,null,{"$f":"IF('Consequence of Failure'!F162=\"No\",1,0)","v":0},{"$f":"IF('Consequence of Failure'!G162=\"0%-25%\",0.5,0)","v":0},{"$f":"IF('Consequence of Failure'!G162=\"26%-50%\",1,0)","v":0},{"$f":"IF('Consequence of Failure'!G162=\"51%-75%\",1.5,0)","v":0},{"$f":"IF('Consequence of Failure'!G162=\"76%-100%\",2,0)","v":0},{"$f":"IF('Consequence of Failure'!H162=\"Yes\",1,0)","v":0},{"$f":"IF('Consequence of Failure'!I162=\"Yes\",1,0)","v":0},null,0,null,{"$f":"IF('Consequence of Failure'!K162=\"Yes\",1,0)","v":0},{"$f":"IF('Consequence of Failure'!L162=\"Above\",2,0)","v":0},{"$f":"IF('Consequence of Failure'!L162=\"At\",1,0)","v":0},{"$f":"IF('Consequence of Failure'!L162=\"Below\",0,0)","v":0},{"$f":"IF('Consequence of Failure'!M162=\"Yes\",1,0)","v":0},{"$f":"IF('Consequence of Failure'!N162=\"Yes\",1,0)","v":0},null,0,null,0]
[{"$f":"IF('Data Collection Sheet'!B163=\"Pump\",15,0)","v":0},{"$f":"IF('Data Collection Sheet'!B163=\"Hydrant\",50,0)","v":0},{"$f":"IF('Data Collection Sheet'!B163=\"Meter\",15,0)","v":0},{"$f":"IF('Data Collection Sheet'!B163=\"Pipe\",80,0)","v":0},{"$f":"IF('Data Collection Sheet'!B163=\"Source\",50,0)","v":0},{"$f":"IF('Data Collection Sheet'!B163=\"Tank\",50,0)","v":0},{"$f":"IF('Data Collection Sheet'!B163=\"Analytical\",10,0)","v":0},{"$f":"IF('Data Collection Sheet'!B163=\"Treatment\",20,0)","v":0},{"$f":"IF('Data Collection Sheet'!B163=\"Valve\",20,0)","v":0},{"$f":"IF('Data Collection Sheet'!B163=\"Control\",15,0)","v":0},{"$f":"IF('Data Collection Sheet'!B163=\"Safety\",10,0)","v":0},{"$f":"IF('Data Collection Sheet'!B163=\"Building\",50,0)","v":0},{"$f":"IF('Data Collection Sheet'!B163=\"Vehicle\",8,0)","v":0},{"$f":"IF('Data Collection Sheet'!B163=\"Other\",15,0)","v":0},{"$f":"IF('Data Collection Sheet'!I163=\"Bad\",(-0.8*$T160),0)","v":0},{"$f":"IF('Data Collection Sheet'!I163=\"Fair\",(-0.5*$T160),0)","v":0},{"$f":"IF('Data Collection Sheet'!I163=\"Good\",(-0.2*$T160),0)","v":0},{"$f":"IF('Data Collection Sheet'!I163=\"Great\",0,0)","v":0},null,0,0,0,null,null,null,{"$f":"IF('Consequence of Failure'!F163=\"No\",1,0)","v":0},{"$f":"IF('Consequence of Failure'!G163=\"0%-25%\",0.5,0)","v":0},{"$f":"IF('Consequence of Failure'!G163=\"26%-50%\",1,0)","v":0},{"$f":"IF('Consequence of Failure'!G163=\"51%-75%\",1.5,0)","v":0},{"$f":"IF('Consequence of Failure'!G163=\"76%-100%\",2,0)","v":0},{"$f":"IF('Consequence of Failure'!H163=\"Yes\",1,0)","v":0},{"$f":"IF('Consequence of Failure'!I163=\"Yes\",1,0)","v":0},null,0,null,{"$f":"IF('Consequence of Failure'!K163=\"Yes\",1,0)","v":0},{"$f":"IF('Consequence of Failure'!L163=\"Above\",2,0)","v":0},{"$f":"IF('Consequence of Failure'!L163=\"At\",1,0)","v":0},{"$f":"IF('Consequence of Failure'!L163=\"Below\",0,0)","v":0},{"$f":"IF('Consequence of Failure'!M163=\"Yes\",1,0)","v":0},{"$f":"IF('Consequence of Failure'!N163=\"Yes\",1,0)","v":0},null,0,null,0]
[{"$f":"IF('Data Collection Sheet'!B164=\"Pump\",15,0)","v":0},{"$f":"IF('Data Collection Sheet'!B164=\"Hydrant\",50,0)","v":0},{"$f":"IF('Data Collection Sheet'!B164=\"Meter\",15,0)","v":0},{"$f":"IF('Data Collection Sheet'!B164=\"Pipe\",80,0)","v":0},{"$f":"IF('Data Collection Sheet'!B164=\"Source\",50,0)","v":0},{"$f":"IF('Data Collection Sheet'!B164=\"Tank\",50,0)","v":0},{"$f":"IF('Data Collection Sheet'!B164=\"Analytical\",10,0)","v":0},{"$f":"IF('Data Collection Sheet'!B164=\"Treatment\",20,0)","v":0},{"$f":"IF('Data Collection Sheet'!B164=\"Valve\",20,0)","v":0},{"$f":"IF('Data Collection Sheet'!B164=\"Control\",15,0)","v":0},{"$f":"IF('Data Collection Sheet'!B164=\"Safety\",10,0)","v":0},{"$f":"IF('Data Collection Sheet'!B164=\"Building\",50,0)","v":0},{"$f":"IF('Data Collection Sheet'!B164=\"Vehicle\",8,0)","v":0},{"$f":"IF('Data Collection Sheet'!B164=\"Other\",15,0)","v":0},{"$f":"IF('Data Collection Sheet'!I164=\"Bad\",(-0.8*$T161),0)","v":0},{"$f":"IF('Data Collection Sheet'!I164=\"Fair\",(-0.5*$T161),0)","v":0},{"$f":"IF('Data Collection Sheet'!I164=\"Good\",(-0.2*$T161),0)","v":0},{"$f":"IF('Data Collection Sheet'!I164=\"Great\",0,0)","v":0},null,0,0,0,null,null,null,{"$f":"IF('Consequence of Failure'!F164=\"No\",1,0)","v":0},{"$f":"IF('Consequence of Failure'!G164=\"0%-25%\",0.5,0)","v":0},{"$f":"IF('Consequence of Failure'!G164=\"26%-50%\",1,0)","v":0},{"$f":"IF('Consequence of Failure'!G164=\"51%-75%\",1.5,0)","v":0},{"$f":"IF('Consequence of Failure'!G164=\"76%-100%\",2,0)","v":0},{"$f":"IF('Consequence of Failure'!H164=\"Yes\",1,0)","v":0},{"$f":"IF('Consequence of Failure'!I164=\"Yes\",1,0)","v":0},null,0,null,{"$f":"IF('Consequence of Failure'!K164=\"Yes\",1,0)","v":0},{"$f":"IF('Consequence of Failure'!L164=\"Above\",2,0)","v":0},{"$f":"IF('Consequence of Failure'!L164=\"At\",1,0)","v":0},{"$f":"IF('Consequence of Failure'!L164=\"Below\",0,0)","v":0},{"$f":"IF('Consequence of Failure'!M164=\"Yes\",1,0)","v":0},{"$f":"IF('Consequence of Failure'!N164=\"Yes\",1,0)","v":0},null,0,null,0]
[{"$f":"IF('Data Collection Sheet'!B165=\"Pump\",15,0)","v":0},{"$f":"IF('Data Collection Sheet'!B165=\"Hydrant\",50,0)","v":0},{"$f":"IF('Data Collection Sheet'!B165=\"Meter\",15,0)","v":0},{"$f":"IF('Data Collection Sheet'!B165=\"Pipe\",80,0)","v":0},{"$f":"IF('Data Collection Sheet'!B165=\"Source\",50,0)","v":0},{"$f":"IF('Data Collection Sheet'!B165=\"Tank\",50,0)","v":0},{"$f":"IF('Data Collection Sheet'!B165=\"Analytical\",10,0)","v":0},{"$f":"IF('Data Collection Sheet'!B165=\"Treatment\",20,0)","v":0},{"$f":"IF('Data Collection Sheet'!B165=\"Valve\",20,0)","v":0},{"$f":"IF('Data Collection Sheet'!B165=\"Control\",15,0)","v":0},{"$f":"IF('Data Collection Sheet'!B165=\"Safety\",10,0)","v":0},{"$f":"IF('Data Collection Sheet'!B165=\"Building\",50,0)","v":0},{"$f":"IF('Data Collection Sheet'!B165=\"Vehicle\",8,0)","v":0},{"$f":"IF('Data Collection Sheet'!B165=\"Other\",15,0)","v":0},{"$f":"IF('Data Collection Sheet'!I165=\"Bad\",(-0.8*$T162),0)","v":0},{"$f":"IF('Data Collection Sheet'!I165=\"Fair\",(-0.5*$T162),0)","v":0},{"$f":"IF('Data Collection Sheet'!I165=\"Good\",(-0.2*$T162),0)","v":0},{"$f":"IF('Data Collection Sheet'!I165=\"Great\",0,0)","v":0},null,0,0,0,null,null,null,{"$f":"IF('Consequence of Failure'!F165=\"No\",1,0)","v":0},{"$f":"IF('Consequence of Failure'!G165=\"0%-25%\",0.5,0)","v":0},{"$f":"IF('Consequence of Failure'!G165=\"26%-50%\",1,0)","v":0},{"$f":"IF('Consequence of Failure'!G165=\"51%-75%\",1.5,0)","v":0},{"$f":"IF('Consequence of Failure'!G165=\"76%-100%\",2,0)","v":0},{"$f":"IF('Consequence of Failure'!H165=\"Yes\",1,0)","v":0},{"$f":"IF('Consequence of Failure'!I165=\"Yes\",1,0)","v":0},null,0,null,{"$f":"IF('Consequence of Failure'!K165=\"Yes\",1,0)","v":0},{"$f":"IF('Consequence of Failure'!L165=\"Above\",2,0)","v":0},{"$f":"IF('Consequence of Failure'!L165=\"At\",1,0)","v":0},{"$f":"IF('Consequence of Failure'!L165=\"Below\",0,0)","v":0},{"$f":"IF('Consequence of Failure'!M165=\"Yes\",1,0)","v":0},{"$f":"IF('Consequence of Failure'!N165=\"Yes\",1,0)","v":0},null,0,null,0]
[{"$f":"IF('Data Collection Sheet'!B166=\"Pump\",15,0)","v":0},{"$f":"IF('Data Collection Sheet'!B166=\"Hydrant\",50,0)","v":0},{"$f":"IF('Data Collection Sheet'!B166=\"Meter\",15,0)","v":0},{"$f":"IF('Data Collection Sheet'!B166=\"Pipe\",80,0)","v":0},{"$f":"IF('Data Collection Sheet'!B166=\"Source\",50,0)","v":0},{"$f":"IF('Data Collection Sheet'!B166=\"Tank\",50,0)","v":0},{"$f":"IF('Data Collection Sheet'!B166=\"Analytical\",10,0)","v":0},{"$f":"IF('Data Collection Sheet'!B166=\"Treatment\",20,0)","v":0},{"$f":"IF('Data Collection Sheet'!B166=\"Valve\",20,0)","v":0},{"$f":"IF('Data Collection Sheet'!B166=\"Control\",15,0)","v":0},{"$f":"IF('Data Collection Sheet'!B166=\"Safety\",10,0)","v":0},{"$f":"IF('Data Collection Sheet'!B166=\"Building\",50,0)","v":0},{"$f":"IF('Data Collection Sheet'!B166=\"Vehicle\",8,0)","v":0},{"$f":"IF('Data Collection Sheet'!B166=\"Other\",15,0)","v":0},{"$f":"IF('Data Collection Sheet'!I166=\"Bad\",(-0.8*$T163),0)","v":0},{"$f":"IF('Data Collection Sheet'!I166=\"Fair\",(-0.5*$T163),0)","v":0},{"$f":"IF('Data Collection Sheet'!I166=\"Good\",(-0.2*$T163),0)","v":0},{"$f":"IF('Data Collection Sheet'!I166=\"Great\",0,0)","v":0},null,0,0,0,null,null,null,{"$f":"IF('Consequence of Failure'!F166=\"No\",1,0)","v":0},{"$f":"IF('Consequence of Failure'!G166=\"0%-25%\",0.5,0)","v":0},{"$f":"IF('Consequence of Failure'!G166=\"26%-50%\",1,0)","v":0},{"$f":"IF('Consequence of Failure'!G166=\"51%-75%\",1.5,0)","v":0},{"$f":"IF('Consequence of Failure'!G166=\"76%-100%\",2,0)","v":0},{"$f":"IF('Consequence of Failure'!H166=\"Yes\",1,0)","v":0},{"$f":"IF('Consequence of Failure'!I166=\"Yes\",1,0)","v":0},null,0,null,{"$f":"IF('Consequence of Failure'!K166=\"Yes\",1,0)","v":0},{"$f":"IF('Consequence of Failure'!L166=\"Above\",2,0)","v":0},{"$f":"IF('Consequence of Failure'!L166=\"At\",1,0)","v":0},{"$f":"IF('Consequence of Failure'!L166=\"Below\",0,0)","v":0},{"$f":"IF('Consequence of Failure'!M166=\"Yes\",1,0)","v":0},{"$f":"IF('Consequence of Failure'!N166=\"Yes\",1,0)","v":0},null,0,null,0]
[{"$f":"IF('Data Collection Sheet'!B167=\"Pump\",15,0)","v":0},{"$f":"IF('Data Collection Sheet'!B167=\"Hydrant\",50,0)","v":0},{"$f":"IF('Data Collection Sheet'!B167=\"Meter\",15,0)","v":0},{"$f":"IF('Data Collection Sheet'!B167=\"Pipe\",80,0)","v":0},{"$f":"IF('Data Collection Sheet'!B167=\"Source\",50,0)","v":0},{"$f":"IF('Data Collection Sheet'!B167=\"Tank\",50,0)","v":0},{"$f":"IF('Data Collection Sheet'!B167=\"Analytical\",10,0)","v":0},{"$f":"IF('Data Collection Sheet'!B167=\"Treatment\",20,0)","v":0},{"$f":"IF('Data Collection Sheet'!B167=\"Valve\",20,0)","v":0},{"$f":"IF('Data Collection Sheet'!B167=\"Control\",15,0)","v":0},{"$f":"IF('Data Collection Sheet'!B167=\"Safety\",10,0)","v":0},{"$f":"IF('Data Collection Sheet'!B167=\"Building\",50,0)","v":0},{"$f":"IF('Data Collection Sheet'!B167=\"Vehicle\",8,0)","v":0},{"$f":"IF('Data Collection Sheet'!B167=\"Other\",15,0)","v":0},{"$f":"IF('Data Collection Sheet'!I167=\"Bad\",(-0.8*$T164),0)","v":0},{"$f":"IF('Data Collection Sheet'!I167=\"Fair\",(-0.5*$T164),0)","v":0},{"$f":"IF('Data Collection Sheet'!I167=\"Good\",(-0.2*$T164),0)","v":0},{"$f":"IF('Data Collection Sheet'!I167=\"Great\",0,0)","v":0},null,0,0,0,null,null,null,{"$f":"IF('Consequence of Failure'!F167=\"No\",1,0)","v":0},{"$f":"IF('Consequence of Failure'!G167=\"0%-25%\",0.5,0)","v":0},{"$f":"IF('Consequence of Failure'!G167=\"26%-50%\",1,0)","v":0},{"$f":"IF('Consequence of Failure'!G167=\"51%-75%\",1.5,0)","v":0},{"$f":"IF('Consequence of Failure'!G167=\"76%-100%\",2,0)","v":0},{"$f":"IF('Consequence of Failure'!H167=\"Yes\",1,0)","v":0},{"$f":"IF('Consequence of Failure'!I167=\"Yes\",1,0)","v":0},null,0,null,{"$f":"IF('Consequence of Failure'!K167=\"Yes\",1,0)","v":0},{"$f":"IF('Consequence of Failure'!L167=\"Above\",2,0)","v":0},{"$f":"IF('Consequence of Failure'!L167=\"At\",1,0)","v":0},{"$f":"IF('Consequence of Failure'!L167=\"Below\",0,0)","v":0},{"$f":"IF('Consequence of Failure'!M167=\"Yes\",1,0)","v":0},{"$f":"IF('Consequence of Failure'!N167=\"Yes\",1,0)","v":0},null,0,null,0]
[{"$f":"IF('Data Collection Sheet'!B168=\"Pump\",15,0)","v":0},{"$f":"IF('Data Collection Sheet'!B168=\"Hydrant\",50,0)","v":0},{"$f":"IF('Data Collection Sheet'!B168=\"Meter\",15,0)","v":0},{"$f":"IF('Data Collection Sheet'!B168=\"Pipe\",80,0)","v":0},{"$f":"IF('Data Collection Sheet'!B168=\"Source\",50,0)","v":0},{"$f":"IF('Data Collection Sheet'!B168=\"Tank\",50,0)","v":0},{"$f":"IF('Data Collection Sheet'!B168=\"Analytical\",10,0)","v":0},{"$f":"IF('Data Collection Sheet'!B168=\"Treatment\",20,0)","v":0},{"$f":"IF('Data Collection Sheet'!B168=\"Valve\",20,0)","v":0},{"$f":"IF('Data Collection Sheet'!B168=\"Control\",15,0)","v":0},{"$f":"IF('Data Collection Sheet'!B168=\"Safety\",10,0)","v":0},{"$f":"IF('Data Collection Sheet'!B168=\"Building\",50,0)","v":0},{"$f":"IF('Data Collection Sheet'!B168=\"Vehicle\",8,0)","v":0},{"$f":"IF('Data Collection Sheet'!B168=\"Other\",15,0)","v":0},{"$f":"IF('Data Collection Sheet'!I168=\"Bad\",(-0.8*$T165),0)","v":0},{"$f":"IF('Data Collection Sheet'!I168=\"Fair\",(-0.5*$T165),0)","v":0},{"$f":"IF('Data Collection Sheet'!I168=\"Good\",(-0.2*$T165),0)","v":0},{"$f":"IF('Data Collection Sheet'!I168=\"Great\",0,0)","v":0},null,0,0,0,null,null,null,{"$f":"IF('Consequence of Failure'!F168=\"No\",1,0)","v":0},{"$f":"IF('Consequence of Failure'!G168=\"0%-25%\",0.5,0)","v":0},{"$f":"IF('Consequence of Failure'!G168=\"26%-50%\",1,0)","v":0},{"$f":"IF('Consequence of Failure'!G168=\"51%-75%\",1.5,0)","v":0},{"$f":"IF('Consequence of Failure'!G168=\"76%-100%\",2,0)","v":0},{"$f":"IF('Consequence of Failure'!H168=\"Yes\",1,0)","v":0},{"$f":"IF('Consequence of Failure'!I168=\"Yes\",1,0)","v":0},null,0,null,{"$f":"IF('Consequence of Failure'!K168=\"Yes\",1,0)","v":0},{"$f":"IF('Consequence of Failure'!L168=\"Above\",2,0)","v":0},{"$f":"IF('Consequence of Failure'!L168=\"At\",1,0)","v":0},{"$f":"IF('Consequence of Failure'!L168=\"Below\",0,0)","v":0},{"$f":"IF('Consequence of Failure'!M168=\"Yes\",1,0)","v":0},{"$f":"IF('Consequence of Failure'!N168=\"Yes\",1,0)","v":0},null,0,null,0]
[{"$f":"IF('Data Collection Sheet'!B169=\"Pump\",15,0)","v":0},{"$f":"IF('Data Collection Sheet'!B169=\"Hydrant\",50,0)","v":0},{"$f":"IF('Data Collection Sheet'!B169=\"Meter\",15,0)","v":0},{"$f":"IF('Data Collection Sheet'!B169=\"Pipe\",80,0)","v":0},{"$f":"IF('Data Collection Sheet'!B169=\"Source\",50,0)","v":0},{"$f":"IF('Data Collection Sheet'!B169=\"Tank\",50,0)","v":0},{"$f":"IF('Data Collection Sheet'!B169=\"Analytical\",10,0)","v":0},{"$f":"IF('Data Collection Sheet'!B169=\"Treatment\",20,0)","v":0},{"$f":"IF('Data Collection Sheet'!B169=\"Valve\",20,0)","v":0},{"$f":"IF('Data Collection Sheet'!B169=\"Control\",15,0)","v":0},{"$f":"IF('Data Collection Sheet'!B169=\"Safety\",10,0)","v":0},{"$f":"IF('Data Collection Sheet'!B169=\"Building\",50,0)","v":0},{"$f":"IF('Data Collection Sheet'!B169=\"Vehicle\",8,0)","v":0},{"$f":"IF('Data Collection Sheet'!B169=\"Other\",15,0)","v":0},{"$f":"IF('Data Collection Sheet'!I169=\"Bad\",(-0.8*$T166),0)","v":0},{"$f":"IF('Data Collection Sheet'!I169=\"Fair\",(-0.5*$T166),0)","v":0},{"$f":"IF('Data Collection Sheet'!I169=\"Good\",(-0.2*$T166),0)","v":0},{"$f":"IF('Data Collection Sheet'!I169=\"Great\",0,0)","v":0},null,0,0,0,null,null,null,{"$f":"IF('Consequence of Failure'!F169=\"No\",1,0)","v":0},{"$f":"IF('Consequence of Failure'!G169=\"0%-25%\",0.5,0)","v":0},{"$f":"IF('Consequence of Failure'!G169=\"26%-50%\",1,0)","v":0},{"$f":"IF('Consequence of Failure'!G169=\"51%-75%\",1.5,0)","v":0},{"$f":"IF('Consequence of Failure'!G169=\"76%-100%\",2,0)","v":0},{"$f":"IF('Consequence of Failure'!H169=\"Yes\",1,0)","v":0},{"$f":"IF('Consequence of Failure'!I169=\"Yes\",1,0)","v":0},null,0,null,{"$f":"IF('Consequence of Failure'!K169=\"Yes\",1,0)","v":0},{"$f":"IF('Consequence of Failure'!L169=\"Above\",2,0)","v":0},{"$f":"IF('Consequence of Failure'!L169=\"At\",1,0)","v":0},{"$f":"IF('Consequence of Failure'!L169=\"Below\",0,0)","v":0},{"$f":"IF('Consequence of Failure'!M169=\"Yes\",1,0)","v":0},{"$f":"IF('Consequence of Failure'!N169=\"Yes\",1,0)","v":0},null,0,null,0]
[{"$f":"IF('Data Collection Sheet'!B170=\"Pump\",15,0)","v":0},{"$f":"IF('Data Collection Sheet'!B170=\"Hydrant\",50,0)","v":0},{"$f":"IF('Data Collection Sheet'!B170=\"Meter\",15,0)","v":0},{"$f":"IF('Data Collection Sheet'!B170=\"Pipe\",80,0)","v":0},{"$f":"IF('Data Collection Sheet'!B170=\"Source\",50,0)","v":0},{"$f":"IF('Data Collection Sheet'!B170=\"Tank\",50,0)","v":0},{"$f":"IF('Data Collection Sheet'!B170=\"Analytical\",10,0)","v":0},{"$f":"IF('Data Collection Sheet'!B170=\"Treatment\",20,0)","v":0},{"$f":"IF('Data Collection Sheet'!B170=\"Valve\",20,0)","v":0},{"$f":"IF('Data Collection Sheet'!B170=\"Control\",15,0)","v":0},{"$f":"IF('Data Collection Sheet'!B170=\"Safety\",10,0)","v":0},{"$f":"IF('Data Collection Sheet'!B170=\"Building\",50,0)","v":0},{"$f":"IF('Data Collection Sheet'!B170=\"Vehicle\",8,0)","v":0},{"$f":"IF('Data Collection Sheet'!B170=\"Other\",15,0)","v":0},{"$f":"IF('Data Collection Sheet'!I170=\"Bad\",(-0.8*$T167),0)","v":0},{"$f":"IF('Data Collection Sheet'!I170=\"Fair\",(-0.5*$T167),0)","v":0},{"$f":"IF('Data Collection Sheet'!I170=\"Good\",(-0.2*$T167),0)","v":0},{"$f":"IF('Data Collection Sheet'!I170=\"Great\",0,0)","v":0},null,0,0,0,null,null,null,{"$f":"IF('Consequence of Failure'!F170=\"No\",1,0)","v":0},{"$f":"IF('Consequence of Failure'!G170=\"0%-25%\",0.5,0)","v":0},{"$f":"IF('Consequence of Failure'!G170=\"26%-50%\",1,0)","v":0},{"$f":"IF('Consequence of Failure'!G170=\"51%-75%\",1.5,0)","v":0},{"$f":"IF('Consequence of Failure'!G170=\"76%-100%\",2,0)","v":0},{"$f":"IF('Consequence of Failure'!H170=\"Yes\",1,0)","v":0},{"$f":"IF('Consequence of Failure'!I170=\"Yes\",1,0)","v":0},null,0,null,{"$f":"IF('Consequence of Failure'!K170=\"Yes\",1,0)","v":0},{"$f":"IF('Consequence of Failure'!L170=\"Above\",2,0)","v":0},{"$f":"IF('Consequence of Failure'!L170=\"At\",1,0)","v":0},{"$f":"IF('Consequence of Failure'!L170=\"Below\",0,0)","v":0},{"$f":"IF('Consequence of Failure'!M170=\"Yes\",1,0)","v":0},{"$f":"IF('Consequence of Failure'!N170=\"Yes\",1,0)","v":0},null,0,null,0]
[{"$f":"IF('Data Collection Sheet'!B171=\"Pump\",15,0)","v":0},{"$f":"IF('Data Collection Sheet'!B171=\"Hydrant\",50,0)","v":0},{"$f":"IF('Data Collection Sheet'!B171=\"Meter\",15,0)","v":0},{"$f":"IF('Data Collection Sheet'!B171=\"Pipe\",80,0)","v":0},{"$f":"IF('Data Collection Sheet'!B171=\"Source\",50,0)","v":0},{"$f":"IF('Data Collection Sheet'!B171=\"Tank\",50,0)","v":0},{"$f":"IF('Data Collection Sheet'!B171=\"Analytical\",10,0)","v":0},{"$f":"IF('Data Collection Sheet'!B171=\"Treatment\",20,0)","v":0},{"$f":"IF('Data Collection Sheet'!B171=\"Valve\",20,0)","v":0},{"$f":"IF('Data Collection Sheet'!B171=\"Control\",15,0)","v":0},{"$f":"IF('Data Collection Sheet'!B171=\"Safety\",10,0)","v":0},{"$f":"IF('Data Collection Sheet'!B171=\"Building\",50,0)","v":0},{"$f":"IF('Data Collection Sheet'!B171=\"Vehicle\",8,0)","v":0},{"$f":"IF('Data Collection Sheet'!B171=\"Other\",15,0)","v":0},{"$f":"IF('Data Collection Sheet'!I171=\"Bad\",(-0.8*$T168),0)","v":0},{"$f":"IF('Data Collection Sheet'!I171=\"Fair\",(-0.5*$T168),0)","v":0},{"$f":"IF('Data Collection Sheet'!I171=\"Good\",(-0.2*$T168),0)","v":0},{"$f":"IF('Data Collection Sheet'!I171=\"Great\",0,0)","v":0},null,0,0,0,null,null,null,{"$f":"IF('Consequence of Failure'!F171=\"No\",1,0)","v":0},{"$f":"IF('Consequence of Failure'!G171=\"0%-25%\",0.5,0)","v":0},{"$f":"IF('Consequence of Failure'!G171=\"26%-50%\",1,0)","v":0},{"$f":"IF('Consequence of Failure'!G171=\"51%-75%\",1.5,0)","v":0},{"$f":"IF('Consequence of Failure'!G171=\"76%-100%\",2,0)","v":0},{"$f":"IF('Consequence of Failure'!H171=\"Yes\",1,0)","v":0},{"$f":"IF('Consequence of Failure'!I171=\"Yes\",1,0)","v":0},null,0,null,{"$f":"IF('Consequence of Failure'!K171=\"Yes\",1,0)","v":0},{"$f":"IF('Consequence of Failure'!L171=\"Above\",2,0)","v":0},{"$f":"IF('Consequence of Failure'!L171=\"At\",1,0)","v":0},{"$f":"IF('Consequence of Failure'!L171=\"Below\",0,0)","v":0},{"$f":"IF('Consequence of Failure'!M171=\"Yes\",1,0)","v":0},{"$f":"IF('Consequence of Failure'!N171=\"Yes\",1,0)","v":0},null,0,null,0]
[{"$f":"IF('Data Collection Sheet'!B172=\"Pump\",15,0)","v":0},{"$f":"IF('Data Collection Sheet'!B172=\"Hydrant\",50,0)","v":0},{"$f":"IF('Data Collection Sheet'!B172=\"Meter\",15,0)","v":0},{"$f":"IF('Data Collection Sheet'!B172=\"Pipe\",80,0)","v":0},{"$f":"IF('Data Collection Sheet'!B172=\"Source\",50,0)","v":0},{"$f":"IF('Data Collection Sheet'!B172=\"Tank\",50,0)","v":0},{"$f":"IF('Data Collection Sheet'!B172=\"Analytical\",10,0)","v":0},{"$f":"IF('Data Collection Sheet'!B172=\"Treatment\",20,0)","v":0},{"$f":"IF('Data Collection Sheet'!B172=\"Valve\",20,0)","v":0},{"$f":"IF('Data Collection Sheet'!B172=\"Control\",15,0)","v":0},{"$f":"IF('Data Collection Sheet'!B172=\"Safety\",10,0)","v":0},{"$f":"IF('Data Collection Sheet'!B172=\"Building\",50,0)","v":0},{"$f":"IF('Data Collection Sheet'!B172=\"Vehicle\",8,0)","v":0},{"$f":"IF('Data Collection Sheet'!B172=\"Other\",15,0)","v":0},{"$f":"IF('Data Collection Sheet'!I172=\"Bad\",(-0.8*$T169),0)","v":0},{"$f":"IF('Data Collection Sheet'!I172=\"Fair\",(-0.5*$T169),0)","v":0},{"$f":"IF('Data Collection Sheet'!I172=\"Good\",(-0.2*$T169),0)","v":0},{"$f":"IF('Data Collection Sheet'!I172=\"Great\",0,0)","v":0},null,0,0,0,null,null,null,{"$f":"IF('Consequence of Failure'!F172=\"No\",1,0)","v":0},{"$f":"IF('Consequence of Failure'!G172=\"0%-25%\",0.5,0)","v":0},{"$f":"IF('Consequence of Failure'!G172=\"26%-50%\",1,0)","v":0},{"$f":"IF('Consequence of Failure'!G172=\"51%-75%\",1.5,0)","v":0},{"$f":"IF('Consequence of Failure'!G172=\"76%-100%\",2,0)","v":0},{"$f":"IF('Consequence of Failure'!H172=\"Yes\",1,0)","v":0},{"$f":"IF('Consequence of Failure'!I172=\"Yes\",1,0)","v":0},null,0,null,{"$f":"IF('Consequence of Failure'!K172=\"Yes\",1,0)","v":0},{"$f":"IF('Consequence of Failure'!L172=\"Above\",2,0)","v":0},{"$f":"IF('Consequence of Failure'!L172=\"At\",1,0)","v":0},{"$f":"IF('Consequence of Failure'!L172=\"Below\",0,0)","v":0},{"$f":"IF('Consequence of Failure'!M172=\"Yes\",1,0)","v":0},{"$f":"IF('Consequence of Failure'!N172=\"Yes\",1,0)","v":0},null,0,null,0]
[{"$f":"IF('Data Collection Sheet'!B173=\"Pump\",15,0)","v":0},{"$f":"IF('Data Collection Sheet'!B173=\"Hydrant\",50,0)","v":0},{"$f":"IF('Data Collection Sheet'!B173=\"Meter\",15,0)","v":0},{"$f":"IF('Data Collection Sheet'!B173=\"Pipe\",80,0)","v":0},{"$f":"IF('Data Collection Sheet'!B173=\"Source\",50,0)","v":0},{"$f":"IF('Data Collection Sheet'!B173=\"Tank\",50,0)","v":0},{"$f":"IF('Data Collection Sheet'!B173=\"Analytical\",10,0)","v":0},{"$f":"IF('Data Collection Sheet'!B173=\"Treatment\",20,0)","v":0},{"$f":"IF('Data Collection Sheet'!B173=\"Valve\",20,0)","v":0},{"$f":"IF('Data Collection Sheet'!B173=\"Control\",15,0)","v":0},{"$f":"IF('Data Collection Sheet'!B173=\"Safety\",10,0)","v":0},{"$f":"IF('Data Collection Sheet'!B173=\"Building\",50,0)","v":0},{"$f":"IF('Data Collection Sheet'!B173=\"Vehicle\",8,0)","v":0},{"$f":"IF('Data Collection Sheet'!B173=\"Other\",15,0)","v":0},{"$f":"IF('Data Collection Sheet'!I173=\"Bad\",(-0.8*$T170),0)","v":0},{"$f":"IF('Data Collection Sheet'!I173=\"Fair\",(-0.5*$T170),0)","v":0},{"$f":"IF('Data Collection Sheet'!I173=\"Good\",(-0.2*$T170),0)","v":0},{"$f":"IF('Data Collection Sheet'!I173=\"Great\",0,0)","v":0},null,0,0,0,null,null,null,{"$f":"IF('Consequence of Failure'!F173=\"No\",1,0)","v":0},{"$f":"IF('Consequence of Failure'!G173=\"0%-25%\",0.5,0)","v":0},{"$f":"IF('Consequence of Failure'!G173=\"26%-50%\",1,0)","v":0},{"$f":"IF('Consequence of Failure'!G173=\"51%-75%\",1.5,0)","v":0},{"$f":"IF('Consequence of Failure'!G173=\"76%-100%\",2,0)","v":0},{"$f":"IF('Consequence of Failure'!H173=\"Yes\",1,0)","v":0},{"$f":"IF('Consequence of Failure'!I173=\"Yes\",1,0)","v":0},null,0,null,{"$f":"IF('Consequence of Failure'!K173=\"Yes\",1,0)","v":0},{"$f":"IF('Consequence of Failure'!L173=\"Above\",2,0)","v":0},{"$f":"IF('Consequence of Failure'!L173=\"At\",1,0)","v":0},{"$f":"IF('Consequence of Failure'!L173=\"Below\",0,0)","v":0},{"$f":"IF('Consequence of Failure'!M173=\"Yes\",1,0)","v":0},{"$f":"IF('Consequence of Failure'!N173=\"Yes\",1,0)","v":0},null,0,null,0]
[{"$f":"IF('Data Collection Sheet'!B174=\"Pump\",15,0)","v":0},{"$f":"IF('Data Collection Sheet'!B174=\"Hydrant\",50,0)","v":0},{"$f":"IF('Data Collection Sheet'!B174=\"Meter\",15,0)","v":0},{"$f":"IF('Data Collection Sheet'!B174=\"Pipe\",80,0)","v":0},{"$f":"IF('Data Collection Sheet'!B174=\"Source\",50,0)","v":0},{"$f":"IF('Data Collection Sheet'!B174=\"Tank\",50,0)","v":0},{"$f":"IF('Data Collection Sheet'!B174=\"Analytical\",10,0)","v":0},{"$f":"IF('Data Collection Sheet'!B174=\"Treatment\",20,0)","v":0},{"$f":"IF('Data Collection Sheet'!B174=\"Valve\",20,0)","v":0},{"$f":"IF('Data Collection Sheet'!B174=\"Control\",15,0)","v":0},{"$f":"IF('Data Collection Sheet'!B174=\"Safety\",10,0)","v":0},{"$f":"IF('Data Collection Sheet'!B174=\"Building\",50,0)","v":0},{"$f":"IF('Data Collection Sheet'!B174=\"Vehicle\",8,0)","v":0},{"$f":"IF('Data Collection Sheet'!B174=\"Other\",15,0)","v":0},{"$f":"IF('Data Collection Sheet'!I174=\"Bad\",(-0.8*$T171),0)","v":0},{"$f":"IF('Data Collection Sheet'!I174=\"Fair\",(-0.5*$T171),0)","v":0},{"$f":"IF('Data Collection Sheet'!I174=\"Good\",(-0.2*$T171),0)","v":0},{"$f":"IF('Data Collection Sheet'!I174=\"Great\",0,0)","v":0},null,0,0,0,null,null,null,{"$f":"IF('Consequence of Failure'!F174=\"No\",1,0)","v":0},{"$f":"IF('Consequence of Failure'!G174=\"0%-25%\",0.5,0)","v":0},{"$f":"IF('Consequence of Failure'!G174=\"26%-50%\",1,0)","v":0},{"$f":"IF('Consequence of Failure'!G174=\"51%-75%\",1.5,0)","v":0},{"$f":"IF('Consequence of Failure'!G174=\"76%-100%\",2,0)","v":0},{"$f":"IF('Consequence of Failure'!H174=\"Yes\",1,0)","v":0},{"$f":"IF('Consequence of Failure'!I174=\"Yes\",1,0)","v":0},null,0,null,{"$f":"IF('Consequence of Failure'!K174=\"Yes\",1,0)","v":0},{"$f":"IF('Consequence of Failure'!L174=\"Above\",2,0)","v":0},{"$f":"IF('Consequence of Failure'!L174=\"At\",1,0)","v":0},{"$f":"IF('Consequence of Failure'!L174=\"Below\",0,0)","v":0},{"$f":"IF('Consequence of Failure'!M174=\"Yes\",1,0)","v":0},{"$f":"IF('Consequence of Failure'!N174=\"Yes\",1,0)","v":0},null,0,null,0]
[{"$f":"IF('Data Collection Sheet'!B175=\"Pump\",15,0)","v":0},{"$f":"IF('Data Collection Sheet'!B175=\"Hydrant\",50,0)","v":0},{"$f":"IF('Data Collection Sheet'!B175=\"Meter\",15,0)","v":0},{"$f":"IF('Data Collection Sheet'!B175=\"Pipe\",80,0)","v":0},{"$f":"IF('Data Collection Sheet'!B175=\"Source\",50,0)","v":0},{"$f":"IF('Data Collection Sheet'!B175=\"Tank\",50,0)","v":0},{"$f":"IF('Data Collection Sheet'!B175=\"Analytical\",10,0)","v":0},{"$f":"IF('Data Collection Sheet'!B175=\"Treatment\",20,0)","v":0},{"$f":"IF('Data Collection Sheet'!B175=\"Valve\",20,0)","v":0},{"$f":"IF('Data Collection Sheet'!B175=\"Control\",15,0)","v":0},{"$f":"IF('Data Collection Sheet'!B175=\"Safety\",10,0)","v":0},{"$f":"IF('Data Collection Sheet'!B175=\"Building\",50,0)","v":0},{"$f":"IF('Data Collection Sheet'!B175=\"Vehicle\",8,0)","v":0},{"$f":"IF('Data Collection Sheet'!B175=\"Other\",15,0)","v":0},{"$f":"IF('Data Collection Sheet'!I175=\"Bad\",(-0.8*$T172),0)","v":0},{"$f":"IF('Data Collection Sheet'!I175=\"Fair\",(-0.5*$T172),0)","v":0},{"$f":"IF('Data Collection Sheet'!I175=\"Good\",(-0.2*$T172),0)","v":0},{"$f":"IF('Data Collection Sheet'!I175=\"Great\",0,0)","v":0},null,0,0,0,null,null,null,{"$f":"IF('Consequence of Failure'!F175=\"No\",1,0)","v":0},{"$f":"IF('Consequence of Failure'!G175=\"0%-25%\",0.5,0)","v":0},{"$f":"IF('Consequence of Failure'!G175=\"26%-50%\",1,0)","v":0},{"$f":"IF('Consequence of Failure'!G175=\"51%-75%\",1.5,0)","v":0},{"$f":"IF('Consequence of Failure'!G175=\"76%-100%\",2,0)","v":0},{"$f":"IF('Consequence of Failure'!H175=\"Yes\",1,0)","v":0},{"$f":"IF('Consequence of Failure'!I175=\"Yes\",1,0)","v":0},null,0,null,{"$f":"IF('Consequence of Failure'!K175=\"Yes\",1,0)","v":0},{"$f":"IF('Consequence of Failure'!L175=\"Above\",2,0)","v":0},{"$f":"IF('Consequence of Failure'!L175=\"At\",1,0)","v":0},{"$f":"IF('Consequence of Failure'!L175=\"Below\",0,0)","v":0},{"$f":"IF('Consequence of Failure'!M175=\"Yes\",1,0)","v":0},{"$f":"IF('Consequence of Failure'!N175=\"Yes\",1,0)","v":0},null,0,null,0]
[{"$f":"IF('Data Collection Sheet'!B176=\"Pump\",15,0)","v":0},{"$f":"IF('Data Collection Sheet'!B176=\"Hydrant\",50,0)","v":0},{"$f":"IF('Data Collection Sheet'!B176=\"Meter\",15,0)","v":0},{"$f":"IF('Data Collection Sheet'!B176=\"Pipe\",80,0)","v":0},{"$f":"IF('Data Collection Sheet'!B176=\"Source\",50,0)","v":0},{"$f":"IF('Data Collection Sheet'!B176=\"Tank\",50,0)","v":0},{"$f":"IF('Data Collection Sheet'!B176=\"Analytical\",10,0)","v":0},{"$f":"IF('Data Collection Sheet'!B176=\"Treatment\",20,0)","v":0},{"$f":"IF('Data Collection Sheet'!B176=\"Valve\",20,0)","v":0},{"$f":"IF('Data Collection Sheet'!B176=\"Control\",15,0)","v":0},{"$f":"IF('Data Collection Sheet'!B176=\"Safety\",10,0)","v":0},{"$f":"IF('Data Collection Sheet'!B176=\"Building\",50,0)","v":0},{"$f":"IF('Data Collection Sheet'!B176=\"Vehicle\",8,0)","v":0},{"$f":"IF('Data Collection Sheet'!B176=\"Other\",15,0)","v":0},{"$f":"IF('Data Collection Sheet'!I176=\"Bad\",(-0.8*$T173),0)","v":0},{"$f":"IF('Data Collection Sheet'!I176=\"Fair\",(-0.5*$T173),0)","v":0},{"$f":"IF('Data Collection Sheet'!I176=\"Good\",(-0.2*$T173),0)","v":0},{"$f":"IF('Data Collection Sheet'!I176=\"Great\",0,0)","v":0},null,0,0,0,null,null,null,{"$f":"IF('Consequence of Failure'!F176=\"No\",1,0)","v":0},{"$f":"IF('Consequence of Failure'!G176=\"0%-25%\",0.5,0)","v":0},{"$f":"IF('Consequence of Failure'!G176=\"26%-50%\",1,0)","v":0},{"$f":"IF('Consequence of Failure'!G176=\"51%-75%\",1.5,0)","v":0},{"$f":"IF('Consequence of Failure'!G176=\"76%-100%\",2,0)","v":0},{"$f":"IF('Consequence of Failure'!H176=\"Yes\",1,0)","v":0},{"$f":"IF('Consequence of Failure'!I176=\"Yes\",1,0)","v":0},null,0,null,{"$f":"IF('Consequence of Failure'!K176=\"Yes\",1,0)","v":0},{"$f":"IF('Consequence of Failure'!L176=\"Above\",2,0)","v":0},{"$f":"IF('Consequence of Failure'!L176=\"At\",1,0)","v":0},{"$f":"IF('Consequence of Failure'!L176=\"Below\",0,0)","v":0},{"$f":"IF('Consequence of Failure'!M176=\"Yes\",1,0)","v":0},{"$f":"IF('Consequence of Failure'!N176=\"Yes\",1,0)","v":0},null,0,null,0]
[{"$f":"IF('Data Collection Sheet'!B177=\"Pump\",15,0)","v":0},{"$f":"IF('Data Collection Sheet'!B177=\"Hydrant\",50,0)","v":0},{"$f":"IF('Data Collection Sheet'!B177=\"Meter\",15,0)","v":0},{"$f":"IF('Data Collection Sheet'!B177=\"Pipe\",80,0)","v":0},{"$f":"IF('Data Collection Sheet'!B177=\"Source\",50,0)","v":0},{"$f":"IF('Data Collection Sheet'!B177=\"Tank\",50,0)","v":0},{"$f":"IF('Data Collection Sheet'!B177=\"Analytical\",10,0)","v":0},{"$f":"IF('Data Collection Sheet'!B177=\"Treatment\",20,0)","v":0},{"$f":"IF('Data Collection Sheet'!B177=\"Valve\",20,0)","v":0},{"$f":"IF('Data Collection Sheet'!B177=\"Control\",15,0)","v":0},{"$f":"IF('Data Collection Sheet'!B177=\"Safety\",10,0)","v":0},{"$f":"IF('Data Collection Sheet'!B177=\"Building\",50,0)","v":0},{"$f":"IF('Data Collection Sheet'!B177=\"Vehicle\",8,0)","v":0},{"$f":"IF('Data Collection Sheet'!B177=\"Other\",15,0)","v":0},{"$f":"IF('Data Collection Sheet'!I177=\"Bad\",(-0.8*$T174),0)","v":0},{"$f":"IF('Data Collection Sheet'!I177=\"Fair\",(-0.5*$T174),0)","v":0},{"$f":"IF('Data Collection Sheet'!I177=\"Good\",(-0.2*$T174),0)","v":0},{"$f":"IF('Data Collection Sheet'!I177=\"Great\",0,0)","v":0},null,0,0,0,null,null,null,{"$f":"IF('Consequence of Failure'!F177=\"No\",1,0)","v":0},{"$f":"IF('Consequence of Failure'!G177=\"0%-25%\",0.5,0)","v":0},{"$f":"IF('Consequence of Failure'!G177=\"26%-50%\",1,0)","v":0},{"$f":"IF('Consequence of Failure'!G177=\"51%-75%\",1.5,0)","v":0},{"$f":"IF('Consequence of Failure'!G177=\"76%-100%\",2,0)","v":0},{"$f":"IF('Consequence of Failure'!H177=\"Yes\",1,0)","v":0},{"$f":"IF('Consequence of Failure'!I177=\"Yes\",1,0)","v":0},null,0,null,{"$f":"IF('Consequence of Failure'!K177=\"Yes\",1,0)","v":0},{"$f":"IF('Consequence of Failure'!L177=\"Above\",2,0)","v":0},{"$f":"IF('Consequence of Failure'!L177=\"At\",1,0)","v":0},{"$f":"IF('Consequence of Failure'!L177=\"Below\",0,0)","v":0},{"$f":"IF('Consequence of Failure'!M177=\"Yes\",1,0)","v":0},{"$f":"IF('Consequence of Failure'!N177=\"Yes\",1,0)","v":0},null,0,null,0]
[{"$f":"IF('Data Collection Sheet'!B178=\"Pump\",15,0)","v":0},{"$f":"IF('Data Collection Sheet'!B178=\"Hydrant\",50,0)","v":0},{"$f":"IF('Data Collection Sheet'!B178=\"Meter\",15,0)","v":0},{"$f":"IF('Data Collection Sheet'!B178=\"Pipe\",80,0)","v":0},{"$f":"IF('Data Collection Sheet'!B178=\"Source\",50,0)","v":0},{"$f":"IF('Data Collection Sheet'!B178=\"Tank\",50,0)","v":0},{"$f":"IF('Data Collection Sheet'!B178=\"Analytical\",10,0)","v":0},{"$f":"IF('Data Collection Sheet'!B178=\"Treatment\",20,0)","v":0},{"$f":"IF('Data Collection Sheet'!B178=\"Valve\",20,0)","v":0},{"$f":"IF('Data Collection Sheet'!B178=\"Control\",15,0)","v":0},{"$f":"IF('Data Collection Sheet'!B178=\"Safety\",10,0)","v":0},{"$f":"IF('Data Collection Sheet'!B178=\"Building\",50,0)","v":0},{"$f":"IF('Data Collection Sheet'!B178=\"Vehicle\",8,0)","v":0},{"$f":"IF('Data Collection Sheet'!B178=\"Other\",15,0)","v":0},{"$f":"IF('Data Collection Sheet'!I178=\"Bad\",(-0.8*$T175),0)","v":0},{"$f":"IF('Data Collection Sheet'!I178=\"Fair\",(-0.5*$T175),0)","v":0},{"$f":"IF('Data Collection Sheet'!I178=\"Good\",(-0.2*$T175),0)","v":0},{"$f":"IF('Data Collection Sheet'!I178=\"Great\",0,0)","v":0},null,0,0,0,null,null,null,{"$f":"IF('Consequence of Failure'!F178=\"No\",1,0)","v":0},{"$f":"IF('Consequence of Failure'!G178=\"0%-25%\",0.5,0)","v":0},{"$f":"IF('Consequence of Failure'!G178=\"26%-50%\",1,0)","v":0},{"$f":"IF('Consequence of Failure'!G178=\"51%-75%\",1.5,0)","v":0},{"$f":"IF('Consequence of Failure'!G178=\"76%-100%\",2,0)","v":0},{"$f":"IF('Consequence of Failure'!H178=\"Yes\",1,0)","v":0},{"$f":"IF('Consequence of Failure'!I178=\"Yes\",1,0)","v":0},null,0,null,{"$f":"IF('Consequence of Failure'!K178=\"Yes\",1,0)","v":0},{"$f":"IF('Consequence of Failure'!L178=\"Above\",2,0)","v":0},{"$f":"IF('Consequence of Failure'!L178=\"At\",1,0)","v":0},{"$f":"IF('Consequence of Failure'!L178=\"Below\",0,0)","v":0},{"$f":"IF('Consequence of Failure'!M178=\"Yes\",1,0)","v":0},{"$f":"IF('Consequence of Failure'!N178=\"Yes\",1,0)","v":0},null,0,null,0]
[{"$f":"IF('Data Collection Sheet'!B179=\"Pump\",15,0)","v":0},{"$f":"IF('Data Collection Sheet'!B179=\"Hydrant\",50,0)","v":0},{"$f":"IF('Data Collection Sheet'!B179=\"Meter\",15,0)","v":0},{"$f":"IF('Data Collection Sheet'!B179=\"Pipe\",80,0)","v":0},{"$f":"IF('Data Collection Sheet'!B179=\"Source\",50,0)","v":0},{"$f":"IF('Data Collection Sheet'!B179=\"Tank\",50,0)","v":0},{"$f":"IF('Data Collection Sheet'!B179=\"Analytical\",10,0)","v":0},{"$f":"IF('Data Collection Sheet'!B179=\"Treatment\",20,0)","v":0},{"$f":"IF('Data Collection Sheet'!B179=\"Valve\",20,0)","v":0},{"$f":"IF('Data Collection Sheet'!B179=\"Control\",15,0)","v":0},{"$f":"IF('Data Collection Sheet'!B179=\"Safety\",10,0)","v":0},{"$f":"IF('Data Collection Sheet'!B179=\"Building\",50,0)","v":0},{"$f":"IF('Data Collection Sheet'!B179=\"Vehicle\",8,0)","v":0},{"$f":"IF('Data Collection Sheet'!B179=\"Other\",15,0)","v":0},{"$f":"IF('Data Collection Sheet'!I179=\"Bad\",(-0.8*$T176),0)","v":0},{"$f":"IF('Data Collection Sheet'!I179=\"Fair\",(-0.5*$T176),0)","v":0},{"$f":"IF('Data Collection Sheet'!I179=\"Good\",(-0.2*$T176),0)","v":0},{"$f":"IF('Data Collection Sheet'!I179=\"Great\",0,0)","v":0},null,0,0,0,null,null,null,{"$f":"IF('Consequence of Failure'!F179=\"No\",1,0)","v":0},{"$f":"IF('Consequence of Failure'!G179=\"0%-25%\",0.5,0)","v":0},{"$f":"IF('Consequence of Failure'!G179=\"26%-50%\",1,0)","v":0},{"$f":"IF('Consequence of Failure'!G179=\"51%-75%\",1.5,0)","v":0},{"$f":"IF('Consequence of Failure'!G179=\"76%-100%\",2,0)","v":0},{"$f":"IF('Consequence of Failure'!H179=\"Yes\",1,0)","v":0},{"$f":"IF('Consequence of Failure'!I179=\"Yes\",1,0)","v":0},null,0,null,{"$f":"IF('Consequence of Failure'!K179=\"Yes\",1,0)","v":0},{"$f":"IF('Consequence of Failure'!L179=\"Above\",2,0)","v":0},{"$f":"IF('Consequence of Failure'!L179=\"At\",1,0)","v":0},{"$f":"IF('Consequence of Failure'!L179=\"Below\",0,0)","v":0},{"$f":"IF('Consequence of Failure'!M179=\"Yes\",1,0)","v":0},{"$f":"IF('Consequence of Failure'!N179=\"Yes\",1,0)","v":0},null,0,null,0]
[{"$f":"IF('Data Collection Sheet'!B180=\"Pump\",15,0)","v":0},{"$f":"IF('Data Collection Sheet'!B180=\"Hydrant\",50,0)","v":0},{"$f":"IF('Data Collection Sheet'!B180=\"Meter\",15,0)","v":0},{"$f":"IF('Data Collection Sheet'!B180=\"Pipe\",80,0)","v":0},{"$f":"IF('Data Collection Sheet'!B180=\"Source\",50,0)","v":0},{"$f":"IF('Data Collection Sheet'!B180=\"Tank\",50,0)","v":0},{"$f":"IF('Data Collection Sheet'!B180=\"Analytical\",10,0)","v":0},{"$f":"IF('Data Collection Sheet'!B180=\"Treatment\",20,0)","v":0},{"$f":"IF('Data Collection Sheet'!B180=\"Valve\",20,0)","v":0},{"$f":"IF('Data Collection Sheet'!B180=\"Control\",15,0)","v":0},{"$f":"IF('Data Collection Sheet'!B180=\"Safety\",10,0)","v":0},{"$f":"IF('Data Collection Sheet'!B180=\"Building\",50,0)","v":0},{"$f":"IF('Data Collection Sheet'!B180=\"Vehicle\",8,0)","v":0},{"$f":"IF('Data Collection Sheet'!B180=\"Other\",15,0)","v":0},{"$f":"IF('Data Collection Sheet'!I180=\"Bad\",(-0.8*$T177),0)","v":0},{"$f":"IF('Data Collection Sheet'!I180=\"Fair\",(-0.5*$T177),0)","v":0},{"$f":"IF('Data Collection Sheet'!I180=\"Good\",(-0.2*$T177),0)","v":0},{"$f":"IF('Data Collection Sheet'!I180=\"Great\",0,0)","v":0},null,0,0,0,null,null,null,{"$f":"IF('Consequence of Failure'!F180=\"No\",1,0)","v":0},{"$f":"IF('Consequence of Failure'!G180=\"0%-25%\",0.5,0)","v":0},{"$f":"IF('Consequence of Failure'!G180=\"26%-50%\",1,0)","v":0},{"$f":"IF('Consequence of Failure'!G180=\"51%-75%\",1.5,0)","v":0},{"$f":"IF('Consequence of Failure'!G180=\"76%-100%\",2,0)","v":0},{"$f":"IF('Consequence of Failure'!H180=\"Yes\",1,0)","v":0},{"$f":"IF('Consequence of Failure'!I180=\"Yes\",1,0)","v":0},null,0,null,{"$f":"IF('Consequence of Failure'!K180=\"Yes\",1,0)","v":0},{"$f":"IF('Consequence of Failure'!L180=\"Above\",2,0)","v":0},{"$f":"IF('Consequence of Failure'!L180=\"At\",1,0)","v":0},{"$f":"IF('Consequence of Failure'!L180=\"Below\",0,0)","v":0},{"$f":"IF('Consequence of Failure'!M180=\"Yes\",1,0)","v":0},{"$f":"IF('Consequence of Failure'!N180=\"Yes\",1,0)","v":0},null,0,null,0]
[{"$f":"IF('Data Collection Sheet'!B181=\"Pump\",15,0)","v":0},{"$f":"IF('Data Collection Sheet'!B181=\"Hydrant\",50,0)","v":0},{"$f":"IF('Data Collection Sheet'!B181=\"Meter\",15,0)","v":0},{"$f":"IF('Data Collection Sheet'!B181=\"Pipe\",80,0)","v":0},{"$f":"IF('Data Collection Sheet'!B181=\"Source\",50,0)","v":0},{"$f":"IF('Data Collection Sheet'!B181=\"Tank\",50,0)","v":0},{"$f":"IF('Data Collection Sheet'!B181=\"Analytical\",10,0)","v":0},{"$f":"IF('Data Collection Sheet'!B181=\"Treatment\",20,0)","v":0},{"$f":"IF('Data Collection Sheet'!B181=\"Valve\",20,0)","v":0},{"$f":"IF('Data Collection Sheet'!B181=\"Control\",15,0)","v":0},{"$f":"IF('Data Collection Sheet'!B181=\"Safety\",10,0)","v":0},{"$f":"IF('Data Collection Sheet'!B181=\"Building\",50,0)","v":0},{"$f":"IF('Data Collection Sheet'!B181=\"Vehicle\",8,0)","v":0},{"$f":"IF('Data Collection Sheet'!B181=\"Other\",15,0)","v":0},{"$f":"IF('Data Collection Sheet'!I181=\"Bad\",(-0.8*$T178),0)","v":0},{"$f":"IF('Data Collection Sheet'!I181=\"Fair\",(-0.5*$T178),0)","v":0},{"$f":"IF('Data Collection Sheet'!I181=\"Good\",(-0.2*$T178),0)","v":0},{"$f":"IF('Data Collection Sheet'!I181=\"Great\",0,0)","v":0},null,0,0,0,null,null,null,{"$f":"IF('Consequence of Failure'!F181=\"No\",1,0)","v":0},{"$f":"IF('Consequence of Failure'!G181=\"0%-25%\",0.5,0)","v":0},{"$f":"IF('Consequence of Failure'!G181=\"26%-50%\",1,0)","v":0},{"$f":"IF('Consequence of Failure'!G181=\"51%-75%\",1.5,0)","v":0},{"$f":"IF('Consequence of Failure'!G181=\"76%-100%\",2,0)","v":0},{"$f":"IF('Consequence of Failure'!H181=\"Yes\",1,0)","v":0},{"$f":"IF('Consequence of Failure'!I181=\"Yes\",1,0)","v":0},null,0,null,{"$f":"IF('Consequence of Failure'!K181=\"Yes\",1,0)","v":0},{"$f":"IF('Consequence of Failure'!L181=\"Above\",2,0)","v":0},{"$f":"IF('Consequence of Failure'!L181=\"At\",1,0)","v":0},{"$f":"IF('Consequence of Failure'!L181=\"Below\",0,0)","v":0},{"$f":"IF('Consequence of Failure'!M181=\"Yes\",1,0)","v":0},{"$f":"IF('Consequence of Failure'!N181=\"Yes\",1,0)","v":0},null,0,null,0]
[{"$f":"IF('Data Collection Sheet'!B182=\"Pump\",15,0)","v":0},{"$f":"IF('Data Collection Sheet'!B182=\"Hydrant\",50,0)","v":0},{"$f":"IF('Data Collection Sheet'!B182=\"Meter\",15,0)","v":0},{"$f":"IF('Data Collection Sheet'!B182=\"Pipe\",80,0)","v":0},{"$f":"IF('Data Collection Sheet'!B182=\"Source\",50,0)","v":0},{"$f":"IF('Data Collection Sheet'!B182=\"Tank\",50,0)","v":0},{"$f":"IF('Data Collection Sheet'!B182=\"Analytical\",10,0)","v":0},{"$f":"IF('Data Collection Sheet'!B182=\"Treatment\",20,0)","v":0},{"$f":"IF('Data Collection Sheet'!B182=\"Valve\",20,0)","v":0},{"$f":"IF('Data Collection Sheet'!B182=\"Control\",15,0)","v":0},{"$f":"IF('Data Collection Sheet'!B182=\"Safety\",10,0)","v":0},{"$f":"IF('Data Collection Sheet'!B182=\"Building\",50,0)","v":0},{"$f":"IF('Data Collection Sheet'!B182=\"Vehicle\",8,0)","v":0},{"$f":"IF('Data Collection Sheet'!B182=\"Other\",15,0)","v":0},{"$f":"IF('Data Collection Sheet'!I182=\"Bad\",(-0.8*$T179),0)","v":0},{"$f":"IF('Data Collection Sheet'!I182=\"Fair\",(-0.5*$T179),0)","v":0},{"$f":"IF('Data Collection Sheet'!I182=\"Good\",(-0.2*$T179),0)","v":0},{"$f":"IF('Data Collection Sheet'!I182=\"Great\",0,0)","v":0},null,0,0,0,null,null,null,{"$f":"IF('Consequence of Failure'!F182=\"No\",1,0)","v":0},{"$f":"IF('Consequence of Failure'!G182=\"0%-25%\",0.5,0)","v":0},{"$f":"IF('Consequence of Failure'!G182=\"26%-50%\",1,0)","v":0},{"$f":"IF('Consequence of Failure'!G182=\"51%-75%\",1.5,0)","v":0},{"$f":"IF('Consequence of Failure'!G182=\"76%-100%\",2,0)","v":0},{"$f":"IF('Consequence of Failure'!H182=\"Yes\",1,0)","v":0},{"$f":"IF('Consequence of Failure'!I182=\"Yes\",1,0)","v":0},null,0,null,{"$f":"IF('Consequence of Failure'!K182=\"Yes\",1,0)","v":0},{"$f":"IF('Consequence of Failure'!L182=\"Above\",2,0)","v":0},{"$f":"IF('Consequence of Failure'!L182=\"At\",1,0)","v":0},{"$f":"IF('Consequence of Failure'!L182=\"Below\",0,0)","v":0},{"$f":"IF('Consequence of Failure'!M182=\"Yes\",1,0)","v":0},{"$f":"IF('Consequence of Failure'!N182=\"Yes\",1,0)","v":0},null,0,null,0]
[{"$f":"IF('Data Collection Sheet'!B183=\"Pump\",15,0)","v":0},{"$f":"IF('Data Collection Sheet'!B183=\"Hydrant\",50,0)","v":0},{"$f":"IF('Data Collection Sheet'!B183=\"Meter\",15,0)","v":0},{"$f":"IF('Data Collection Sheet'!B183=\"Pipe\",80,0)","v":0},{"$f":"IF('Data Collection Sheet'!B183=\"Source\",50,0)","v":0},{"$f":"IF('Data Collection Sheet'!B183=\"Tank\",50,0)","v":0},{"$f":"IF('Data Collection Sheet'!B183=\"Analytical\",10,0)","v":0},{"$f":"IF('Data Collection Sheet'!B183=\"Treatment\",20,0)","v":0},{"$f":"IF('Data Collection Sheet'!B183=\"Valve\",20,0)","v":0},{"$f":"IF('Data Collection Sheet'!B183=\"Control\",15,0)","v":0},{"$f":"IF('Data Collection Sheet'!B183=\"Safety\",10,0)","v":0},{"$f":"IF('Data Collection Sheet'!B183=\"Building\",50,0)","v":0},{"$f":"IF('Data Collection Sheet'!B183=\"Vehicle\",8,0)","v":0},{"$f":"IF('Data Collection Sheet'!B183=\"Other\",15,0)","v":0},{"$f":"IF('Data Collection Sheet'!I183=\"Bad\",(-0.8*$T180),0)","v":0},{"$f":"IF('Data Collection Sheet'!I183=\"Fair\",(-0.5*$T180),0)","v":0},{"$f":"IF('Data Collection Sheet'!I183=\"Good\",(-0.2*$T180),0)","v":0},{"$f":"IF('Data Collection Sheet'!I183=\"Great\",0,0)","v":0},null,0,0,0,null,null,null,{"$f":"IF('Consequence of Failure'!F183=\"No\",1,0)","v":0},{"$f":"IF('Consequence of Failure'!G183=\"0%-25%\",0.5,0)","v":0},{"$f":"IF('Consequence of Failure'!G183=\"26%-50%\",1,0)","v":0},{"$f":"IF('Consequence of Failure'!G183=\"51%-75%\",1.5,0)","v":0},{"$f":"IF('Consequence of Failure'!G183=\"76%-100%\",2,0)","v":0},{"$f":"IF('Consequence of Failure'!H183=\"Yes\",1,0)","v":0},{"$f":"IF('Consequence of Failure'!I183=\"Yes\",1,0)","v":0},null,0,null,{"$f":"IF('Consequence of Failure'!K183=\"Yes\",1,0)","v":0},{"$f":"IF('Consequence of Failure'!L183=\"Above\",2,0)","v":0},{"$f":"IF('Consequence of Failure'!L183=\"At\",1,0)","v":0},{"$f":"IF('Consequence of Failure'!L183=\"Below\",0,0)","v":0},{"$f":"IF('Consequence of Failure'!M183=\"Yes\",1,0)","v":0},{"$f":"IF('Consequence of Failure'!N183=\"Yes\",1,0)","v":0},null,0,null,0]
[{"$f":"IF('Data Collection Sheet'!B184=\"Pump\",15,0)","v":0},{"$f":"IF('Data Collection Sheet'!B184=\"Hydrant\",50,0)","v":0},{"$f":"IF('Data Collection Sheet'!B184=\"Meter\",15,0)","v":0},{"$f":"IF('Data Collection Sheet'!B184=\"Pipe\",80,0)","v":0},{"$f":"IF('Data Collection Sheet'!B184=\"Source\",50,0)","v":0},{"$f":"IF('Data Collection Sheet'!B184=\"Tank\",50,0)","v":0},{"$f":"IF('Data Collection Sheet'!B184=\"Analytical\",10,0)","v":0},{"$f":"IF('Data Collection Sheet'!B184=\"Treatment\",20,0)","v":0},{"$f":"IF('Data Collection Sheet'!B184=\"Valve\",20,0)","v":0},{"$f":"IF('Data Collection Sheet'!B184=\"Control\",15,0)","v":0},{"$f":"IF('Data Collection Sheet'!B184=\"Safety\",10,0)","v":0},{"$f":"IF('Data Collection Sheet'!B184=\"Building\",50,0)","v":0},{"$f":"IF('Data Collection Sheet'!B184=\"Vehicle\",8,0)","v":0},{"$f":"IF('Data Collection Sheet'!B184=\"Other\",15,0)","v":0},{"$f":"IF('Data Collection Sheet'!I184=\"Bad\",(-0.8*$T181),0)","v":0},{"$f":"IF('Data Collection Sheet'!I184=\"Fair\",(-0.5*$T181),0)","v":0},{"$f":"IF('Data Collection Sheet'!I184=\"Good\",(-0.2*$T181),0)","v":0},{"$f":"IF('Data Collection Sheet'!I184=\"Great\",0,0)","v":0},null,0,0,0,null,null,null,{"$f":"IF('Consequence of Failure'!F184=\"No\",1,0)","v":0},{"$f":"IF('Consequence of Failure'!G184=\"0%-25%\",0.5,0)","v":0},{"$f":"IF('Consequence of Failure'!G184=\"26%-50%\",1,0)","v":0},{"$f":"IF('Consequence of Failure'!G184=\"51%-75%\",1.5,0)","v":0},{"$f":"IF('Consequence of Failure'!G184=\"76%-100%\",2,0)","v":0},{"$f":"IF('Consequence of Failure'!H184=\"Yes\",1,0)","v":0},{"$f":"IF('Consequence of Failure'!I184=\"Yes\",1,0)","v":0},null,0,null,{"$f":"IF('Consequence of Failure'!K184=\"Yes\",1,0)","v":0},{"$f":"IF('Consequence of Failure'!L184=\"Above\",2,0)","v":0},{"$f":"IF('Consequence of Failure'!L184=\"At\",1,0)","v":0},{"$f":"IF('Consequence of Failure'!L184=\"Below\",0,0)","v":0},{"$f":"IF('Consequence of Failure'!M184=\"Yes\",1,0)","v":0},{"$f":"IF('Consequence of Failure'!N184=\"Yes\",1,0)","v":0},null,0,null,0]
[{"$f":"IF('Data Collection Sheet'!B185=\"Pump\",15,0)","v":0},{"$f":"IF('Data Collection Sheet'!B185=\"Hydrant\",50,0)","v":0},{"$f":"IF('Data Collection Sheet'!B185=\"Meter\",15,0)","v":0},{"$f":"IF('Data Collection Sheet'!B185=\"Pipe\",80,0)","v":0},{"$f":"IF('Data Collection Sheet'!B185=\"Source\",50,0)","v":0},{"$f":"IF('Data Collection Sheet'!B185=\"Tank\",50,0)","v":0},{"$f":"IF('Data Collection Sheet'!B185=\"Analytical\",10,0)","v":0},{"$f":"IF('Data Collection Sheet'!B185=\"Treatment\",20,0)","v":0},{"$f":"IF('Data Collection Sheet'!B185=\"Valve\",20,0)","v":0},{"$f":"IF('Data Collection Sheet'!B185=\"Control\",15,0)","v":0},{"$f":"IF('Data Collection Sheet'!B185=\"Safety\",10,0)","v":0},{"$f":"IF('Data Collection Sheet'!B185=\"Building\",50,0)","v":0},{"$f":"IF('Data Collection Sheet'!B185=\"Vehicle\",8,0)","v":0},{"$f":"IF('Data Collection Sheet'!B185=\"Other\",15,0)","v":0},{"$f":"IF('Data Collection Sheet'!I185=\"Bad\",(-0.8*$T182),0)","v":0},{"$f":"IF('Data Collection Sheet'!I185=\"Fair\",(-0.5*$T182),0)","v":0},{"$f":"IF('Data Collection Sheet'!I185=\"Good\",(-0.2*$T182),0)","v":0},{"$f":"IF('Data Collection Sheet'!I185=\"Great\",0,0)","v":0},null,0,0,0,null,null,null,{"$f":"IF('Consequence of Failure'!F185=\"No\",1,0)","v":0},{"$f":"IF('Consequence of Failure'!G185=\"0%-25%\",0.5,0)","v":0},{"$f":"IF('Consequence of Failure'!G185=\"26%-50%\",1,0)","v":0},{"$f":"IF('Consequence of Failure'!G185=\"51%-75%\",1.5,0)","v":0},{"$f":"IF('Consequence of Failure'!G185=\"76%-100%\",2,0)","v":0},{"$f":"IF('Consequence of Failure'!H185=\"Yes\",1,0)","v":0},{"$f":"IF('Consequence of Failure'!I185=\"Yes\",1,0)","v":0},null,0,null,{"$f":"IF('Consequence of Failure'!K185=\"Yes\",1,0)","v":0},{"$f":"IF('Consequence of Failure'!L185=\"Above\",2,0)","v":0},{"$f":"IF('Consequence of Failure'!L185=\"At\",1,0)","v":0},{"$f":"IF('Consequence of Failure'!L185=\"Below\",0,0)","v":0},{"$f":"IF('Consequence of Failure'!M185=\"Yes\",1,0)","v":0},{"$f":"IF('Consequence of Failure'!N185=\"Yes\",1,0)","v":0},null,0,null,0]
[{"$f":"IF('Data Collection Sheet'!B186=\"Pump\",15,0)","v":0},{"$f":"IF('Data Collection Sheet'!B186=\"Hydrant\",50,0)","v":0},{"$f":"IF('Data Collection Sheet'!B186=\"Meter\",15,0)","v":0},{"$f":"IF('Data Collection Sheet'!B186=\"Pipe\",80,0)","v":0},{"$f":"IF('Data Collection Sheet'!B186=\"Source\",50,0)","v":0},{"$f":"IF('Data Collection Sheet'!B186=\"Tank\",50,0)","v":0},{"$f":"IF('Data Collection Sheet'!B186=\"Analytical\",10,0)","v":0},{"$f":"IF('Data Collection Sheet'!B186=\"Treatment\",20,0)","v":0},{"$f":"IF('Data Collection Sheet'!B186=\"Valve\",20,0)","v":0},{"$f":"IF('Data Collection Sheet'!B186=\"Control\",15,0)","v":0},{"$f":"IF('Data Collection Sheet'!B186=\"Safety\",10,0)","v":0},{"$f":"IF('Data Collection Sheet'!B186=\"Building\",50,0)","v":0},{"$f":"IF('Data Collection Sheet'!B186=\"Vehicle\",8,0)","v":0},{"$f":"IF('Data Collection Sheet'!B186=\"Other\",15,0)","v":0},{"$f":"IF('Data Collection Sheet'!I186=\"Bad\",(-0.8*$T183),0)","v":0},{"$f":"IF('Data Collection Sheet'!I186=\"Fair\",(-0.5*$T183),0)","v":0},{"$f":"IF('Data Collection Sheet'!I186=\"Good\",(-0.2*$T183),0)","v":0},{"$f":"IF('Data Collection Sheet'!I186=\"Great\",0,0)","v":0},null,0,0,0,null,null,null,{"$f":"IF('Consequence of Failure'!F186=\"No\",1,0)","v":0},{"$f":"IF('Consequence of Failure'!G186=\"0%-25%\",0.5,0)","v":0},{"$f":"IF('Consequence of Failure'!G186=\"26%-50%\",1,0)","v":0},{"$f":"IF('Consequence of Failure'!G186=\"51%-75%\",1.5,0)","v":0},{"$f":"IF('Consequence of Failure'!G186=\"76%-100%\",2,0)","v":0},{"$f":"IF('Consequence of Failure'!H186=\"Yes\",1,0)","v":0},{"$f":"IF('Consequence of Failure'!I186=\"Yes\",1,0)","v":0},null,0,null,{"$f":"IF('Consequence of Failure'!K186=\"Yes\",1,0)","v":0},{"$f":"IF('Consequence of Failure'!L186=\"Above\",2,0)","v":0},{"$f":"IF('Consequence of Failure'!L186=\"At\",1,0)","v":0},{"$f":"IF('Consequence of Failure'!L186=\"Below\",0,0)","v":0},{"$f":"IF('Consequence of Failure'!M186=\"Yes\",1,0)","v":0},{"$f":"IF('Consequence of Failure'!N186=\"Yes\",1,0)","v":0},null,0,null,0]
[{"$f":"IF('Data Collection Sheet'!B187=\"Pump\",15,0)","v":0},{"$f":"IF('Data Collection Sheet'!B187=\"Hydrant\",50,0)","v":0},{"$f":"IF('Data Collection Sheet'!B187=\"Meter\",15,0)","v":0},{"$f":"IF('Data Collection Sheet'!B187=\"Pipe\",80,0)","v":0},{"$f":"IF('Data Collection Sheet'!B187=\"Source\",50,0)","v":0},{"$f":"IF('Data Collection Sheet'!B187=\"Tank\",50,0)","v":0},{"$f":"IF('Data Collection Sheet'!B187=\"Analytical\",10,0)","v":0},{"$f":"IF('Data Collection Sheet'!B187=\"Treatment\",20,0)","v":0},{"$f":"IF('Data Collection Sheet'!B187=\"Valve\",20,0)","v":0},{"$f":"IF('Data Collection Sheet'!B187=\"Control\",15,0)","v":0},{"$f":"IF('Data Collection Sheet'!B187=\"Safety\",10,0)","v":0},{"$f":"IF('Data Collection Sheet'!B187=\"Building\",50,0)","v":0},{"$f":"IF('Data Collection Sheet'!B187=\"Vehicle\",8,0)","v":0},{"$f":"IF('Data Collection Sheet'!B187=\"Other\",15,0)","v":0},{"$f":"IF('Data Collection Sheet'!I187=\"Bad\",(-0.8*$T184),0)","v":0},{"$f":"IF('Data Collection Sheet'!I187=\"Fair\",(-0.5*$T184),0)","v":0},{"$f":"IF('Data Collection Sheet'!I187=\"Good\",(-0.2*$T184),0)","v":0},{"$f":"IF('Data Collection Sheet'!I187=\"Great\",0,0)","v":0},null,0,0,0,null,null,null,{"$f":"IF('Consequence of Failure'!F187=\"No\",1,0)","v":0},{"$f":"IF('Consequence of Failure'!G187=\"0%-25%\",0.5,0)","v":0},{"$f":"IF('Consequence of Failure'!G187=\"26%-50%\",1,0)","v":0},{"$f":"IF('Consequence of Failure'!G187=\"51%-75%\",1.5,0)","v":0},{"$f":"IF('Consequence of Failure'!G187=\"76%-100%\",2,0)","v":0},{"$f":"IF('Consequence of Failure'!H187=\"Yes\",1,0)","v":0},{"$f":"IF('Consequence of Failure'!I187=\"Yes\",1,0)","v":0},null,0,null,{"$f":"IF('Consequence of Failure'!K187=\"Yes\",1,0)","v":0},{"$f":"IF('Consequence of Failure'!L187=\"Above\",2,0)","v":0},{"$f":"IF('Consequence of Failure'!L187=\"At\",1,0)","v":0},{"$f":"IF('Consequence of Failure'!L187=\"Below\",0,0)","v":0},{"$f":"IF('Consequence of Failure'!M187=\"Yes\",1,0)","v":0},{"$f":"IF('Consequence of Failure'!N187=\"Yes\",1,0)","v":0},null,0,null,0]
[{"$f":"IF('Data Collection Sheet'!B188=\"Pump\",15,0)","v":0},{"$f":"IF('Data Collection Sheet'!B188=\"Hydrant\",50,0)","v":0},{"$f":"IF('Data Collection Sheet'!B188=\"Meter\",15,0)","v":0},{"$f":"IF('Data Collection Sheet'!B188=\"Pipe\",80,0)","v":0},{"$f":"IF('Data Collection Sheet'!B188=\"Source\",50,0)","v":0},{"$f":"IF('Data Collection Sheet'!B188=\"Tank\",50,0)","v":0},{"$f":"IF('Data Collection Sheet'!B188=\"Analytical\",10,0)","v":0},{"$f":"IF('Data Collection Sheet'!B188=\"Treatment\",20,0)","v":0},{"$f":"IF('Data Collection Sheet'!B188=\"Valve\",20,0)","v":0},{"$f":"IF('Data Collection Sheet'!B188=\"Control\",15,0)","v":0},{"$f":"IF('Data Collection Sheet'!B188=\"Safety\",10,0)","v":0},{"$f":"IF('Data Collection Sheet'!B188=\"Building\",50,0)","v":0},{"$f":"IF('Data Collection Sheet'!B188=\"Vehicle\",8,0)","v":0},{"$f":"IF('Data Collection Sheet'!B188=\"Other\",15,0)","v":0},{"$f":"IF('Data Collection Sheet'!I188=\"Bad\",(-0.8*$T185),0)","v":0},{"$f":"IF('Data Collection Sheet'!I188=\"Fair\",(-0.5*$T185),0)","v":0},{"$f":"IF('Data Collection Sheet'!I188=\"Good\",(-0.2*$T185),0)","v":0},{"$f":"IF('Data Collection Sheet'!I188=\"Great\",0,0)","v":0},null,0,0,0,null,null,null,{"$f":"IF('Consequence of Failure'!F188=\"No\",1,0)","v":0},{"$f":"IF('Consequence of Failure'!G188=\"0%-25%\",0.5,0)","v":0},{"$f":"IF('Consequence of Failure'!G188=\"26%-50%\",1,0)","v":0},{"$f":"IF('Consequence of Failure'!G188=\"51%-75%\",1.5,0)","v":0},{"$f":"IF('Consequence of Failure'!G188=\"76%-100%\",2,0)","v":0},{"$f":"IF('Consequence of Failure'!H188=\"Yes\",1,0)","v":0},{"$f":"IF('Consequence of Failure'!I188=\"Yes\",1,0)","v":0},null,0,null,{"$f":"IF('Consequence of Failure'!K188=\"Yes\",1,0)","v":0},{"$f":"IF('Consequence of Failure'!L188=\"Above\",2,0)","v":0},{"$f":"IF('Consequence of Failure'!L188=\"At\",1,0)","v":0},{"$f":"IF('Consequence of Failure'!L188=\"Below\",0,0)","v":0},{"$f":"IF('Consequence of Failure'!M188=\"Yes\",1,0)","v":0},{"$f":"IF('Consequence of Failure'!N188=\"Yes\",1,0)","v":0},null,0,null,0]
[{"$f":"IF('Data Collection Sheet'!B189=\"Pump\",15,0)","v":0},{"$f":"IF('Data Collection Sheet'!B189=\"Hydrant\",50,0)","v":0},{"$f":"IF('Data Collection Sheet'!B189=\"Meter\",15,0)","v":0},{"$f":"IF('Data Collection Sheet'!B189=\"Pipe\",80,0)","v":0},{"$f":"IF('Data Collection Sheet'!B189=\"Source\",50,0)","v":0},{"$f":"IF('Data Collection Sheet'!B189=\"Tank\",50,0)","v":0},{"$f":"IF('Data Collection Sheet'!B189=\"Analytical\",10,0)","v":0},{"$f":"IF('Data Collection Sheet'!B189=\"Treatment\",20,0)","v":0},{"$f":"IF('Data Collection Sheet'!B189=\"Valve\",20,0)","v":0},{"$f":"IF('Data Collection Sheet'!B189=\"Control\",15,0)","v":0},{"$f":"IF('Data Collection Sheet'!B189=\"Safety\",10,0)","v":0},{"$f":"IF('Data Collection Sheet'!B189=\"Building\",50,0)","v":0},{"$f":"IF('Data Collection Sheet'!B189=\"Vehicle\",8,0)","v":0},{"$f":"IF('Data Collection Sheet'!B189=\"Other\",15,0)","v":0},{"$f":"IF('Data Collection Sheet'!I189=\"Bad\",(-0.8*$T186),0)","v":0},{"$f":"IF('Data Collection Sheet'!I189=\"Fair\",(-0.5*$T186),0)","v":0},{"$f":"IF('Data Collection Sheet'!I189=\"Good\",(-0.2*$T186),0)","v":0},{"$f":"IF('Data Collection Sheet'!I189=\"Great\",0,0)","v":0},null,0,0,0,null,null,null,{"$f":"IF('Consequence of Failure'!F189=\"No\",1,0)","v":0},{"$f":"IF('Consequence of Failure'!G189=\"0%-25%\",0.5,0)","v":0},{"$f":"IF('Consequence of Failure'!G189=\"26%-50%\",1,0)","v":0},{"$f":"IF('Consequence of Failure'!G189=\"51%-75%\",1.5,0)","v":0},{"$f":"IF('Consequence of Failure'!G189=\"76%-100%\",2,0)","v":0},{"$f":"IF('Consequence of Failure'!H189=\"Yes\",1,0)","v":0},{"$f":"IF('Consequence of Failure'!I189=\"Yes\",1,0)","v":0},null,0,null,{"$f":"IF('Consequence of Failure'!K189=\"Yes\",1,0)","v":0},{"$f":"IF('Consequence of Failure'!L189=\"Above\",2,0)","v":0},{"$f":"IF('Consequence of Failure'!L189=\"At\",1,0)","v":0},{"$f":"IF('Consequence of Failure'!L189=\"Below\",0,0)","v":0},{"$f":"IF('Consequence of Failure'!M189=\"Yes\",1,0)","v":0},{"$f":"IF('Consequence of Failure'!N189=\"Yes\",1,0)","v":0},null,0,null,0]
[{"$f":"IF('Data Collection Sheet'!B190=\"Pump\",15,0)","v":0},{"$f":"IF('Data Collection Sheet'!B190=\"Hydrant\",50,0)","v":0},{"$f":"IF('Data Collection Sheet'!B190=\"Meter\",15,0)","v":0},{"$f":"IF('Data Collection Sheet'!B190=\"Pipe\",80,0)","v":0},{"$f":"IF('Data Collection Sheet'!B190=\"Source\",50,0)","v":0},{"$f":"IF('Data Collection Sheet'!B190=\"Tank\",50,0)","v":0},{"$f":"IF('Data Collection Sheet'!B190=\"Analytical\",10,0)","v":0},{"$f":"IF('Data Collection Sheet'!B190=\"Treatment\",20,0)","v":0},{"$f":"IF('Data Collection Sheet'!B190=\"Valve\",20,0)","v":0},{"$f":"IF('Data Collection Sheet'!B190=\"Control\",15,0)","v":0},{"$f":"IF('Data Collection Sheet'!B190=\"Safety\",10,0)","v":0},{"$f":"IF('Data Collection Sheet'!B190=\"Building\",50,0)","v":0},{"$f":"IF('Data Collection Sheet'!B190=\"Vehicle\",8,0)","v":0},{"$f":"IF('Data Collection Sheet'!B190=\"Other\",15,0)","v":0},{"$f":"IF('Data Collection Sheet'!I190=\"Bad\",(-0.8*$T187),0)","v":0},{"$f":"IF('Data Collection Sheet'!I190=\"Fair\",(-0.5*$T187),0)","v":0},{"$f":"IF('Data Collection Sheet'!I190=\"Good\",(-0.2*$T187),0)","v":0},{"$f":"IF('Data Collection Sheet'!I190=\"Great\",0,0)","v":0},null,0,0,0,null,null,null,{"$f":"IF('Consequence of Failure'!F190=\"No\",1,0)","v":0},{"$f":"IF('Consequence of Failure'!G190=\"0%-25%\",0.5,0)","v":0},{"$f":"IF('Consequence of Failure'!G190=\"26%-50%\",1,0)","v":0},{"$f":"IF('Consequence of Failure'!G190=\"51%-75%\",1.5,0)","v":0},{"$f":"IF('Consequence of Failure'!G190=\"76%-100%\",2,0)","v":0},{"$f":"IF('Consequence of Failure'!H190=\"Yes\",1,0)","v":0},{"$f":"IF('Consequence of Failure'!I190=\"Yes\",1,0)","v":0},null,0,null,{"$f":"IF('Consequence of Failure'!K190=\"Yes\",1,0)","v":0},{"$f":"IF('Consequence of Failure'!L190=\"Above\",2,0)","v":0},{"$f":"IF('Consequence of Failure'!L190=\"At\",1,0)","v":0},{"$f":"IF('Consequence of Failure'!L190=\"Below\",0,0)","v":0},{"$f":"IF('Consequence of Failure'!M190=\"Yes\",1,0)","v":0},{"$f":"IF('Consequence of Failure'!N190=\"Yes\",1,0)","v":0},null,0,null,0]
[{"$f":"IF('Data Collection Sheet'!B191=\"Pump\",15,0)","v":0},{"$f":"IF('Data Collection Sheet'!B191=\"Hydrant\",50,0)","v":0},{"$f":"IF('Data Collection Sheet'!B191=\"Meter\",15,0)","v":0},{"$f":"IF('Data Collection Sheet'!B191=\"Pipe\",80,0)","v":0},{"$f":"IF('Data Collection Sheet'!B191=\"Source\",50,0)","v":0},{"$f":"IF('Data Collection Sheet'!B191=\"Tank\",50,0)","v":0},{"$f":"IF('Data Collection Sheet'!B191=\"Analytical\",10,0)","v":0},{"$f":"IF('Data Collection Sheet'!B191=\"Treatment\",20,0)","v":0},{"$f":"IF('Data Collection Sheet'!B191=\"Valve\",20,0)","v":0},{"$f":"IF('Data Collection Sheet'!B191=\"Control\",15,0)","v":0},{"$f":"IF('Data Collection Sheet'!B191=\"Safety\",10,0)","v":0},{"$f":"IF('Data Collection Sheet'!B191=\"Building\",50,0)","v":0},{"$f":"IF('Data Collection Sheet'!B191=\"Vehicle\",8,0)","v":0},{"$f":"IF('Data Collection Sheet'!B191=\"Other\",15,0)","v":0},{"$f":"IF('Data Collection Sheet'!I191=\"Bad\",(-0.8*$T188),0)","v":0},{"$f":"IF('Data Collection Sheet'!I191=\"Fair\",(-0.5*$T188),0)","v":0},{"$f":"IF('Data Collection Sheet'!I191=\"Good\",(-0.2*$T188),0)","v":0},{"$f":"IF('Data Collection Sheet'!I191=\"Great\",0,0)","v":0},null,0,0,0,null,null,null,{"$f":"IF('Consequence of Failure'!F191=\"No\",1,0)","v":0},{"$f":"IF('Consequence of Failure'!G191=\"0%-25%\",0.5,0)","v":0},{"$f":"IF('Consequence of Failure'!G191=\"26%-50%\",1,0)","v":0},{"$f":"IF('Consequence of Failure'!G191=\"51%-75%\",1.5,0)","v":0},{"$f":"IF('Consequence of Failure'!G191=\"76%-100%\",2,0)","v":0},{"$f":"IF('Consequence of Failure'!H191=\"Yes\",1,0)","v":0},{"$f":"IF('Consequence of Failure'!I191=\"Yes\",1,0)","v":0},null,0,null,{"$f":"IF('Consequence of Failure'!K191=\"Yes\",1,0)","v":0},{"$f":"IF('Consequence of Failure'!L191=\"Above\",2,0)","v":0},{"$f":"IF('Consequence of Failure'!L191=\"At\",1,0)","v":0},{"$f":"IF('Consequence of Failure'!L191=\"Below\",0,0)","v":0},{"$f":"IF('Consequence of Failure'!M191=\"Yes\",1,0)","v":0},{"$f":"IF('Consequence of Failure'!N191=\"Yes\",1,0)","v":0},null,0,null,0]
[{"$f":"IF('Data Collection Sheet'!B192=\"Pump\",15,0)","v":0},{"$f":"IF('Data Collection Sheet'!B192=\"Hydrant\",50,0)","v":0},{"$f":"IF('Data Collection Sheet'!B192=\"Meter\",15,0)","v":0},{"$f":"IF('Data Collection Sheet'!B192=\"Pipe\",80,0)","v":0},{"$f":"IF('Data Collection Sheet'!B192=\"Source\",50,0)","v":0},{"$f":"IF('Data Collection Sheet'!B192=\"Tank\",50,0)","v":0},{"$f":"IF('Data Collection Sheet'!B192=\"Analytical\",10,0)","v":0},{"$f":"IF('Data Collection Sheet'!B192=\"Treatment\",20,0)","v":0},{"$f":"IF('Data Collection Sheet'!B192=\"Valve\",20,0)","v":0},{"$f":"IF('Data Collection Sheet'!B192=\"Control\",15,0)","v":0},{"$f":"IF('Data Collection Sheet'!B192=\"Safety\",10,0)","v":0},{"$f":"IF('Data Collection Sheet'!B192=\"Building\",50,0)","v":0},{"$f":"IF('Data Collection Sheet'!B192=\"Vehicle\",8,0)","v":0},{"$f":"IF('Data Collection Sheet'!B192=\"Other\",15,0)","v":0},{"$f":"IF('Data Collection Sheet'!I192=\"Bad\",(-0.8*$T189),0)","v":0},{"$f":"IF('Data Collection Sheet'!I192=\"Fair\",(-0.5*$T189),0)","v":0},{"$f":"IF('Data Collection Sheet'!I192=\"Good\",(-0.2*$T189),0)","v":0},{"$f":"IF('Data Collection Sheet'!I192=\"Great\",0,0)","v":0},null,0,0,0,null,null,null,{"$f":"IF('Consequence of Failure'!F192=\"No\",1,0)","v":0},{"$f":"IF('Consequence of Failure'!G192=\"0%-25%\",0.5,0)","v":0},{"$f":"IF('Consequence of Failure'!G192=\"26%-50%\",1,0)","v":0},{"$f":"IF('Consequence of Failure'!G192=\"51%-75%\",1.5,0)","v":0},{"$f":"IF('Consequence of Failure'!G192=\"76%-100%\",2,0)","v":0},{"$f":"IF('Consequence of Failure'!H192=\"Yes\",1,0)","v":0},{"$f":"IF('Consequence of Failure'!I192=\"Yes\",1,0)","v":0},null,0,null,{"$f":"IF('Consequence of Failure'!K192=\"Yes\",1,0)","v":0},{"$f":"IF('Consequence of Failure'!L192=\"Above\",2,0)","v":0},{"$f":"IF('Consequence of Failure'!L192=\"At\",1,0)","v":0},{"$f":"IF('Consequence of Failure'!L192=\"Below\",0,0)","v":0},{"$f":"IF('Consequence of Failure'!M192=\"Yes\",1,0)","v":0},{"$f":"IF('Consequence of Failure'!N192=\"Yes\",1,0)","v":0},null,0,null,0]
[{"$f":"IF('Data Collection Sheet'!B193=\"Pump\",15,0)","v":0},{"$f":"IF('Data Collection Sheet'!B193=\"Hydrant\",50,0)","v":0},{"$f":"IF('Data Collection Sheet'!B193=\"Meter\",15,0)","v":0},{"$f":"IF('Data Collection Sheet'!B193=\"Pipe\",80,0)","v":0},{"$f":"IF('Data Collection Sheet'!B193=\"Source\",50,0)","v":0},{"$f":"IF('Data Collection Sheet'!B193=\"Tank\",50,0)","v":0},{"$f":"IF('Data Collection Sheet'!B193=\"Analytical\",10,0)","v":0},{"$f":"IF('Data Collection Sheet'!B193=\"Treatment\",20,0)","v":0},{"$f":"IF('Data Collection Sheet'!B193=\"Valve\",20,0)","v":0},{"$f":"IF('Data Collection Sheet'!B193=\"Control\",15,0)","v":0},{"$f":"IF('Data Collection Sheet'!B193=\"Safety\",10,0)","v":0},{"$f":"IF('Data Collection Sheet'!B193=\"Building\",50,0)","v":0},{"$f":"IF('Data Collection Sheet'!B193=\"Vehicle\",8,0)","v":0},{"$f":"IF('Data Collection Sheet'!B193=\"Other\",15,0)","v":0},{"$f":"IF('Data Collection Sheet'!I193=\"Bad\",(-0.8*$T190),0)","v":0},{"$f":"IF('Data Collection Sheet'!I193=\"Fair\",(-0.5*$T190),0)","v":0},{"$f":"IF('Data Collection Sheet'!I193=\"Good\",(-0.2*$T190),0)","v":0},{"$f":"IF('Data Collection Sheet'!I193=\"Great\",0,0)","v":0},null,0,0,0,null,null,null,{"$f":"IF('Consequence of Failure'!F193=\"No\",1,0)","v":0},{"$f":"IF('Consequence of Failure'!G193=\"0%-25%\",0.5,0)","v":0},{"$f":"IF('Consequence of Failure'!G193=\"26%-50%\",1,0)","v":0},{"$f":"IF('Consequence of Failure'!G193=\"51%-75%\",1.5,0)","v":0},{"$f":"IF('Consequence of Failure'!G193=\"76%-100%\",2,0)","v":0},{"$f":"IF('Consequence of Failure'!H193=\"Yes\",1,0)","v":0},{"$f":"IF('Consequence of Failure'!I193=\"Yes\",1,0)","v":0},null,0,null,{"$f":"IF('Consequence of Failure'!K193=\"Yes\",1,0)","v":0},{"$f":"IF('Consequence of Failure'!L193=\"Above\",2,0)","v":0},{"$f":"IF('Consequence of Failure'!L193=\"At\",1,0)","v":0},{"$f":"IF('Consequence of Failure'!L193=\"Below\",0,0)","v":0},{"$f":"IF('Consequence of Failure'!M193=\"Yes\",1,0)","v":0},{"$f":"IF('Consequence of Failure'!N193=\"Yes\",1,0)","v":0},null,0,null,0]
[{"$f":"IF('Data Collection Sheet'!B194=\"Pump\",15,0)","v":0},{"$f":"IF('Data Collection Sheet'!B194=\"Hydrant\",50,0)","v":0},{"$f":"IF('Data Collection Sheet'!B194=\"Meter\",15,0)","v":0},{"$f":"IF('Data Collection Sheet'!B194=\"Pipe\",80,0)","v":0},{"$f":"IF('Data Collection Sheet'!B194=\"Source\",50,0)","v":0},{"$f":"IF('Data Collection Sheet'!B194=\"Tank\",50,0)","v":0},{"$f":"IF('Data Collection Sheet'!B194=\"Analytical\",10,0)","v":0},{"$f":"IF('Data Collection Sheet'!B194=\"Treatment\",20,0)","v":0},{"$f":"IF('Data Collection Sheet'!B194=\"Valve\",20,0)","v":0},{"$f":"IF('Data Collection Sheet'!B194=\"Control\",15,0)","v":0},{"$f":"IF('Data Collection Sheet'!B194=\"Safety\",10,0)","v":0},{"$f":"IF('Data Collection Sheet'!B194=\"Building\",50,0)","v":0},{"$f":"IF('Data Collection Sheet'!B194=\"Vehicle\",8,0)","v":0},{"$f":"IF('Data Collection Sheet'!B194=\"Other\",15,0)","v":0},{"$f":"IF('Data Collection Sheet'!I194=\"Bad\",(-0.8*$T191),0)","v":0},{"$f":"IF('Data Collection Sheet'!I194=\"Fair\",(-0.5*$T191),0)","v":0},{"$f":"IF('Data Collection Sheet'!I194=\"Good\",(-0.2*$T191),0)","v":0},{"$f":"IF('Data Collection Sheet'!I194=\"Great\",0,0)","v":0},null,0,0,0,null,null,null,{"$f":"IF('Consequence of Failure'!F194=\"No\",1,0)","v":0},{"$f":"IF('Consequence of Failure'!G194=\"0%-25%\",0.5,0)","v":0},{"$f":"IF('Consequence of Failure'!G194=\"26%-50%\",1,0)","v":0},{"$f":"IF('Consequence of Failure'!G194=\"51%-75%\",1.5,0)","v":0},{"$f":"IF('Consequence of Failure'!G194=\"76%-100%\",2,0)","v":0},{"$f":"IF('Consequence of Failure'!H194=\"Yes\",1,0)","v":0},{"$f":"IF('Consequence of Failure'!I194=\"Yes\",1,0)","v":0},null,0,null,{"$f":"IF('Consequence of Failure'!K194=\"Yes\",1,0)","v":0},{"$f":"IF('Consequence of Failure'!L194=\"Above\",2,0)","v":0},{"$f":"IF('Consequence of Failure'!L194=\"At\",1,0)","v":0},{"$f":"IF('Consequence of Failure'!L194=\"Below\",0,0)","v":0},{"$f":"IF('Consequence of Failure'!M194=\"Yes\",1,0)","v":0},{"$f":"IF('Consequence of Failure'!N194=\"Yes\",1,0)","v":0},null,0,null,0]
[{"$f":"IF('Data Collection Sheet'!B195=\"Pump\",15,0)","v":0},{"$f":"IF('Data Collection Sheet'!B195=\"Hydrant\",50,0)","v":0},{"$f":"IF('Data Collection Sheet'!B195=\"Meter\",15,0)","v":0},{"$f":"IF('Data Collection Sheet'!B195=\"Pipe\",80,0)","v":0},{"$f":"IF('Data Collection Sheet'!B195=\"Source\",50,0)","v":0},{"$f":"IF('Data Collection Sheet'!B195=\"Tank\",50,0)","v":0},{"$f":"IF('Data Collection Sheet'!B195=\"Analytical\",10,0)","v":0},{"$f":"IF('Data Collection Sheet'!B195=\"Treatment\",20,0)","v":0},{"$f":"IF('Data Collection Sheet'!B195=\"Valve\",20,0)","v":0},{"$f":"IF('Data Collection Sheet'!B195=\"Control\",15,0)","v":0},{"$f":"IF('Data Collection Sheet'!B195=\"Safety\",10,0)","v":0},{"$f":"IF('Data Collection Sheet'!B195=\"Building\",50,0)","v":0},{"$f":"IF('Data Collection Sheet'!B195=\"Vehicle\",8,0)","v":0},{"$f":"IF('Data Collection Sheet'!B195=\"Other\",15,0)","v":0},{"$f":"IF('Data Collection Sheet'!I195=\"Bad\",(-0.8*$T192),0)","v":0},{"$f":"IF('Data Collection Sheet'!I195=\"Fair\",(-0.5*$T192),0)","v":0},{"$f":"IF('Data Collection Sheet'!I195=\"Good\",(-0.2*$T192),0)","v":0},{"$f":"IF('Data Collection Sheet'!I195=\"Great\",0,0)","v":0},null,0,0,0,null,null,null,{"$f":"IF('Consequence of Failure'!F195=\"No\",1,0)","v":0},{"$f":"IF('Consequence of Failure'!G195=\"0%-25%\",0.5,0)","v":0},{"$f":"IF('Consequence of Failure'!G195=\"26%-50%\",1,0)","v":0},{"$f":"IF('Consequence of Failure'!G195=\"51%-75%\",1.5,0)","v":0},{"$f":"IF('Consequence of Failure'!G195=\"76%-100%\",2,0)","v":0},{"$f":"IF('Consequence of Failure'!H195=\"Yes\",1,0)","v":0},{"$f":"IF('Consequence of Failure'!I195=\"Yes\",1,0)","v":0},null,0,null,{"$f":"IF('Consequence of Failure'!K195=\"Yes\",1,0)","v":0},{"$f":"IF('Consequence of Failure'!L195=\"Above\",2,0)","v":0},{"$f":"IF('Consequence of Failure'!L195=\"At\",1,0)","v":0},{"$f":"IF('Consequence of Failure'!L195=\"Below\",0,0)","v":0},{"$f":"IF('Consequence of Failure'!M195=\"Yes\",1,0)","v":0},{"$f":"IF('Consequence of Failure'!N195=\"Yes\",1,0)","v":0},null,0,null,0]
[{"$f":"IF('Data Collection Sheet'!B196=\"Pump\",15,0)","v":0},{"$f":"IF('Data Collection Sheet'!B196=\"Hydrant\",50,0)","v":0},{"$f":"IF('Data Collection Sheet'!B196=\"Meter\",15,0)","v":0},{"$f":"IF('Data Collection Sheet'!B196=\"Pipe\",80,0)","v":0},{"$f":"IF('Data Collection Sheet'!B196=\"Source\",50,0)","v":0},{"$f":"IF('Data Collection Sheet'!B196=\"Tank\",50,0)","v":0},{"$f":"IF('Data Collection Sheet'!B196=\"Analytical\",10,0)","v":0},{"$f":"IF('Data Collection Sheet'!B196=\"Treatment\",20,0)","v":0},{"$f":"IF('Data Collection Sheet'!B196=\"Valve\",20,0)","v":0},{"$f":"IF('Data Collection Sheet'!B196=\"Control\",15,0)","v":0},{"$f":"IF('Data Collection Sheet'!B196=\"Safety\",10,0)","v":0},{"$f":"IF('Data Collection Sheet'!B196=\"Building\",50,0)","v":0},{"$f":"IF('Data Collection Sheet'!B196=\"Vehicle\",8,0)","v":0},{"$f":"IF('Data Collection Sheet'!B196=\"Other\",15,0)","v":0},{"$f":"IF('Data Collection Sheet'!I196=\"Bad\",(-0.8*$T193),0)","v":0},{"$f":"IF('Data Collection Sheet'!I196=\"Fair\",(-0.5*$T193),0)","v":0},{"$f":"IF('Data Collection Sheet'!I196=\"Good\",(-0.2*$T193),0)","v":0},{"$f":"IF('Data Collection Sheet'!I196=\"Great\",0,0)","v":0},null,0,0,0,null,null,null,{"$f":"IF('Consequence of Failure'!F196=\"No\",1,0)","v":0},{"$f":"IF('Consequence of Failure'!G196=\"0%-25%\",0.5,0)","v":0},{"$f":"IF('Consequence of Failure'!G196=\"26%-50%\",1,0)","v":0},{"$f":"IF('Consequence of Failure'!G196=\"51%-75%\",1.5,0)","v":0},{"$f":"IF('Consequence of Failure'!G196=\"76%-100%\",2,0)","v":0},{"$f":"IF('Consequence of Failure'!H196=\"Yes\",1,0)","v":0},{"$f":"IF('Consequence of Failure'!I196=\"Yes\",1,0)","v":0},null,0,null,{"$f":"IF('Consequence of Failure'!K196=\"Yes\",1,0)","v":0},{"$f":"IF('Consequence of Failure'!L196=\"Above\",2,0)","v":0},{"$f":"IF('Consequence of Failure'!L196=\"At\",1,0)","v":0},{"$f":"IF('Consequence of Failure'!L196=\"Below\",0,0)","v":0},{"$f":"IF('Consequence of Failure'!M196=\"Yes\",1,0)","v":0},{"$f":"IF('Consequence of Failure'!N196=\"Yes\",1,0)","v":0},null,0,null,0]
[{"$f":"IF('Data Collection Sheet'!B197=\"Pump\",15,0)","v":0},{"$f":"IF('Data Collection Sheet'!B197=\"Hydrant\",50,0)","v":0},{"$f":"IF('Data Collection Sheet'!B197=\"Meter\",15,0)","v":0},{"$f":"IF('Data Collection Sheet'!B197=\"Pipe\",80,0)","v":0},{"$f":"IF('Data Collection Sheet'!B197=\"Source\",50,0)","v":0},{"$f":"IF('Data Collection Sheet'!B197=\"Tank\",50,0)","v":0},{"$f":"IF('Data Collection Sheet'!B197=\"Analytical\",10,0)","v":0},{"$f":"IF('Data Collection Sheet'!B197=\"Treatment\",20,0)","v":0},{"$f":"IF('Data Collection Sheet'!B197=\"Valve\",20,0)","v":0},{"$f":"IF('Data Collection Sheet'!B197=\"Control\",15,0)","v":0},{"$f":"IF('Data Collection Sheet'!B197=\"Safety\",10,0)","v":0},{"$f":"IF('Data Collection Sheet'!B197=\"Building\",50,0)","v":0},{"$f":"IF('Data Collection Sheet'!B197=\"Vehicle\",8,0)","v":0},{"$f":"IF('Data Collection Sheet'!B197=\"Other\",15,0)","v":0},{"$f":"IF('Data Collection Sheet'!I197=\"Bad\",(-0.8*$T194),0)","v":0},{"$f":"IF('Data Collection Sheet'!I197=\"Fair\",(-0.5*$T194),0)","v":0},{"$f":"IF('Data Collection Sheet'!I197=\"Good\",(-0.2*$T194),0)","v":0},{"$f":"IF('Data Collection Sheet'!I197=\"Great\",0,0)","v":0},null,0,0,0,null,null,null,{"$f":"IF('Consequence of Failure'!F197=\"No\",1,0)","v":0},{"$f":"IF('Consequence of Failure'!G197=\"0%-25%\",0.5,0)","v":0},{"$f":"IF('Consequence of Failure'!G197=\"26%-50%\",1,0)","v":0},{"$f":"IF('Consequence of Failure'!G197=\"51%-75%\",1.5,0)","v":0},{"$f":"IF('Consequence of Failure'!G197=\"76%-100%\",2,0)","v":0},{"$f":"IF('Consequence of Failure'!H197=\"Yes\",1,0)","v":0},{"$f":"IF('Consequence of Failure'!I197=\"Yes\",1,0)","v":0},null,0,null,{"$f":"IF('Consequence of Failure'!K197=\"Yes\",1,0)","v":0},{"$f":"IF('Consequence of Failure'!L197=\"Above\",2,0)","v":0},{"$f":"IF('Consequence of Failure'!L197=\"At\",1,0)","v":0},{"$f":"IF('Consequence of Failure'!L197=\"Below\",0,0)","v":0},{"$f":"IF('Consequence of Failure'!M197=\"Yes\",1,0)","v":0},{"$f":"IF('Consequence of Failure'!N197=\"Yes\",1,0)","v":0},null,0,null,0]
[{"$f":"IF('Data Collection Sheet'!B198=\"Pump\",15,0)","v":0},{"$f":"IF('Data Collection Sheet'!B198=\"Hydrant\",50,0)","v":0},{"$f":"IF('Data Collection Sheet'!B198=\"Meter\",15,0)","v":0},{"$f":"IF('Data Collection Sheet'!B198=\"Pipe\",80,0)","v":0},{"$f":"IF('Data Collection Sheet'!B198=\"Source\",50,0)","v":0},{"$f":"IF('Data Collection Sheet'!B198=\"Tank\",50,0)","v":0},{"$f":"IF('Data Collection Sheet'!B198=\"Analytical\",10,0)","v":0},{"$f":"IF('Data Collection Sheet'!B198=\"Treatment\",20,0)","v":0},{"$f":"IF('Data Collection Sheet'!B198=\"Valve\",20,0)","v":0},{"$f":"IF('Data Collection Sheet'!B198=\"Control\",15,0)","v":0},{"$f":"IF('Data Collection Sheet'!B198=\"Safety\",10,0)","v":0},{"$f":"IF('Data Collection Sheet'!B198=\"Building\",50,0)","v":0},{"$f":"IF('Data Collection Sheet'!B198=\"Vehicle\",8,0)","v":0},{"$f":"IF('Data Collection Sheet'!B198=\"Other\",15,0)","v":0},{"$f":"IF('Data Collection Sheet'!I198=\"Bad\",(-0.8*$T195),0)","v":0},{"$f":"IF('Data Collection Sheet'!I198=\"Fair\",(-0.5*$T195),0)","v":0},{"$f":"IF('Data Collection Sheet'!I198=\"Good\",(-0.2*$T195),0)","v":0},{"$f":"IF('Data Collection Sheet'!I198=\"Great\",0,0)","v":0},null,{"$f":"SUM(A195:N195)","v":0},{"$f":"SUM($A195:$R195)","v":0},{"$f":"ROUNDDOWN($U195,0)","v":0},null,null,null,{"$f":"IF('Consequence of Failure'!F198=\"No\",1,0)","v":0},{"$f":"IF('Consequence of Failure'!G198=\"0%-25%\",0.5,0)","v":0},{"$f":"IF('Consequence of Failure'!G198=\"26%-50%\",1,0)","v":0},{"$f":"IF('Consequence of Failure'!G198=\"51%-75%\",1.5,0)","v":0},{"$f":"IF('Consequence of Failure'!G198=\"76%-100%\",2,0)","v":0},{"$f":"IF('Consequence of Failure'!H198=\"Yes\",1,0)","v":0},{"$f":"IF('Consequence of Failure'!I198=\"Yes\",1,0)","v":0},null,0,null,{"$f":"IF('Consequence of Failure'!K198=\"Yes\",1,0)","v":0},{"$f":"IF('Consequence of Failure'!L198=\"Above\",2,0)","v":0},{"$f":"IF('Consequence of Failure'!L198=\"At\",1,0)","v":0},{"$f":"IF('Consequence of Failure'!L198=\"Below\",0,0)","v":0},{"$f":"IF('Consequence of Failure'!M198=\"Yes\",1,0)","v":0},{"$f":"IF('Consequence of Failure'!N198=\"Yes\",1,0)","v":0},null,0,null,0]
[{"$f":"IF('Data Collection Sheet'!B199=\"Pump\",15,0)","v":0},{"$f":"IF('Data Collection Sheet'!B199=\"Hydrant\",50,0)","v":0},{"$f":"IF('Data Collection Sheet'!B199=\"Meter\",15,0)","v":0},{"$f":"IF('Data Collection Sheet'!B199=\"Pipe\",80,0)","v":0},{"$f":"IF('Data Collection Sheet'!B199=\"Source\",50,0)","v":0},{"$f":"IF('Data Collection Sheet'!B199=\"Tank\",50,0)","v":0},{"$f":"IF('Data Collection Sheet'!B199=\"Analytical\",10,0)","v":0},{"$f":"IF('Data Collection Sheet'!B199=\"Treatment\",20,0)","v":0},{"$f":"IF('Data Collection Sheet'!B199=\"Valve\",20,0)","v":0},{"$f":"IF('Data Collection Sheet'!B199=\"Control\",15,0)","v":0},{"$f":"IF('Data Collection Sheet'!B199=\"Safety\",10,0)","v":0},{"$f":"IF('Data Collection Sheet'!B199=\"Building\",50,0)","v":0},{"$f":"IF('Data Collection Sheet'!B199=\"Vehicle\",8,0)","v":0},{"$f":"IF('Data Collection Sheet'!B199=\"Other\",15,0)","v":0},{"$f":"IF('Data Collection Sheet'!I199=\"Bad\",(-0.8*$T196),0)","v":0},{"$f":"IF('Data Collection Sheet'!I199=\"Fair\",(-0.5*$T196),0)","v":0},{"$f":"IF('Data Collection Sheet'!I199=\"Good\",(-0.2*$T196),0)","v":0},{"$f":"IF('Data Collection Sheet'!I199=\"Great\",0,0)","v":0},null,0,0,0,null,null,null,{"$f":"IF('Consequence of Failure'!F199=\"No\",1,0)","v":0},{"$f":"IF('Consequence of Failure'!G199=\"0%-25%\",0.5,0)","v":0},{"$f":"IF('Consequence of Failure'!G199=\"26%-50%\",1,0)","v":0},{"$f":"IF('Consequence of Failure'!G199=\"51%-75%\",1.5,0)","v":0},{"$f":"IF('Consequence of Failure'!G199=\"76%-100%\",2,0)","v":0},{"$f":"IF('Consequence of Failure'!H199=\"Yes\",1,0)","v":0},{"$f":"IF('Consequence of Failure'!I199=\"Yes\",1,0)","v":0},null,0,null,{"$f":"IF('Consequence of Failure'!K199=\"Yes\",1,0)","v":0},{"$f":"IF('Consequence of Failure'!L199=\"Above\",2,0)","v":0},{"$f":"IF('Consequence of Failure'!L199=\"At\",1,0)","v":0},{"$f":"IF('Consequence of Failure'!L199=\"Below\",0,0)","v":0},{"$f":"IF('Consequence of Failure'!M199=\"Yes\",1,0)","v":0},{"$f":"IF('Consequence of Failure'!N199=\"Yes\",1,0)","v":0},null,0,null,0]
[{"$f":"IF('Data Collection Sheet'!B200=\"Pump\",15,0)","v":0},{"$f":"IF('Data Collection Sheet'!B200=\"Hydrant\",50,0)","v":0},{"$f":"IF('Data Collection Sheet'!B200=\"Meter\",15,0)","v":0},{"$f":"IF('Data Collection Sheet'!B200=\"Pipe\",80,0)","v":0},{"$f":"IF('Data Collection Sheet'!B200=\"Source\",50,0)","v":0},{"$f":"IF('Data Collection Sheet'!B200=\"Tank\",50,0)","v":0},{"$f":"IF('Data Collection Sheet'!B200=\"Analytical\",10,0)","v":0},{"$f":"IF('Data Collection Sheet'!B200=\"Treatment\",20,0)","v":0},{"$f":"IF('Data Collection Sheet'!B200=\"Valve\",20,0)","v":0},{"$f":"IF('Data Collection Sheet'!B200=\"Control\",15,0)","v":0},{"$f":"IF('Data Collection Sheet'!B200=\"Safety\",10,0)","v":0},{"$f":"IF('Data Collection Sheet'!B200=\"Building\",50,0)","v":0},{"$f":"IF('Data Collection Sheet'!B200=\"Vehicle\",8,0)","v":0},{"$f":"IF('Data Collection Sheet'!B200=\"Other\",15,0)","v":0},{"$f":"IF('Data Collection Sheet'!I200=\"Bad\",(-0.8*$T197),0)","v":0},{"$f":"IF('Data Collection Sheet'!I200=\"Fair\",(-0.5*$T197),0)","v":0},{"$f":"IF('Data Collection Sheet'!I200=\"Good\",(-0.2*$T197),0)","v":0},{"$f":"IF('Data Collection Sheet'!I200=\"Great\",0,0)","v":0},null,0,0,0,null,null,null,{"$f":"IF('Consequence of Failure'!F200=\"No\",1,0)","v":0},{"$f":"IF('Consequence of Failure'!G200=\"0%-25%\",0.5,0)","v":0},{"$f":"IF('Consequence of Failure'!G200=\"26%-50%\",1,0)","v":0},{"$f":"IF('Consequence of Failure'!G200=\"51%-75%\",1.5,0)","v":0},{"$f":"IF('Consequence of Failure'!G200=\"76%-100%\",2,0)","v":0},{"$f":"IF('Consequence of Failure'!H200=\"Yes\",1,0)","v":0},{"$f":"IF('Consequence of Failure'!I200=\"Yes\",1,0)","v":0},null,{"$f":"SUM(Z197:AF197)","v":0},null,{"$f":"IF('Consequence of Failure'!K200=\"Yes\",1,0)","v":0},{"$f":"IF('Consequence of Failure'!L200=\"Above\",2,0)","v":0},{"$f":"IF('Consequence of Failure'!L200=\"At\",1,0)","v":0},{"$f":"IF('Consequence of Failure'!L200=\"Below\",0,0)","v":0},{"$f":"IF('Consequence of Failure'!M200=\"Yes\",1,0)","v":0},{"$f":"IF('Consequence of Failure'!N200=\"Yes\",1,0)","v":0},null,{"$f":"SUM(AJ197:AO197)","v":0},null,{"$f":"SUM(AH197*AQ197)","v":0}]
[{"$f":"IF('Data Collection Sheet'!B201=\"Pump\",15,0)","v":0},{"$f":"IF('Data Collection Sheet'!B201=\"Hydrant\",50,0)","v":0},{"$f":"IF('Data Collection Sheet'!B201=\"Meter\",15,0)","v":0},{"$f":"IF('Data Collection Sheet'!B201=\"Pipe\",80,0)","v":0},{"$f":"IF('Data Collection Sheet'!B201=\"Source\",50,0)","v":0},{"$f":"IF('Data Collection Sheet'!B201=\"Tank\",50,0)","v":0},{"$f":"IF('Data Collection Sheet'!B201=\"Analytical\",10,0)","v":0},{"$f":"IF('Data Collection Sheet'!B201=\"Treatment\",20,0)","v":0},{"$f":"IF('Data Collection Sheet'!B201=\"Valve\",20,0)","v":0},{"$f":"IF('Data Collection Sheet'!B201=\"Control\",15,0)","v":0},{"$f":"IF('Data Collection Sheet'!B201=\"Safety\",10,0)","v":0},{"$f":"IF('Data Collection Sheet'!B201=\"Building\",50,0)","v":0},{"$f":"IF('Data Collection Sheet'!B201=\"Vehicle\",8,0)","v":0},{"$f":"IF('Data Collection Sheet'!B201=\"Other\",15,0)","v":0},{"$f":"IF('Data Collection Sheet'!I201=\"Bad\",(-0.8*$T198),0)","v":0},{"$f":"IF('Data Collection Sheet'!I201=\"Fair\",(-0.5*$T198),0)","v":0},{"$f":"IF('Data Collection Sheet'!I201=\"Good\",(-0.2*$T198),0)","v":0},{"$f":"IF('Data Collection Sheet'!I201=\"Great\",0,0)","v":0},null,0,0,0,null,null,null,{"$f":"IF('Consequence of Failure'!F201=\"No\",1,0)","v":0},{"$f":"IF('Consequence of Failure'!G201=\"0%-25%\",0.5,0)","v":0},{"$f":"IF('Consequence of Failure'!G201=\"26%-50%\",1,0)","v":0},{"$f":"IF('Consequence of Failure'!G201=\"51%-75%\",1.5,0)","v":0},{"$f":"IF('Consequence of Failure'!G201=\"76%-100%\",2,0)","v":0},{"$f":"IF('Consequence of Failure'!H201=\"Yes\",1,0)","v":0},{"$f":"IF('Consequence of Failure'!I201=\"Yes\",1,0)","v":0},null,0,null,{"$f":"IF('Consequence of Failure'!K201=\"Yes\",1,0)","v":0},{"$f":"IF('Consequence of Failure'!L201=\"Above\",2,0)","v":0},{"$f":"IF('Consequence of Failure'!L201=\"At\",1,0)","v":0},{"$f":"IF('Consequence of Failure'!L201=\"Below\",0,0)","v":0},{"$f":"IF('Consequence of Failure'!M201=\"Yes\",1,0)","v":0},{"$f":"IF('Consequence of Failure'!N201=\"Yes\",1,0)","v":0},null,0,null,0]
[{"$f":"IF('Data Collection Sheet'!B202=\"Pump\",15,0)","v":0},{"$f":"IF('Data Collection Sheet'!B202=\"Hydrant\",50,0)","v":0},{"$f":"IF('Data Collection Sheet'!B202=\"Meter\",15,0)","v":0},{"$f":"IF('Data Collection Sheet'!B202=\"Pipe\",80,0)","v":0},{"$f":"IF('Data Collection Sheet'!B202=\"Source\",50,0)","v":0},{"$f":"IF('Data Collection Sheet'!B202=\"Tank\",50,0)","v":0},{"$f":"IF('Data Collection Sheet'!B202=\"Analytical\",10,0)","v":0},{"$f":"IF('Data Collection Sheet'!B202=\"Treatment\",20,0)","v":0},{"$f":"IF('Data Collection Sheet'!B202=\"Valve\",20,0)","v":0},{"$f":"IF('Data Collection Sheet'!B202=\"Control\",15,0)","v":0},{"$f":"IF('Data Collection Sheet'!B202=\"Safety\",10,0)","v":0},{"$f":"IF('Data Collection Sheet'!B202=\"Building\",50,0)","v":0},{"$f":"IF('Data Collection Sheet'!B202=\"Vehicle\",8,0)","v":0},{"$f":"IF('Data Collection Sheet'!B202=\"Other\",15,0)","v":0},{"$f":"IF('Data Collection Sheet'!I202=\"Bad\",(-0.8*$T199),0)","v":0},{"$f":"IF('Data Collection Sheet'!I202=\"Fair\",(-0.5*$T199),0)","v":0},{"$f":"IF('Data Collection Sheet'!I202=\"Good\",(-0.2*$T199),0)","v":0},{"$f":"IF('Data Collection Sheet'!I202=\"Great\",0,0)","v":0},null,0,0,0,null,null,null,{"$f":"IF('Consequence of Failure'!F202=\"No\",1,0)","v":0},{"$f":"IF('Consequence of Failure'!G202=\"0%-25%\",0.5,0)","v":0},{"$f":"IF('Consequence of Failure'!G202=\"26%-50%\",1,0)","v":0},{"$f":"IF('Consequence of Failure'!G202=\"51%-75%\",1.5,0)","v":0},{"$f":"IF('Consequence of Failure'!G202=\"76%-100%\",2,0)","v":0},{"$f":"IF('Consequence of Failure'!H202=\"Yes\",1,0)","v":0},{"$f":"IF('Consequence of Failure'!I202=\"Yes\",1,0)","v":0},null,0,null,{"$f":"IF('Consequence of Failure'!K202=\"Yes\",1,0)","v":0},{"$f":"IF('Consequence of Failure'!L202=\"Above\",2,0)","v":0},{"$f":"IF('Consequence of Failure'!L202=\"At\",1,0)","v":0},{"$f":"IF('Consequence of Failure'!L202=\"Below\",0,0)","v":0},{"$f":"IF('Consequence of Failure'!M202=\"Yes\",1,0)","v":0},{"$f":"IF('Consequence of Failure'!N202=\"Yes\",1,0)","v":0},null,0,null,0]
[{"$f":"IF('Data Collection Sheet'!B203=\"Pump\",15,0)","v":0},{"$f":"IF('Data Collection Sheet'!B203=\"Hydrant\",50,0)","v":0},{"$f":"IF('Data Collection Sheet'!B203=\"Meter\",15,0)","v":0},{"$f":"IF('Data Collection Sheet'!B203=\"Pipe\",80,0)","v":0},{"$f":"IF('Data Collection Sheet'!B203=\"Source\",50,0)","v":0},{"$f":"IF('Data Collection Sheet'!B203=\"Tank\",50,0)","v":0},{"$f":"IF('Data Collection Sheet'!B203=\"Analytical\",10,0)","v":0},{"$f":"IF('Data Collection Sheet'!B203=\"Treatment\",20,0)","v":0},{"$f":"IF('Data Collection Sheet'!B203=\"Valve\",20,0)","v":0},{"$f":"IF('Data Collection Sheet'!B203=\"Control\",15,0)","v":0},{"$f":"IF('Data Collection Sheet'!B203=\"Safety\",10,0)","v":0},{"$f":"IF('Data Collection Sheet'!B203=\"Building\",50,0)","v":0},{"$f":"IF('Data Collection Sheet'!B203=\"Vehicle\",8,0)","v":0},{"$f":"IF('Data Collection Sheet'!B203=\"Other\",15,0)","v":0},{"$f":"IF('Data Collection Sheet'!I203=\"Bad\",(-0.8*$T200),0)","v":0},{"$f":"IF('Data Collection Sheet'!I203=\"Fair\",(-0.5*$T200),0)","v":0},{"$f":"IF('Data Collection Sheet'!I203=\"Good\",(-0.2*$T200),0)","v":0},{"$f":"IF('Data Collection Sheet'!I203=\"Great\",0,0)","v":0},null,0,0,0,null,null,null,{"$f":"IF('Consequence of Failure'!F203=\"No\",1,0)","v":0},{"$f":"IF('Consequence of Failure'!G203=\"0%-25%\",0.5,0)","v":0},{"$f":"IF('Consequence of Failure'!G203=\"26%-50%\",1,0)","v":0},{"$f":"IF('Consequence of Failure'!G203=\"51%-75%\",1.5,0)","v":0},{"$f":"IF('Consequence of Failure'!G203=\"76%-100%\",2,0)","v":0},{"$f":"IF('Consequence of Failure'!H203=\"Yes\",1,0)","v":0},{"$f":"IF('Consequence of Failure'!I203=\"Yes\",1,0)","v":0},null,0,null,{"$f":"IF('Consequence of Failure'!K203=\"Yes\",1,0)","v":0},{"$f":"IF('Consequence of Failure'!L203=\"Above\",2,0)","v":0},{"$f":"IF('Consequence of Failure'!L203=\"At\",1,0)","v":0},{"$f":"IF('Consequence of Failure'!L203=\"Below\",0,0)","v":0},{"$f":"IF('Consequence of Failure'!M203=\"Yes\",1,0)","v":0},{"$f":"IF('Consequence of Failure'!N203=\"Yes\",1,0)","v":0},null,0,null,0]
[{"$f":"IF('Data Collection Sheet'!B204=\"Pump\",15,0)","v":0},{"$f":"IF('Data Collection Sheet'!B204=\"Hydrant\",50,0)","v":0},{"$f":"IF('Data Collection Sheet'!B204=\"Meter\",15,0)","v":0},{"$f":"IF('Data Collection Sheet'!B204=\"Pipe\",80,0)","v":0},{"$f":"IF('Data Collection Sheet'!B204=\"Source\",50,0)","v":0},{"$f":"IF('Data Collection Sheet'!B204=\"Tank\",50,0)","v":0},{"$f":"IF('Data Collection Sheet'!B204=\"Analytical\",10,0)","v":0},{"$f":"IF('Data Collection Sheet'!B204=\"Treatment\",20,0)","v":0},{"$f":"IF('Data Collection Sheet'!B204=\"Valve\",20,0)","v":0},{"$f":"IF('Data Collection Sheet'!B204=\"Control\",15,0)","v":0},{"$f":"IF('Data Collection Sheet'!B204=\"Safety\",10,0)","v":0},{"$f":"IF('Data Collection Sheet'!B204=\"Building\",50,0)","v":0},{"$f":"IF('Data Collection Sheet'!B204=\"Vehicle\",8,0)","v":0},{"$f":"IF('Data Collection Sheet'!B204=\"Other\",15,0)","v":0},{"$f":"IF('Data Collection Sheet'!I204=\"Bad\",(-0.8*$T201),0)","v":0},{"$f":"IF('Data Collection Sheet'!I204=\"Fair\",(-0.5*$T201),0)","v":0},{"$f":"IF('Data Collection Sheet'!I204=\"Good\",(-0.2*$T201),0)","v":0},{"$f":"IF('Data Collection Sheet'!I204=\"Great\",0,0)","v":0},null,0,0,0,null,null,null,{"$f":"IF('Consequence of Failure'!F204=\"No\",1,0)","v":0},{"$f":"IF('Consequence of Failure'!G204=\"0%-25%\",0.5,0)","v":0},{"$f":"IF('Consequence of Failure'!G204=\"26%-50%\",1,0)","v":0},{"$f":"IF('Consequence of Failure'!G204=\"51%-75%\",1.5,0)","v":0},{"$f":"IF('Consequence of Failure'!G204=\"76%-100%\",2,0)","v":0},{"$f":"IF('Consequence of Failure'!H204=\"Yes\",1,0)","v":0},{"$f":"IF('Consequence of Failure'!I204=\"Yes\",1,0)","v":0},null,0,null,{"$f":"IF('Consequence of Failure'!K204=\"Yes\",1,0)","v":0},{"$f":"IF('Consequence of Failure'!L204=\"Above\",2,0)","v":0},{"$f":"IF('Consequence of Failure'!L204=\"At\",1,0)","v":0},{"$f":"IF('Consequence of Failure'!L204=\"Below\",0,0)","v":0},{"$f":"IF('Consequence of Failure'!M204=\"Yes\",1,0)","v":0},{"$f":"IF('Consequence of Failure'!N204=\"Yes\",1,0)","v":0},null,0,null,0]
[{"$f":"IF('Data Collection Sheet'!B205=\"Pump\",15,0)","v":0},{"$f":"IF('Data Collection Sheet'!B205=\"Hydrant\",50,0)","v":0},{"$f":"IF('Data Collection Sheet'!B205=\"Meter\",15,0)","v":0},{"$f":"IF('Data Collection Sheet'!B205=\"Pipe\",80,0)","v":0},{"$f":"IF('Data Collection Sheet'!B205=\"Source\",50,0)","v":0},{"$f":"IF('Data Collection Sheet'!B205=\"Tank\",50,0)","v":0},{"$f":"IF('Data Collection Sheet'!B205=\"Analytical\",10,0)","v":0},{"$f":"IF('Data Collection Sheet'!B205=\"Treatment\",20,0)","v":0},{"$f":"IF('Data Collection Sheet'!B205=\"Valve\",20,0)","v":0},{"$f":"IF('Data Collection Sheet'!B205=\"Control\",15,0)","v":0},{"$f":"IF('Data Collection Sheet'!B205=\"Safety\",10,0)","v":0},{"$f":"IF('Data Collection Sheet'!B205=\"Building\",50,0)","v":0},{"$f":"IF('Data Collection Sheet'!B205=\"Vehicle\",8,0)","v":0},{"$f":"IF('Data Collection Sheet'!B205=\"Other\",15,0)","v":0},{"$f":"IF('Data Collection Sheet'!I205=\"Bad\",(-0.8*$T202),0)","v":0},{"$f":"IF('Data Collection Sheet'!I205=\"Fair\",(-0.5*$T202),0)","v":0},{"$f":"IF('Data Collection Sheet'!I205=\"Good\",(-0.2*$T202),0)","v":0},{"$f":"IF('Data Collection Sheet'!I205=\"Great\",0,0)","v":0},null,0,0,0,null,null,null,{"$f":"IF('Consequence of Failure'!F205=\"No\",1,0)","v":0},{"$f":"IF('Consequence of Failure'!G205=\"0%-25%\",0.5,0)","v":0},{"$f":"IF('Consequence of Failure'!G205=\"26%-50%\",1,0)","v":0},{"$f":"IF('Consequence of Failure'!G205=\"51%-75%\",1.5,0)","v":0},{"$f":"IF('Consequence of Failure'!G205=\"76%-100%\",2,0)","v":0},{"$f":"IF('Consequence of Failure'!H205=\"Yes\",1,0)","v":0},{"$f":"IF('Consequence of Failure'!I205=\"Yes\",1,0)","v":0},null,0,null,{"$f":"IF('Consequence of Failure'!K205=\"Yes\",1,0)","v":0},{"$f":"IF('Consequence of Failure'!L205=\"Above\",2,0)","v":0},{"$f":"IF('Consequence of Failure'!L205=\"At\",1,0)","v":0},{"$f":"IF('Consequence of Failure'!L205=\"Below\",0,0)","v":0},{"$f":"IF('Consequence of Failure'!M205=\"Yes\",1,0)","v":0},{"$f":"IF('Consequence of Failure'!N205=\"Yes\",1,0)","v":0},null,0,null,0]
[{"$f":"IF('Data Collection Sheet'!B206=\"Pump\",15,0)","v":0},{"$f":"IF('Data Collection Sheet'!B206=\"Hydrant\",50,0)","v":0},{"$f":"IF('Data Collection Sheet'!B206=\"Meter\",15,0)","v":0},{"$f":"IF('Data Collection Sheet'!B206=\"Pipe\",80,0)","v":0},{"$f":"IF('Data Collection Sheet'!B206=\"Source\",50,0)","v":0},{"$f":"IF('Data Collection Sheet'!B206=\"Tank\",50,0)","v":0},{"$f":"IF('Data Collection Sheet'!B206=\"Analytical\",10,0)","v":0},{"$f":"IF('Data Collection Sheet'!B206=\"Treatment\",20,0)","v":0},{"$f":"IF('Data Collection Sheet'!B206=\"Valve\",20,0)","v":0},{"$f":"IF('Data Collection Sheet'!B206=\"Control\",15,0)","v":0},{"$f":"IF('Data Collection Sheet'!B206=\"Safety\",10,0)","v":0},{"$f":"IF('Data Collection Sheet'!B206=\"Building\",50,0)","v":0},{"$f":"IF('Data Collection Sheet'!B206=\"Vehicle\",8,0)","v":0},{"$f":"IF('Data Collection Sheet'!B206=\"Other\",15,0)","v":0},{"$f":"IF('Data Collection Sheet'!I206=\"Bad\",(-0.8*$T203),0)","v":0},{"$f":"IF('Data Collection Sheet'!I206=\"Fair\",(-0.5*$T203),0)","v":0},{"$f":"IF('Data Collection Sheet'!I206=\"Good\",(-0.2*$T203),0)","v":0},{"$f":"IF('Data Collection Sheet'!I206=\"Great\",0,0)","v":0},null,0,0,0,null,null,null,{"$f":"IF('Consequence of Failure'!F206=\"No\",1,0)","v":0},{"$f":"IF('Consequence of Failure'!G206=\"0%-25%\",0.5,0)","v":0},{"$f":"IF('Consequence of Failure'!G206=\"26%-50%\",1,0)","v":0},{"$f":"IF('Consequence of Failure'!G206=\"51%-75%\",1.5,0)","v":0},{"$f":"IF('Consequence of Failure'!G206=\"76%-100%\",2,0)","v":0},{"$f":"IF('Consequence of Failure'!H206=\"Yes\",1,0)","v":0},{"$f":"IF('Consequence of Failure'!I206=\"Yes\",1,0)","v":0},null,0,null,{"$f":"IF('Consequence of Failure'!K206=\"Yes\",1,0)","v":0},{"$f":"IF('Consequence of Failure'!L206=\"Above\",2,0)","v":0},{"$f":"IF('Consequence of Failure'!L206=\"At\",1,0)","v":0},{"$f":"IF('Consequence of Failure'!L206=\"Below\",0,0)","v":0},{"$f":"IF('Consequence of Failure'!M206=\"Yes\",1,0)","v":0},{"$f":"IF('Consequence of Failure'!N206=\"Yes\",1,0)","v":0},null,0,null,0]
[{"$f":"IF('Data Collection Sheet'!B207=\"Pump\",15,0)","v":0},{"$f":"IF('Data Collection Sheet'!B207=\"Hydrant\",50,0)","v":0},{"$f":"IF('Data Collection Sheet'!B207=\"Meter\",15,0)","v":0},{"$f":"IF('Data Collection Sheet'!B207=\"Pipe\",80,0)","v":0},{"$f":"IF('Data Collection Sheet'!B207=\"Source\",50,0)","v":0},{"$f":"IF('Data Collection Sheet'!B207=\"Tank\",50,0)","v":0},{"$f":"IF('Data Collection Sheet'!B207=\"Analytical\",10,0)","v":0},{"$f":"IF('Data Collection Sheet'!B207=\"Treatment\",20,0)","v":0},{"$f":"IF('Data Collection Sheet'!B207=\"Valve\",20,0)","v":0},{"$f":"IF('Data Collection Sheet'!B207=\"Control\",15,0)","v":0},{"$f":"IF('Data Collection Sheet'!B207=\"Safety\",10,0)","v":0},{"$f":"IF('Data Collection Sheet'!B207=\"Building\",50,0)","v":0},{"$f":"IF('Data Collection Sheet'!B207=\"Vehicle\",8,0)","v":0},{"$f":"IF('Data Collection Sheet'!B207=\"Other\",15,0)","v":0},{"$f":"IF('Data Collection Sheet'!I207=\"Bad\",(-0.8*$T204),0)","v":0},{"$f":"IF('Data Collection Sheet'!I207=\"Fair\",(-0.5*$T204),0)","v":0},{"$f":"IF('Data Collection Sheet'!I207=\"Good\",(-0.2*$T204),0)","v":0},{"$f":"IF('Data Collection Sheet'!I207=\"Great\",0,0)","v":0},null,0,0,0,null,null,null,{"$f":"IF('Consequence of Failure'!F207=\"No\",1,0)","v":0},{"$f":"IF('Consequence of Failure'!G207=\"0%-25%\",0.5,0)","v":0},{"$f":"IF('Consequence of Failure'!G207=\"26%-50%\",1,0)","v":0},{"$f":"IF('Consequence of Failure'!G207=\"51%-75%\",1.5,0)","v":0},{"$f":"IF('Consequence of Failure'!G207=\"76%-100%\",2,0)","v":0},{"$f":"IF('Consequence of Failure'!H207=\"Yes\",1,0)","v":0},{"$f":"IF('Consequence of Failure'!I207=\"Yes\",1,0)","v":0},null,0,null,{"$f":"IF('Consequence of Failure'!K207=\"Yes\",1,0)","v":0},{"$f":"IF('Consequence of Failure'!L207=\"Above\",2,0)","v":0},{"$f":"IF('Consequence of Failure'!L207=\"At\",1,0)","v":0},{"$f":"IF('Consequence of Failure'!L207=\"Below\",0,0)","v":0},{"$f":"IF('Consequence of Failure'!M207=\"Yes\",1,0)","v":0},{"$f":"IF('Consequence of Failure'!N207=\"Yes\",1,0)","v":0},null,0,null,0]
[{"$f":"IF('Data Collection Sheet'!B208=\"Pump\",15,0)","v":0},{"$f":"IF('Data Collection Sheet'!B208=\"Hydrant\",50,0)","v":0},{"$f":"IF('Data Collection Sheet'!B208=\"Meter\",15,0)","v":0},{"$f":"IF('Data Collection Sheet'!B208=\"Pipe\",80,0)","v":0},{"$f":"IF('Data Collection Sheet'!B208=\"Source\",50,0)","v":0},{"$f":"IF('Data Collection Sheet'!B208=\"Tank\",50,0)","v":0},{"$f":"IF('Data Collection Sheet'!B208=\"Analytical\",10,0)","v":0},{"$f":"IF('Data Collection Sheet'!B208=\"Treatment\",20,0)","v":0},{"$f":"IF('Data Collection Sheet'!B208=\"Valve\",20,0)","v":0},{"$f":"IF('Data Collection Sheet'!B208=\"Control\",15,0)","v":0},{"$f":"IF('Data Collection Sheet'!B208=\"Safety\",10,0)","v":0},{"$f":"IF('Data Collection Sheet'!B208=\"Building\",50,0)","v":0},{"$f":"IF('Data Collection Sheet'!B208=\"Vehicle\",8,0)","v":0},{"$f":"IF('Data Collection Sheet'!B208=\"Other\",15,0)","v":0},{"$f":"IF('Data Collection Sheet'!I208=\"Bad\",(-0.8*$T205),0)","v":0},{"$f":"IF('Data Collection Sheet'!I208=\"Fair\",(-0.5*$T205),0)","v":0},{"$f":"IF('Data Collection Sheet'!I208=\"Good\",(-0.2*$T205),0)","v":0},{"$f":"IF('Data Collection Sheet'!I208=\"Great\",0,0)","v":0},null,0,0,0,null,null,null,{"$f":"IF('Consequence of Failure'!F208=\"No\",1,0)","v":0},{"$f":"IF('Consequence of Failure'!G208=\"0%-25%\",0.5,0)","v":0},{"$f":"IF('Consequence of Failure'!G208=\"26%-50%\",1,0)","v":0},{"$f":"IF('Consequence of Failure'!G208=\"51%-75%\",1.5,0)","v":0},{"$f":"IF('Consequence of Failure'!G208=\"76%-100%\",2,0)","v":0},{"$f":"IF('Consequence of Failure'!H208=\"Yes\",1,0)","v":0},{"$f":"IF('Consequence of Failure'!I208=\"Yes\",1,0)","v":0},null,0,null,{"$f":"IF('Consequence of Failure'!K208=\"Yes\",1,0)","v":0},{"$f":"IF('Consequence of Failure'!L208=\"Above\",2,0)","v":0},{"$f":"IF('Consequence of Failure'!L208=\"At\",1,0)","v":0},{"$f":"IF('Consequence of Failure'!L208=\"Below\",0,0)","v":0},{"$f":"IF('Consequence of Failure'!M208=\"Yes\",1,0)","v":0},{"$f":"IF('Consequence of Failure'!N208=\"Yes\",1,0)","v":0},null,0,null,0]
[{"$f":"IF('Data Collection Sheet'!B209=\"Pump\",15,0)","v":0},{"$f":"IF('Data Collection Sheet'!B209=\"Hydrant\",50,0)","v":0},{"$f":"IF('Data Collection Sheet'!B209=\"Meter\",15,0)","v":0},{"$f":"IF('Data Collection Sheet'!B209=\"Pipe\",80,0)","v":0},{"$f":"IF('Data Collection Sheet'!B209=\"Source\",50,0)","v":0},{"$f":"IF('Data Collection Sheet'!B209=\"Tank\",50,0)","v":0},{"$f":"IF('Data Collection Sheet'!B209=\"Analytical\",10,0)","v":0},{"$f":"IF('Data Collection Sheet'!B209=\"Treatment\",20,0)","v":0},{"$f":"IF('Data Collection Sheet'!B209=\"Valve\",20,0)","v":0},{"$f":"IF('Data Collection Sheet'!B209=\"Control\",15,0)","v":0},{"$f":"IF('Data Collection Sheet'!B209=\"Safety\",10,0)","v":0},{"$f":"IF('Data Collection Sheet'!B209=\"Building\",50,0)","v":0},{"$f":"IF('Data Collection Sheet'!B209=\"Vehicle\",8,0)","v":0},{"$f":"IF('Data Collection Sheet'!B209=\"Other\",15,0)","v":0},{"$f":"IF('Data Collection Sheet'!I209=\"Bad\",(-0.8*$T206),0)","v":0},{"$f":"IF('Data Collection Sheet'!I209=\"Fair\",(-0.5*$T206),0)","v":0},{"$f":"IF('Data Collection Sheet'!I209=\"Good\",(-0.2*$T206),0)","v":0},{"$f":"IF('Data Collection Sheet'!I209=\"Great\",0,0)","v":0},null,0,0,0,null,null,null,{"$f":"IF('Consequence of Failure'!F209=\"No\",1,0)","v":0},{"$f":"IF('Consequence of Failure'!G209=\"0%-25%\",0.5,0)","v":0},{"$f":"IF('Consequence of Failure'!G209=\"26%-50%\",1,0)","v":0},{"$f":"IF('Consequence of Failure'!G209=\"51%-75%\",1.5,0)","v":0},{"$f":"IF('Consequence of Failure'!G209=\"76%-100%\",2,0)","v":0},{"$f":"IF('Consequence of Failure'!H209=\"Yes\",1,0)","v":0},{"$f":"IF('Consequence of Failure'!I209=\"Yes\",1,0)","v":0},null,0,null,{"$f":"IF('Consequence of Failure'!K209=\"Yes\",1,0)","v":0},{"$f":"IF('Consequence of Failure'!L209=\"Above\",2,0)","v":0},{"$f":"IF('Consequence of Failure'!L209=\"At\",1,0)","v":0},{"$f":"IF('Consequence of Failure'!L209=\"Below\",0,0)","v":0},{"$f":"IF('Consequence of Failure'!M209=\"Yes\",1,0)","v":0},{"$f":"IF('Consequence of Failure'!N209=\"Yes\",1,0)","v":0},null,0,null,0]
[{"$f":"IF('Data Collection Sheet'!B210=\"Pump\",15,0)","v":0},{"$f":"IF('Data Collection Sheet'!B210=\"Hydrant\",50,0)","v":0},{"$f":"IF('Data Collection Sheet'!B210=\"Meter\",15,0)","v":0},{"$f":"IF('Data Collection Sheet'!B210=\"Pipe\",80,0)","v":0},{"$f":"IF('Data Collection Sheet'!B210=\"Source\",50,0)","v":0},{"$f":"IF('Data Collection Sheet'!B210=\"Tank\",50,0)","v":0},{"$f":"IF('Data Collection Sheet'!B210=\"Analytical\",10,0)","v":0},{"$f":"IF('Data Collection Sheet'!B210=\"Treatment\",20,0)","v":0},{"$f":"IF('Data Collection Sheet'!B210=\"Valve\",20,0)","v":0},{"$f":"IF('Data Collection Sheet'!B210=\"Control\",15,0)","v":0},{"$f":"IF('Data Collection Sheet'!B210=\"Safety\",10,0)","v":0},{"$f":"IF('Data Collection Sheet'!B210=\"Building\",50,0)","v":0},{"$f":"IF('Data Collection Sheet'!B210=\"Vehicle\",8,0)","v":0},{"$f":"IF('Data Collection Sheet'!B210=\"Other\",15,0)","v":0},{"$f":"IF('Data Collection Sheet'!I210=\"Bad\",(-0.8*$T207),0)","v":0},{"$f":"IF('Data Collection Sheet'!I210=\"Fair\",(-0.5*$T207),0)","v":0},{"$f":"IF('Data Collection Sheet'!I210=\"Good\",(-0.2*$T207),0)","v":0},{"$f":"IF('Data Collection Sheet'!I210=\"Great\",0,0)","v":0},null,0,0,0,null,null,null,{"$f":"IF('Consequence of Failure'!F210=\"No\",1,0)","v":0},{"$f":"IF('Consequence of Failure'!G210=\"0%-25%\",0.5,0)","v":0},{"$f":"IF('Consequence of Failure'!G210=\"26%-50%\",1,0)","v":0},{"$f":"IF('Consequence of Failure'!G210=\"51%-75%\",1.5,0)","v":0},{"$f":"IF('Consequence of Failure'!G210=\"76%-100%\",2,0)","v":0},{"$f":"IF('Consequence of Failure'!H210=\"Yes\",1,0)","v":0},{"$f":"IF('Consequence of Failure'!I210=\"Yes\",1,0)","v":0},null,0,null,{"$f":"IF('Consequence of Failure'!K210=\"Yes\",1,0)","v":0},{"$f":"IF('Consequence of Failure'!L210=\"Above\",2,0)","v":0},{"$f":"IF('Consequence of Failure'!L210=\"At\",1,0)","v":0},{"$f":"IF('Consequence of Failure'!L210=\"Below\",0,0)","v":0},{"$f":"IF('Consequence of Failure'!M210=\"Yes\",1,0)","v":0},{"$f":"IF('Consequence of Failure'!N210=\"Yes\",1,0)","v":0},null,0,null,0]
[{"$f":"IF('Data Collection Sheet'!B211=\"Pump\",15,0)","v":0},{"$f":"IF('Data Collection Sheet'!B211=\"Hydrant\",50,0)","v":0},{"$f":"IF('Data Collection Sheet'!B211=\"Meter\",15,0)","v":0},{"$f":"IF('Data Collection Sheet'!B211=\"Pipe\",80,0)","v":0},{"$f":"IF('Data Collection Sheet'!B211=\"Source\",50,0)","v":0},{"$f":"IF('Data Collection Sheet'!B211=\"Tank\",50,0)","v":0},{"$f":"IF('Data Collection Sheet'!B211=\"Analytical\",10,0)","v":0},{"$f":"IF('Data Collection Sheet'!B211=\"Treatment\",20,0)","v":0},{"$f":"IF('Data Collection Sheet'!B211=\"Valve\",20,0)","v":0},{"$f":"IF('Data Collection Sheet'!B211=\"Control\",15,0)","v":0},{"$f":"IF('Data Collection Sheet'!B211=\"Safety\",10,0)","v":0},{"$f":"IF('Data Collection Sheet'!B211=\"Building\",50,0)","v":0},{"$f":"IF('Data Collection Sheet'!B211=\"Vehicle\",8,0)","v":0},{"$f":"IF('Data Collection Sheet'!B211=\"Other\",15,0)","v":0},{"$f":"IF('Data Collection Sheet'!I211=\"Bad\",(-0.8*$T208),0)","v":0},{"$f":"IF('Data Collection Sheet'!I211=\"Fair\",(-0.5*$T208),0)","v":0},{"$f":"IF('Data Collection Sheet'!I211=\"Good\",(-0.2*$T208),0)","v":0},{"$f":"IF('Data Collection Sheet'!I211=\"Great\",0,0)","v":0},null,0,0,0,null,null,null,{"$f":"IF('Consequence of Failure'!F211=\"No\",1,0)","v":0},{"$f":"IF('Consequence of Failure'!G211=\"0%-25%\",0.5,0)","v":0},{"$f":"IF('Consequence of Failure'!G211=\"26%-50%\",1,0)","v":0},{"$f":"IF('Consequence of Failure'!G211=\"51%-75%\",1.5,0)","v":0},{"$f":"IF('Consequence of Failure'!G211=\"76%-100%\",2,0)","v":0},{"$f":"IF('Consequence of Failure'!H211=\"Yes\",1,0)","v":0},{"$f":"IF('Consequence of Failure'!I211=\"Yes\",1,0)","v":0},null,0,null,{"$f":"IF('Consequence of Failure'!K211=\"Yes\",1,0)","v":0},{"$f":"IF('Consequence of Failure'!L211=\"Above\",2,0)","v":0},{"$f":"IF('Consequence of Failure'!L211=\"At\",1,0)","v":0},{"$f":"IF('Consequence of Failure'!L211=\"Below\",0,0)","v":0},{"$f":"IF('Consequence of Failure'!M211=\"Yes\",1,0)","v":0},{"$f":"IF('Consequence of Failure'!N211=\"Yes\",1,0)","v":0},null,0,null,0]
[{"$f":"IF('Data Collection Sheet'!B212=\"Pump\",15,0)","v":0},{"$f":"IF('Data Collection Sheet'!B212=\"Hydrant\",50,0)","v":0},{"$f":"IF('Data Collection Sheet'!B212=\"Meter\",15,0)","v":0},{"$f":"IF('Data Collection Sheet'!B212=\"Pipe\",80,0)","v":0},{"$f":"IF('Data Collection Sheet'!B212=\"Source\",50,0)","v":0},{"$f":"IF('Data Collection Sheet'!B212=\"Tank\",50,0)","v":0},{"$f":"IF('Data Collection Sheet'!B212=\"Analytical\",10,0)","v":0},{"$f":"IF('Data Collection Sheet'!B212=\"Treatment\",20,0)","v":0},{"$f":"IF('Data Collection Sheet'!B212=\"Valve\",20,0)","v":0},{"$f":"IF('Data Collection Sheet'!B212=\"Control\",15,0)","v":0},{"$f":"IF('Data Collection Sheet'!B212=\"Safety\",10,0)","v":0},{"$f":"IF('Data Collection Sheet'!B212=\"Building\",50,0)","v":0},{"$f":"IF('Data Collection Sheet'!B212=\"Vehicle\",8,0)","v":0},{"$f":"IF('Data Collection Sheet'!B212=\"Other\",15,0)","v":0},{"$f":"IF('Data Collection Sheet'!I212=\"Bad\",(-0.8*$T209),0)","v":0},{"$f":"IF('Data Collection Sheet'!I212=\"Fair\",(-0.5*$T209),0)","v":0},{"$f":"IF('Data Collection Sheet'!I212=\"Good\",(-0.2*$T209),0)","v":0},{"$f":"IF('Data Collection Sheet'!I212=\"Great\",0,0)","v":0},null,0,0,0,null,null,null,{"$f":"IF('Consequence of Failure'!F212=\"No\",1,0)","v":0},{"$f":"IF('Consequence of Failure'!G212=\"0%-25%\",0.5,0)","v":0},{"$f":"IF('Consequence of Failure'!G212=\"26%-50%\",1,0)","v":0},{"$f":"IF('Consequence of Failure'!G212=\"51%-75%\",1.5,0)","v":0},{"$f":"IF('Consequence of Failure'!G212=\"76%-100%\",2,0)","v":0},{"$f":"IF('Consequence of Failure'!H212=\"Yes\",1,0)","v":0},{"$f":"IF('Consequence of Failure'!I212=\"Yes\",1,0)","v":0},null,0,null,{"$f":"IF('Consequence of Failure'!K212=\"Yes\",1,0)","v":0},{"$f":"IF('Consequence of Failure'!L212=\"Above\",2,0)","v":0},{"$f":"IF('Consequence of Failure'!L212=\"At\",1,0)","v":0},{"$f":"IF('Consequence of Failure'!L212=\"Below\",0,0)","v":0},{"$f":"IF('Consequence of Failure'!M212=\"Yes\",1,0)","v":0},{"$f":"IF('Consequence of Failure'!N212=\"Yes\",1,0)","v":0},null,0,null,0]
[{"$f":"IF('Data Collection Sheet'!B213=\"Pump\",15,0)","v":0},{"$f":"IF('Data Collection Sheet'!B213=\"Hydrant\",50,0)","v":0},{"$f":"IF('Data Collection Sheet'!B213=\"Meter\",15,0)","v":0},{"$f":"IF('Data Collection Sheet'!B213=\"Pipe\",80,0)","v":0},{"$f":"IF('Data Collection Sheet'!B213=\"Source\",50,0)","v":0},{"$f":"IF('Data Collection Sheet'!B213=\"Tank\",50,0)","v":0},{"$f":"IF('Data Collection Sheet'!B213=\"Analytical\",10,0)","v":0},{"$f":"IF('Data Collection Sheet'!B213=\"Treatment\",20,0)","v":0},{"$f":"IF('Data Collection Sheet'!B213=\"Valve\",20,0)","v":0},{"$f":"IF('Data Collection Sheet'!B213=\"Control\",15,0)","v":0},{"$f":"IF('Data Collection Sheet'!B213=\"Safety\",10,0)","v":0},{"$f":"IF('Data Collection Sheet'!B213=\"Building\",50,0)","v":0},{"$f":"IF('Data Collection Sheet'!B213=\"Vehicle\",8,0)","v":0},{"$f":"IF('Data Collection Sheet'!B213=\"Other\",15,0)","v":0},{"$f":"IF('Data Collection Sheet'!I213=\"Bad\",(-0.8*$T210),0)","v":0},{"$f":"IF('Data Collection Sheet'!I213=\"Fair\",(-0.5*$T210),0)","v":0},{"$f":"IF('Data Collection Sheet'!I213=\"Good\",(-0.2*$T210),0)","v":0},{"$f":"IF('Data Collection Sheet'!I213=\"Great\",0,0)","v":0},null,0,0,0,null,null,null,{"$f":"IF('Consequence of Failure'!F213=\"No\",1,0)","v":0},{"$f":"IF('Consequence of Failure'!G213=\"0%-25%\",0.5,0)","v":0},{"$f":"IF('Consequence of Failure'!G213=\"26%-50%\",1,0)","v":0},{"$f":"IF('Consequence of Failure'!G213=\"51%-75%\",1.5,0)","v":0},{"$f":"IF('Consequence of Failure'!G213=\"76%-100%\",2,0)","v":0},{"$f":"IF('Consequence of Failure'!H213=\"Yes\",1,0)","v":0},{"$f":"IF('Consequence of Failure'!I213=\"Yes\",1,0)","v":0},null,0,null,{"$f":"IF('Consequence of Failure'!K213=\"Yes\",1,0)","v":0},{"$f":"IF('Consequence of Failure'!L213=\"Above\",2,0)","v":0},{"$f":"IF('Consequence of Failure'!L213=\"At\",1,0)","v":0},{"$f":"IF('Consequence of Failure'!L213=\"Below\",0,0)","v":0},{"$f":"IF('Consequence of Failure'!M213=\"Yes\",1,0)","v":0},{"$f":"IF('Consequence of Failure'!N213=\"Yes\",1,0)","v":0},null,0,null,0]
[{"$f":"IF('Data Collection Sheet'!B214=\"Pump\",15,0)","v":0},{"$f":"IF('Data Collection Sheet'!B214=\"Hydrant\",50,0)","v":0},{"$f":"IF('Data Collection Sheet'!B214=\"Meter\",15,0)","v":0},{"$f":"IF('Data Collection Sheet'!B214=\"Pipe\",80,0)","v":0},{"$f":"IF('Data Collection Sheet'!B214=\"Source\",50,0)","v":0},{"$f":"IF('Data Collection Sheet'!B214=\"Tank\",50,0)","v":0},{"$f":"IF('Data Collection Sheet'!B214=\"Analytical\",10,0)","v":0},{"$f":"IF('Data Collection Sheet'!B214=\"Treatment\",20,0)","v":0},{"$f":"IF('Data Collection Sheet'!B214=\"Valve\",20,0)","v":0},{"$f":"IF('Data Collection Sheet'!B214=\"Control\",15,0)","v":0},{"$f":"IF('Data Collection Sheet'!B214=\"Safety\",10,0)","v":0},{"$f":"IF('Data Collection Sheet'!B214=\"Building\",50,0)","v":0},{"$f":"IF('Data Collection Sheet'!B214=\"Vehicle\",8,0)","v":0},{"$f":"IF('Data Collection Sheet'!B214=\"Other\",15,0)","v":0},{"$f":"IF('Data Collection Sheet'!I214=\"Bad\",(-0.8*$T211),0)","v":0},{"$f":"IF('Data Collection Sheet'!I214=\"Fair\",(-0.5*$T211),0)","v":0},{"$f":"IF('Data Collection Sheet'!I214=\"Good\",(-0.2*$T211),0)","v":0},{"$f":"IF('Data Collection Sheet'!I214=\"Great\",0,0)","v":0},null,0,0,0,null,null,null,{"$f":"IF('Consequence of Failure'!F214=\"No\",1,0)","v":0},{"$f":"IF('Consequence of Failure'!G214=\"0%-25%\",0.5,0)","v":0},{"$f":"IF('Consequence of Failure'!G214=\"26%-50%\",1,0)","v":0},{"$f":"IF('Consequence of Failure'!G214=\"51%-75%\",1.5,0)","v":0},{"$f":"IF('Consequence of Failure'!G214=\"76%-100%\",2,0)","v":0},{"$f":"IF('Consequence of Failure'!H214=\"Yes\",1,0)","v":0},{"$f":"IF('Consequence of Failure'!I214=\"Yes\",1,0)","v":0},null,0,null,{"$f":"IF('Consequence of Failure'!K214=\"Yes\",1,0)","v":0},{"$f":"IF('Consequence of Failure'!L214=\"Above\",2,0)","v":0},{"$f":"IF('Consequence of Failure'!L214=\"At\",1,0)","v":0},{"$f":"IF('Consequence of Failure'!L214=\"Below\",0,0)","v":0},{"$f":"IF('Consequence of Failure'!M214=\"Yes\",1,0)","v":0},{"$f":"IF('Consequence of Failure'!N214=\"Yes\",1,0)","v":0},null,0,null,0]
[{"$f":"IF('Data Collection Sheet'!B215=\"Pump\",15,0)","v":0},{"$f":"IF('Data Collection Sheet'!B215=\"Hydrant\",50,0)","v":0},{"$f":"IF('Data Collection Sheet'!B215=\"Meter\",15,0)","v":0},{"$f":"IF('Data Collection Sheet'!B215=\"Pipe\",80,0)","v":0},{"$f":"IF('Data Collection Sheet'!B215=\"Source\",50,0)","v":0},{"$f":"IF('Data Collection Sheet'!B215=\"Tank\",50,0)","v":0},{"$f":"IF('Data Collection Sheet'!B215=\"Analytical\",10,0)","v":0},{"$f":"IF('Data Collection Sheet'!B215=\"Treatment\",20,0)","v":0},{"$f":"IF('Data Collection Sheet'!B215=\"Valve\",20,0)","v":0},{"$f":"IF('Data Collection Sheet'!B215=\"Control\",15,0)","v":0},{"$f":"IF('Data Collection Sheet'!B215=\"Safety\",10,0)","v":0},{"$f":"IF('Data Collection Sheet'!B215=\"Building\",50,0)","v":0},{"$f":"IF('Data Collection Sheet'!B215=\"Vehicle\",8,0)","v":0},{"$f":"IF('Data Collection Sheet'!B215=\"Other\",15,0)","v":0},{"$f":"IF('Data Collection Sheet'!I215=\"Bad\",(-0.8*$T212),0)","v":0},{"$f":"IF('Data Collection Sheet'!I215=\"Fair\",(-0.5*$T212),0)","v":0},{"$f":"IF('Data Collection Sheet'!I215=\"Good\",(-0.2*$T212),0)","v":0},{"$f":"IF('Data Collection Sheet'!I215=\"Great\",0,0)","v":0},null,0,0,0,null,null,null,{"$f":"IF('Consequence of Failure'!F215=\"No\",1,0)","v":0},{"$f":"IF('Consequence of Failure'!G215=\"0%-25%\",0.5,0)","v":0},{"$f":"IF('Consequence of Failure'!G215=\"26%-50%\",1,0)","v":0},{"$f":"IF('Consequence of Failure'!G215=\"51%-75%\",1.5,0)","v":0},{"$f":"IF('Consequence of Failure'!G215=\"76%-100%\",2,0)","v":0},{"$f":"IF('Consequence of Failure'!H215=\"Yes\",1,0)","v":0},{"$f":"IF('Consequence of Failure'!I215=\"Yes\",1,0)","v":0},null,0,null,{"$f":"IF('Consequence of Failure'!K215=\"Yes\",1,0)","v":0},{"$f":"IF('Consequence of Failure'!L215=\"Above\",2,0)","v":0},{"$f":"IF('Consequence of Failure'!L215=\"At\",1,0)","v":0},{"$f":"IF('Consequence of Failure'!L215=\"Below\",0,0)","v":0},{"$f":"IF('Consequence of Failure'!M215=\"Yes\",1,0)","v":0},{"$f":"IF('Consequence of Failure'!N215=\"Yes\",1,0)","v":0},null,0,null,0]
[{"$f":"IF('Data Collection Sheet'!B216=\"Pump\",15,0)","v":0},{"$f":"IF('Data Collection Sheet'!B216=\"Hydrant\",50,0)","v":0},{"$f":"IF('Data Collection Sheet'!B216=\"Meter\",15,0)","v":0},{"$f":"IF('Data Collection Sheet'!B216=\"Pipe\",80,0)","v":0},{"$f":"IF('Data Collection Sheet'!B216=\"Source\",50,0)","v":0},{"$f":"IF('Data Collection Sheet'!B216=\"Tank\",50,0)","v":0},{"$f":"IF('Data Collection Sheet'!B216=\"Analytical\",10,0)","v":0},{"$f":"IF('Data Collection Sheet'!B216=\"Treatment\",20,0)","v":0},{"$f":"IF('Data Collection Sheet'!B216=\"Valve\",20,0)","v":0},{"$f":"IF('Data Collection Sheet'!B216=\"Control\",15,0)","v":0},{"$f":"IF('Data Collection Sheet'!B216=\"Safety\",10,0)","v":0},{"$f":"IF('Data Collection Sheet'!B216=\"Building\",50,0)","v":0},{"$f":"IF('Data Collection Sheet'!B216=\"Vehicle\",8,0)","v":0},{"$f":"IF('Data Collection Sheet'!B216=\"Other\",15,0)","v":0},{"$f":"IF('Data Collection Sheet'!I216=\"Bad\",(-0.8*$T213),0)","v":0},{"$f":"IF('Data Collection Sheet'!I216=\"Fair\",(-0.5*$T213),0)","v":0},{"$f":"IF('Data Collection Sheet'!I216=\"Good\",(-0.2*$T213),0)","v":0},{"$f":"IF('Data Collection Sheet'!I216=\"Great\",0,0)","v":0},null,0,0,0,null,null,null,{"$f":"IF('Consequence of Failure'!F216=\"No\",1,0)","v":0},{"$f":"IF('Consequence of Failure'!G216=\"0%-25%\",0.5,0)","v":0},{"$f":"IF('Consequence of Failure'!G216=\"26%-50%\",1,0)","v":0},{"$f":"IF('Consequence of Failure'!G216=\"51%-75%\",1.5,0)","v":0},{"$f":"IF('Consequence of Failure'!G216=\"76%-100%\",2,0)","v":0},{"$f":"IF('Consequence of Failure'!H216=\"Yes\",1,0)","v":0},{"$f":"IF('Consequence of Failure'!I216=\"Yes\",1,0)","v":0},null,0,null,{"$f":"IF('Consequence of Failure'!K216=\"Yes\",1,0)","v":0},{"$f":"IF('Consequence of Failure'!L216=\"Above\",2,0)","v":0},{"$f":"IF('Consequence of Failure'!L216=\"At\",1,0)","v":0},{"$f":"IF('Consequence of Failure'!L216=\"Below\",0,0)","v":0},{"$f":"IF('Consequence of Failure'!M216=\"Yes\",1,0)","v":0},{"$f":"IF('Consequence of Failure'!N216=\"Yes\",1,0)","v":0},null,0,null,0]
[{"$f":"IF('Data Collection Sheet'!B217=\"Pump\",15,0)","v":0},{"$f":"IF('Data Collection Sheet'!B217=\"Hydrant\",50,0)","v":0},{"$f":"IF('Data Collection Sheet'!B217=\"Meter\",15,0)","v":0},{"$f":"IF('Data Collection Sheet'!B217=\"Pipe\",80,0)","v":0},{"$f":"IF('Data Collection Sheet'!B217=\"Source\",50,0)","v":0},{"$f":"IF('Data Collection Sheet'!B217=\"Tank\",50,0)","v":0},{"$f":"IF('Data Collection Sheet'!B217=\"Analytical\",10,0)","v":0},{"$f":"IF('Data Collection Sheet'!B217=\"Treatment\",20,0)","v":0},{"$f":"IF('Data Collection Sheet'!B217=\"Valve\",20,0)","v":0},{"$f":"IF('Data Collection Sheet'!B217=\"Control\",15,0)","v":0},{"$f":"IF('Data Collection Sheet'!B217=\"Safety\",10,0)","v":0},{"$f":"IF('Data Collection Sheet'!B217=\"Building\",50,0)","v":0},{"$f":"IF('Data Collection Sheet'!B217=\"Vehicle\",8,0)","v":0},{"$f":"IF('Data Collection Sheet'!B217=\"Other\",15,0)","v":0},{"$f":"IF('Data Collection Sheet'!I217=\"Bad\",(-0.8*$T214),0)","v":0},{"$f":"IF('Data Collection Sheet'!I217=\"Fair\",(-0.5*$T214),0)","v":0},{"$f":"IF('Data Collection Sheet'!I217=\"Good\",(-0.2*$T214),0)","v":0},{"$f":"IF('Data Collection Sheet'!I217=\"Great\",0,0)","v":0},null,0,0,0,null,null,null,{"$f":"IF('Consequence of Failure'!F217=\"No\",1,0)","v":0},{"$f":"IF('Consequence of Failure'!G217=\"0%-25%\",0.5,0)","v":0},{"$f":"IF('Consequence of Failure'!G217=\"26%-50%\",1,0)","v":0},{"$f":"IF('Consequence of Failure'!G217=\"51%-75%\",1.5,0)","v":0},{"$f":"IF('Consequence of Failure'!G217=\"76%-100%\",2,0)","v":0},{"$f":"IF('Consequence of Failure'!H217=\"Yes\",1,0)","v":0},{"$f":"IF('Consequence of Failure'!I217=\"Yes\",1,0)","v":0},null,0,null,{"$f":"IF('Consequence of Failure'!K217=\"Yes\",1,0)","v":0},{"$f":"IF('Consequence of Failure'!L217=\"Above\",2,0)","v":0},{"$f":"IF('Consequence of Failure'!L217=\"At\",1,0)","v":0},{"$f":"IF('Consequence of Failure'!L217=\"Below\",0,0)","v":0},{"$f":"IF('Consequence of Failure'!M217=\"Yes\",1,0)","v":0},{"$f":"IF('Consequence of Failure'!N217=\"Yes\",1,0)","v":0},null,0,null,0]
[{"$f":"IF('Data Collection Sheet'!B218=\"Pump\",15,0)","v":0},{"$f":"IF('Data Collection Sheet'!B218=\"Hydrant\",50,0)","v":0},{"$f":"IF('Data Collection Sheet'!B218=\"Meter\",15,0)","v":0},{"$f":"IF('Data Collection Sheet'!B218=\"Pipe\",80,0)","v":0},{"$f":"IF('Data Collection Sheet'!B218=\"Source\",50,0)","v":0},{"$f":"IF('Data Collection Sheet'!B218=\"Tank\",50,0)","v":0},{"$f":"IF('Data Collection Sheet'!B218=\"Analytical\",10,0)","v":0},{"$f":"IF('Data Collection Sheet'!B218=\"Treatment\",20,0)","v":0},{"$f":"IF('Data Collection Sheet'!B218=\"Valve\",20,0)","v":0},{"$f":"IF('Data Collection Sheet'!B218=\"Control\",15,0)","v":0},{"$f":"IF('Data Collection Sheet'!B218=\"Safety\",10,0)","v":0},{"$f":"IF('Data Collection Sheet'!B218=\"Building\",50,0)","v":0},{"$f":"IF('Data Collection Sheet'!B218=\"Vehicle\",8,0)","v":0},{"$f":"IF('Data Collection Sheet'!B218=\"Other\",15,0)","v":0},{"$f":"IF('Data Collection Sheet'!I218=\"Bad\",(-0.8*$T215),0)","v":0},{"$f":"IF('Data Collection Sheet'!I218=\"Fair\",(-0.5*$T215),0)","v":0},{"$f":"IF('Data Collection Sheet'!I218=\"Good\",(-0.2*$T215),0)","v":0},{"$f":"IF('Data Collection Sheet'!I218=\"Great\",0,0)","v":0},null,0,0,0,null,null,null,{"$f":"IF('Consequence of Failure'!F218=\"No\",1,0)","v":0},{"$f":"IF('Consequence of Failure'!G218=\"0%-25%\",0.5,0)","v":0},{"$f":"IF('Consequence of Failure'!G218=\"26%-50%\",1,0)","v":0},{"$f":"IF('Consequence of Failure'!G218=\"51%-75%\",1.5,0)","v":0},{"$f":"IF('Consequence of Failure'!G218=\"76%-100%\",2,0)","v":0},{"$f":"IF('Consequence of Failure'!H218=\"Yes\",1,0)","v":0},{"$f":"IF('Consequence of Failure'!I218=\"Yes\",1,0)","v":0},null,0,null,{"$f":"IF('Consequence of Failure'!K218=\"Yes\",1,0)","v":0},{"$f":"IF('Consequence of Failure'!L218=\"Above\",2,0)","v":0},{"$f":"IF('Consequence of Failure'!L218=\"At\",1,0)","v":0},{"$f":"IF('Consequence of Failure'!L218=\"Below\",0,0)","v":0},{"$f":"IF('Consequence of Failure'!M218=\"Yes\",1,0)","v":0},{"$f":"IF('Consequence of Failure'!N218=\"Yes\",1,0)","v":0},null,0,null,0]
[{"$f":"IF('Data Collection Sheet'!B219=\"Pump\",15,0)","v":0},{"$f":"IF('Data Collection Sheet'!B219=\"Hydrant\",50,0)","v":0},{"$f":"IF('Data Collection Sheet'!B219=\"Meter\",15,0)","v":0},{"$f":"IF('Data Collection Sheet'!B219=\"Pipe\",80,0)","v":0},{"$f":"IF('Data Collection Sheet'!B219=\"Source\",50,0)","v":0},{"$f":"IF('Data Collection Sheet'!B219=\"Tank\",50,0)","v":0},{"$f":"IF('Data Collection Sheet'!B219=\"Analytical\",10,0)","v":0},{"$f":"IF('Data Collection Sheet'!B219=\"Treatment\",20,0)","v":0},{"$f":"IF('Data Collection Sheet'!B219=\"Valve\",20,0)","v":0},{"$f":"IF('Data Collection Sheet'!B219=\"Control\",15,0)","v":0},{"$f":"IF('Data Collection Sheet'!B219=\"Safety\",10,0)","v":0},{"$f":"IF('Data Collection Sheet'!B219=\"Building\",50,0)","v":0},{"$f":"IF('Data Collection Sheet'!B219=\"Vehicle\",8,0)","v":0},{"$f":"IF('Data Collection Sheet'!B219=\"Other\",15,0)","v":0},{"$f":"IF('Data Collection Sheet'!I219=\"Bad\",(-0.8*$T216),0)","v":0},{"$f":"IF('Data Collection Sheet'!I219=\"Fair\",(-0.5*$T216),0)","v":0},{"$f":"IF('Data Collection Sheet'!I219=\"Good\",(-0.2*$T216),0)","v":0},{"$f":"IF('Data Collection Sheet'!I219=\"Great\",0,0)","v":0},null,0,0,0,null,null,null,{"$f":"IF('Consequence of Failure'!F219=\"No\",1,0)","v":0},{"$f":"IF('Consequence of Failure'!G219=\"0%-25%\",0.5,0)","v":0},{"$f":"IF('Consequence of Failure'!G219=\"26%-50%\",1,0)","v":0},{"$f":"IF('Consequence of Failure'!G219=\"51%-75%\",1.5,0)","v":0},{"$f":"IF('Consequence of Failure'!G219=\"76%-100%\",2,0)","v":0},{"$f":"IF('Consequence of Failure'!H219=\"Yes\",1,0)","v":0},{"$f":"IF('Consequence of Failure'!I219=\"Yes\",1,0)","v":0},null,0,null,{"$f":"IF('Consequence of Failure'!K219=\"Yes\",1,0)","v":0},{"$f":"IF('Consequence of Failure'!L219=\"Above\",2,0)","v":0},{"$f":"IF('Consequence of Failure'!L219=\"At\",1,0)","v":0},{"$f":"IF('Consequence of Failure'!L219=\"Below\",0,0)","v":0},{"$f":"IF('Consequence of Failure'!M219=\"Yes\",1,0)","v":0},{"$f":"IF('Consequence of Failure'!N219=\"Yes\",1,0)","v":0},null,0,null,0]
[{"$f":"IF('Data Collection Sheet'!B220=\"Pump\",15,0)","v":0},{"$f":"IF('Data Collection Sheet'!B220=\"Hydrant\",50,0)","v":0},{"$f":"IF('Data Collection Sheet'!B220=\"Meter\",15,0)","v":0},{"$f":"IF('Data Collection Sheet'!B220=\"Pipe\",80,0)","v":0},{"$f":"IF('Data Collection Sheet'!B220=\"Source\",50,0)","v":0},{"$f":"IF('Data Collection Sheet'!B220=\"Tank\",50,0)","v":0},{"$f":"IF('Data Collection Sheet'!B220=\"Analytical\",10,0)","v":0},{"$f":"IF('Data Collection Sheet'!B220=\"Treatment\",20,0)","v":0},{"$f":"IF('Data Collection Sheet'!B220=\"Valve\",20,0)","v":0},{"$f":"IF('Data Collection Sheet'!B220=\"Control\",15,0)","v":0},{"$f":"IF('Data Collection Sheet'!B220=\"Safety\",10,0)","v":0},{"$f":"IF('Data Collection Sheet'!B220=\"Building\",50,0)","v":0},{"$f":"IF('Data Collection Sheet'!B220=\"Vehicle\",8,0)","v":0},{"$f":"IF('Data Collection Sheet'!B220=\"Other\",15,0)","v":0},{"$f":"IF('Data Collection Sheet'!I220=\"Bad\",(-0.8*$T217),0)","v":0},{"$f":"IF('Data Collection Sheet'!I220=\"Fair\",(-0.5*$T217),0)","v":0},{"$f":"IF('Data Collection Sheet'!I220=\"Good\",(-0.2*$T217),0)","v":0},{"$f":"IF('Data Collection Sheet'!I220=\"Great\",0,0)","v":0},null,0,0,0,null,null,null,{"$f":"IF('Consequence of Failure'!F220=\"No\",1,0)","v":0},{"$f":"IF('Consequence of Failure'!G220=\"0%-25%\",0.5,0)","v":0},{"$f":"IF('Consequence of Failure'!G220=\"26%-50%\",1,0)","v":0},{"$f":"IF('Consequence of Failure'!G220=\"51%-75%\",1.5,0)","v":0},{"$f":"IF('Consequence of Failure'!G220=\"76%-100%\",2,0)","v":0},{"$f":"IF('Consequence of Failure'!H220=\"Yes\",1,0)","v":0},{"$f":"IF('Consequence of Failure'!I220=\"Yes\",1,0)","v":0},null,0,null,{"$f":"IF('Consequence of Failure'!K220=\"Yes\",1,0)","v":0},{"$f":"IF('Consequence of Failure'!L220=\"Above\",2,0)","v":0},{"$f":"IF('Consequence of Failure'!L220=\"At\",1,0)","v":0},{"$f":"IF('Consequence of Failure'!L220=\"Below\",0,0)","v":0},{"$f":"IF('Consequence of Failure'!M220=\"Yes\",1,0)","v":0},{"$f":"IF('Consequence of Failure'!N220=\"Yes\",1,0)","v":0},null,0,null,0]
[{"$f":"IF('Data Collection Sheet'!B221=\"Pump\",15,0)","v":0},{"$f":"IF('Data Collection Sheet'!B221=\"Hydrant\",50,0)","v":0},{"$f":"IF('Data Collection Sheet'!B221=\"Meter\",15,0)","v":0},{"$f":"IF('Data Collection Sheet'!B221=\"Pipe\",80,0)","v":0},{"$f":"IF('Data Collection Sheet'!B221=\"Source\",50,0)","v":0},{"$f":"IF('Data Collection Sheet'!B221=\"Tank\",50,0)","v":0},{"$f":"IF('Data Collection Sheet'!B221=\"Analytical\",10,0)","v":0},{"$f":"IF('Data Collection Sheet'!B221=\"Treatment\",20,0)","v":0},{"$f":"IF('Data Collection Sheet'!B221=\"Valve\",20,0)","v":0},{"$f":"IF('Data Collection Sheet'!B221=\"Control\",15,0)","v":0},{"$f":"IF('Data Collection Sheet'!B221=\"Safety\",10,0)","v":0},{"$f":"IF('Data Collection Sheet'!B221=\"Building\",50,0)","v":0},{"$f":"IF('Data Collection Sheet'!B221=\"Vehicle\",8,0)","v":0},{"$f":"IF('Data Collection Sheet'!B221=\"Other\",15,0)","v":0},{"$f":"IF('Data Collection Sheet'!I221=\"Bad\",(-0.8*$T218),0)","v":0},{"$f":"IF('Data Collection Sheet'!I221=\"Fair\",(-0.5*$T218),0)","v":0},{"$f":"IF('Data Collection Sheet'!I221=\"Good\",(-0.2*$T218),0)","v":0},{"$f":"IF('Data Collection Sheet'!I221=\"Great\",0,0)","v":0},null,0,0,0,null,null,null,{"$f":"IF('Consequence of Failure'!F221=\"No\",1,0)","v":0},{"$f":"IF('Consequence of Failure'!G221=\"0%-25%\",0.5,0)","v":0},{"$f":"IF('Consequence of Failure'!G221=\"26%-50%\",1,0)","v":0},{"$f":"IF('Consequence of Failure'!G221=\"51%-75%\",1.5,0)","v":0},{"$f":"IF('Consequence of Failure'!G221=\"76%-100%\",2,0)","v":0},{"$f":"IF('Consequence of Failure'!H221=\"Yes\",1,0)","v":0},{"$f":"IF('Consequence of Failure'!I221=\"Yes\",1,0)","v":0},null,0,null,{"$f":"IF('Consequence of Failure'!K221=\"Yes\",1,0)","v":0},{"$f":"IF('Consequence of Failure'!L221=\"Above\",2,0)","v":0},{"$f":"IF('Consequence of Failure'!L221=\"At\",1,0)","v":0},{"$f":"IF('Consequence of Failure'!L221=\"Below\",0,0)","v":0},{"$f":"IF('Consequence of Failure'!M221=\"Yes\",1,0)","v":0},{"$f":"IF('Consequence of Failure'!N221=\"Yes\",1,0)","v":0},null,0,null,0]
[{"$f":"IF('Data Collection Sheet'!B222=\"Pump\",15,0)","v":0},{"$f":"IF('Data Collection Sheet'!B222=\"Hydrant\",50,0)","v":0},{"$f":"IF('Data Collection Sheet'!B222=\"Meter\",15,0)","v":0},{"$f":"IF('Data Collection Sheet'!B222=\"Pipe\",80,0)","v":0},{"$f":"IF('Data Collection Sheet'!B222=\"Source\",50,0)","v":0},{"$f":"IF('Data Collection Sheet'!B222=\"Tank\",50,0)","v":0},{"$f":"IF('Data Collection Sheet'!B222=\"Analytical\",10,0)","v":0},{"$f":"IF('Data Collection Sheet'!B222=\"Treatment\",20,0)","v":0},{"$f":"IF('Data Collection Sheet'!B222=\"Valve\",20,0)","v":0},{"$f":"IF('Data Collection Sheet'!B222=\"Control\",15,0)","v":0},{"$f":"IF('Data Collection Sheet'!B222=\"Safety\",10,0)","v":0},{"$f":"IF('Data Collection Sheet'!B222=\"Building\",50,0)","v":0},{"$f":"IF('Data Collection Sheet'!B222=\"Vehicle\",8,0)","v":0},{"$f":"IF('Data Collection Sheet'!B222=\"Other\",15,0)","v":0},{"$f":"IF('Data Collection Sheet'!I222=\"Bad\",(-0.8*$T219),0)","v":0},{"$f":"IF('Data Collection Sheet'!I222=\"Fair\",(-0.5*$T219),0)","v":0},{"$f":"IF('Data Collection Sheet'!I222=\"Good\",(-0.2*$T219),0)","v":0},{"$f":"IF('Data Collection Sheet'!I222=\"Great\",0,0)","v":0},null,0,0,0,null,null,null,{"$f":"IF('Consequence of Failure'!F222=\"No\",1,0)","v":0},{"$f":"IF('Consequence of Failure'!G222=\"0%-25%\",0.5,0)","v":0},{"$f":"IF('Consequence of Failure'!G222=\"26%-50%\",1,0)","v":0},{"$f":"IF('Consequence of Failure'!G222=\"51%-75%\",1.5,0)","v":0},{"$f":"IF('Consequence of Failure'!G222=\"76%-100%\",2,0)","v":0},{"$f":"IF('Consequence of Failure'!H222=\"Yes\",1,0)","v":0},{"$f":"IF('Consequence of Failure'!I222=\"Yes\",1,0)","v":0},null,0,null,{"$f":"IF('Consequence of Failure'!K222=\"Yes\",1,0)","v":0},{"$f":"IF('Consequence of Failure'!L222=\"Above\",2,0)","v":0},{"$f":"IF('Consequence of Failure'!L222=\"At\",1,0)","v":0},{"$f":"IF('Consequence of Failure'!L222=\"Below\",0,0)","v":0},{"$f":"IF('Consequence of Failure'!M222=\"Yes\",1,0)","v":0},{"$f":"IF('Consequence of Failure'!N222=\"Yes\",1,0)","v":0},null,0,null,0]
[{"$f":"IF('Data Collection Sheet'!B223=\"Pump\",15,0)","v":0},{"$f":"IF('Data Collection Sheet'!B223=\"Hydrant\",50,0)","v":0},{"$f":"IF('Data Collection Sheet'!B223=\"Meter\",15,0)","v":0},{"$f":"IF('Data Collection Sheet'!B223=\"Pipe\",80,0)","v":0},{"$f":"IF('Data Collection Sheet'!B223=\"Source\",50,0)","v":0},{"$f":"IF('Data Collection Sheet'!B223=\"Tank\",50,0)","v":0},{"$f":"IF('Data Collection Sheet'!B223=\"Analytical\",10,0)","v":0},{"$f":"IF('Data Collection Sheet'!B223=\"Treatment\",20,0)","v":0},{"$f":"IF('Data Collection Sheet'!B223=\"Valve\",20,0)","v":0},{"$f":"IF('Data Collection Sheet'!B223=\"Control\",15,0)","v":0},{"$f":"IF('Data Collection Sheet'!B223=\"Safety\",10,0)","v":0},{"$f":"IF('Data Collection Sheet'!B223=\"Building\",50,0)","v":0},{"$f":"IF('Data Collection Sheet'!B223=\"Vehicle\",8,0)","v":0},{"$f":"IF('Data Collection Sheet'!B223=\"Other\",15,0)","v":0},{"$f":"IF('Data Collection Sheet'!I223=\"Bad\",(-0.8*$T220),0)","v":0},{"$f":"IF('Data Collection Sheet'!I223=\"Fair\",(-0.5*$T220),0)","v":0},{"$f":"IF('Data Collection Sheet'!I223=\"Good\",(-0.2*$T220),0)","v":0},{"$f":"IF('Data Collection Sheet'!I223=\"Great\",0,0)","v":0},null,0,0,0,null,null,null,{"$f":"IF('Consequence of Failure'!F223=\"No\",1,0)","v":0},{"$f":"IF('Consequence of Failure'!G223=\"0%-25%\",0.5,0)","v":0},{"$f":"IF('Consequence of Failure'!G223=\"26%-50%\",1,0)","v":0},{"$f":"IF('Consequence of Failure'!G223=\"51%-75%\",1.5,0)","v":0},{"$f":"IF('Consequence of Failure'!G223=\"76%-100%\",2,0)","v":0},{"$f":"IF('Consequence of Failure'!H223=\"Yes\",1,0)","v":0},{"$f":"IF('Consequence of Failure'!I223=\"Yes\",1,0)","v":0},null,0,null,{"$f":"IF('Consequence of Failure'!K223=\"Yes\",1,0)","v":0},{"$f":"IF('Consequence of Failure'!L223=\"Above\",2,0)","v":0},{"$f":"IF('Consequence of Failure'!L223=\"At\",1,0)","v":0},{"$f":"IF('Consequence of Failure'!L223=\"Below\",0,0)","v":0},{"$f":"IF('Consequence of Failure'!M223=\"Yes\",1,0)","v":0},{"$f":"IF('Consequence of Failure'!N223=\"Yes\",1,0)","v":0},null,0,null,0]
[{"$f":"IF('Data Collection Sheet'!B224=\"Pump\",15,0)","v":0},{"$f":"IF('Data Collection Sheet'!B224=\"Hydrant\",50,0)","v":0},{"$f":"IF('Data Collection Sheet'!B224=\"Meter\",15,0)","v":0},{"$f":"IF('Data Collection Sheet'!B224=\"Pipe\",80,0)","v":0},{"$f":"IF('Data Collection Sheet'!B224=\"Source\",50,0)","v":0},{"$f":"IF('Data Collection Sheet'!B224=\"Tank\",50,0)","v":0},{"$f":"IF('Data Collection Sheet'!B224=\"Analytical\",10,0)","v":0},{"$f":"IF('Data Collection Sheet'!B224=\"Treatment\",20,0)","v":0},{"$f":"IF('Data Collection Sheet'!B224=\"Valve\",20,0)","v":0},{"$f":"IF('Data Collection Sheet'!B224=\"Control\",15,0)","v":0},{"$f":"IF('Data Collection Sheet'!B224=\"Safety\",10,0)","v":0},{"$f":"IF('Data Collection Sheet'!B224=\"Building\",50,0)","v":0},{"$f":"IF('Data Collection Sheet'!B224=\"Vehicle\",8,0)","v":0},{"$f":"IF('Data Collection Sheet'!B224=\"Other\",15,0)","v":0},{"$f":"IF('Data Collection Sheet'!I224=\"Bad\",(-0.8*$T221),0)","v":0},{"$f":"IF('Data Collection Sheet'!I224=\"Fair\",(-0.5*$T221),0)","v":0},{"$f":"IF('Data Collection Sheet'!I224=\"Good\",(-0.2*$T221),0)","v":0},{"$f":"IF('Data Collection Sheet'!I224=\"Great\",0,0)","v":0},null,0,0,0,null,null,null,{"$f":"IF('Consequence of Failure'!F224=\"No\",1,0)","v":0},{"$f":"IF('Consequence of Failure'!G224=\"0%-25%\",0.5,0)","v":0},{"$f":"IF('Consequence of Failure'!G224=\"26%-50%\",1,0)","v":0},{"$f":"IF('Consequence of Failure'!G224=\"51%-75%\",1.5,0)","v":0},{"$f":"IF('Consequence of Failure'!G224=\"76%-100%\",2,0)","v":0},{"$f":"IF('Consequence of Failure'!H224=\"Yes\",1,0)","v":0},{"$f":"IF('Consequence of Failure'!I224=\"Yes\",1,0)","v":0},null,0,null,{"$f":"IF('Consequence of Failure'!K224=\"Yes\",1,0)","v":0},{"$f":"IF('Consequence of Failure'!L224=\"Above\",2,0)","v":0},{"$f":"IF('Consequence of Failure'!L224=\"At\",1,0)","v":0},{"$f":"IF('Consequence of Failure'!L224=\"Below\",0,0)","v":0},{"$f":"IF('Consequence of Failure'!M224=\"Yes\",1,0)","v":0},{"$f":"IF('Consequence of Failure'!N224=\"Yes\",1,0)","v":0},null,0,null,0]
[{"$f":"IF('Data Collection Sheet'!B225=\"Pump\",15,0)","v":0},{"$f":"IF('Data Collection Sheet'!B225=\"Hydrant\",50,0)","v":0},{"$f":"IF('Data Collection Sheet'!B225=\"Meter\",15,0)","v":0},{"$f":"IF('Data Collection Sheet'!B225=\"Pipe\",80,0)","v":0},{"$f":"IF('Data Collection Sheet'!B225=\"Source\",50,0)","v":0},{"$f":"IF('Data Collection Sheet'!B225=\"Tank\",50,0)","v":0},{"$f":"IF('Data Collection Sheet'!B225=\"Analytical\",10,0)","v":0},{"$f":"IF('Data Collection Sheet'!B225=\"Treatment\",20,0)","v":0},{"$f":"IF('Data Collection Sheet'!B225=\"Valve\",20,0)","v":0},{"$f":"IF('Data Collection Sheet'!B225=\"Control\",15,0)","v":0},{"$f":"IF('Data Collection Sheet'!B225=\"Safety\",10,0)","v":0},{"$f":"IF('Data Collection Sheet'!B225=\"Building\",50,0)","v":0},{"$f":"IF('Data Collection Sheet'!B225=\"Vehicle\",8,0)","v":0},{"$f":"IF('Data Collection Sheet'!B225=\"Other\",15,0)","v":0},{"$f":"IF('Data Collection Sheet'!I225=\"Bad\",(-0.8*$T222),0)","v":0},{"$f":"IF('Data Collection Sheet'!I225=\"Fair\",(-0.5*$T222),0)","v":0},{"$f":"IF('Data Collection Sheet'!I225=\"Good\",(-0.2*$T222),0)","v":0},{"$f":"IF('Data Collection Sheet'!I225=\"Great\",0,0)","v":0},null,0,0,0,null,null,null,{"$f":"IF('Consequence of Failure'!F225=\"No\",1,0)","v":0},{"$f":"IF('Consequence of Failure'!G225=\"0%-25%\",0.5,0)","v":0},{"$f":"IF('Consequence of Failure'!G225=\"26%-50%\",1,0)","v":0},{"$f":"IF('Consequence of Failure'!G225=\"51%-75%\",1.5,0)","v":0},{"$f":"IF('Consequence of Failure'!G225=\"76%-100%\",2,0)","v":0},{"$f":"IF('Consequence of Failure'!H225=\"Yes\",1,0)","v":0},{"$f":"IF('Consequence of Failure'!I225=\"Yes\",1,0)","v":0},null,0,null,{"$f":"IF('Consequence of Failure'!K225=\"Yes\",1,0)","v":0},{"$f":"IF('Consequence of Failure'!L225=\"Above\",2,0)","v":0},{"$f":"IF('Consequence of Failure'!L225=\"At\",1,0)","v":0},{"$f":"IF('Consequence of Failure'!L225=\"Below\",0,0)","v":0},{"$f":"IF('Consequence of Failure'!M225=\"Yes\",1,0)","v":0},{"$f":"IF('Consequence of Failure'!N225=\"Yes\",1,0)","v":0},null,0,null,0]
[{"$f":"IF('Data Collection Sheet'!B226=\"Pump\",15,0)","v":0},{"$f":"IF('Data Collection Sheet'!B226=\"Hydrant\",50,0)","v":0},{"$f":"IF('Data Collection Sheet'!B226=\"Meter\",15,0)","v":0},{"$f":"IF('Data Collection Sheet'!B226=\"Pipe\",80,0)","v":0},{"$f":"IF('Data Collection Sheet'!B226=\"Source\",50,0)","v":0},{"$f":"IF('Data Collection Sheet'!B226=\"Tank\",50,0)","v":0},{"$f":"IF('Data Collection Sheet'!B226=\"Analytical\",10,0)","v":0},{"$f":"IF('Data Collection Sheet'!B226=\"Treatment\",20,0)","v":0},{"$f":"IF('Data Collection Sheet'!B226=\"Valve\",20,0)","v":0},{"$f":"IF('Data Collection Sheet'!B226=\"Control\",15,0)","v":0},{"$f":"IF('Data Collection Sheet'!B226=\"Safety\",10,0)","v":0},{"$f":"IF('Data Collection Sheet'!B226=\"Building\",50,0)","v":0},{"$f":"IF('Data Collection Sheet'!B226=\"Vehicle\",8,0)","v":0},{"$f":"IF('Data Collection Sheet'!B226=\"Other\",15,0)","v":0},{"$f":"IF('Data Collection Sheet'!I226=\"Bad\",(-0.8*$T223),0)","v":0},{"$f":"IF('Data Collection Sheet'!I226=\"Fair\",(-0.5*$T223),0)","v":0},{"$f":"IF('Data Collection Sheet'!I226=\"Good\",(-0.2*$T223),0)","v":0},{"$f":"IF('Data Collection Sheet'!I226=\"Great\",0,0)","v":0},null,0,0,0,null,null,null,{"$f":"IF('Consequence of Failure'!F226=\"No\",1,0)","v":0},{"$f":"IF('Consequence of Failure'!G226=\"0%-25%\",0.5,0)","v":0},{"$f":"IF('Consequence of Failure'!G226=\"26%-50%\",1,0)","v":0},{"$f":"IF('Consequence of Failure'!G226=\"51%-75%\",1.5,0)","v":0},{"$f":"IF('Consequence of Failure'!G226=\"76%-100%\",2,0)","v":0},{"$f":"IF('Consequence of Failure'!H226=\"Yes\",1,0)","v":0},{"$f":"IF('Consequence of Failure'!I226=\"Yes\",1,0)","v":0},null,0,null,{"$f":"IF('Consequence of Failure'!K226=\"Yes\",1,0)","v":0},{"$f":"IF('Consequence of Failure'!L226=\"Above\",2,0)","v":0},{"$f":"IF('Consequence of Failure'!L226=\"At\",1,0)","v":0},{"$f":"IF('Consequence of Failure'!L226=\"Below\",0,0)","v":0},{"$f":"IF('Consequence of Failure'!M226=\"Yes\",1,0)","v":0},{"$f":"IF('Consequence of Failure'!N226=\"Yes\",1,0)","v":0},null,0,null,0]
[{"$f":"IF('Data Collection Sheet'!B227=\"Pump\",15,0)","v":0},{"$f":"IF('Data Collection Sheet'!B227=\"Hydrant\",50,0)","v":0},{"$f":"IF('Data Collection Sheet'!B227=\"Meter\",15,0)","v":0},{"$f":"IF('Data Collection Sheet'!B227=\"Pipe\",80,0)","v":0},{"$f":"IF('Data Collection Sheet'!B227=\"Source\",50,0)","v":0},{"$f":"IF('Data Collection Sheet'!B227=\"Tank\",50,0)","v":0},{"$f":"IF('Data Collection Sheet'!B227=\"Analytical\",10,0)","v":0},{"$f":"IF('Data Collection Sheet'!B227=\"Treatment\",20,0)","v":0},{"$f":"IF('Data Collection Sheet'!B227=\"Valve\",20,0)","v":0},{"$f":"IF('Data Collection Sheet'!B227=\"Control\",15,0)","v":0},{"$f":"IF('Data Collection Sheet'!B227=\"Safety\",10,0)","v":0},{"$f":"IF('Data Collection Sheet'!B227=\"Building\",50,0)","v":0},{"$f":"IF('Data Collection Sheet'!B227=\"Vehicle\",8,0)","v":0},{"$f":"IF('Data Collection Sheet'!B227=\"Other\",15,0)","v":0},{"$f":"IF('Data Collection Sheet'!I227=\"Bad\",(-0.8*$T224),0)","v":0},{"$f":"IF('Data Collection Sheet'!I227=\"Fair\",(-0.5*$T224),0)","v":0},{"$f":"IF('Data Collection Sheet'!I227=\"Good\",(-0.2*$T224),0)","v":0},{"$f":"IF('Data Collection Sheet'!I227=\"Great\",0,0)","v":0},null,0,0,0,null,null,null,{"$f":"IF('Consequence of Failure'!F227=\"No\",1,0)","v":0},{"$f":"IF('Consequence of Failure'!G227=\"0%-25%\",0.5,0)","v":0},{"$f":"IF('Consequence of Failure'!G227=\"26%-50%\",1,0)","v":0},{"$f":"IF('Consequence of Failure'!G227=\"51%-75%\",1.5,0)","v":0},{"$f":"IF('Consequence of Failure'!G227=\"76%-100%\",2,0)","v":0},{"$f":"IF('Consequence of Failure'!H227=\"Yes\",1,0)","v":0},{"$f":"IF('Consequence of Failure'!I227=\"Yes\",1,0)","v":0},null,0,null,{"$f":"IF('Consequence of Failure'!K227=\"Yes\",1,0)","v":0},{"$f":"IF('Consequence of Failure'!L227=\"Above\",2,0)","v":0},{"$f":"IF('Consequence of Failure'!L227=\"At\",1,0)","v":0},{"$f":"IF('Consequence of Failure'!L227=\"Below\",0,0)","v":0},{"$f":"IF('Consequence of Failure'!M227=\"Yes\",1,0)","v":0},{"$f":"IF('Consequence of Failure'!N227=\"Yes\",1,0)","v":0},null,0,null,0]
[{"$f":"IF('Data Collection Sheet'!B228=\"Pump\",15,0)","v":0},{"$f":"IF('Data Collection Sheet'!B228=\"Hydrant\",50,0)","v":0},{"$f":"IF('Data Collection Sheet'!B228=\"Meter\",15,0)","v":0},{"$f":"IF('Data Collection Sheet'!B228=\"Pipe\",80,0)","v":0},{"$f":"IF('Data Collection Sheet'!B228=\"Source\",50,0)","v":0},{"$f":"IF('Data Collection Sheet'!B228=\"Tank\",50,0)","v":0},{"$f":"IF('Data Collection Sheet'!B228=\"Analytical\",10,0)","v":0},{"$f":"IF('Data Collection Sheet'!B228=\"Treatment\",20,0)","v":0},{"$f":"IF('Data Collection Sheet'!B228=\"Valve\",20,0)","v":0},{"$f":"IF('Data Collection Sheet'!B228=\"Control\",15,0)","v":0},{"$f":"IF('Data Collection Sheet'!B228=\"Safety\",10,0)","v":0},{"$f":"IF('Data Collection Sheet'!B228=\"Building\",50,0)","v":0},{"$f":"IF('Data Collection Sheet'!B228=\"Vehicle\",8,0)","v":0},{"$f":"IF('Data Collection Sheet'!B228=\"Other\",15,0)","v":0},{"$f":"IF('Data Collection Sheet'!I228=\"Bad\",(-0.8*$T225),0)","v":0},{"$f":"IF('Data Collection Sheet'!I228=\"Fair\",(-0.5*$T225),0)","v":0},{"$f":"IF('Data Collection Sheet'!I228=\"Good\",(-0.2*$T225),0)","v":0},{"$f":"IF('Data Collection Sheet'!I228=\"Great\",0,0)","v":0},null,0,0,0,null,null,null,{"$f":"IF('Consequence of Failure'!F228=\"No\",1,0)","v":0},{"$f":"IF('Consequence of Failure'!G228=\"0%-25%\",0.5,0)","v":0},{"$f":"IF('Consequence of Failure'!G228=\"26%-50%\",1,0)","v":0},{"$f":"IF('Consequence of Failure'!G228=\"51%-75%\",1.5,0)","v":0},{"$f":"IF('Consequence of Failure'!G228=\"76%-100%\",2,0)","v":0},{"$f":"IF('Consequence of Failure'!H228=\"Yes\",1,0)","v":0},{"$f":"IF('Consequence of Failure'!I228=\"Yes\",1,0)","v":0},null,0,null,{"$f":"IF('Consequence of Failure'!K228=\"Yes\",1,0)","v":0},{"$f":"IF('Consequence of Failure'!L228=\"Above\",2,0)","v":0},{"$f":"IF('Consequence of Failure'!L228=\"At\",1,0)","v":0},{"$f":"IF('Consequence of Failure'!L228=\"Below\",0,0)","v":0},{"$f":"IF('Consequence of Failure'!M228=\"Yes\",1,0)","v":0},{"$f":"IF('Consequence of Failure'!N228=\"Yes\",1,0)","v":0},null,0,null,0]
[{"$f":"IF('Data Collection Sheet'!B229=\"Pump\",15,0)","v":0},{"$f":"IF('Data Collection Sheet'!B229=\"Hydrant\",50,0)","v":0},{"$f":"IF('Data Collection Sheet'!B229=\"Meter\",15,0)","v":0},{"$f":"IF('Data Collection Sheet'!B229=\"Pipe\",80,0)","v":0},{"$f":"IF('Data Collection Sheet'!B229=\"Source\",50,0)","v":0},{"$f":"IF('Data Collection Sheet'!B229=\"Tank\",50,0)","v":0},{"$f":"IF('Data Collection Sheet'!B229=\"Analytical\",10,0)","v":0},{"$f":"IF('Data Collection Sheet'!B229=\"Treatment\",20,0)","v":0},{"$f":"IF('Data Collection Sheet'!B229=\"Valve\",20,0)","v":0},{"$f":"IF('Data Collection Sheet'!B229=\"Control\",15,0)","v":0},{"$f":"IF('Data Collection Sheet'!B229=\"Safety\",10,0)","v":0},{"$f":"IF('Data Collection Sheet'!B229=\"Building\",50,0)","v":0},{"$f":"IF('Data Collection Sheet'!B229=\"Vehicle\",8,0)","v":0},{"$f":"IF('Data Collection Sheet'!B229=\"Other\",15,0)","v":0},{"$f":"IF('Data Collection Sheet'!I229=\"Bad\",(-0.8*$T226),0)","v":0},{"$f":"IF('Data Collection Sheet'!I229=\"Fair\",(-0.5*$T226),0)","v":0},{"$f":"IF('Data Collection Sheet'!I229=\"Good\",(-0.2*$T226),0)","v":0},{"$f":"IF('Data Collection Sheet'!I229=\"Great\",0,0)","v":0},null,0,0,0,null,null,null,{"$f":"IF('Consequence of Failure'!F229=\"No\",1,0)","v":0},{"$f":"IF('Consequence of Failure'!G229=\"0%-25%\",0.5,0)","v":0},{"$f":"IF('Consequence of Failure'!G229=\"26%-50%\",1,0)","v":0},{"$f":"IF('Consequence of Failure'!G229=\"51%-75%\",1.5,0)","v":0},{"$f":"IF('Consequence of Failure'!G229=\"76%-100%\",2,0)","v":0},{"$f":"IF('Consequence of Failure'!H229=\"Yes\",1,0)","v":0},{"$f":"IF('Consequence of Failure'!I229=\"Yes\",1,0)","v":0},null,0,null,{"$f":"IF('Consequence of Failure'!K229=\"Yes\",1,0)","v":0},{"$f":"IF('Consequence of Failure'!L229=\"Above\",2,0)","v":0},{"$f":"IF('Consequence of Failure'!L229=\"At\",1,0)","v":0},{"$f":"IF('Consequence of Failure'!L229=\"Below\",0,0)","v":0},{"$f":"IF('Consequence of Failure'!M229=\"Yes\",1,0)","v":0},{"$f":"IF('Consequence of Failure'!N229=\"Yes\",1,0)","v":0},null,0,null,0]
[{"$f":"IF('Data Collection Sheet'!B230=\"Pump\",15,0)","v":0},{"$f":"IF('Data Collection Sheet'!B230=\"Hydrant\",50,0)","v":0},{"$f":"IF('Data Collection Sheet'!B230=\"Meter\",15,0)","v":0},{"$f":"IF('Data Collection Sheet'!B230=\"Pipe\",80,0)","v":0},{"$f":"IF('Data Collection Sheet'!B230=\"Source\",50,0)","v":0},{"$f":"IF('Data Collection Sheet'!B230=\"Tank\",50,0)","v":0},{"$f":"IF('Data Collection Sheet'!B230=\"Analytical\",10,0)","v":0},{"$f":"IF('Data Collection Sheet'!B230=\"Treatment\",20,0)","v":0},{"$f":"IF('Data Collection Sheet'!B230=\"Valve\",20,0)","v":0},{"$f":"IF('Data Collection Sheet'!B230=\"Control\",15,0)","v":0},{"$f":"IF('Data Collection Sheet'!B230=\"Safety\",10,0)","v":0},{"$f":"IF('Data Collection Sheet'!B230=\"Building\",50,0)","v":0},{"$f":"IF('Data Collection Sheet'!B230=\"Vehicle\",8,0)","v":0},{"$f":"IF('Data Collection Sheet'!B230=\"Other\",15,0)","v":0},{"$f":"IF('Data Collection Sheet'!I230=\"Bad\",(-0.8*$T227),0)","v":0},{"$f":"IF('Data Collection Sheet'!I230=\"Fair\",(-0.5*$T227),0)","v":0},{"$f":"IF('Data Collection Sheet'!I230=\"Good\",(-0.2*$T227),0)","v":0},{"$f":"IF('Data Collection Sheet'!I230=\"Great\",0,0)","v":0},null,0,0,0,null,null,null,{"$f":"IF('Consequence of Failure'!F230=\"No\",1,0)","v":0},{"$f":"IF('Consequence of Failure'!G230=\"0%-25%\",0.5,0)","v":0},{"$f":"IF('Consequence of Failure'!G230=\"26%-50%\",1,0)","v":0},{"$f":"IF('Consequence of Failure'!G230=\"51%-75%\",1.5,0)","v":0},{"$f":"IF('Consequence of Failure'!G230=\"76%-100%\",2,0)","v":0},{"$f":"IF('Consequence of Failure'!H230=\"Yes\",1,0)","v":0},{"$f":"IF('Consequence of Failure'!I230=\"Yes\",1,0)","v":0},null,0,null,{"$f":"IF('Consequence of Failure'!K230=\"Yes\",1,0)","v":0},{"$f":"IF('Consequence of Failure'!L230=\"Above\",2,0)","v":0},{"$f":"IF('Consequence of Failure'!L230=\"At\",1,0)","v":0},{"$f":"IF('Consequence of Failure'!L230=\"Below\",0,0)","v":0},{"$f":"IF('Consequence of Failure'!M230=\"Yes\",1,0)","v":0},{"$f":"IF('Consequence of Failure'!N230=\"Yes\",1,0)","v":0},null,0,null,0]
[{"$f":"IF('Data Collection Sheet'!B231=\"Pump\",15,0)","v":0},{"$f":"IF('Data Collection Sheet'!B231=\"Hydrant\",50,0)","v":0},{"$f":"IF('Data Collection Sheet'!B231=\"Meter\",15,0)","v":0},{"$f":"IF('Data Collection Sheet'!B231=\"Pipe\",80,0)","v":0},{"$f":"IF('Data Collection Sheet'!B231=\"Source\",50,0)","v":0},{"$f":"IF('Data Collection Sheet'!B231=\"Tank\",50,0)","v":0},{"$f":"IF('Data Collection Sheet'!B231=\"Analytical\",10,0)","v":0},{"$f":"IF('Data Collection Sheet'!B231=\"Treatment\",20,0)","v":0},{"$f":"IF('Data Collection Sheet'!B231=\"Valve\",20,0)","v":0},{"$f":"IF('Data Collection Sheet'!B231=\"Control\",15,0)","v":0},{"$f":"IF('Data Collection Sheet'!B231=\"Safety\",10,0)","v":0},{"$f":"IF('Data Collection Sheet'!B231=\"Building\",50,0)","v":0},{"$f":"IF('Data Collection Sheet'!B231=\"Vehicle\",8,0)","v":0},{"$f":"IF('Data Collection Sheet'!B231=\"Other\",15,0)","v":0},{"$f":"IF('Data Collection Sheet'!I231=\"Bad\",(-0.8*$T228),0)","v":0},{"$f":"IF('Data Collection Sheet'!I231=\"Fair\",(-0.5*$T228),0)","v":0},{"$f":"IF('Data Collection Sheet'!I231=\"Good\",(-0.2*$T228),0)","v":0},{"$f":"IF('Data Collection Sheet'!I231=\"Great\",0,0)","v":0},null,0,0,0,null,null,null,{"$f":"IF('Consequence of Failure'!F231=\"No\",1,0)","v":0},{"$f":"IF('Consequence of Failure'!G231=\"0%-25%\",0.5,0)","v":0},{"$f":"IF('Consequence of Failure'!G231=\"26%-50%\",1,0)","v":0},{"$f":"IF('Consequence of Failure'!G231=\"51%-75%\",1.5,0)","v":0},{"$f":"IF('Consequence of Failure'!G231=\"76%-100%\",2,0)","v":0},{"$f":"IF('Consequence of Failure'!H231=\"Yes\",1,0)","v":0},{"$f":"IF('Consequence of Failure'!I231=\"Yes\",1,0)","v":0},null,0,null,{"$f":"IF('Consequence of Failure'!K231=\"Yes\",1,0)","v":0},{"$f":"IF('Consequence of Failure'!L231=\"Above\",2,0)","v":0},{"$f":"IF('Consequence of Failure'!L231=\"At\",1,0)","v":0},{"$f":"IF('Consequence of Failure'!L231=\"Below\",0,0)","v":0},{"$f":"IF('Consequence of Failure'!M231=\"Yes\",1,0)","v":0},{"$f":"IF('Consequence of Failure'!N231=\"Yes\",1,0)","v":0},null,0,null,0]
[{"$f":"IF('Data Collection Sheet'!B232=\"Pump\",15,0)","v":0},{"$f":"IF('Data Collection Sheet'!B232=\"Hydrant\",50,0)","v":0},{"$f":"IF('Data Collection Sheet'!B232=\"Meter\",15,0)","v":0},{"$f":"IF('Data Collection Sheet'!B232=\"Pipe\",80,0)","v":0},{"$f":"IF('Data Collection Sheet'!B232=\"Source\",50,0)","v":0},{"$f":"IF('Data Collection Sheet'!B232=\"Tank\",50,0)","v":0},{"$f":"IF('Data Collection Sheet'!B232=\"Analytical\",10,0)","v":0},{"$f":"IF('Data Collection Sheet'!B232=\"Treatment\",20,0)","v":0},{"$f":"IF('Data Collection Sheet'!B232=\"Valve\",20,0)","v":0},{"$f":"IF('Data Collection Sheet'!B232=\"Control\",15,0)","v":0},{"$f":"IF('Data Collection Sheet'!B232=\"Safety\",10,0)","v":0},{"$f":"IF('Data Collection Sheet'!B232=\"Building\",50,0)","v":0},{"$f":"IF('Data Collection Sheet'!B232=\"Vehicle\",8,0)","v":0},{"$f":"IF('Data Collection Sheet'!B232=\"Other\",15,0)","v":0},{"$f":"IF('Data Collection Sheet'!I232=\"Bad\",(-0.8*$T229),0)","v":0},{"$f":"IF('Data Collection Sheet'!I232=\"Fair\",(-0.5*$T229),0)","v":0},{"$f":"IF('Data Collection Sheet'!I232=\"Good\",(-0.2*$T229),0)","v":0},{"$f":"IF('Data Collection Sheet'!I232=\"Great\",0,0)","v":0},null,0,0,0,null,null,null,{"$f":"IF('Consequence of Failure'!F232=\"No\",1,0)","v":0},{"$f":"IF('Consequence of Failure'!G232=\"0%-25%\",0.5,0)","v":0},{"$f":"IF('Consequence of Failure'!G232=\"26%-50%\",1,0)","v":0},{"$f":"IF('Consequence of Failure'!G232=\"51%-75%\",1.5,0)","v":0},{"$f":"IF('Consequence of Failure'!G232=\"76%-100%\",2,0)","v":0},{"$f":"IF('Consequence of Failure'!H232=\"Yes\",1,0)","v":0},{"$f":"IF('Consequence of Failure'!I232=\"Yes\",1,0)","v":0},null,0,null,{"$f":"IF('Consequence of Failure'!K232=\"Yes\",1,0)","v":0},{"$f":"IF('Consequence of Failure'!L232=\"Above\",2,0)","v":0},{"$f":"IF('Consequence of Failure'!L232=\"At\",1,0)","v":0},{"$f":"IF('Consequence of Failure'!L232=\"Below\",0,0)","v":0},{"$f":"IF('Consequence of Failure'!M232=\"Yes\",1,0)","v":0},{"$f":"IF('Consequence of Failure'!N232=\"Yes\",1,0)","v":0},null,0,null,0]
[{"$f":"IF('Data Collection Sheet'!B233=\"Pump\",15,0)","v":0},{"$f":"IF('Data Collection Sheet'!B233=\"Hydrant\",50,0)","v":0},{"$f":"IF('Data Collection Sheet'!B233=\"Meter\",15,0)","v":0},{"$f":"IF('Data Collection Sheet'!B233=\"Pipe\",80,0)","v":0},{"$f":"IF('Data Collection Sheet'!B233=\"Source\",50,0)","v":0},{"$f":"IF('Data Collection Sheet'!B233=\"Tank\",50,0)","v":0},{"$f":"IF('Data Collection Sheet'!B233=\"Analytical\",10,0)","v":0},{"$f":"IF('Data Collection Sheet'!B233=\"Treatment\",20,0)","v":0},{"$f":"IF('Data Collection Sheet'!B233=\"Valve\",20,0)","v":0},{"$f":"IF('Data Collection Sheet'!B233=\"Control\",15,0)","v":0},{"$f":"IF('Data Collection Sheet'!B233=\"Safety\",10,0)","v":0},{"$f":"IF('Data Collection Sheet'!B233=\"Building\",50,0)","v":0},{"$f":"IF('Data Collection Sheet'!B233=\"Vehicle\",8,0)","v":0},{"$f":"IF('Data Collection Sheet'!B233=\"Other\",15,0)","v":0},{"$f":"IF('Data Collection Sheet'!I233=\"Bad\",(-0.8*$T230),0)","v":0},{"$f":"IF('Data Collection Sheet'!I233=\"Fair\",(-0.5*$T230),0)","v":0},{"$f":"IF('Data Collection Sheet'!I233=\"Good\",(-0.2*$T230),0)","v":0},{"$f":"IF('Data Collection Sheet'!I233=\"Great\",0,0)","v":0},null,0,0,0,null,null,null,{"$f":"IF('Consequence of Failure'!F233=\"No\",1,0)","v":0},{"$f":"IF('Consequence of Failure'!G233=\"0%-25%\",0.5,0)","v":0},{"$f":"IF('Consequence of Failure'!G233=\"26%-50%\",1,0)","v":0},{"$f":"IF('Consequence of Failure'!G233=\"51%-75%\",1.5,0)","v":0},{"$f":"IF('Consequence of Failure'!G233=\"76%-100%\",2,0)","v":0},{"$f":"IF('Consequence of Failure'!H233=\"Yes\",1,0)","v":0},{"$f":"IF('Consequence of Failure'!I233=\"Yes\",1,0)","v":0},null,0,null,{"$f":"IF('Consequence of Failure'!K233=\"Yes\",1,0)","v":0},{"$f":"IF('Consequence of Failure'!L233=\"Above\",2,0)","v":0},{"$f":"IF('Consequence of Failure'!L233=\"At\",1,0)","v":0},{"$f":"IF('Consequence of Failure'!L233=\"Below\",0,0)","v":0},{"$f":"IF('Consequence of Failure'!M233=\"Yes\",1,0)","v":0},{"$f":"IF('Consequence of Failure'!N233=\"Yes\",1,0)","v":0},null,0,null,0]
[{"$f":"IF('Data Collection Sheet'!B234=\"Pump\",15,0)","v":0},{"$f":"IF('Data Collection Sheet'!B234=\"Hydrant\",50,0)","v":0},{"$f":"IF('Data Collection Sheet'!B234=\"Meter\",15,0)","v":0},{"$f":"IF('Data Collection Sheet'!B234=\"Pipe\",80,0)","v":0},{"$f":"IF('Data Collection Sheet'!B234=\"Source\",50,0)","v":0},{"$f":"IF('Data Collection Sheet'!B234=\"Tank\",50,0)","v":0},{"$f":"IF('Data Collection Sheet'!B234=\"Analytical\",10,0)","v":0},{"$f":"IF('Data Collection Sheet'!B234=\"Treatment\",20,0)","v":0},{"$f":"IF('Data Collection Sheet'!B234=\"Valve\",20,0)","v":0},{"$f":"IF('Data Collection Sheet'!B234=\"Control\",15,0)","v":0},{"$f":"IF('Data Collection Sheet'!B234=\"Safety\",10,0)","v":0},{"$f":"IF('Data Collection Sheet'!B234=\"Building\",50,0)","v":0},{"$f":"IF('Data Collection Sheet'!B234=\"Vehicle\",8,0)","v":0},{"$f":"IF('Data Collection Sheet'!B234=\"Other\",15,0)","v":0},{"$f":"IF('Data Collection Sheet'!I234=\"Bad\",(-0.8*$T231),0)","v":0},{"$f":"IF('Data Collection Sheet'!I234=\"Fair\",(-0.5*$T231),0)","v":0},{"$f":"IF('Data Collection Sheet'!I234=\"Good\",(-0.2*$T231),0)","v":0},{"$f":"IF('Data Collection Sheet'!I234=\"Great\",0,0)","v":0},null,0,0,0,null,null,null,{"$f":"IF('Consequence of Failure'!F234=\"No\",1,0)","v":0},{"$f":"IF('Consequence of Failure'!G234=\"0%-25%\",0.5,0)","v":0},{"$f":"IF('Consequence of Failure'!G234=\"26%-50%\",1,0)","v":0},{"$f":"IF('Consequence of Failure'!G234=\"51%-75%\",1.5,0)","v":0},{"$f":"IF('Consequence of Failure'!G234=\"76%-100%\",2,0)","v":0},{"$f":"IF('Consequence of Failure'!H234=\"Yes\",1,0)","v":0},{"$f":"IF('Consequence of Failure'!I234=\"Yes\",1,0)","v":0},null,0,null,{"$f":"IF('Consequence of Failure'!K234=\"Yes\",1,0)","v":0},{"$f":"IF('Consequence of Failure'!L234=\"Above\",2,0)","v":0},{"$f":"IF('Consequence of Failure'!L234=\"At\",1,0)","v":0},{"$f":"IF('Consequence of Failure'!L234=\"Below\",0,0)","v":0},{"$f":"IF('Consequence of Failure'!M234=\"Yes\",1,0)","v":0},{"$f":"IF('Consequence of Failure'!N234=\"Yes\",1,0)","v":0},null,0,null,0]
[{"$f":"IF('Data Collection Sheet'!B235=\"Pump\",15,0)","v":0},{"$f":"IF('Data Collection Sheet'!B235=\"Hydrant\",50,0)","v":0},{"$f":"IF('Data Collection Sheet'!B235=\"Meter\",15,0)","v":0},{"$f":"IF('Data Collection Sheet'!B235=\"Pipe\",80,0)","v":0},{"$f":"IF('Data Collection Sheet'!B235=\"Source\",50,0)","v":0},{"$f":"IF('Data Collection Sheet'!B235=\"Tank\",50,0)","v":0},{"$f":"IF('Data Collection Sheet'!B235=\"Analytical\",10,0)","v":0},{"$f":"IF('Data Collection Sheet'!B235=\"Treatment\",20,0)","v":0},{"$f":"IF('Data Collection Sheet'!B235=\"Valve\",20,0)","v":0},{"$f":"IF('Data Collection Sheet'!B235=\"Control\",15,0)","v":0},{"$f":"IF('Data Collection Sheet'!B235=\"Safety\",10,0)","v":0},{"$f":"IF('Data Collection Sheet'!B235=\"Building\",50,0)","v":0},{"$f":"IF('Data Collection Sheet'!B235=\"Vehicle\",8,0)","v":0},{"$f":"IF('Data Collection Sheet'!B235=\"Other\",15,0)","v":0},{"$f":"IF('Data Collection Sheet'!I235=\"Bad\",(-0.8*$T232),0)","v":0},{"$f":"IF('Data Collection Sheet'!I235=\"Fair\",(-0.5*$T232),0)","v":0},{"$f":"IF('Data Collection Sheet'!I235=\"Good\",(-0.2*$T232),0)","v":0},{"$f":"IF('Data Collection Sheet'!I235=\"Great\",0,0)","v":0},null,0,0,0,null,null,null,{"$f":"IF('Consequence of Failure'!F235=\"No\",1,0)","v":0},{"$f":"IF('Consequence of Failure'!G235=\"0%-25%\",0.5,0)","v":0},{"$f":"IF('Consequence of Failure'!G235=\"26%-50%\",1,0)","v":0},{"$f":"IF('Consequence of Failure'!G235=\"51%-75%\",1.5,0)","v":0},{"$f":"IF('Consequence of Failure'!G235=\"76%-100%\",2,0)","v":0},{"$f":"IF('Consequence of Failure'!H235=\"Yes\",1,0)","v":0},{"$f":"IF('Consequence of Failure'!I235=\"Yes\",1,0)","v":0},null,0,null,{"$f":"IF('Consequence of Failure'!K235=\"Yes\",1,0)","v":0},{"$f":"IF('Consequence of Failure'!L235=\"Above\",2,0)","v":0},{"$f":"IF('Consequence of Failure'!L235=\"At\",1,0)","v":0},{"$f":"IF('Consequence of Failure'!L235=\"Below\",0,0)","v":0},{"$f":"IF('Consequence of Failure'!M235=\"Yes\",1,0)","v":0},{"$f":"IF('Consequence of Failure'!N235=\"Yes\",1,0)","v":0},null,0,null,0]
[{"$f":"IF('Data Collection Sheet'!B236=\"Pump\",15,0)","v":0},{"$f":"IF('Data Collection Sheet'!B236=\"Hydrant\",50,0)","v":0},{"$f":"IF('Data Collection Sheet'!B236=\"Meter\",15,0)","v":0},{"$f":"IF('Data Collection Sheet'!B236=\"Pipe\",80,0)","v":0},{"$f":"IF('Data Collection Sheet'!B236=\"Source\",50,0)","v":0},{"$f":"IF('Data Collection Sheet'!B236=\"Tank\",50,0)","v":0},{"$f":"IF('Data Collection Sheet'!B236=\"Analytical\",10,0)","v":0},{"$f":"IF('Data Collection Sheet'!B236=\"Treatment\",20,0)","v":0},{"$f":"IF('Data Collection Sheet'!B236=\"Valve\",20,0)","v":0},{"$f":"IF('Data Collection Sheet'!B236=\"Control\",15,0)","v":0},{"$f":"IF('Data Collection Sheet'!B236=\"Safety\",10,0)","v":0},{"$f":"IF('Data Collection Sheet'!B236=\"Building\",50,0)","v":0},{"$f":"IF('Data Collection Sheet'!B236=\"Vehicle\",8,0)","v":0},{"$f":"IF('Data Collection Sheet'!B236=\"Other\",15,0)","v":0},{"$f":"IF('Data Collection Sheet'!I236=\"Bad\",(-0.8*$T233),0)","v":0},{"$f":"IF('Data Collection Sheet'!I236=\"Fair\",(-0.5*$T233),0)","v":0},{"$f":"IF('Data Collection Sheet'!I236=\"Good\",(-0.2*$T233),0)","v":0},{"$f":"IF('Data Collection Sheet'!I236=\"Great\",0,0)","v":0},null,0,0,0,null,null,null,{"$f":"IF('Consequence of Failure'!F236=\"No\",1,0)","v":0},{"$f":"IF('Consequence of Failure'!G236=\"0%-25%\",0.5,0)","v":0},{"$f":"IF('Consequence of Failure'!G236=\"26%-50%\",1,0)","v":0},{"$f":"IF('Consequence of Failure'!G236=\"51%-75%\",1.5,0)","v":0},{"$f":"IF('Consequence of Failure'!G236=\"76%-100%\",2,0)","v":0},{"$f":"IF('Consequence of Failure'!H236=\"Yes\",1,0)","v":0},{"$f":"IF('Consequence of Failure'!I236=\"Yes\",1,0)","v":0},null,0,null,{"$f":"IF('Consequence of Failure'!K236=\"Yes\",1,0)","v":0},{"$f":"IF('Consequence of Failure'!L236=\"Above\",2,0)","v":0},{"$f":"IF('Consequence of Failure'!L236=\"At\",1,0)","v":0},{"$f":"IF('Consequence of Failure'!L236=\"Below\",0,0)","v":0},{"$f":"IF('Consequence of Failure'!M236=\"Yes\",1,0)","v":0},{"$f":"IF('Consequence of Failure'!N236=\"Yes\",1,0)","v":0},null,0,null,0]
[{"$f":"IF('Data Collection Sheet'!B237=\"Pump\",15,0)","v":0},{"$f":"IF('Data Collection Sheet'!B237=\"Hydrant\",50,0)","v":0},{"$f":"IF('Data Collection Sheet'!B237=\"Meter\",15,0)","v":0},{"$f":"IF('Data Collection Sheet'!B237=\"Pipe\",80,0)","v":0},{"$f":"IF('Data Collection Sheet'!B237=\"Source\",50,0)","v":0},{"$f":"IF('Data Collection Sheet'!B237=\"Tank\",50,0)","v":0},{"$f":"IF('Data Collection Sheet'!B237=\"Analytical\",10,0)","v":0},{"$f":"IF('Data Collection Sheet'!B237=\"Treatment\",20,0)","v":0},{"$f":"IF('Data Collection Sheet'!B237=\"Valve\",20,0)","v":0},{"$f":"IF('Data Collection Sheet'!B237=\"Control\",15,0)","v":0},{"$f":"IF('Data Collection Sheet'!B237=\"Safety\",10,0)","v":0},{"$f":"IF('Data Collection Sheet'!B237=\"Building\",50,0)","v":0},{"$f":"IF('Data Collection Sheet'!B237=\"Vehicle\",8,0)","v":0},{"$f":"IF('Data Collection Sheet'!B237=\"Other\",15,0)","v":0},{"$f":"IF('Data Collection Sheet'!I237=\"Bad\",(-0.8*$T234),0)","v":0},{"$f":"IF('Data Collection Sheet'!I237=\"Fair\",(-0.5*$T234),0)","v":0},{"$f":"IF('Data Collection Sheet'!I237=\"Good\",(-0.2*$T234),0)","v":0},{"$f":"IF('Data Collection Sheet'!I237=\"Great\",0,0)","v":0},null,0,0,0,null,null,null,{"$f":"IF('Consequence of Failure'!F237=\"No\",1,0)","v":0},{"$f":"IF('Consequence of Failure'!G237=\"0%-25%\",0.5,0)","v":0},{"$f":"IF('Consequence of Failure'!G237=\"26%-50%\",1,0)","v":0},{"$f":"IF('Consequence of Failure'!G237=\"51%-75%\",1.5,0)","v":0},{"$f":"IF('Consequence of Failure'!G237=\"76%-100%\",2,0)","v":0},{"$f":"IF('Consequence of Failure'!H237=\"Yes\",1,0)","v":0},{"$f":"IF('Consequence of Failure'!I237=\"Yes\",1,0)","v":0},null,0,null,{"$f":"IF('Consequence of Failure'!K237=\"Yes\",1,0)","v":0},{"$f":"IF('Consequence of Failure'!L237=\"Above\",2,0)","v":0},{"$f":"IF('Consequence of Failure'!L237=\"At\",1,0)","v":0},{"$f":"IF('Consequence of Failure'!L237=\"Below\",0,0)","v":0},{"$f":"IF('Consequence of Failure'!M237=\"Yes\",1,0)","v":0},{"$f":"IF('Consequence of Failure'!N237=\"Yes\",1,0)","v":0},null,0,null,0]
[{"$f":"IF('Data Collection Sheet'!B238=\"Pump\",15,0)","v":0},{"$f":"IF('Data Collection Sheet'!B238=\"Hydrant\",50,0)","v":0},{"$f":"IF('Data Collection Sheet'!B238=\"Meter\",15,0)","v":0},{"$f":"IF('Data Collection Sheet'!B238=\"Pipe\",80,0)","v":0},{"$f":"IF('Data Collection Sheet'!B238=\"Source\",50,0)","v":0},{"$f":"IF('Data Collection Sheet'!B238=\"Tank\",50,0)","v":0},{"$f":"IF('Data Collection Sheet'!B238=\"Analytical\",10,0)","v":0},{"$f":"IF('Data Collection Sheet'!B238=\"Treatment\",20,0)","v":0},{"$f":"IF('Data Collection Sheet'!B238=\"Valve\",20,0)","v":0},{"$f":"IF('Data Collection Sheet'!B238=\"Control\",15,0)","v":0},{"$f":"IF('Data Collection Sheet'!B238=\"Safety\",10,0)","v":0},{"$f":"IF('Data Collection Sheet'!B238=\"Building\",50,0)","v":0},{"$f":"IF('Data Collection Sheet'!B238=\"Vehicle\",8,0)","v":0},{"$f":"IF('Data Collection Sheet'!B238=\"Other\",15,0)","v":0},{"$f":"IF('Data Collection Sheet'!I238=\"Bad\",(-0.8*$T235),0)","v":0},{"$f":"IF('Data Collection Sheet'!I238=\"Fair\",(-0.5*$T235),0)","v":0},{"$f":"IF('Data Collection Sheet'!I238=\"Good\",(-0.2*$T235),0)","v":0},{"$f":"IF('Data Collection Sheet'!I238=\"Great\",0,0)","v":0},null,0,0,0,null,null,null,{"$f":"IF('Consequence of Failure'!F238=\"No\",1,0)","v":0},{"$f":"IF('Consequence of Failure'!G238=\"0%-25%\",0.5,0)","v":0},{"$f":"IF('Consequence of Failure'!G238=\"26%-50%\",1,0)","v":0},{"$f":"IF('Consequence of Failure'!G238=\"51%-75%\",1.5,0)","v":0},{"$f":"IF('Consequence of Failure'!G238=\"76%-100%\",2,0)","v":0},{"$f":"IF('Consequence of Failure'!H238=\"Yes\",1,0)","v":0},{"$f":"IF('Consequence of Failure'!I238=\"Yes\",1,0)","v":0},null,0,null,{"$f":"IF('Consequence of Failure'!K238=\"Yes\",1,0)","v":0},{"$f":"IF('Consequence of Failure'!L238=\"Above\",2,0)","v":0},{"$f":"IF('Consequence of Failure'!L238=\"At\",1,0)","v":0},{"$f":"IF('Consequence of Failure'!L238=\"Below\",0,0)","v":0},{"$f":"IF('Consequence of Failure'!M238=\"Yes\",1,0)","v":0},{"$f":"IF('Consequence of Failure'!N238=\"Yes\",1,0)","v":0},null,0,null,0]
[{"$f":"IF('Data Collection Sheet'!B239=\"Pump\",15,0)","v":0},{"$f":"IF('Data Collection Sheet'!B239=\"Hydrant\",50,0)","v":0},{"$f":"IF('Data Collection Sheet'!B239=\"Meter\",15,0)","v":0},{"$f":"IF('Data Collection Sheet'!B239=\"Pipe\",80,0)","v":0},{"$f":"IF('Data Collection Sheet'!B239=\"Source\",50,0)","v":0},{"$f":"IF('Data Collection Sheet'!B239=\"Tank\",50,0)","v":0},{"$f":"IF('Data Collection Sheet'!B239=\"Analytical\",10,0)","v":0},{"$f":"IF('Data Collection Sheet'!B239=\"Treatment\",20,0)","v":0},{"$f":"IF('Data Collection Sheet'!B239=\"Valve\",20,0)","v":0},{"$f":"IF('Data Collection Sheet'!B239=\"Control\",15,0)","v":0},{"$f":"IF('Data Collection Sheet'!B239=\"Safety\",10,0)","v":0},{"$f":"IF('Data Collection Sheet'!B239=\"Building\",50,0)","v":0},{"$f":"IF('Data Collection Sheet'!B239=\"Vehicle\",8,0)","v":0},{"$f":"IF('Data Collection Sheet'!B239=\"Other\",15,0)","v":0},{"$f":"IF('Data Collection Sheet'!I239=\"Bad\",(-0.8*$T236),0)","v":0},{"$f":"IF('Data Collection Sheet'!I239=\"Fair\",(-0.5*$T236),0)","v":0},{"$f":"IF('Data Collection Sheet'!I239=\"Good\",(-0.2*$T236),0)","v":0},{"$f":"IF('Data Collection Sheet'!I239=\"Great\",0,0)","v":0},null,0,0,0,null,null,null,{"$f":"IF('Consequence of Failure'!F239=\"No\",1,0)","v":0},{"$f":"IF('Consequence of Failure'!G239=\"0%-25%\",0.5,0)","v":0},{"$f":"IF('Consequence of Failure'!G239=\"26%-50%\",1,0)","v":0},{"$f":"IF('Consequence of Failure'!G239=\"51%-75%\",1.5,0)","v":0},{"$f":"IF('Consequence of Failure'!G239=\"76%-100%\",2,0)","v":0},{"$f":"IF('Consequence of Failure'!H239=\"Yes\",1,0)","v":0},{"$f":"IF('Consequence of Failure'!I239=\"Yes\",1,0)","v":0},null,0,null,{"$f":"IF('Consequence of Failure'!K239=\"Yes\",1,0)","v":0},{"$f":"IF('Consequence of Failure'!L239=\"Above\",2,0)","v":0},{"$f":"IF('Consequence of Failure'!L239=\"At\",1,0)","v":0},{"$f":"IF('Consequence of Failure'!L239=\"Below\",0,0)","v":0},{"$f":"IF('Consequence of Failure'!M239=\"Yes\",1,0)","v":0},{"$f":"IF('Consequence of Failure'!N239=\"Yes\",1,0)","v":0},null,0,null,0]
[{"$f":"IF('Data Collection Sheet'!B240=\"Pump\",15,0)","v":0},{"$f":"IF('Data Collection Sheet'!B240=\"Hydrant\",50,0)","v":0},{"$f":"IF('Data Collection Sheet'!B240=\"Meter\",15,0)","v":0},{"$f":"IF('Data Collection Sheet'!B240=\"Pipe\",80,0)","v":0},{"$f":"IF('Data Collection Sheet'!B240=\"Source\",50,0)","v":0},{"$f":"IF('Data Collection Sheet'!B240=\"Tank\",50,0)","v":0},{"$f":"IF('Data Collection Sheet'!B240=\"Analytical\",10,0)","v":0},{"$f":"IF('Data Collection Sheet'!B240=\"Treatment\",20,0)","v":0},{"$f":"IF('Data Collection Sheet'!B240=\"Valve\",20,0)","v":0},{"$f":"IF('Data Collection Sheet'!B240=\"Control\",15,0)","v":0},{"$f":"IF('Data Collection Sheet'!B240=\"Safety\",10,0)","v":0},{"$f":"IF('Data Collection Sheet'!B240=\"Building\",50,0)","v":0},{"$f":"IF('Data Collection Sheet'!B240=\"Vehicle\",8,0)","v":0},{"$f":"IF('Data Collection Sheet'!B240=\"Other\",15,0)","v":0},{"$f":"IF('Data Collection Sheet'!I240=\"Bad\",(-0.8*$T237),0)","v":0},{"$f":"IF('Data Collection Sheet'!I240=\"Fair\",(-0.5*$T237),0)","v":0},{"$f":"IF('Data Collection Sheet'!I240=\"Good\",(-0.2*$T237),0)","v":0},{"$f":"IF('Data Collection Sheet'!I240=\"Great\",0,0)","v":0},null,0,0,0,null,null,null,{"$f":"IF('Consequence of Failure'!F240=\"No\",1,0)","v":0},{"$f":"IF('Consequence of Failure'!G240=\"0%-25%\",0.5,0)","v":0},{"$f":"IF('Consequence of Failure'!G240=\"26%-50%\",1,0)","v":0},{"$f":"IF('Consequence of Failure'!G240=\"51%-75%\",1.5,0)","v":0},{"$f":"IF('Consequence of Failure'!G240=\"76%-100%\",2,0)","v":0},{"$f":"IF('Consequence of Failure'!H240=\"Yes\",1,0)","v":0},{"$f":"IF('Consequence of Failure'!I240=\"Yes\",1,0)","v":0},null,0,null,{"$f":"IF('Consequence of Failure'!K240=\"Yes\",1,0)","v":0},{"$f":"IF('Consequence of Failure'!L240=\"Above\",2,0)","v":0},{"$f":"IF('Consequence of Failure'!L240=\"At\",1,0)","v":0},{"$f":"IF('Consequence of Failure'!L240=\"Below\",0,0)","v":0},{"$f":"IF('Consequence of Failure'!M240=\"Yes\",1,0)","v":0},{"$f":"IF('Consequence of Failure'!N240=\"Yes\",1,0)","v":0},null,0,null,0]
[{"$f":"IF('Data Collection Sheet'!B241=\"Pump\",15,0)","v":0},{"$f":"IF('Data Collection Sheet'!B241=\"Hydrant\",50,0)","v":0},{"$f":"IF('Data Collection Sheet'!B241=\"Meter\",15,0)","v":0},{"$f":"IF('Data Collection Sheet'!B241=\"Pipe\",80,0)","v":0},{"$f":"IF('Data Collection Sheet'!B241=\"Source\",50,0)","v":0},{"$f":"IF('Data Collection Sheet'!B241=\"Tank\",50,0)","v":0},{"$f":"IF('Data Collection Sheet'!B241=\"Analytical\",10,0)","v":0},{"$f":"IF('Data Collection Sheet'!B241=\"Treatment\",20,0)","v":0},{"$f":"IF('Data Collection Sheet'!B241=\"Valve\",20,0)","v":0},{"$f":"IF('Data Collection Sheet'!B241=\"Control\",15,0)","v":0},{"$f":"IF('Data Collection Sheet'!B241=\"Safety\",10,0)","v":0},{"$f":"IF('Data Collection Sheet'!B241=\"Building\",50,0)","v":0},{"$f":"IF('Data Collection Sheet'!B241=\"Vehicle\",8,0)","v":0},{"$f":"IF('Data Collection Sheet'!B241=\"Other\",15,0)","v":0},{"$f":"IF('Data Collection Sheet'!I241=\"Bad\",(-0.8*$T238),0)","v":0},{"$f":"IF('Data Collection Sheet'!I241=\"Fair\",(-0.5*$T238),0)","v":0},{"$f":"IF('Data Collection Sheet'!I241=\"Good\",(-0.2*$T238),0)","v":0},{"$f":"IF('Data Collection Sheet'!I241=\"Great\",0,0)","v":0},null,0,0,0,null,null,null,{"$f":"IF('Consequence of Failure'!F241=\"No\",1,0)","v":0},{"$f":"IF('Consequence of Failure'!G241=\"0%-25%\",0.5,0)","v":0},{"$f":"IF('Consequence of Failure'!G241=\"26%-50%\",1,0)","v":0},{"$f":"IF('Consequence of Failure'!G241=\"51%-75%\",1.5,0)","v":0},{"$f":"IF('Consequence of Failure'!G241=\"76%-100%\",2,0)","v":0},{"$f":"IF('Consequence of Failure'!H241=\"Yes\",1,0)","v":0},{"$f":"IF('Consequence of Failure'!I241=\"Yes\",1,0)","v":0},null,0,null,{"$f":"IF('Consequence of Failure'!K241=\"Yes\",1,0)","v":0},{"$f":"IF('Consequence of Failure'!L241=\"Above\",2,0)","v":0},{"$f":"IF('Consequence of Failure'!L241=\"At\",1,0)","v":0},{"$f":"IF('Consequence of Failure'!L241=\"Below\",0,0)","v":0},{"$f":"IF('Consequence of Failure'!M241=\"Yes\",1,0)","v":0},{"$f":"IF('Consequence of Failure'!N241=\"Yes\",1,0)","v":0},null,0,null,0]
[{"$f":"IF('Data Collection Sheet'!B242=\"Pump\",15,0)","v":0},{"$f":"IF('Data Collection Sheet'!B242=\"Hydrant\",50,0)","v":0},{"$f":"IF('Data Collection Sheet'!B242=\"Meter\",15,0)","v":0},{"$f":"IF('Data Collection Sheet'!B242=\"Pipe\",80,0)","v":0},{"$f":"IF('Data Collection Sheet'!B242=\"Source\",50,0)","v":0},{"$f":"IF('Data Collection Sheet'!B242=\"Tank\",50,0)","v":0},{"$f":"IF('Data Collection Sheet'!B242=\"Analytical\",10,0)","v":0},{"$f":"IF('Data Collection Sheet'!B242=\"Treatment\",20,0)","v":0},{"$f":"IF('Data Collection Sheet'!B242=\"Valve\",20,0)","v":0},{"$f":"IF('Data Collection Sheet'!B242=\"Control\",15,0)","v":0},{"$f":"IF('Data Collection Sheet'!B242=\"Safety\",10,0)","v":0},{"$f":"IF('Data Collection Sheet'!B242=\"Building\",50,0)","v":0},{"$f":"IF('Data Collection Sheet'!B242=\"Vehicle\",8,0)","v":0},{"$f":"IF('Data Collection Sheet'!B242=\"Other\",15,0)","v":0},{"$f":"IF('Data Collection Sheet'!I242=\"Bad\",(-0.8*$T239),0)","v":0},{"$f":"IF('Data Collection Sheet'!I242=\"Fair\",(-0.5*$T239),0)","v":0},{"$f":"IF('Data Collection Sheet'!I242=\"Good\",(-0.2*$T239),0)","v":0},{"$f":"IF('Data Collection Sheet'!I242=\"Great\",0,0)","v":0},null,0,0,0,null,null,null,{"$f":"IF('Consequence of Failure'!F242=\"No\",1,0)","v":0},{"$f":"IF('Consequence of Failure'!G242=\"0%-25%\",0.5,0)","v":0},{"$f":"IF('Consequence of Failure'!G242=\"26%-50%\",1,0)","v":0},{"$f":"IF('Consequence of Failure'!G242=\"51%-75%\",1.5,0)","v":0},{"$f":"IF('Consequence of Failure'!G242=\"76%-100%\",2,0)","v":0},{"$f":"IF('Consequence of Failure'!H242=\"Yes\",1,0)","v":0},{"$f":"IF('Consequence of Failure'!I242=\"Yes\",1,0)","v":0},null,0,null,{"$f":"IF('Consequence of Failure'!K242=\"Yes\",1,0)","v":0},{"$f":"IF('Consequence of Failure'!L242=\"Above\",2,0)","v":0},{"$f":"IF('Consequence of Failure'!L242=\"At\",1,0)","v":0},{"$f":"IF('Consequence of Failure'!L242=\"Below\",0,0)","v":0},{"$f":"IF('Consequence of Failure'!M242=\"Yes\",1,0)","v":0},{"$f":"IF('Consequence of Failure'!N242=\"Yes\",1,0)","v":0},null,0,null,0]
[{"$f":"IF('Data Collection Sheet'!B243=\"Pump\",15,0)","v":0},{"$f":"IF('Data Collection Sheet'!B243=\"Hydrant\",50,0)","v":0},{"$f":"IF('Data Collection Sheet'!B243=\"Meter\",15,0)","v":0},{"$f":"IF('Data Collection Sheet'!B243=\"Pipe\",80,0)","v":0},{"$f":"IF('Data Collection Sheet'!B243=\"Source\",50,0)","v":0},{"$f":"IF('Data Collection Sheet'!B243=\"Tank\",50,0)","v":0},{"$f":"IF('Data Collection Sheet'!B243=\"Analytical\",10,0)","v":0},{"$f":"IF('Data Collection Sheet'!B243=\"Treatment\",20,0)","v":0},{"$f":"IF('Data Collection Sheet'!B243=\"Valve\",20,0)","v":0},{"$f":"IF('Data Collection Sheet'!B243=\"Control\",15,0)","v":0},{"$f":"IF('Data Collection Sheet'!B243=\"Safety\",10,0)","v":0},{"$f":"IF('Data Collection Sheet'!B243=\"Building\",50,0)","v":0},{"$f":"IF('Data Collection Sheet'!B243=\"Vehicle\",8,0)","v":0},{"$f":"IF('Data Collection Sheet'!B243=\"Other\",15,0)","v":0},{"$f":"IF('Data Collection Sheet'!I243=\"Bad\",(-0.8*$T240),0)","v":0},{"$f":"IF('Data Collection Sheet'!I243=\"Fair\",(-0.5*$T240),0)","v":0},{"$f":"IF('Data Collection Sheet'!I243=\"Good\",(-0.2*$T240),0)","v":0},{"$f":"IF('Data Collection Sheet'!I243=\"Great\",0,0)","v":0},null,0,0,0,null,null,null,{"$f":"IF('Consequence of Failure'!F243=\"No\",1,0)","v":0},{"$f":"IF('Consequence of Failure'!G243=\"0%-25%\",0.5,0)","v":0},{"$f":"IF('Consequence of Failure'!G243=\"26%-50%\",1,0)","v":0},{"$f":"IF('Consequence of Failure'!G243=\"51%-75%\",1.5,0)","v":0},{"$f":"IF('Consequence of Failure'!G243=\"76%-100%\",2,0)","v":0},{"$f":"IF('Consequence of Failure'!H243=\"Yes\",1,0)","v":0},{"$f":"IF('Consequence of Failure'!I243=\"Yes\",1,0)","v":0},null,0,null,{"$f":"IF('Consequence of Failure'!K243=\"Yes\",1,0)","v":0},{"$f":"IF('Consequence of Failure'!L243=\"Above\",2,0)","v":0},{"$f":"IF('Consequence of Failure'!L243=\"At\",1,0)","v":0},{"$f":"IF('Consequence of Failure'!L243=\"Below\",0,0)","v":0},{"$f":"IF('Consequence of Failure'!M243=\"Yes\",1,0)","v":0},{"$f":"IF('Consequence of Failure'!N243=\"Yes\",1,0)","v":0},null,0,null,0]
[{"$f":"IF('Data Collection Sheet'!B244=\"Pump\",15,0)","v":0},{"$f":"IF('Data Collection Sheet'!B244=\"Hydrant\",50,0)","v":0},{"$f":"IF('Data Collection Sheet'!B244=\"Meter\",15,0)","v":0},{"$f":"IF('Data Collection Sheet'!B244=\"Pipe\",80,0)","v":0},{"$f":"IF('Data Collection Sheet'!B244=\"Source\",50,0)","v":0},{"$f":"IF('Data Collection Sheet'!B244=\"Tank\",50,0)","v":0},{"$f":"IF('Data Collection Sheet'!B244=\"Analytical\",10,0)","v":0},{"$f":"IF('Data Collection Sheet'!B244=\"Treatment\",20,0)","v":0},{"$f":"IF('Data Collection Sheet'!B244=\"Valve\",20,0)","v":0},{"$f":"IF('Data Collection Sheet'!B244=\"Control\",15,0)","v":0},{"$f":"IF('Data Collection Sheet'!B244=\"Safety\",10,0)","v":0},{"$f":"IF('Data Collection Sheet'!B244=\"Building\",50,0)","v":0},{"$f":"IF('Data Collection Sheet'!B244=\"Vehicle\",8,0)","v":0},{"$f":"IF('Data Collection Sheet'!B244=\"Other\",15,0)","v":0},{"$f":"IF('Data Collection Sheet'!I244=\"Bad\",(-0.8*$T241),0)","v":0},{"$f":"IF('Data Collection Sheet'!I244=\"Fair\",(-0.5*$T241),0)","v":0},{"$f":"IF('Data Collection Sheet'!I244=\"Good\",(-0.2*$T241),0)","v":0},{"$f":"IF('Data Collection Sheet'!I244=\"Great\",0,0)","v":0},null,0,0,0,null,null,null,{"$f":"IF('Consequence of Failure'!F244=\"No\",1,0)","v":0},{"$f":"IF('Consequence of Failure'!G244=\"0%-25%\",0.5,0)","v":0},{"$f":"IF('Consequence of Failure'!G244=\"26%-50%\",1,0)","v":0},{"$f":"IF('Consequence of Failure'!G244=\"51%-75%\",1.5,0)","v":0},{"$f":"IF('Consequence of Failure'!G244=\"76%-100%\",2,0)","v":0},{"$f":"IF('Consequence of Failure'!H244=\"Yes\",1,0)","v":0},{"$f":"IF('Consequence of Failure'!I244=\"Yes\",1,0)","v":0},null,0,null,{"$f":"IF('Consequence of Failure'!K244=\"Yes\",1,0)","v":0},{"$f":"IF('Consequence of Failure'!L244=\"Above\",2,0)","v":0},{"$f":"IF('Consequence of Failure'!L244=\"At\",1,0)","v":0},{"$f":"IF('Consequence of Failure'!L244=\"Below\",0,0)","v":0},{"$f":"IF('Consequence of Failure'!M244=\"Yes\",1,0)","v":0},{"$f":"IF('Consequence of Failure'!N244=\"Yes\",1,0)","v":0},null,0,null,0]
[{"$f":"IF('Data Collection Sheet'!B245=\"Pump\",15,0)","v":0},{"$f":"IF('Data Collection Sheet'!B245=\"Hydrant\",50,0)","v":0},{"$f":"IF('Data Collection Sheet'!B245=\"Meter\",15,0)","v":0},{"$f":"IF('Data Collection Sheet'!B245=\"Pipe\",80,0)","v":0},{"$f":"IF('Data Collection Sheet'!B245=\"Source\",50,0)","v":0},{"$f":"IF('Data Collection Sheet'!B245=\"Tank\",50,0)","v":0},{"$f":"IF('Data Collection Sheet'!B245=\"Analytical\",10,0)","v":0},{"$f":"IF('Data Collection Sheet'!B245=\"Treatment\",20,0)","v":0},{"$f":"IF('Data Collection Sheet'!B245=\"Valve\",20,0)","v":0},{"$f":"IF('Data Collection Sheet'!B245=\"Control\",15,0)","v":0},{"$f":"IF('Data Collection Sheet'!B245=\"Safety\",10,0)","v":0},{"$f":"IF('Data Collection Sheet'!B245=\"Building\",50,0)","v":0},{"$f":"IF('Data Collection Sheet'!B245=\"Vehicle\",8,0)","v":0},{"$f":"IF('Data Collection Sheet'!B245=\"Other\",15,0)","v":0},{"$f":"IF('Data Collection Sheet'!I245=\"Bad\",(-0.8*$T242),0)","v":0},{"$f":"IF('Data Collection Sheet'!I245=\"Fair\",(-0.5*$T242),0)","v":0},{"$f":"IF('Data Collection Sheet'!I245=\"Good\",(-0.2*$T242),0)","v":0},{"$f":"IF('Data Collection Sheet'!I245=\"Great\",0,0)","v":0},null,0,0,0,null,null,null,{"$f":"IF('Consequence of Failure'!F245=\"No\",1,0)","v":0},{"$f":"IF('Consequence of Failure'!G245=\"0%-25%\",0.5,0)","v":0},{"$f":"IF('Consequence of Failure'!G245=\"26%-50%\",1,0)","v":0},{"$f":"IF('Consequence of Failure'!G245=\"51%-75%\",1.5,0)","v":0},{"$f":"IF('Consequence of Failure'!G245=\"76%-100%\",2,0)","v":0},{"$f":"IF('Consequence of Failure'!H245=\"Yes\",1,0)","v":0},{"$f":"IF('Consequence of Failure'!I245=\"Yes\",1,0)","v":0},null,0,null,{"$f":"IF('Consequence of Failure'!K245=\"Yes\",1,0)","v":0},{"$f":"IF('Consequence of Failure'!L245=\"Above\",2,0)","v":0},{"$f":"IF('Consequence of Failure'!L245=\"At\",1,0)","v":0},{"$f":"IF('Consequence of Failure'!L245=\"Below\",0,0)","v":0},{"$f":"IF('Consequence of Failure'!M245=\"Yes\",1,0)","v":0},{"$f":"IF('Consequence of Failure'!N245=\"Yes\",1,0)","v":0},null,0,null,0]
[{"$f":"IF('Data Collection Sheet'!B246=\"Pump\",15,0)","v":0},{"$f":"IF('Data Collection Sheet'!B246=\"Hydrant\",50,0)","v":0},{"$f":"IF('Data Collection Sheet'!B246=\"Meter\",15,0)","v":0},{"$f":"IF('Data Collection Sheet'!B246=\"Pipe\",80,0)","v":0},{"$f":"IF('Data Collection Sheet'!B246=\"Source\",50,0)","v":0},{"$f":"IF('Data Collection Sheet'!B246=\"Tank\",50,0)","v":0},{"$f":"IF('Data Collection Sheet'!B246=\"Analytical\",10,0)","v":0},{"$f":"IF('Data Collection Sheet'!B246=\"Treatment\",20,0)","v":0},{"$f":"IF('Data Collection Sheet'!B246=\"Valve\",20,0)","v":0},{"$f":"IF('Data Collection Sheet'!B246=\"Control\",15,0)","v":0},{"$f":"IF('Data Collection Sheet'!B246=\"Safety\",10,0)","v":0},{"$f":"IF('Data Collection Sheet'!B246=\"Building\",50,0)","v":0},{"$f":"IF('Data Collection Sheet'!B246=\"Vehicle\",8,0)","v":0},{"$f":"IF('Data Collection Sheet'!B246=\"Other\",15,0)","v":0},{"$f":"IF('Data Collection Sheet'!I246=\"Bad\",(-0.8*$T243),0)","v":0},{"$f":"IF('Data Collection Sheet'!I246=\"Fair\",(-0.5*$T243),0)","v":0},{"$f":"IF('Data Collection Sheet'!I246=\"Good\",(-0.2*$T243),0)","v":0},{"$f":"IF('Data Collection Sheet'!I246=\"Great\",0,0)","v":0},null,0,0,0,null,null,null,{"$f":"IF('Consequence of Failure'!F246=\"No\",1,0)","v":0},{"$f":"IF('Consequence of Failure'!G246=\"0%-25%\",0.5,0)","v":0},{"$f":"IF('Consequence of Failure'!G246=\"26%-50%\",1,0)","v":0},{"$f":"IF('Consequence of Failure'!G246=\"51%-75%\",1.5,0)","v":0},{"$f":"IF('Consequence of Failure'!G246=\"76%-100%\",2,0)","v":0},{"$f":"IF('Consequence of Failure'!H246=\"Yes\",1,0)","v":0},{"$f":"IF('Consequence of Failure'!I246=\"Yes\",1,0)","v":0},null,0,null,{"$f":"IF('Consequence of Failure'!K246=\"Yes\",1,0)","v":0},{"$f":"IF('Consequence of Failure'!L246=\"Above\",2,0)","v":0},{"$f":"IF('Consequence of Failure'!L246=\"At\",1,0)","v":0},{"$f":"IF('Consequence of Failure'!L246=\"Below\",0,0)","v":0},{"$f":"IF('Consequence of Failure'!M246=\"Yes\",1,0)","v":0},{"$f":"IF('Consequence of Failure'!N246=\"Yes\",1,0)","v":0},null,0,null,0]
[{"$f":"IF('Data Collection Sheet'!B247=\"Pump\",15,0)","v":0},{"$f":"IF('Data Collection Sheet'!B247=\"Hydrant\",50,0)","v":0},{"$f":"IF('Data Collection Sheet'!B247=\"Meter\",15,0)","v":0},{"$f":"IF('Data Collection Sheet'!B247=\"Pipe\",80,0)","v":0},{"$f":"IF('Data Collection Sheet'!B247=\"Source\",50,0)","v":0},{"$f":"IF('Data Collection Sheet'!B247=\"Tank\",50,0)","v":0},{"$f":"IF('Data Collection Sheet'!B247=\"Analytical\",10,0)","v":0},{"$f":"IF('Data Collection Sheet'!B247=\"Treatment\",20,0)","v":0},{"$f":"IF('Data Collection Sheet'!B247=\"Valve\",20,0)","v":0},{"$f":"IF('Data Collection Sheet'!B247=\"Control\",15,0)","v":0},{"$f":"IF('Data Collection Sheet'!B247=\"Safety\",10,0)","v":0},{"$f":"IF('Data Collection Sheet'!B247=\"Building\",50,0)","v":0},{"$f":"IF('Data Collection Sheet'!B247=\"Vehicle\",8,0)","v":0},{"$f":"IF('Data Collection Sheet'!B247=\"Other\",15,0)","v":0},{"$f":"IF('Data Collection Sheet'!I247=\"Bad\",(-0.8*$T244),0)","v":0},{"$f":"IF('Data Collection Sheet'!I247=\"Fair\",(-0.5*$T244),0)","v":0},{"$f":"IF('Data Collection Sheet'!I247=\"Good\",(-0.2*$T244),0)","v":0},{"$f":"IF('Data Collection Sheet'!I247=\"Great\",0,0)","v":0},null,0,0,0,null,null,null,{"$f":"IF('Consequence of Failure'!F247=\"No\",1,0)","v":0},{"$f":"IF('Consequence of Failure'!G247=\"0%-25%\",0.5,0)","v":0},{"$f":"IF('Consequence of Failure'!G247=\"26%-50%\",1,0)","v":0},{"$f":"IF('Consequence of Failure'!G247=\"51%-75%\",1.5,0)","v":0},{"$f":"IF('Consequence of Failure'!G247=\"76%-100%\",2,0)","v":0},{"$f":"IF('Consequence of Failure'!H247=\"Yes\",1,0)","v":0},{"$f":"IF('Consequence of Failure'!I247=\"Yes\",1,0)","v":0},null,0,null,{"$f":"IF('Consequence of Failure'!K247=\"Yes\",1,0)","v":0},{"$f":"IF('Consequence of Failure'!L247=\"Above\",2,0)","v":0},{"$f":"IF('Consequence of Failure'!L247=\"At\",1,0)","v":0},{"$f":"IF('Consequence of Failure'!L247=\"Below\",0,0)","v":0},{"$f":"IF('Consequence of Failure'!M247=\"Yes\",1,0)","v":0},{"$f":"IF('Consequence of Failure'!N247=\"Yes\",1,0)","v":0},null,0,null,0]
[{"$f":"IF('Data Collection Sheet'!B248=\"Pump\",15,0)","v":0},{"$f":"IF('Data Collection Sheet'!B248=\"Hydrant\",50,0)","v":0},{"$f":"IF('Data Collection Sheet'!B248=\"Meter\",15,0)","v":0},{"$f":"IF('Data Collection Sheet'!B248=\"Pipe\",80,0)","v":0},{"$f":"IF('Data Collection Sheet'!B248=\"Source\",50,0)","v":0},{"$f":"IF('Data Collection Sheet'!B248=\"Tank\",50,0)","v":0},{"$f":"IF('Data Collection Sheet'!B248=\"Analytical\",10,0)","v":0},{"$f":"IF('Data Collection Sheet'!B248=\"Treatment\",20,0)","v":0},{"$f":"IF('Data Collection Sheet'!B248=\"Valve\",20,0)","v":0},{"$f":"IF('Data Collection Sheet'!B248=\"Control\",15,0)","v":0},{"$f":"IF('Data Collection Sheet'!B248=\"Safety\",10,0)","v":0},{"$f":"IF('Data Collection Sheet'!B248=\"Building\",50,0)","v":0},{"$f":"IF('Data Collection Sheet'!B248=\"Vehicle\",8,0)","v":0},{"$f":"IF('Data Collection Sheet'!B248=\"Other\",15,0)","v":0},{"$f":"IF('Data Collection Sheet'!I248=\"Bad\",(-0.8*$T245),0)","v":0},{"$f":"IF('Data Collection Sheet'!I248=\"Fair\",(-0.5*$T245),0)","v":0},{"$f":"IF('Data Collection Sheet'!I248=\"Good\",(-0.2*$T245),0)","v":0},{"$f":"IF('Data Collection Sheet'!I248=\"Great\",0,0)","v":0},null,0,0,0,null,null,null,{"$f":"IF('Consequence of Failure'!F248=\"No\",1,0)","v":0},{"$f":"IF('Consequence of Failure'!G248=\"0%-25%\",0.5,0)","v":0},{"$f":"IF('Consequence of Failure'!G248=\"26%-50%\",1,0)","v":0},{"$f":"IF('Consequence of Failure'!G248=\"51%-75%\",1.5,0)","v":0},{"$f":"IF('Consequence of Failure'!G248=\"76%-100%\",2,0)","v":0},{"$f":"IF('Consequence of Failure'!H248=\"Yes\",1,0)","v":0},{"$f":"IF('Consequence of Failure'!I248=\"Yes\",1,0)","v":0},null,0,null,{"$f":"IF('Consequence of Failure'!K248=\"Yes\",1,0)","v":0},{"$f":"IF('Consequence of Failure'!L248=\"Above\",2,0)","v":0},{"$f":"IF('Consequence of Failure'!L248=\"At\",1,0)","v":0},{"$f":"IF('Consequence of Failure'!L248=\"Below\",0,0)","v":0},{"$f":"IF('Consequence of Failure'!M248=\"Yes\",1,0)","v":0},{"$f":"IF('Consequence of Failure'!N248=\"Yes\",1,0)","v":0},null,0,null,0]
[{"$f":"IF('Data Collection Sheet'!B249=\"Pump\",15,0)","v":0},{"$f":"IF('Data Collection Sheet'!B249=\"Hydrant\",50,0)","v":0},{"$f":"IF('Data Collection Sheet'!B249=\"Meter\",15,0)","v":0},{"$f":"IF('Data Collection Sheet'!B249=\"Pipe\",80,0)","v":0},{"$f":"IF('Data Collection Sheet'!B249=\"Source\",50,0)","v":0},{"$f":"IF('Data Collection Sheet'!B249=\"Tank\",50,0)","v":0},{"$f":"IF('Data Collection Sheet'!B249=\"Analytical\",10,0)","v":0},{"$f":"IF('Data Collection Sheet'!B249=\"Treatment\",20,0)","v":0},{"$f":"IF('Data Collection Sheet'!B249=\"Valve\",20,0)","v":0},{"$f":"IF('Data Collection Sheet'!B249=\"Control\",15,0)","v":0},{"$f":"IF('Data Collection Sheet'!B249=\"Safety\",10,0)","v":0},{"$f":"IF('Data Collection Sheet'!B249=\"Building\",50,0)","v":0},{"$f":"IF('Data Collection Sheet'!B249=\"Vehicle\",8,0)","v":0},{"$f":"IF('Data Collection Sheet'!B249=\"Other\",15,0)","v":0},{"$f":"IF('Data Collection Sheet'!I249=\"Bad\",(-0.8*$T246),0)","v":0},{"$f":"IF('Data Collection Sheet'!I249=\"Fair\",(-0.5*$T246),0)","v":0},{"$f":"IF('Data Collection Sheet'!I249=\"Good\",(-0.2*$T246),0)","v":0},{"$f":"IF('Data Collection Sheet'!I249=\"Great\",0,0)","v":0},null,0,0,0,null,null,null,{"$f":"IF('Consequence of Failure'!F249=\"No\",1,0)","v":0},{"$f":"IF('Consequence of Failure'!G249=\"0%-25%\",0.5,0)","v":0},{"$f":"IF('Consequence of Failure'!G247=\"26%-50%\",1,0)","v":0},{"$f":"IF('Consequence of Failure'!G247=\"51%-75%\",1.5,0)","v":0},{"$f":"IF('Consequence of Failure'!G249=\"76%-100%\",2,0)","v":0},{"$f":"IF('Consequence of Failure'!H249=\"Yes\",1,0)","v":0},{"$f":"IF('Consequence of Failure'!I249=\"Yes\",1,0)","v":0},null,0,null,{"$f":"IF('Consequence of Failure'!K249=\"Yes\",1,0)","v":0},{"$f":"IF('Consequence of Failure'!L249=\"Above\",2,0)","v":0},{"$f":"IF('Consequence of Failure'!L249=\"At\",1,0)","v":0},{"$f":"IF('Consequence of Failure'!L249=\"Below\",0,0)","v":0},{"$f":"IF('Consequence of Failure'!M249=\"Yes\",1,0)","v":0},{"$f":"IF('Consequence of Failure'!N249=\"Yes\",1,0)","v":0},null,0,null,0]
[{"$f":"IF('Data Collection Sheet'!B250=\"Pump\",15,0)","v":0},{"$f":"IF('Data Collection Sheet'!B250=\"Hydrant\",50,0)","v":0},{"$f":"IF('Data Collection Sheet'!B250=\"Meter\",15,0)","v":0},{"$f":"IF('Data Collection Sheet'!B250=\"Pipe\",80,0)","v":0},{"$f":"IF('Data Collection Sheet'!B250=\"Source\",50,0)","v":0},{"$f":"IF('Data Collection Sheet'!B250=\"Tank\",50,0)","v":0},{"$f":"IF('Data Collection Sheet'!B250=\"Analytical\",10,0)","v":0},{"$f":"IF('Data Collection Sheet'!B250=\"Treatment\",20,0)","v":0},{"$f":"IF('Data Collection Sheet'!B250=\"Valve\",20,0)","v":0},{"$f":"IF('Data Collection Sheet'!B250=\"Control\",15,0)","v":0},{"$f":"IF('Data Collection Sheet'!B250=\"Safety\",10,0)","v":0},{"$f":"IF('Data Collection Sheet'!B250=\"Building\",50,0)","v":0},{"$f":"IF('Data Collection Sheet'!B250=\"Vehicle\",8,0)","v":0},{"$f":"IF('Data Collection Sheet'!B250=\"Other\",15,0)","v":0},{"$f":"IF('Data Collection Sheet'!I250=\"Bad\",(-0.8*$T247),0)","v":0},{"$f":"IF('Data Collection Sheet'!I250=\"Fair\",(-0.5*$T247),0)","v":0},{"$f":"IF('Data Collection Sheet'!I250=\"Good\",(-0.2*$T247),0)","v":0},{"$f":"IF('Data Collection Sheet'!I250=\"Great\",0,0)","v":0},null,0,0,0,null,null,null,{"$f":"IF('Consequence of Failure'!F250=\"No\",1,0)","v":0},{"$f":"IF('Consequence of Failure'!G248=\"0%-25%\",0.5,0)","v":0},{"$f":"IF('Consequence of Failure'!G248=\"26%-50%\",1,0)","v":0},{"$f":"IF('Consequence of Failure'!G248=\"51%-75%\",1.5,0)","v":0},{"$f":"IF('Consequence of Failure'!G248=\"76%-100%\",2,0)","v":0},{"$f":"IF('Consequence of Failure'!H248=\"Yes\",1,0)","v":0},{"$f":"IF('Consequence of Failure'!I250=\"Yes\",1,0)","v":0},null,0,null,{"$f":"IF('Consequence of Failure'!K250=\"Yes\",1,0)","v":0},{"$f":"IF('Consequence of Failure'!L250=\"Above\",2,0)","v":0},{"$f":"IF('Consequence of Failure'!L248=\"At\",1,0)","v":0},{"$f":"IF('Consequence of Failure'!L248=\"Below\",0,0)","v":0},{"$f":"IF('Consequence of Failure'!M250=\"Yes\",1,0)","v":0},{"$f":"IF('Consequence of Failure'!N248=\"Yes\",1,0)","v":0},null,0,null,0]
[{"$f":"IF('Data Collection Sheet'!B251=\"Pump\",15,0)","v":0},{"$f":"IF('Data Collection Sheet'!B251=\"Hydrant\",50,0)","v":0},{"$f":"IF('Data Collection Sheet'!B251=\"Meter\",15,0)","v":0},{"$f":"IF('Data Collection Sheet'!B251=\"Pipe\",80,0)","v":0},{"$f":"IF('Data Collection Sheet'!B251=\"Source\",50,0)","v":0},{"$f":"IF('Data Collection Sheet'!B251=\"Tank\",50,0)","v":0},{"$f":"IF('Data Collection Sheet'!B251=\"Analytical\",10,0)","v":0},{"$f":"IF('Data Collection Sheet'!B251=\"Treatment\",20,0)","v":0},{"$f":"IF('Data Collection Sheet'!B251=\"Valve\",20,0)","v":0},{"$f":"IF('Data Collection Sheet'!B251=\"Control\",15,0)","v":0},{"$f":"IF('Data Collection Sheet'!B251=\"Safety\",10,0)","v":0},{"$f":"IF('Data Collection Sheet'!B251=\"Building\",50,0)","v":0},{"$f":"IF('Data Collection Sheet'!B251=\"Vehicle\",8,0)","v":0},{"$f":"IF('Data Collection Sheet'!B251=\"Other\",15,0)","v":0},{"$f":"IF('Data Collection Sheet'!I251=\"Bad\",(-0.8*$T248),0)","v":0},{"$f":"IF('Data Collection Sheet'!I251=\"Fair\",(-0.5*$T248),0)","v":0},{"$f":"IF('Data Collection Sheet'!I251=\"Good\",(-0.2*$T248),0)","v":0},{"$f":"IF('Data Collection Sheet'!I251=\"Great\",0,0)","v":0},null,0,0,0,null,null,null,{"$f":"IF('Consequence of Failure'!F251=\"No\",1,0)","v":0},{"$f":"IF('Consequence of Failure'!G249=\"0%-25%\",0.5,0)","v":0},{"$f":"IF('Consequence of Failure'!G249=\"26%-50%\",1,0)","v":0},{"$f":"IF('Consequence of Failure'!G249=\"51%-75%\",1.5,0)","v":0},{"$f":"IF('Consequence of Failure'!G249=\"76%-100%\",2,0)","v":0},{"$f":"IF('Consequence of Failure'!H249=\"Yes\",1,0)","v":0},{"$f":"IF('Consequence of Failure'!I249=\"Yes\",1,0)","v":0},null,0,null,{"$f":"IF('Consequence of Failure'!K249=\"Yes\",1,0)","v":0},{"$f":"IF('Consequence of Failure'!L249=\"Above\",2,0)","v":0},{"$f":"IF('Consequence of Failure'!L249=\"At\",1,0)","v":0},{"$f":"IF('Consequence of Failure'!L249=\"Below\",0,0)","v":0},{"$f":"IF('Consequence of Failure'!M249=\"Yes\",1,0)","v":0},{"$f":"IF('Consequence of Failure'!N249=\"Yes\",1,0)","v":0},null,0,null,0]
[{"$f":"IF('Data Collection Sheet'!B252=\"Pump\",15,0)","v":0},{"$f":"IF('Data Collection Sheet'!B252=\"Hydrant\",50,0)","v":0},{"$f":"IF('Data Collection Sheet'!B252=\"Meter\",15,0)","v":0},{"$f":"IF('Data Collection Sheet'!B252=\"Pipe\",80,0)","v":0},{"$f":"IF('Data Collection Sheet'!B252=\"Source\",50,0)","v":0},{"$f":"IF('Data Collection Sheet'!B252=\"Tank\",50,0)","v":0},{"$f":"IF('Data Collection Sheet'!B252=\"Analytical\",10,0)","v":0},{"$f":"IF('Data Collection Sheet'!B252=\"Treatment\",20,0)","v":0},{"$f":"IF('Data Collection Sheet'!B252=\"Valve\",20,0)","v":0},{"$f":"IF('Data Collection Sheet'!B252=\"Control\",15,0)","v":0},{"$f":"IF('Data Collection Sheet'!B252=\"Safety\",10,0)","v":0},{"$f":"IF('Data Collection Sheet'!B252=\"Building\",50,0)","v":0},{"$f":"IF('Data Collection Sheet'!B252=\"Vehicle\",8,0)","v":0},{"$f":"IF('Data Collection Sheet'!B252=\"Other\",15,0)","v":0},{"$f":"IF('Data Collection Sheet'!I252=\"Bad\",(-0.8*$T249),0)","v":0},{"$f":"IF('Data Collection Sheet'!I252=\"Fair\",(-0.5*$T249),0)","v":0},{"$f":"IF('Data Collection Sheet'!I252=\"Good\",(-0.2*$T249),0)","v":0},{"$f":"IF('Data Collection Sheet'!I252=\"Great\",0,0)","v":0},null,0,0,0,null,null,null,{"$f":"IF('Consequence of Failure'!F252=\"No\",1,0)","v":0},{"$f":"IF('Consequence of Failure'!G250=\"0%-25%\",0.5,0)","v":0},{"$f":"IF('Consequence of Failure'!G250=\"26%-50%\",1,0)","v":0},{"$f":"IF('Consequence of Failure'!G250=\"51%-75%\",1.5,0)","v":0},{"$f":"IF('Consequence of Failure'!G250=\"76%-100%\",2,0)","v":0},{"$f":"IF('Consequence of Failure'!H250=\"Yes\",1,0)","v":0},{"$f":"IF('Consequence of Failure'!I250=\"Yes\",1,0)","v":0},null,0,null,{"$f":"IF('Consequence of Failure'!K250=\"Yes\",1,0)","v":0},{"$f":"IF('Consequence of Failure'!L250=\"Above\",2,0)","v":0},{"$f":"IF('Consequence of Failure'!L250=\"At\",1,0)","v":0},{"$f":"IF('Consequence of Failure'!L250=\"Below\",0,0)","v":0},{"$f":"IF('Consequence of Failure'!M250=\"Yes\",1,0)","v":0},{"$f":"IF('Consequence of Failure'!N250=\"Yes\",1,0)","v":0},null,0,null,0]
[{"$f":"IF('Data Collection Sheet'!B253=\"Pump\",15,0)","v":0},{"$f":"IF('Data Collection Sheet'!B253=\"Hydrant\",50,0)","v":0},{"$f":"IF('Data Collection Sheet'!B253=\"Meter\",15,0)","v":0},{"$f":"IF('Data Collection Sheet'!B253=\"Pipe\",80,0)","v":0},{"$f":"IF('Data Collection Sheet'!B253=\"Source\",50,0)","v":0},{"$f":"IF('Data Collection Sheet'!B253=\"Tank\",50,0)","v":0},{"$f":"IF('Data Collection Sheet'!B253=\"Analytical\",10,0)","v":0},{"$f":"IF('Data Collection Sheet'!B253=\"Treatment\",20,0)","v":0},{"$f":"IF('Data Collection Sheet'!B253=\"Valve\",20,0)","v":0},{"$f":"IF('Data Collection Sheet'!B253=\"Control\",15,0)","v":0},{"$f":"IF('Data Collection Sheet'!B253=\"Safety\",10,0)","v":0},{"$f":"IF('Data Collection Sheet'!B253=\"Building\",50,0)","v":0},{"$f":"IF('Data Collection Sheet'!B253=\"Vehicle\",8,0)","v":0},{"$f":"IF('Data Collection Sheet'!B253=\"Other\",15,0)","v":0},{"$f":"IF('Data Collection Sheet'!I253=\"Bad\",(-0.8*$T250),0)","v":0},{"$f":"IF('Data Collection Sheet'!I253=\"Fair\",(-0.5*$T250),0)","v":0},{"$f":"IF('Data Collection Sheet'!I253=\"Good\",(-0.2*$T250),0)","v":0},{"$f":"IF('Data Collection Sheet'!I253=\"Great\",0,0)","v":0},null,0,0,0,null,null,null,{"$f":"IF('Consequence of Failure'!F253=\"No\",1,0)","v":0},{"$f":"IF('Consequence of Failure'!G251=\"0%-25%\",0.5,0)","v":0},{"$f":"IF('Consequence of Failure'!G251=\"26%-50%\",1,0)","v":0},{"$f":"IF('Consequence of Failure'!G251=\"51%-75%\",1.5,0)","v":0},{"$f":"IF('Consequence of Failure'!G251=\"76%-100%\",2,0)","v":0},{"$f":"IF('Consequence of Failure'!H251=\"Yes\",1,0)","v":0},{"$f":"IF('Consequence of Failure'!I251=\"Yes\",1,0)","v":0},null,0,null,{"$f":"IF('Consequence of Failure'!K251=\"Yes\",1,0)","v":0},{"$f":"IF('Consequence of Failure'!L251=\"Above\",2,0)","v":0},{"$f":"IF('Consequence of Failure'!L251=\"At\",1,0)","v":0},{"$f":"IF('Consequence of Failure'!L251=\"Below\",0,0)","v":0},{"$f":"IF('Consequence of Failure'!M251=\"Yes\",1,0)","v":0},{"$f":"IF('Consequence of Failure'!N251=\"Yes\",1,0)","v":0},null,0,null,0]
[{"$f":"IF('Data Collection Sheet'!B254=\"Pump\",15,0)","v":0},{"$f":"IF('Data Collection Sheet'!B254=\"Hydrant\",50,0)","v":0},{"$f":"IF('Data Collection Sheet'!B254=\"Meter\",15,0)","v":0},{"$f":"IF('Data Collection Sheet'!B254=\"Pipe\",80,0)","v":0},{"$f":"IF('Data Collection Sheet'!B254=\"Source\",50,0)","v":0},{"$f":"IF('Data Collection Sheet'!B254=\"Tank\",50,0)","v":0},{"$f":"IF('Data Collection Sheet'!B254=\"Analytical\",10,0)","v":0},{"$f":"IF('Data Collection Sheet'!B254=\"Treatment\",20,0)","v":0},{"$f":"IF('Data Collection Sheet'!B254=\"Valve\",20,0)","v":0},{"$f":"IF('Data Collection Sheet'!B254=\"Control\",15,0)","v":0},{"$f":"IF('Data Collection Sheet'!B254=\"Safety\",10,0)","v":0},{"$f":"IF('Data Collection Sheet'!B254=\"Building\",50,0)","v":0},{"$f":"IF('Data Collection Sheet'!B254=\"Vehicle\",8,0)","v":0},{"$f":"IF('Data Collection Sheet'!B254=\"Other\",15,0)","v":0},{"$f":"IF('Data Collection Sheet'!I254=\"Bad\",(-0.8*$T251),0)","v":0},{"$f":"IF('Data Collection Sheet'!I254=\"Fair\",(-0.5*$T251),0)","v":0},{"$f":"IF('Data Collection Sheet'!I254=\"Good\",(-0.2*$T251),0)","v":0},{"$f":"IF('Data Collection Sheet'!I254=\"Great\",0,0)","v":0},null,0,0,0,null,null,null,{"$f":"IF('Consequence of Failure'!F254=\"No\",1,0)","v":0},{"$f":"IF('Consequence of Failure'!G252=\"0%-25%\",0.5,0)","v":0},{"$f":"IF('Consequence of Failure'!G252=\"26%-50%\",1,0)","v":0},{"$f":"IF('Consequence of Failure'!G252=\"51%-75%\",1.5,0)","v":0},{"$f":"IF('Consequence of Failure'!G252=\"76%-100%\",2,0)","v":0},{"$f":"IF('Consequence of Failure'!H252=\"Yes\",1,0)","v":0},{"$f":"IF('Consequence of Failure'!I252=\"Yes\",1,0)","v":0},null,0,null,{"$f":"IF('Consequence of Failure'!K252=\"Yes\",1,0)","v":0},{"$f":"IF('Consequence of Failure'!L252=\"Above\",2,0)","v":0},{"$f":"IF('Consequence of Failure'!L252=\"At\",1,0)","v":0},{"$f":"IF('Consequence of Failure'!L252=\"Below\",0,0)","v":0},{"$f":"IF('Consequence of Failure'!M252=\"Yes\",1,0)","v":0},{"$f":"IF('Consequence of Failure'!N252=\"Yes\",1,0)","v":0},null,0,null,0]
[{"$f":"IF('Data Collection Sheet'!B255=\"Pump\",15,0)","v":0},{"$f":"IF('Data Collection Sheet'!B255=\"Hydrant\",50,0)","v":0},{"$f":"IF('Data Collection Sheet'!B255=\"Meter\",15,0)","v":0},{"$f":"IF('Data Collection Sheet'!B255=\"Pipe\",80,0)","v":0},{"$f":"IF('Data Collection Sheet'!B255=\"Source\",50,0)","v":0},{"$f":"IF('Data Collection Sheet'!B255=\"Tank\",50,0)","v":0},{"$f":"IF('Data Collection Sheet'!B255=\"Analytical\",10,0)","v":0},{"$f":"IF('Data Collection Sheet'!B255=\"Treatment\",20,0)","v":0},{"$f":"IF('Data Collection Sheet'!B255=\"Valve\",20,0)","v":0},{"$f":"IF('Data Collection Sheet'!B255=\"Control\",15,0)","v":0},{"$f":"IF('Data Collection Sheet'!B255=\"Safety\",10,0)","v":0},{"$f":"IF('Data Collection Sheet'!B255=\"Building\",50,0)","v":0},{"$f":"IF('Data Collection Sheet'!B255=\"Vehicle\",8,0)","v":0},{"$f":"IF('Data Collection Sheet'!B255=\"Other\",15,0)","v":0},{"$f":"IF('Data Collection Sheet'!I255=\"Bad\",(-0.8*$T252),0)","v":0},{"$f":"IF('Data Collection Sheet'!I255=\"Fair\",(-0.5*$T252),0)","v":0},{"$f":"IF('Data Collection Sheet'!I255=\"Good\",(-0.2*$T252),0)","v":0},{"$f":"IF('Data Collection Sheet'!I255=\"Great\",0,0)","v":0},null,0,0,0,null,null,null,{"$f":"IF('Consequence of Failure'!F255=\"No\",1,0)","v":0},{"$f":"IF('Consequence of Failure'!G253=\"0%-25%\",0.5,0)","v":0},{"$f":"IF('Consequence of Failure'!G253=\"26%-50%\",1,0)","v":0},{"$f":"IF('Consequence of Failure'!G253=\"51%-75%\",1.5,0)","v":0},{"$f":"IF('Consequence of Failure'!G253=\"76%-100%\",2,0)","v":0},{"$f":"IF('Consequence of Failure'!H253=\"Yes\",1,0)","v":0},{"$f":"IF('Consequence of Failure'!I253=\"Yes\",1,0)","v":0},null,0,null,{"$f":"IF('Consequence of Failure'!K253=\"Yes\",1,0)","v":0},{"$f":"IF('Consequence of Failure'!L253=\"Above\",2,0)","v":0},{"$f":"IF('Consequence of Failure'!L253=\"At\",1,0)","v":0},{"$f":"IF('Consequence of Failure'!L253=\"Below\",0,0)","v":0},{"$f":"IF('Consequence of Failure'!M253=\"Yes\",1,0)","v":0},{"$f":"IF('Consequence of Failure'!N253=\"Yes\",1,0)","v":0},null,0,null,0]
[{"$f":"IF('Data Collection Sheet'!B256=\"Pump\",15,0)","v":0},{"$f":"IF('Data Collection Sheet'!B256=\"Hydrant\",50,0)","v":0},{"$f":"IF('Data Collection Sheet'!B256=\"Meter\",15,0)","v":0},{"$f":"IF('Data Collection Sheet'!B256=\"Pipe\",80,0)","v":0},{"$f":"IF('Data Collection Sheet'!B256=\"Source\",50,0)","v":0},{"$f":"IF('Data Collection Sheet'!B256=\"Tank\",50,0)","v":0},{"$f":"IF('Data Collection Sheet'!B256=\"Analytical\",10,0)","v":0},{"$f":"IF('Data Collection Sheet'!B256=\"Treatment\",20,0)","v":0},{"$f":"IF('Data Collection Sheet'!B256=\"Valve\",20,0)","v":0},{"$f":"IF('Data Collection Sheet'!B256=\"Control\",15,0)","v":0},{"$f":"IF('Data Collection Sheet'!B256=\"Safety\",10,0)","v":0},{"$f":"IF('Data Collection Sheet'!B256=\"Building\",50,0)","v":0},{"$f":"IF('Data Collection Sheet'!B256=\"Vehicle\",8,0)","v":0},{"$f":"IF('Data Collection Sheet'!B256=\"Other\",15,0)","v":0},{"$f":"IF('Data Collection Sheet'!I256=\"Bad\",(-0.8*$T253),0)","v":0},{"$f":"IF('Data Collection Sheet'!I256=\"Fair\",(-0.5*$T253),0)","v":0},{"$f":"IF('Data Collection Sheet'!I256=\"Good\",(-0.2*$T253),0)","v":0},{"$f":"IF('Data Collection Sheet'!I256=\"Great\",0,0)","v":0},null,0,0,0,null,null,null,{"$f":"IF('Consequence of Failure'!F256=\"No\",1,0)","v":0},{"$f":"IF('Consequence of Failure'!G254=\"0%-25%\",0.5,0)","v":0},{"$f":"IF('Consequence of Failure'!G254=\"26%-50%\",1,0)","v":0},{"$f":"IF('Consequence of Failure'!G254=\"51%-75%\",1.5,0)","v":0},{"$f":"IF('Consequence of Failure'!G254=\"76%-100%\",2,0)","v":0},{"$f":"IF('Consequence of Failure'!H254=\"Yes\",1,0)","v":0},{"$f":"IF('Consequence of Failure'!I254=\"Yes\",1,0)","v":0},null,0,null,{"$f":"IF('Consequence of Failure'!K254=\"Yes\",1,0)","v":0},{"$f":"IF('Consequence of Failure'!L254=\"Above\",2,0)","v":0},{"$f":"IF('Consequence of Failure'!L254=\"At\",1,0)","v":0},{"$f":"IF('Consequence of Failure'!L254=\"Below\",0,0)","v":0},{"$f":"IF('Consequence of Failure'!M254=\"Yes\",1,0)","v":0},{"$f":"IF('Consequence of Failure'!N254=\"Yes\",1,0)","v":0},null,0,null,0]
[{"$f":"IF('Data Collection Sheet'!B257=\"Pump\",15,0)","v":0},{"$f":"IF('Data Collection Sheet'!B257=\"Hydrant\",50,0)","v":0},{"$f":"IF('Data Collection Sheet'!B257=\"Meter\",15,0)","v":0},{"$f":"IF('Data Collection Sheet'!B257=\"Pipe\",80,0)","v":0},{"$f":"IF('Data Collection Sheet'!B257=\"Source\",50,0)","v":0},{"$f":"IF('Data Collection Sheet'!B257=\"Tank\",50,0)","v":0},{"$f":"IF('Data Collection Sheet'!B257=\"Analytical\",10,0)","v":0},{"$f":"IF('Data Collection Sheet'!B257=\"Treatment\",20,0)","v":0},{"$f":"IF('Data Collection Sheet'!B257=\"Valve\",20,0)","v":0},{"$f":"IF('Data Collection Sheet'!B257=\"Control\",15,0)","v":0},{"$f":"IF('Data Collection Sheet'!B257=\"Safety\",10,0)","v":0},{"$f":"IF('Data Collection Sheet'!B257=\"Building\",50,0)","v":0},{"$f":"IF('Data Collection Sheet'!B257=\"Vehicle\",8,0)","v":0},{"$f":"IF('Data Collection Sheet'!B257=\"Other\",15,0)","v":0},{"$f":"IF('Data Collection Sheet'!I257=\"Bad\",(-0.8*$T254),0)","v":0},{"$f":"IF('Data Collection Sheet'!I257=\"Fair\",(-0.5*$T254),0)","v":0},{"$f":"IF('Data Collection Sheet'!I257=\"Good\",(-0.2*$T254),0)","v":0},{"$f":"IF('Data Collection Sheet'!I257=\"Great\",0,0)","v":0},null,0,0,0,null,null,null,{"$f":"IF('Consequence of Failure'!F257=\"No\",1,0)","v":0},{"$f":"IF('Consequence of Failure'!G255=\"0%-25%\",0.5,0)","v":0},{"$f":"IF('Consequence of Failure'!G255=\"26%-50%\",1,0)","v":0},{"$f":"IF('Consequence of Failure'!G255=\"51%-75%\",1.5,0)","v":0},{"$f":"IF('Consequence of Failure'!G255=\"76%-100%\",2,0)","v":0},{"$f":"IF('Consequence of Failure'!H255=\"Yes\",1,0)","v":0},{"$f":"IF('Consequence of Failure'!I255=\"Yes\",1,0)","v":0},null,0,null,{"$f":"IF('Consequence of Failure'!K255=\"Yes\",1,0)","v":0},{"$f":"IF('Consequence of Failure'!L255=\"Above\",2,0)","v":0},{"$f":"IF('Consequence of Failure'!L255=\"At\",1,0)","v":0},{"$f":"IF('Consequence of Failure'!L255=\"Below\",0,0)","v":0},{"$f":"IF('Consequence of Failure'!M255=\"Yes\",1,0)","v":0},{"$f":"IF('Consequence of Failure'!N255=\"Yes\",1,0)","v":0},null,0,null,0]
[{"$f":"IF('Data Collection Sheet'!B258=\"Pump\",15,0)","v":0},{"$f":"IF('Data Collection Sheet'!B258=\"Hydrant\",50,0)","v":0},{"$f":"IF('Data Collection Sheet'!B258=\"Meter\",15,0)","v":0},{"$f":"IF('Data Collection Sheet'!B258=\"Pipe\",80,0)","v":0},{"$f":"IF('Data Collection Sheet'!B258=\"Source\",50,0)","v":0},{"$f":"IF('Data Collection Sheet'!B258=\"Tank\",50,0)","v":0},{"$f":"IF('Data Collection Sheet'!B258=\"Analytical\",10,0)","v":0},{"$f":"IF('Data Collection Sheet'!B258=\"Treatment\",20,0)","v":0},{"$f":"IF('Data Collection Sheet'!B258=\"Valve\",20,0)","v":0},{"$f":"IF('Data Collection Sheet'!B258=\"Control\",15,0)","v":0},{"$f":"IF('Data Collection Sheet'!B258=\"Safety\",10,0)","v":0},{"$f":"IF('Data Collection Sheet'!B258=\"Building\",50,0)","v":0},{"$f":"IF('Data Collection Sheet'!B258=\"Vehicle\",8,0)","v":0},{"$f":"IF('Data Collection Sheet'!B258=\"Other\",15,0)","v":0},{"$f":"IF('Data Collection Sheet'!I258=\"Bad\",(-0.8*$T255),0)","v":0},{"$f":"IF('Data Collection Sheet'!I258=\"Fair\",(-0.5*$T255),0)","v":0},{"$f":"IF('Data Collection Sheet'!I258=\"Good\",(-0.2*$T255),0)","v":0},{"$f":"IF('Data Collection Sheet'!I258=\"Great\",0,0)","v":0},null,0,0,0,null,null,null,{"$f":"IF('Consequence of Failure'!F258=\"No\",1,0)","v":0},{"$f":"IF('Consequence of Failure'!G256=\"0%-25%\",0.5,0)","v":0},{"$f":"IF('Consequence of Failure'!G256=\"26%-50%\",1,0)","v":0},{"$f":"IF('Consequence of Failure'!G256=\"51%-75%\",1.5,0)","v":0},{"$f":"IF('Consequence of Failure'!G256=\"76%-100%\",2,0)","v":0},{"$f":"IF('Consequence of Failure'!H256=\"Yes\",1,0)","v":0},{"$f":"IF('Consequence of Failure'!I256=\"Yes\",1,0)","v":0},null,0,null,{"$f":"IF('Consequence of Failure'!K256=\"Yes\",1,0)","v":0},{"$f":"IF('Consequence of Failure'!L256=\"Above\",2,0)","v":0},{"$f":"IF('Consequence of Failure'!L256=\"At\",1,0)","v":0},{"$f":"IF('Consequence of Failure'!L256=\"Below\",0,0)","v":0},{"$f":"IF('Consequence of Failure'!M256=\"Yes\",1,0)","v":0},{"$f":"IF('Consequence of Failure'!N256=\"Yes\",1,0)","v":0},null,0,null,0]
[{"$f":"IF('Data Collection Sheet'!B259=\"Pump\",15,0)","v":0},{"$f":"IF('Data Collection Sheet'!B259=\"Hydrant\",50,0)","v":0},{"$f":"IF('Data Collection Sheet'!B259=\"Meter\",15,0)","v":0},{"$f":"IF('Data Collection Sheet'!B259=\"Pipe\",80,0)","v":0},{"$f":"IF('Data Collection Sheet'!B259=\"Source\",50,0)","v":0},{"$f":"IF('Data Collection Sheet'!B259=\"Tank\",50,0)","v":0},{"$f":"IF('Data Collection Sheet'!B259=\"Analytical\",10,0)","v":0},{"$f":"IF('Data Collection Sheet'!B259=\"Treatment\",20,0)","v":0},{"$f":"IF('Data Collection Sheet'!B259=\"Valve\",20,0)","v":0},{"$f":"IF('Data Collection Sheet'!B259=\"Control\",15,0)","v":0},{"$f":"IF('Data Collection Sheet'!B259=\"Safety\",10,0)","v":0},{"$f":"IF('Data Collection Sheet'!B259=\"Building\",50,0)","v":0},{"$f":"IF('Data Collection Sheet'!B259=\"Vehicle\",8,0)","v":0},{"$f":"IF('Data Collection Sheet'!B259=\"Other\",15,0)","v":0},{"$f":"IF('Data Collection Sheet'!I259=\"Bad\",(-0.8*$T256),0)","v":0},{"$f":"IF('Data Collection Sheet'!I259=\"Fair\",(-0.5*$T256),0)","v":0},{"$f":"IF('Data Collection Sheet'!I259=\"Good\",(-0.2*$T256),0)","v":0},{"$f":"IF('Data Collection Sheet'!I259=\"Great\",0,0)","v":0},null,0,0,0,null,null,null,{"$f":"IF('Consequence of Failure'!F259=\"No\",1,0)","v":0},{"$f":"IF('Consequence of Failure'!G257=\"0%-25%\",0.5,0)","v":0},{"$f":"IF('Consequence of Failure'!G257=\"26%-50%\",1,0)","v":0},{"$f":"IF('Consequence of Failure'!G257=\"51%-75%\",1.5,0)","v":0},{"$f":"IF('Consequence of Failure'!G257=\"76%-100%\",2,0)","v":0},{"$f":"IF('Consequence of Failure'!H257=\"Yes\",1,0)","v":0},{"$f":"IF('Consequence of Failure'!I257=\"Yes\",1,0)","v":0},null,0,null,{"$f":"IF('Consequence of Failure'!K257=\"Yes\",1,0)","v":0},{"$f":"IF('Consequence of Failure'!L257=\"Above\",2,0)","v":0},{"$f":"IF('Consequence of Failure'!L257=\"At\",1,0)","v":0},{"$f":"IF('Consequence of Failure'!L257=\"Below\",0,0)","v":0},{"$f":"IF('Consequence of Failure'!M257=\"Yes\",1,0)","v":0},{"$f":"IF('Consequence of Failure'!N257=\"Yes\",1,0)","v":0},null,0,null,0]
[{"$f":"IF('Data Collection Sheet'!B260=\"Pump\",15,0)","v":0},{"$f":"IF('Data Collection Sheet'!B260=\"Hydrant\",50,0)","v":0},{"$f":"IF('Data Collection Sheet'!B260=\"Meter\",15,0)","v":0},{"$f":"IF('Data Collection Sheet'!B260=\"Pipe\",80,0)","v":0},{"$f":"IF('Data Collection Sheet'!B260=\"Source\",50,0)","v":0},{"$f":"IF('Data Collection Sheet'!B260=\"Tank\",50,0)","v":0},{"$f":"IF('Data Collection Sheet'!B260=\"Analytical\",10,0)","v":0},{"$f":"IF('Data Collection Sheet'!B260=\"Treatment\",20,0)","v":0},{"$f":"IF('Data Collection Sheet'!B260=\"Valve\",20,0)","v":0},{"$f":"IF('Data Collection Sheet'!B260=\"Control\",15,0)","v":0},{"$f":"IF('Data Collection Sheet'!B260=\"Safety\",10,0)","v":0},{"$f":"IF('Data Collection Sheet'!B260=\"Building\",50,0)","v":0},{"$f":"IF('Data Collection Sheet'!B260=\"Vehicle\",8,0)","v":0},{"$f":"IF('Data Collection Sheet'!B260=\"Other\",15,0)","v":0},{"$f":"IF('Data Collection Sheet'!I260=\"Bad\",(-0.8*$T257),0)","v":0},{"$f":"IF('Data Collection Sheet'!I260=\"Fair\",(-0.5*$T257),0)","v":0},{"$f":"IF('Data Collection Sheet'!I260=\"Good\",(-0.2*$T257),0)","v":0},{"$f":"IF('Data Collection Sheet'!I260=\"Great\",0,0)","v":0},null,0,0,0,null,null,null,{"$f":"IF('Consequence of Failure'!F260=\"No\",1,0)","v":0},{"$f":"IF('Consequence of Failure'!G258=\"0%-25%\",0.5,0)","v":0},{"$f":"IF('Consequence of Failure'!G258=\"26%-50%\",1,0)","v":0},{"$f":"IF('Consequence of Failure'!G258=\"51%-75%\",1.5,0)","v":0},{"$f":"IF('Consequence of Failure'!G258=\"76%-100%\",2,0)","v":0},{"$f":"IF('Consequence of Failure'!H258=\"Yes\",1,0)","v":0},{"$f":"IF('Consequence of Failure'!I258=\"Yes\",1,0)","v":0},null,0,null,{"$f":"IF('Consequence of Failure'!K258=\"Yes\",1,0)","v":0},{"$f":"IF('Consequence of Failure'!L258=\"Above\",2,0)","v":0},{"$f":"IF('Consequence of Failure'!L258=\"At\",1,0)","v":0},{"$f":"IF('Consequence of Failure'!L258=\"Below\",0,0)","v":0},{"$f":"IF('Consequence of Failure'!M258=\"Yes\",1,0)","v":0},{"$f":"IF('Consequence of Failure'!N258=\"Yes\",1,0)","v":0},null,0,null,0]
[{"$f":"IF('Data Collection Sheet'!B261=\"Pump\",15,0)","v":0},{"$f":"IF('Data Collection Sheet'!B261=\"Hydrant\",50,0)","v":0},{"$f":"IF('Data Collection Sheet'!B261=\"Meter\",15,0)","v":0},{"$f":"IF('Data Collection Sheet'!B261=\"Pipe\",80,0)","v":0},{"$f":"IF('Data Collection Sheet'!B261=\"Source\",50,0)","v":0},{"$f":"IF('Data Collection Sheet'!B261=\"Tank\",50,0)","v":0},{"$f":"IF('Data Collection Sheet'!B261=\"Analytical\",10,0)","v":0},{"$f":"IF('Data Collection Sheet'!B261=\"Treatment\",20,0)","v":0},{"$f":"IF('Data Collection Sheet'!B261=\"Valve\",20,0)","v":0},{"$f":"IF('Data Collection Sheet'!B261=\"Control\",15,0)","v":0},{"$f":"IF('Data Collection Sheet'!B261=\"Safety\",10,0)","v":0},{"$f":"IF('Data Collection Sheet'!B261=\"Building\",50,0)","v":0},{"$f":"IF('Data Collection Sheet'!B261=\"Vehicle\",8,0)","v":0},{"$f":"IF('Data Collection Sheet'!B261=\"Other\",15,0)","v":0},{"$f":"IF('Data Collection Sheet'!I261=\"Bad\",(-0.8*$T258),0)","v":0},{"$f":"IF('Data Collection Sheet'!I261=\"Fair\",(-0.5*$T258),0)","v":0},{"$f":"IF('Data Collection Sheet'!I261=\"Good\",(-0.2*$T258),0)","v":0},{"$f":"IF('Data Collection Sheet'!I261=\"Great\",0,0)","v":0},null,0,0,0,null,null,null,{"$f":"IF('Consequence of Failure'!F261=\"No\",1,0)","v":0},{"$f":"IF('Consequence of Failure'!G259=\"0%-25%\",0.5,0)","v":0},{"$f":"IF('Consequence of Failure'!G259=\"26%-50%\",1,0)","v":0},{"$f":"IF('Consequence of Failure'!G259=\"51%-75%\",1.5,0)","v":0},{"$f":"IF('Consequence of Failure'!G259=\"76%-100%\",2,0)","v":0},{"$f":"IF('Consequence of Failure'!H259=\"Yes\",1,0)","v":0},{"$f":"IF('Consequence of Failure'!I259=\"Yes\",1,0)","v":0},null,0,null,{"$f":"IF('Consequence of Failure'!K259=\"Yes\",1,0)","v":0},{"$f":"IF('Consequence of Failure'!L259=\"Above\",2,0)","v":0},{"$f":"IF('Consequence of Failure'!L259=\"At\",1,0)","v":0},{"$f":"IF('Consequence of Failure'!L259=\"Below\",0,0)","v":0},{"$f":"IF('Consequence of Failure'!M259=\"Yes\",1,0)","v":0},{"$f":"IF('Consequence of Failure'!N259=\"Yes\",1,0)","v":0},null,0,null,0]
[{"$f":"IF('Data Collection Sheet'!B262=\"Pump\",15,0)","v":0},{"$f":"IF('Data Collection Sheet'!B262=\"Hydrant\",50,0)","v":0},{"$f":"IF('Data Collection Sheet'!B262=\"Meter\",15,0)","v":0},{"$f":"IF('Data Collection Sheet'!B262=\"Pipe\",80,0)","v":0},{"$f":"IF('Data Collection Sheet'!B262=\"Source\",50,0)","v":0},{"$f":"IF('Data Collection Sheet'!B262=\"Tank\",50,0)","v":0},{"$f":"IF('Data Collection Sheet'!B262=\"Analytical\",10,0)","v":0},{"$f":"IF('Data Collection Sheet'!B262=\"Treatment\",20,0)","v":0},{"$f":"IF('Data Collection Sheet'!B262=\"Valve\",20,0)","v":0},{"$f":"IF('Data Collection Sheet'!B262=\"Control\",15,0)","v":0},{"$f":"IF('Data Collection Sheet'!B262=\"Safety\",10,0)","v":0},{"$f":"IF('Data Collection Sheet'!B262=\"Building\",50,0)","v":0},{"$f":"IF('Data Collection Sheet'!B262=\"Vehicle\",8,0)","v":0},{"$f":"IF('Data Collection Sheet'!B262=\"Other\",15,0)","v":0},{"$f":"IF('Data Collection Sheet'!I262=\"Bad\",(-0.8*$T259),0)","v":0},{"$f":"IF('Data Collection Sheet'!I262=\"Fair\",(-0.5*$T259),0)","v":0},{"$f":"IF('Data Collection Sheet'!I262=\"Good\",(-0.2*$T259),0)","v":0},{"$f":"IF('Data Collection Sheet'!I262=\"Great\",0,0)","v":0},null,{"$f":"SUM(A259:N259)","v":0},{"$f":"SUM($A259:$R259)","v":0},{"$f":"ROUNDDOWN($U259,0)","v":0},null,null,null,{"$f":"IF('Consequence of Failure'!F262=\"No\",1,0)","v":0},{"$f":"IF('Consequence of Failure'!G260=\"0%-25%\",0.5,0)","v":0},{"$f":"IF('Consequence of Failure'!G260=\"26%-50%\",1,0)","v":0},{"$f":"IF('Consequence of Failure'!G260=\"51%-75%\",1.5,0)","v":0},{"$f":"IF('Consequence of Failure'!G260=\"76%-100%\",2,0)","v":0},{"$f":"IF('Consequence of Failure'!H260=\"Yes\",1,0)","v":0},{"$f":"IF('Consequence of Failure'!I260=\"Yes\",1,0)","v":0},null,0,null,{"$f":"IF('Consequence of Failure'!K260=\"Yes\",1,0)","v":0},{"$f":"IF('Consequence of Failure'!L260=\"Above\",2,0)","v":0},{"$f":"IF('Consequence of Failure'!L260=\"At\",1,0)","v":0},{"$f":"IF('Consequence of Failure'!L260=\"Below\",0,0)","v":0},{"$f":"IF('Consequence of Failure'!M260=\"Yes\",1,0)","v":0},{"$f":"IF('Consequence of Failure'!N260=\"Yes\",1,0)","v":0},null,0,null,0]
[{"$f":"IF('Data Collection Sheet'!B263=\"Pump\",15,0)","v":0},{"$f":"IF('Data Collection Sheet'!B263=\"Hydrant\",50,0)","v":0},{"$f":"IF('Data Collection Sheet'!B263=\"Meter\",15,0)","v":0},{"$f":"IF('Data Collection Sheet'!B263=\"Pipe\",80,0)","v":0},{"$f":"IF('Data Collection Sheet'!B263=\"Source\",50,0)","v":0},{"$f":"IF('Data Collection Sheet'!B263=\"Tank\",50,0)","v":0},{"$f":"IF('Data Collection Sheet'!B263=\"Analytical\",10,0)","v":0},{"$f":"IF('Data Collection Sheet'!B263=\"Treatment\",20,0)","v":0},{"$f":"IF('Data Collection Sheet'!B263=\"Valve\",20,0)","v":0},{"$f":"IF('Data Collection Sheet'!B263=\"Control\",15,0)","v":0},{"$f":"IF('Data Collection Sheet'!B263=\"Safety\",10,0)","v":0},{"$f":"IF('Data Collection Sheet'!B263=\"Building\",50,0)","v":0},{"$f":"IF('Data Collection Sheet'!B263=\"Vehicle\",8,0)","v":0},{"$f":"IF('Data Collection Sheet'!B263=\"Other\",15,0)","v":0},{"$f":"IF('Data Collection Sheet'!I263=\"Bad\",(-0.8*$T260),0)","v":0},{"$f":"IF('Data Collection Sheet'!I263=\"Fair\",(-0.5*$T260),0)","v":0},{"$f":"IF('Data Collection Sheet'!I263=\"Good\",(-0.2*$T260),0)","v":0},{"$f":"IF('Data Collection Sheet'!I263=\"Great\",0,0)","v":0},null,0,0,0,null,null,null,{"$f":"IF('Consequence of Failure'!F263=\"No\",1,0)","v":0},{"$f":"IF('Consequence of Failure'!G261=\"0%-25%\",0.5,0)","v":0},{"$f":"IF('Consequence of Failure'!G261=\"26%-50%\",1,0)","v":0},{"$f":"IF('Consequence of Failure'!G261=\"51%-75%\",1.5,0)","v":0},{"$f":"IF('Consequence of Failure'!G261=\"76%-100%\",2,0)","v":0},{"$f":"IF('Consequence of Failure'!H261=\"Yes\",1,0)","v":0},{"$f":"IF('Consequence of Failure'!I261=\"Yes\",1,0)","v":0},null,0,null,{"$f":"IF('Consequence of Failure'!K261=\"Yes\",1,0)","v":0},{"$f":"IF('Consequence of Failure'!L261=\"Above\",2,0)","v":0},{"$f":"IF('Consequence of Failure'!L261=\"At\",1,0)","v":0},{"$f":"IF('Consequence of Failure'!L261=\"Below\",0,0)","v":0},{"$f":"IF('Consequence of Failure'!M261=\"Yes\",1,0)","v":0},{"$f":"IF('Consequence of Failure'!N261=\"Yes\",1,0)","v":0},null,0,null,0]
[{"$f":"IF('Data Collection Sheet'!B264=\"Pump\",15,0)","v":0},{"$f":"IF('Data Collection Sheet'!B264=\"Hydrant\",50,0)","v":0},{"$f":"IF('Data Collection Sheet'!B264=\"Meter\",15,0)","v":0},{"$f":"IF('Data Collection Sheet'!B264=\"Pipe\",80,0)","v":0},{"$f":"IF('Data Collection Sheet'!B264=\"Source\",50,0)","v":0},{"$f":"IF('Data Collection Sheet'!B264=\"Tank\",50,0)","v":0},{"$f":"IF('Data Collection Sheet'!B264=\"Analytical\",10,0)","v":0},{"$f":"IF('Data Collection Sheet'!B264=\"Treatment\",20,0)","v":0},{"$f":"IF('Data Collection Sheet'!B264=\"Valve\",20,0)","v":0},{"$f":"IF('Data Collection Sheet'!B264=\"Control\",15,0)","v":0},{"$f":"IF('Data Collection Sheet'!B264=\"Safety\",10,0)","v":0},{"$f":"IF('Data Collection Sheet'!B264=\"Building\",50,0)","v":0},{"$f":"IF('Data Collection Sheet'!B264=\"Vehicle\",8,0)","v":0},{"$f":"IF('Data Collection Sheet'!B264=\"Other\",15,0)","v":0},{"$f":"IF('Data Collection Sheet'!I264=\"Bad\",(-0.8*$T261),0)","v":0},{"$f":"IF('Data Collection Sheet'!I264=\"Fair\",(-0.5*$T261),0)","v":0},{"$f":"IF('Data Collection Sheet'!I264=\"Good\",(-0.2*$T261),0)","v":0},{"$f":"IF('Data Collection Sheet'!I264=\"Great\",0,0)","v":0},null,0,0,0,null,null,null,{"$f":"IF('Consequence of Failure'!F264=\"No\",1,0)","v":0},{"$f":"IF('Consequence of Failure'!G262=\"0%-25%\",0.5,0)","v":0},{"$f":"IF('Consequence of Failure'!G262=\"26%-50%\",1,0)","v":0},{"$f":"IF('Consequence of Failure'!G262=\"51%-75%\",1.5,0)","v":0},{"$f":"IF('Consequence of Failure'!G262=\"76%-100%\",2,0)","v":0},{"$f":"IF('Consequence of Failure'!H262=\"Yes\",1,0)","v":0},{"$f":"IF('Consequence of Failure'!I262=\"Yes\",1,0)","v":0},null,{"$f":"SUM(Z261:AF261)","v":0},null,{"$f":"IF('Consequence of Failure'!K262=\"Yes\",1,0)","v":0},{"$f":"IF('Consequence of Failure'!L262=\"Above\",2,0)","v":0},{"$f":"IF('Consequence of Failure'!L262=\"At\",1,0)","v":0},{"$f":"IF('Consequence of Failure'!L262=\"Below\",0,0)","v":0},{"$f":"IF('Consequence of Failure'!M262=\"Yes\",1,0)","v":0},{"$f":"IF('Consequence of Failure'!N262=\"Yes\",1,0)","v":0},null,{"$f":"SUM(AJ261:AO261)","v":0},null,{"$f":"SUM(AH261*AQ261)","v":0}]
[{"$f":"IF('Data Collection Sheet'!B265=\"Pump\",15,0)","v":0},{"$f":"IF('Data Collection Sheet'!B265=\"Hydrant\",50,0)","v":0},{"$f":"IF('Data Collection Sheet'!B265=\"Meter\",15,0)","v":0},{"$f":"IF('Data Collection Sheet'!B265=\"Pipe\",80,0)","v":0},{"$f":"IF('Data Collection Sheet'!B265=\"Source\",50,0)","v":0},{"$f":"IF('Data Collection Sheet'!B265=\"Tank\",50,0)","v":0},{"$f":"IF('Data Collection Sheet'!B265=\"Analytical\",10,0)","v":0},{"$f":"IF('Data Collection Sheet'!B265=\"Treatment\",20,0)","v":0},{"$f":"IF('Data Collection Sheet'!B265=\"Valve\",20,0)","v":0},{"$f":"IF('Data Collection Sheet'!B265=\"Control\",15,0)","v":0},{"$f":"IF('Data Collection Sheet'!B265=\"Safety\",10,0)","v":0},{"$f":"IF('Data Collection Sheet'!B265=\"Building\",50,0)","v":0},{"$f":"IF('Data Collection Sheet'!B265=\"Vehicle\",8,0)","v":0},{"$f":"IF('Data Collection Sheet'!B265=\"Other\",15,0)","v":0},{"$f":"IF('Data Collection Sheet'!I265=\"Bad\",(-0.8*$T262),0)","v":0},{"$f":"IF('Data Collection Sheet'!I265=\"Fair\",(-0.5*$T262),0)","v":0},{"$f":"IF('Data Collection Sheet'!I265=\"Good\",(-0.2*$T262),0)","v":0},{"$f":"IF('Data Collection Sheet'!I265=\"Great\",0,0)","v":0},null,0,0,0,null,null,null,{"$f":"IF('Consequence of Failure'!F265=\"No\",1,0)","v":0},{"$f":"IF('Consequence of Failure'!G263=\"0%-25%\",0.5,0)","v":0},{"$f":"IF('Consequence of Failure'!G263=\"26%-50%\",1,0)","v":0},{"$f":"IF('Consequence of Failure'!G263=\"51%-75%\",1.5,0)","v":0},{"$f":"IF('Consequence of Failure'!G263=\"76%-100%\",2,0)","v":0},{"$f":"IF('Consequence of Failure'!H263=\"Yes\",1,0)","v":0},{"$f":"IF('Consequence of Failure'!I263=\"Yes\",1,0)","v":0},null,0,null,{"$f":"IF('Consequence of Failure'!K263=\"Yes\",1,0)","v":0},{"$f":"IF('Consequence of Failure'!L263=\"Above\",2,0)","v":0},{"$f":"IF('Consequence of Failure'!L263=\"At\",1,0)","v":0},{"$f":"IF('Consequence of Failure'!L263=\"Below\",0,0)","v":0},{"$f":"IF('Consequence of Failure'!M263=\"Yes\",1,0)","v":0},{"$f":"IF('Consequence of Failure'!N263=\"Yes\",1,0)","v":0},null,0,null,0]
[{"$f":"IF('Data Collection Sheet'!B266=\"Pump\",15,0)","v":0},{"$f":"IF('Data Collection Sheet'!B266=\"Hydrant\",50,0)","v":0},{"$f":"IF('Data Collection Sheet'!B266=\"Meter\",15,0)","v":0},{"$f":"IF('Data Collection Sheet'!B266=\"Pipe\",80,0)","v":0},{"$f":"IF('Data Collection Sheet'!B266=\"Source\",50,0)","v":0},{"$f":"IF('Data Collection Sheet'!B266=\"Tank\",50,0)","v":0},{"$f":"IF('Data Collection Sheet'!B266=\"Analytical\",10,0)","v":0},{"$f":"IF('Data Collection Sheet'!B266=\"Treatment\",20,0)","v":0},{"$f":"IF('Data Collection Sheet'!B266=\"Valve\",20,0)","v":0},{"$f":"IF('Data Collection Sheet'!B266=\"Control\",15,0)","v":0},{"$f":"IF('Data Collection Sheet'!B266=\"Safety\",10,0)","v":0},{"$f":"IF('Data Collection Sheet'!B266=\"Building\",50,0)","v":0},{"$f":"IF('Data Collection Sheet'!B266=\"Vehicle\",8,0)","v":0},{"$f":"IF('Data Collection Sheet'!B266=\"Other\",15,0)","v":0},{"$f":"IF('Data Collection Sheet'!I266=\"Bad\",(-0.8*$T263),0)","v":0},{"$f":"IF('Data Collection Sheet'!I266=\"Fair\",(-0.5*$T263),0)","v":0},{"$f":"IF('Data Collection Sheet'!I266=\"Good\",(-0.2*$T263),0)","v":0},{"$f":"IF('Data Collection Sheet'!I266=\"Great\",0,0)","v":0},null,0,0,0,null,null,null,{"$f":"IF('Consequence of Failure'!F266=\"No\",1,0)","v":0},{"$f":"IF('Consequence of Failure'!G264=\"0%-25%\",0.5,0)","v":0},{"$f":"IF('Consequence of Failure'!G264=\"26%-50%\",1,0)","v":0},{"$f":"IF('Consequence of Failure'!G264=\"51%-75%\",1.5,0)","v":0},{"$f":"IF('Consequence of Failure'!G264=\"76%-100%\",2,0)","v":0},{"$f":"IF('Consequence of Failure'!H264=\"Yes\",1,0)","v":0},{"$f":"IF('Consequence of Failure'!I264=\"Yes\",1,0)","v":0},null,0,null,{"$f":"IF('Consequence of Failure'!K264=\"Yes\",1,0)","v":0},{"$f":"IF('Consequence of Failure'!L264=\"Above\",2,0)","v":0},{"$f":"IF('Consequence of Failure'!L264=\"At\",1,0)","v":0},{"$f":"IF('Consequence of Failure'!L264=\"Below\",0,0)","v":0},{"$f":"IF('Consequence of Failure'!M264=\"Yes\",1,0)","v":0},{"$f":"IF('Consequence of Failure'!N264=\"Yes\",1,0)","v":0},null,0,null,0]
[{"$f":"IF('Data Collection Sheet'!B267=\"Pump\",15,0)","v":0},{"$f":"IF('Data Collection Sheet'!B267=\"Hydrant\",50,0)","v":0},{"$f":"IF('Data Collection Sheet'!B267=\"Meter\",15,0)","v":0},{"$f":"IF('Data Collection Sheet'!B267=\"Pipe\",80,0)","v":0},{"$f":"IF('Data Collection Sheet'!B267=\"Source\",50,0)","v":0},{"$f":"IF('Data Collection Sheet'!B267=\"Tank\",50,0)","v":0},{"$f":"IF('Data Collection Sheet'!B267=\"Analytical\",10,0)","v":0},{"$f":"IF('Data Collection Sheet'!B267=\"Treatment\",20,0)","v":0},{"$f":"IF('Data Collection Sheet'!B267=\"Valve\",20,0)","v":0},{"$f":"IF('Data Collection Sheet'!B267=\"Control\",15,0)","v":0},{"$f":"IF('Data Collection Sheet'!B267=\"Safety\",10,0)","v":0},{"$f":"IF('Data Collection Sheet'!B267=\"Building\",50,0)","v":0},{"$f":"IF('Data Collection Sheet'!B267=\"Vehicle\",8,0)","v":0},{"$f":"IF('Data Collection Sheet'!B267=\"Other\",15,0)","v":0},{"$f":"IF('Data Collection Sheet'!I267=\"Bad\",(-0.8*$T264),0)","v":0},{"$f":"IF('Data Collection Sheet'!I267=\"Fair\",(-0.5*$T264),0)","v":0},{"$f":"IF('Data Collection Sheet'!I267=\"Good\",(-0.2*$T264),0)","v":0},{"$f":"IF('Data Collection Sheet'!I267=\"Great\",0,0)","v":0},null,0,0,0,null,null,null,{"$f":"IF('Consequence of Failure'!F267=\"No\",1,0)","v":0},{"$f":"IF('Consequence of Failure'!G265=\"0%-25%\",0.5,0)","v":0},{"$f":"IF('Consequence of Failure'!G265=\"26%-50%\",1,0)","v":0},{"$f":"IF('Consequence of Failure'!G265=\"51%-75%\",1.5,0)","v":0},{"$f":"IF('Consequence of Failure'!G265=\"76%-100%\",2,0)","v":0},{"$f":"IF('Consequence of Failure'!H265=\"Yes\",1,0)","v":0},{"$f":"IF('Consequence of Failure'!I265=\"Yes\",1,0)","v":0},null,0,null,{"$f":"IF('Consequence of Failure'!K265=\"Yes\",1,0)","v":0},{"$f":"IF('Consequence of Failure'!L265=\"Above\",2,0)","v":0},{"$f":"IF('Consequence of Failure'!L265=\"At\",1,0)","v":0},{"$f":"IF('Consequence of Failure'!L265=\"Below\",0,0)","v":0},{"$f":"IF('Consequence of Failure'!M265=\"Yes\",1,0)","v":0},{"$f":"IF('Consequence of Failure'!N265=\"Yes\",1,0)","v":0},null,0,null,0]
[{"$f":"IF('Data Collection Sheet'!B268=\"Pump\",15,0)","v":0},{"$f":"IF('Data Collection Sheet'!B268=\"Hydrant\",50,0)","v":0},{"$f":"IF('Data Collection Sheet'!B268=\"Meter\",15,0)","v":0},{"$f":"IF('Data Collection Sheet'!B268=\"Pipe\",80,0)","v":0},{"$f":"IF('Data Collection Sheet'!B268=\"Source\",50,0)","v":0},{"$f":"IF('Data Collection Sheet'!B268=\"Tank\",50,0)","v":0},{"$f":"IF('Data Collection Sheet'!B268=\"Analytical\",10,0)","v":0},{"$f":"IF('Data Collection Sheet'!B268=\"Treatment\",20,0)","v":0},{"$f":"IF('Data Collection Sheet'!B268=\"Valve\",20,0)","v":0},{"$f":"IF('Data Collection Sheet'!B268=\"Control\",15,0)","v":0},{"$f":"IF('Data Collection Sheet'!B268=\"Safety\",10,0)","v":0},{"$f":"IF('Data Collection Sheet'!B268=\"Building\",50,0)","v":0},{"$f":"IF('Data Collection Sheet'!B268=\"Vehicle\",8,0)","v":0},{"$f":"IF('Data Collection Sheet'!B268=\"Other\",15,0)","v":0},{"$f":"IF('Data Collection Sheet'!I268=\"Bad\",(-0.8*$T265),0)","v":0},{"$f":"IF('Data Collection Sheet'!I268=\"Fair\",(-0.5*$T265),0)","v":0},{"$f":"IF('Data Collection Sheet'!I268=\"Good\",(-0.2*$T265),0)","v":0},{"$f":"IF('Data Collection Sheet'!I268=\"Great\",0,0)","v":0},null,0,0,0,null,null,null,{"$f":"IF('Consequence of Failure'!F268=\"No\",1,0)","v":0},{"$f":"IF('Consequence of Failure'!G266=\"0%-25%\",0.5,0)","v":0},{"$f":"IF('Consequence of Failure'!G266=\"26%-50%\",1,0)","v":0},{"$f":"IF('Consequence of Failure'!G266=\"51%-75%\",1.5,0)","v":0},{"$f":"IF('Consequence of Failure'!G266=\"76%-100%\",2,0)","v":0},{"$f":"IF('Consequence of Failure'!H266=\"Yes\",1,0)","v":0},{"$f":"IF('Consequence of Failure'!I266=\"Yes\",1,0)","v":0},null,0,null,{"$f":"IF('Consequence of Failure'!K266=\"Yes\",1,0)","v":0},{"$f":"IF('Consequence of Failure'!L266=\"Above\",2,0)","v":0},{"$f":"IF('Consequence of Failure'!L266=\"At\",1,0)","v":0},{"$f":"IF('Consequence of Failure'!L266=\"Below\",0,0)","v":0},{"$f":"IF('Consequence of Failure'!M266=\"Yes\",1,0)","v":0},{"$f":"IF('Consequence of Failure'!N266=\"Yes\",1,0)","v":0},null,0,null,0]
[{"$f":"IF('Data Collection Sheet'!B269=\"Pump\",15,0)","v":0},{"$f":"IF('Data Collection Sheet'!B269=\"Hydrant\",50,0)","v":0},{"$f":"IF('Data Collection Sheet'!B269=\"Meter\",15,0)","v":0},{"$f":"IF('Data Collection Sheet'!B269=\"Pipe\",80,0)","v":0},{"$f":"IF('Data Collection Sheet'!B269=\"Source\",50,0)","v":0},{"$f":"IF('Data Collection Sheet'!B269=\"Tank\",50,0)","v":0},{"$f":"IF('Data Collection Sheet'!B269=\"Analytical\",10,0)","v":0},{"$f":"IF('Data Collection Sheet'!B269=\"Treatment\",20,0)","v":0},{"$f":"IF('Data Collection Sheet'!B269=\"Valve\",20,0)","v":0},{"$f":"IF('Data Collection Sheet'!B269=\"Control\",15,0)","v":0},{"$f":"IF('Data Collection Sheet'!B269=\"Safety\",10,0)","v":0},{"$f":"IF('Data Collection Sheet'!B269=\"Building\",50,0)","v":0},{"$f":"IF('Data Collection Sheet'!B269=\"Vehicle\",8,0)","v":0},{"$f":"IF('Data Collection Sheet'!B269=\"Other\",15,0)","v":0},{"$f":"IF('Data Collection Sheet'!I269=\"Bad\",(-0.8*$T266),0)","v":0},{"$f":"IF('Data Collection Sheet'!I269=\"Fair\",(-0.5*$T266),0)","v":0},{"$f":"IF('Data Collection Sheet'!I269=\"Good\",(-0.2*$T266),0)","v":0},{"$f":"IF('Data Collection Sheet'!I269=\"Great\",0,0)","v":0},null,0,0,0,null,null,null,{"$f":"IF('Consequence of Failure'!F269=\"No\",1,0)","v":0},{"$f":"IF('Consequence of Failure'!G267=\"0%-25%\",0.5,0)","v":0},{"$f":"IF('Consequence of Failure'!G267=\"26%-50%\",1,0)","v":0},{"$f":"IF('Consequence of Failure'!G267=\"51%-75%\",1.5,0)","v":0},{"$f":"IF('Consequence of Failure'!G267=\"76%-100%\",2,0)","v":0},{"$f":"IF('Consequence of Failure'!H267=\"Yes\",1,0)","v":0},{"$f":"IF('Consequence of Failure'!I267=\"Yes\",1,0)","v":0},null,0,null,{"$f":"IF('Consequence of Failure'!K267=\"Yes\",1,0)","v":0},{"$f":"IF('Consequence of Failure'!L267=\"Above\",2,0)","v":0},{"$f":"IF('Consequence of Failure'!L267=\"At\",1,0)","v":0},{"$f":"IF('Consequence of Failure'!L267=\"Below\",0,0)","v":0},{"$f":"IF('Consequence of Failure'!M267=\"Yes\",1,0)","v":0},{"$f":"IF('Consequence of Failure'!N267=\"Yes\",1,0)","v":0},null,0,null,0]
[{"$f":"IF('Data Collection Sheet'!B270=\"Pump\",15,0)","v":0},{"$f":"IF('Data Collection Sheet'!B270=\"Hydrant\",50,0)","v":0},{"$f":"IF('Data Collection Sheet'!B270=\"Meter\",15,0)","v":0},{"$f":"IF('Data Collection Sheet'!B270=\"Pipe\",80,0)","v":0},{"$f":"IF('Data Collection Sheet'!B270=\"Source\",50,0)","v":0},{"$f":"IF('Data Collection Sheet'!B270=\"Tank\",50,0)","v":0},{"$f":"IF('Data Collection Sheet'!B270=\"Analytical\",10,0)","v":0},{"$f":"IF('Data Collection Sheet'!B270=\"Treatment\",20,0)","v":0},{"$f":"IF('Data Collection Sheet'!B270=\"Valve\",20,0)","v":0},{"$f":"IF('Data Collection Sheet'!B270=\"Control\",15,0)","v":0},{"$f":"IF('Data Collection Sheet'!B270=\"Safety\",10,0)","v":0},{"$f":"IF('Data Collection Sheet'!B270=\"Building\",50,0)","v":0},{"$f":"IF('Data Collection Sheet'!B270=\"Vehicle\",8,0)","v":0},{"$f":"IF('Data Collection Sheet'!B270=\"Other\",15,0)","v":0},{"$f":"IF('Data Collection Sheet'!I270=\"Bad\",(-0.8*$T267),0)","v":0},{"$f":"IF('Data Collection Sheet'!I270=\"Fair\",(-0.5*$T267),0)","v":0},{"$f":"IF('Data Collection Sheet'!I270=\"Good\",(-0.2*$T267),0)","v":0},{"$f":"IF('Data Collection Sheet'!I270=\"Great\",0,0)","v":0},null,0,0,0,null,null,null,{"$f":"IF('Consequence of Failure'!F270=\"No\",1,0)","v":0},{"$f":"IF('Consequence of Failure'!G268=\"0%-25%\",0.5,0)","v":0},{"$f":"IF('Consequence of Failure'!G268=\"26%-50%\",1,0)","v":0},{"$f":"IF('Consequence of Failure'!G268=\"51%-75%\",1.5,0)","v":0},{"$f":"IF('Consequence of Failure'!G268=\"76%-100%\",2,0)","v":0},{"$f":"IF('Consequence of Failure'!H268=\"Yes\",1,0)","v":0},{"$f":"IF('Consequence of Failure'!I268=\"Yes\",1,0)","v":0},null,0,null,{"$f":"IF('Consequence of Failure'!K268=\"Yes\",1,0)","v":0},{"$f":"IF('Consequence of Failure'!L268=\"Above\",2,0)","v":0},{"$f":"IF('Consequence of Failure'!L268=\"At\",1,0)","v":0},{"$f":"IF('Consequence of Failure'!L268=\"Below\",0,0)","v":0},{"$f":"IF('Consequence of Failure'!M268=\"Yes\",1,0)","v":0},{"$f":"IF('Consequence of Failure'!N268=\"Yes\",1,0)","v":0},null,0,null,0]
[{"$f":"IF('Data Collection Sheet'!B271=\"Pump\",15,0)","v":0},{"$f":"IF('Data Collection Sheet'!B271=\"Hydrant\",50,0)","v":0},{"$f":"IF('Data Collection Sheet'!B271=\"Meter\",15,0)","v":0},{"$f":"IF('Data Collection Sheet'!B271=\"Pipe\",80,0)","v":0},{"$f":"IF('Data Collection Sheet'!B271=\"Source\",50,0)","v":0},{"$f":"IF('Data Collection Sheet'!B271=\"Tank\",50,0)","v":0},{"$f":"IF('Data Collection Sheet'!B271=\"Analytical\",10,0)","v":0},{"$f":"IF('Data Collection Sheet'!B271=\"Treatment\",20,0)","v":0},{"$f":"IF('Data Collection Sheet'!B271=\"Valve\",20,0)","v":0},{"$f":"IF('Data Collection Sheet'!B271=\"Control\",15,0)","v":0},{"$f":"IF('Data Collection Sheet'!B271=\"Safety\",10,0)","v":0},{"$f":"IF('Data Collection Sheet'!B271=\"Building\",50,0)","v":0},{"$f":"IF('Data Collection Sheet'!B271=\"Vehicle\",8,0)","v":0},{"$f":"IF('Data Collection Sheet'!B271=\"Other\",15,0)","v":0},{"$f":"IF('Data Collection Sheet'!I271=\"Bad\",(-0.8*$T268),0)","v":0},{"$f":"IF('Data Collection Sheet'!I271=\"Fair\",(-0.5*$T268),0)","v":0},{"$f":"IF('Data Collection Sheet'!I271=\"Good\",(-0.2*$T268),0)","v":0},{"$f":"IF('Data Collection Sheet'!I271=\"Great\",0,0)","v":0},null,0,0,0,null,null,null,{"$f":"IF('Consequence of Failure'!F271=\"No\",1,0)","v":0},{"$f":"IF('Consequence of Failure'!G269=\"0%-25%\",0.5,0)","v":0},{"$f":"IF('Consequence of Failure'!G269=\"26%-50%\",1,0)","v":0},{"$f":"IF('Consequence of Failure'!G269=\"51%-75%\",1.5,0)","v":0},{"$f":"IF('Consequence of Failure'!G269=\"76%-100%\",2,0)","v":0},{"$f":"IF('Consequence of Failure'!H269=\"Yes\",1,0)","v":0},{"$f":"IF('Consequence of Failure'!I269=\"Yes\",1,0)","v":0},null,0,null,{"$f":"IF('Consequence of Failure'!K269=\"Yes\",1,0)","v":0},{"$f":"IF('Consequence of Failure'!L269=\"Above\",2,0)","v":0},{"$f":"IF('Consequence of Failure'!L269=\"At\",1,0)","v":0},{"$f":"IF('Consequence of Failure'!L269=\"Below\",0,0)","v":0},{"$f":"IF('Consequence of Failure'!M269=\"Yes\",1,0)","v":0},{"$f":"IF('Consequence of Failure'!N269=\"Yes\",1,0)","v":0},null,0,null,0]
[{"$f":"IF('Data Collection Sheet'!B272=\"Pump\",15,0)","v":0},{"$f":"IF('Data Collection Sheet'!B272=\"Hydrant\",50,0)","v":0},{"$f":"IF('Data Collection Sheet'!B272=\"Meter\",15,0)","v":0},{"$f":"IF('Data Collection Sheet'!B272=\"Pipe\",80,0)","v":0},{"$f":"IF('Data Collection Sheet'!B272=\"Source\",50,0)","v":0},{"$f":"IF('Data Collection Sheet'!B272=\"Tank\",50,0)","v":0},{"$f":"IF('Data Collection Sheet'!B272=\"Analytical\",10,0)","v":0},{"$f":"IF('Data Collection Sheet'!B272=\"Treatment\",20,0)","v":0},{"$f":"IF('Data Collection Sheet'!B272=\"Valve\",20,0)","v":0},{"$f":"IF('Data Collection Sheet'!B272=\"Control\",15,0)","v":0},{"$f":"IF('Data Collection Sheet'!B272=\"Safety\",10,0)","v":0},{"$f":"IF('Data Collection Sheet'!B272=\"Building\",50,0)","v":0},{"$f":"IF('Data Collection Sheet'!B272=\"Vehicle\",8,0)","v":0},{"$f":"IF('Data Collection Sheet'!B272=\"Other\",15,0)","v":0},{"$f":"IF('Data Collection Sheet'!I272=\"Bad\",(-0.8*$T269),0)","v":0},{"$f":"IF('Data Collection Sheet'!I272=\"Fair\",(-0.5*$T269),0)","v":0},{"$f":"IF('Data Collection Sheet'!I272=\"Good\",(-0.2*$T269),0)","v":0},{"$f":"IF('Data Collection Sheet'!I272=\"Great\",0,0)","v":0},null,0,0,0,null,null,null,{"$f":"IF('Consequence of Failure'!F272=\"No\",1,0)","v":0},{"$f":"IF('Consequence of Failure'!G270=\"0%-25%\",0.5,0)","v":0},{"$f":"IF('Consequence of Failure'!G270=\"26%-50%\",1,0)","v":0},{"$f":"IF('Consequence of Failure'!G270=\"51%-75%\",1.5,0)","v":0},{"$f":"IF('Consequence of Failure'!G270=\"76%-100%\",2,0)","v":0},{"$f":"IF('Consequence of Failure'!H270=\"Yes\",1,0)","v":0},{"$f":"IF('Consequence of Failure'!I270=\"Yes\",1,0)","v":0},null,0,null,{"$f":"IF('Consequence of Failure'!K270=\"Yes\",1,0)","v":0},{"$f":"IF('Consequence of Failure'!L270=\"Above\",2,0)","v":0},{"$f":"IF('Consequence of Failure'!L270=\"At\",1,0)","v":0},{"$f":"IF('Consequence of Failure'!L270=\"Below\",0,0)","v":0},{"$f":"IF('Consequence of Failure'!M270=\"Yes\",1,0)","v":0},{"$f":"IF('Consequence of Failure'!N270=\"Yes\",1,0)","v":0},null,0,null,0]
[{"$f":"IF('Data Collection Sheet'!B273=\"Pump\",15,0)","v":0},{"$f":"IF('Data Collection Sheet'!B273=\"Hydrant\",50,0)","v":0},{"$f":"IF('Data Collection Sheet'!B273=\"Meter\",15,0)","v":0},{"$f":"IF('Data Collection Sheet'!B273=\"Pipe\",80,0)","v":0},{"$f":"IF('Data Collection Sheet'!B273=\"Source\",50,0)","v":0},{"$f":"IF('Data Collection Sheet'!B273=\"Tank\",50,0)","v":0},{"$f":"IF('Data Collection Sheet'!B273=\"Analytical\",10,0)","v":0},{"$f":"IF('Data Collection Sheet'!B273=\"Treatment\",20,0)","v":0},{"$f":"IF('Data Collection Sheet'!B273=\"Valve\",20,0)","v":0},{"$f":"IF('Data Collection Sheet'!B273=\"Control\",15,0)","v":0},{"$f":"IF('Data Collection Sheet'!B273=\"Safety\",10,0)","v":0},{"$f":"IF('Data Collection Sheet'!B273=\"Building\",50,0)","v":0},{"$f":"IF('Data Collection Sheet'!B273=\"Vehicle\",8,0)","v":0},{"$f":"IF('Data Collection Sheet'!B273=\"Other\",15,0)","v":0},{"$f":"IF('Data Collection Sheet'!I273=\"Bad\",(-0.8*$T270),0)","v":0},{"$f":"IF('Data Collection Sheet'!I273=\"Fair\",(-0.5*$T270),0)","v":0},{"$f":"IF('Data Collection Sheet'!I273=\"Good\",(-0.2*$T270),0)","v":0},{"$f":"IF('Data Collection Sheet'!I273=\"Great\",0,0)","v":0},null,0,0,0,null,null,null,{"$f":"IF('Consequence of Failure'!F273=\"No\",1,0)","v":0},{"$f":"IF('Consequence of Failure'!G271=\"0%-25%\",0.5,0)","v":0},{"$f":"IF('Consequence of Failure'!G271=\"26%-50%\",1,0)","v":0},{"$f":"IF('Consequence of Failure'!G271=\"51%-75%\",1.5,0)","v":0},{"$f":"IF('Consequence of Failure'!G271=\"76%-100%\",2,0)","v":0},{"$f":"IF('Consequence of Failure'!H271=\"Yes\",1,0)","v":0},{"$f":"IF('Consequence of Failure'!I271=\"Yes\",1,0)","v":0},null,0,null,{"$f":"IF('Consequence of Failure'!K271=\"Yes\",1,0)","v":0},{"$f":"IF('Consequence of Failure'!L271=\"Above\",2,0)","v":0},{"$f":"IF('Consequence of Failure'!L271=\"At\",1,0)","v":0},{"$f":"IF('Consequence of Failure'!L271=\"Below\",0,0)","v":0},{"$f":"IF('Consequence of Failure'!M271=\"Yes\",1,0)","v":0},{"$f":"IF('Consequence of Failure'!N271=\"Yes\",1,0)","v":0},null,0,null,0]
[{"$f":"IF('Data Collection Sheet'!B274=\"Pump\",15,0)","v":0},{"$f":"IF('Data Collection Sheet'!B274=\"Hydrant\",50,0)","v":0},{"$f":"IF('Data Collection Sheet'!B274=\"Meter\",15,0)","v":0},{"$f":"IF('Data Collection Sheet'!B274=\"Pipe\",80,0)","v":0},{"$f":"IF('Data Collection Sheet'!B274=\"Source\",50,0)","v":0},{"$f":"IF('Data Collection Sheet'!B274=\"Tank\",50,0)","v":0},{"$f":"IF('Data Collection Sheet'!B274=\"Analytical\",10,0)","v":0},{"$f":"IF('Data Collection Sheet'!B274=\"Treatment\",20,0)","v":0},{"$f":"IF('Data Collection Sheet'!B274=\"Valve\",20,0)","v":0},{"$f":"IF('Data Collection Sheet'!B274=\"Control\",15,0)","v":0},{"$f":"IF('Data Collection Sheet'!B274=\"Safety\",10,0)","v":0},{"$f":"IF('Data Collection Sheet'!B274=\"Building\",50,0)","v":0},{"$f":"IF('Data Collection Sheet'!B274=\"Vehicle\",8,0)","v":0},{"$f":"IF('Data Collection Sheet'!B274=\"Other\",15,0)","v":0},{"$f":"IF('Data Collection Sheet'!I274=\"Bad\",(-0.8*$T271),0)","v":0},{"$f":"IF('Data Collection Sheet'!I274=\"Fair\",(-0.5*$T271),0)","v":0},{"$f":"IF('Data Collection Sheet'!I274=\"Good\",(-0.2*$T271),0)","v":0},{"$f":"IF('Data Collection Sheet'!I274=\"Great\",0,0)","v":0},null,0,0,0,null,null,null,{"$f":"IF('Consequence of Failure'!F274=\"No\",1,0)","v":0},{"$f":"IF('Consequence of Failure'!G272=\"0%-25%\",0.5,0)","v":0},{"$f":"IF('Consequence of Failure'!G272=\"26%-50%\",1,0)","v":0},{"$f":"IF('Consequence of Failure'!G272=\"51%-75%\",1.5,0)","v":0},{"$f":"IF('Consequence of Failure'!G272=\"76%-100%\",2,0)","v":0},{"$f":"IF('Consequence of Failure'!H272=\"Yes\",1,0)","v":0},{"$f":"IF('Consequence of Failure'!I272=\"Yes\",1,0)","v":0},null,0,null,{"$f":"IF('Consequence of Failure'!K272=\"Yes\",1,0)","v":0},{"$f":"IF('Consequence of Failure'!L272=\"Above\",2,0)","v":0},{"$f":"IF('Consequence of Failure'!L272=\"At\",1,0)","v":0},{"$f":"IF('Consequence of Failure'!L272=\"Below\",0,0)","v":0},{"$f":"IF('Consequence of Failure'!M272=\"Yes\",1,0)","v":0},{"$f":"IF('Consequence of Failure'!N272=\"Yes\",1,0)","v":0},null,0,null,0]
[{"$f":"IF('Data Collection Sheet'!B275=\"Pump\",15,0)","v":0},{"$f":"IF('Data Collection Sheet'!B275=\"Hydrant\",50,0)","v":0},{"$f":"IF('Data Collection Sheet'!B275=\"Meter\",15,0)","v":0},{"$f":"IF('Data Collection Sheet'!B275=\"Pipe\",80,0)","v":0},{"$f":"IF('Data Collection Sheet'!B275=\"Source\",50,0)","v":0},{"$f":"IF('Data Collection Sheet'!B275=\"Tank\",50,0)","v":0},{"$f":"IF('Data Collection Sheet'!B275=\"Analytical\",10,0)","v":0},{"$f":"IF('Data Collection Sheet'!B275=\"Treatment\",20,0)","v":0},{"$f":"IF('Data Collection Sheet'!B275=\"Valve\",20,0)","v":0},{"$f":"IF('Data Collection Sheet'!B275=\"Control\",15,0)","v":0},{"$f":"IF('Data Collection Sheet'!B275=\"Safety\",10,0)","v":0},{"$f":"IF('Data Collection Sheet'!B275=\"Building\",50,0)","v":0},{"$f":"IF('Data Collection Sheet'!B275=\"Vehicle\",8,0)","v":0},{"$f":"IF('Data Collection Sheet'!B275=\"Other\",15,0)","v":0},{"$f":"IF('Data Collection Sheet'!I275=\"Bad\",(-0.8*$T272),0)","v":0},{"$f":"IF('Data Collection Sheet'!I275=\"Fair\",(-0.5*$T272),0)","v":0},{"$f":"IF('Data Collection Sheet'!I275=\"Good\",(-0.2*$T272),0)","v":0},{"$f":"IF('Data Collection Sheet'!I275=\"Great\",0,0)","v":0},null,0,0,0,null,null,null,{"$f":"IF('Consequence of Failure'!F275=\"No\",1,0)","v":0},{"$f":"IF('Consequence of Failure'!G273=\"0%-25%\",0.5,0)","v":0},{"$f":"IF('Consequence of Failure'!G273=\"26%-50%\",1,0)","v":0},{"$f":"IF('Consequence of Failure'!G273=\"51%-75%\",1.5,0)","v":0},{"$f":"IF('Consequence of Failure'!G273=\"76%-100%\",2,0)","v":0},{"$f":"IF('Consequence of Failure'!H273=\"Yes\",1,0)","v":0},{"$f":"IF('Consequence of Failure'!I273=\"Yes\",1,0)","v":0},null,0,null,{"$f":"IF('Consequence of Failure'!K273=\"Yes\",1,0)","v":0},{"$f":"IF('Consequence of Failure'!L273=\"Above\",2,0)","v":0},{"$f":"IF('Consequence of Failure'!L273=\"At\",1,0)","v":0},{"$f":"IF('Consequence of Failure'!L273=\"Below\",0,0)","v":0},{"$f":"IF('Consequence of Failure'!M273=\"Yes\",1,0)","v":0},{"$f":"IF('Consequence of Failure'!N273=\"Yes\",1,0)","v":0},null,0,null,0]
[{"$f":"IF('Data Collection Sheet'!B276=\"Pump\",15,0)","v":0},{"$f":"IF('Data Collection Sheet'!B276=\"Hydrant\",50,0)","v":0},{"$f":"IF('Data Collection Sheet'!B276=\"Meter\",15,0)","v":0},{"$f":"IF('Data Collection Sheet'!B276=\"Pipe\",80,0)","v":0},{"$f":"IF('Data Collection Sheet'!B276=\"Source\",50,0)","v":0},{"$f":"IF('Data Collection Sheet'!B276=\"Tank\",50,0)","v":0},{"$f":"IF('Data Collection Sheet'!B276=\"Analytical\",10,0)","v":0},{"$f":"IF('Data Collection Sheet'!B276=\"Treatment\",20,0)","v":0},{"$f":"IF('Data Collection Sheet'!B276=\"Valve\",20,0)","v":0},{"$f":"IF('Data Collection Sheet'!B276=\"Control\",15,0)","v":0},{"$f":"IF('Data Collection Sheet'!B276=\"Safety\",10,0)","v":0},{"$f":"IF('Data Collection Sheet'!B276=\"Building\",50,0)","v":0},{"$f":"IF('Data Collection Sheet'!B276=\"Vehicle\",8,0)","v":0},{"$f":"IF('Data Collection Sheet'!B276=\"Other\",15,0)","v":0},{"$f":"IF('Data Collection Sheet'!I276=\"Bad\",(-0.8*$T273),0)","v":0},{"$f":"IF('Data Collection Sheet'!I276=\"Fair\",(-0.5*$T273),0)","v":0},{"$f":"IF('Data Collection Sheet'!I276=\"Good\",(-0.2*$T273),0)","v":0},{"$f":"IF('Data Collection Sheet'!I276=\"Great\",0,0)","v":0},null,0,0,0,null,null,null,{"$f":"IF('Consequence of Failure'!F276=\"No\",1,0)","v":0},{"$f":"IF('Consequence of Failure'!G274=\"0%-25%\",0.5,0)","v":0},{"$f":"IF('Consequence of Failure'!G274=\"26%-50%\",1,0)","v":0},{"$f":"IF('Consequence of Failure'!G274=\"51%-75%\",1.5,0)","v":0},{"$f":"IF('Consequence of Failure'!G274=\"76%-100%\",2,0)","v":0},{"$f":"IF('Consequence of Failure'!H274=\"Yes\",1,0)","v":0},{"$f":"IF('Consequence of Failure'!I274=\"Yes\",1,0)","v":0},null,0,null,{"$f":"IF('Consequence of Failure'!K274=\"Yes\",1,0)","v":0},{"$f":"IF('Consequence of Failure'!L274=\"Above\",2,0)","v":0},{"$f":"IF('Consequence of Failure'!L274=\"At\",1,0)","v":0},{"$f":"IF('Consequence of Failure'!L274=\"Below\",0,0)","v":0},{"$f":"IF('Consequence of Failure'!M274=\"Yes\",1,0)","v":0},{"$f":"IF('Consequence of Failure'!N274=\"Yes\",1,0)","v":0},null,0,null,0]
[{"$f":"IF('Data Collection Sheet'!B277=\"Pump\",15,0)","v":0},{"$f":"IF('Data Collection Sheet'!B277=\"Hydrant\",50,0)","v":0},{"$f":"IF('Data Collection Sheet'!B277=\"Meter\",15,0)","v":0},{"$f":"IF('Data Collection Sheet'!B277=\"Pipe\",80,0)","v":0},{"$f":"IF('Data Collection Sheet'!B277=\"Source\",50,0)","v":0},{"$f":"IF('Data Collection Sheet'!B277=\"Tank\",50,0)","v":0},{"$f":"IF('Data Collection Sheet'!B277=\"Analytical\",10,0)","v":0},{"$f":"IF('Data Collection Sheet'!B277=\"Treatment\",20,0)","v":0},{"$f":"IF('Data Collection Sheet'!B277=\"Valve\",20,0)","v":0},{"$f":"IF('Data Collection Sheet'!B277=\"Control\",15,0)","v":0},{"$f":"IF('Data Collection Sheet'!B277=\"Safety\",10,0)","v":0},{"$f":"IF('Data Collection Sheet'!B277=\"Building\",50,0)","v":0},{"$f":"IF('Data Collection Sheet'!B277=\"Vehicle\",8,0)","v":0},{"$f":"IF('Data Collection Sheet'!B277=\"Other\",15,0)","v":0},{"$f":"IF('Data Collection Sheet'!I277=\"Bad\",(-0.8*$T274),0)","v":0},{"$f":"IF('Data Collection Sheet'!I277=\"Fair\",(-0.5*$T274),0)","v":0},{"$f":"IF('Data Collection Sheet'!I277=\"Good\",(-0.2*$T274),0)","v":0},{"$f":"IF('Data Collection Sheet'!I277=\"Great\",0,0)","v":0},null,0,0,0,null,null,null,{"$f":"IF('Consequence of Failure'!F277=\"No\",1,0)","v":0},{"$f":"IF('Consequence of Failure'!G275=\"0%-25%\",0.5,0)","v":0},{"$f":"IF('Consequence of Failure'!G275=\"26%-50%\",1,0)","v":0},{"$f":"IF('Consequence of Failure'!G275=\"51%-75%\",1.5,0)","v":0},{"$f":"IF('Consequence of Failure'!G275=\"76%-100%\",2,0)","v":0},{"$f":"IF('Consequence of Failure'!H275=\"Yes\",1,0)","v":0},{"$f":"IF('Consequence of Failure'!I275=\"Yes\",1,0)","v":0},null,0,null,{"$f":"IF('Consequence of Failure'!K275=\"Yes\",1,0)","v":0},{"$f":"IF('Consequence of Failure'!L275=\"Above\",2,0)","v":0},{"$f":"IF('Consequence of Failure'!L275=\"At\",1,0)","v":0},{"$f":"IF('Consequence of Failure'!L275=\"Below\",0,0)","v":0},{"$f":"IF('Consequence of Failure'!M275=\"Yes\",1,0)","v":0},{"$f":"IF('Consequence of Failure'!N275=\"Yes\",1,0)","v":0},null,0,null,0]
[{"$f":"IF('Data Collection Sheet'!B278=\"Pump\",15,0)","v":0},{"$f":"IF('Data Collection Sheet'!B278=\"Hydrant\",50,0)","v":0},{"$f":"IF('Data Collection Sheet'!B278=\"Meter\",15,0)","v":0},{"$f":"IF('Data Collection Sheet'!B278=\"Pipe\",80,0)","v":0},{"$f":"IF('Data Collection Sheet'!B278=\"Source\",50,0)","v":0},{"$f":"IF('Data Collection Sheet'!B278=\"Tank\",50,0)","v":0},{"$f":"IF('Data Collection Sheet'!B278=\"Analytical\",10,0)","v":0},{"$f":"IF('Data Collection Sheet'!B278=\"Treatment\",20,0)","v":0},{"$f":"IF('Data Collection Sheet'!B278=\"Valve\",20,0)","v":0},{"$f":"IF('Data Collection Sheet'!B278=\"Control\",15,0)","v":0},{"$f":"IF('Data Collection Sheet'!B278=\"Safety\",10,0)","v":0},{"$f":"IF('Data Collection Sheet'!B278=\"Building\",50,0)","v":0},{"$f":"IF('Data Collection Sheet'!B278=\"Vehicle\",8,0)","v":0},{"$f":"IF('Data Collection Sheet'!B278=\"Other\",15,0)","v":0},{"$f":"IF('Data Collection Sheet'!I278=\"Bad\",(-0.8*$T275),0)","v":0},{"$f":"IF('Data Collection Sheet'!I278=\"Fair\",(-0.5*$T275),0)","v":0},{"$f":"IF('Data Collection Sheet'!I278=\"Good\",(-0.2*$T275),0)","v":0},{"$f":"IF('Data Collection Sheet'!I278=\"Great\",0,0)","v":0},null,0,0,0,null,null,null,{"$f":"IF('Consequence of Failure'!F278=\"No\",1,0)","v":0},{"$f":"IF('Consequence of Failure'!G276=\"0%-25%\",0.5,0)","v":0},{"$f":"IF('Consequence of Failure'!G276=\"26%-50%\",1,0)","v":0},{"$f":"IF('Consequence of Failure'!G276=\"51%-75%\",1.5,0)","v":0},{"$f":"IF('Consequence of Failure'!G276=\"76%-100%\",2,0)","v":0},{"$f":"IF('Consequence of Failure'!H276=\"Yes\",1,0)","v":0},{"$f":"IF('Consequence of Failure'!I276=\"Yes\",1,0)","v":0},null,0,null,{"$f":"IF('Consequence of Failure'!K276=\"Yes\",1,0)","v":0},{"$f":"IF('Consequence of Failure'!L276=\"Above\",2,0)","v":0},{"$f":"IF('Consequence of Failure'!L276=\"At\",1,0)","v":0},{"$f":"IF('Consequence of Failure'!L276=\"Below\",0,0)","v":0},{"$f":"IF('Consequence of Failure'!M276=\"Yes\",1,0)","v":0},{"$f":"IF('Consequence of Failure'!N276=\"Yes\",1,0)","v":0},null,0,null,0]
[{"$f":"IF('Data Collection Sheet'!B279=\"Pump\",15,0)","v":0},{"$f":"IF('Data Collection Sheet'!B279=\"Hydrant\",50,0)","v":0},{"$f":"IF('Data Collection Sheet'!B279=\"Meter\",15,0)","v":0},{"$f":"IF('Data Collection Sheet'!B279=\"Pipe\",80,0)","v":0},{"$f":"IF('Data Collection Sheet'!B279=\"Source\",50,0)","v":0},{"$f":"IF('Data Collection Sheet'!B279=\"Tank\",50,0)","v":0},{"$f":"IF('Data Collection Sheet'!B279=\"Analytical\",10,0)","v":0},{"$f":"IF('Data Collection Sheet'!B279=\"Treatment\",20,0)","v":0},{"$f":"IF('Data Collection Sheet'!B279=\"Valve\",20,0)","v":0},{"$f":"IF('Data Collection Sheet'!B279=\"Control\",15,0)","v":0},{"$f":"IF('Data Collection Sheet'!B279=\"Safety\",10,0)","v":0},{"$f":"IF('Data Collection Sheet'!B279=\"Building\",50,0)","v":0},{"$f":"IF('Data Collection Sheet'!B279=\"Vehicle\",8,0)","v":0},{"$f":"IF('Data Collection Sheet'!B279=\"Other\",15,0)","v":0},{"$f":"IF('Data Collection Sheet'!I279=\"Bad\",(-0.8*$T276),0)","v":0},{"$f":"IF('Data Collection Sheet'!I279=\"Fair\",(-0.5*$T276),0)","v":0},{"$f":"IF('Data Collection Sheet'!I279=\"Good\",(-0.2*$T276),0)","v":0},{"$f":"IF('Data Collection Sheet'!I279=\"Great\",0,0)","v":0},null,0,0,0,null,null,null,{"$f":"IF('Consequence of Failure'!F279=\"No\",1,0)","v":0},{"$f":"IF('Consequence of Failure'!G277=\"0%-25%\",0.5,0)","v":0},{"$f":"IF('Consequence of Failure'!G277=\"26%-50%\",1,0)","v":0},{"$f":"IF('Consequence of Failure'!G277=\"51%-75%\",1.5,0)","v":0},{"$f":"IF('Consequence of Failure'!G277=\"76%-100%\",2,0)","v":0},{"$f":"IF('Consequence of Failure'!H277=\"Yes\",1,0)","v":0},{"$f":"IF('Consequence of Failure'!I277=\"Yes\",1,0)","v":0},null,0,null,{"$f":"IF('Consequence of Failure'!K277=\"Yes\",1,0)","v":0},{"$f":"IF('Consequence of Failure'!L277=\"Above\",2,0)","v":0},{"$f":"IF('Consequence of Failure'!L277=\"At\",1,0)","v":0},{"$f":"IF('Consequence of Failure'!L277=\"Below\",0,0)","v":0},{"$f":"IF('Consequence of Failure'!M277=\"Yes\",1,0)","v":0},{"$f":"IF('Consequence of Failure'!N277=\"Yes\",1,0)","v":0},null,0,null,0]
[{"$f":"IF('Data Collection Sheet'!B280=\"Pump\",15,0)","v":0},{"$f":"IF('Data Collection Sheet'!B280=\"Hydrant\",50,0)","v":0},{"$f":"IF('Data Collection Sheet'!B280=\"Meter\",15,0)","v":0},{"$f":"IF('Data Collection Sheet'!B280=\"Pipe\",80,0)","v":0},{"$f":"IF('Data Collection Sheet'!B280=\"Source\",50,0)","v":0},{"$f":"IF('Data Collection Sheet'!B280=\"Tank\",50,0)","v":0},{"$f":"IF('Data Collection Sheet'!B280=\"Analytical\",10,0)","v":0},{"$f":"IF('Data Collection Sheet'!B280=\"Treatment\",20,0)","v":0},{"$f":"IF('Data Collection Sheet'!B280=\"Valve\",20,0)","v":0},{"$f":"IF('Data Collection Sheet'!B280=\"Control\",15,0)","v":0},{"$f":"IF('Data Collection Sheet'!B280=\"Safety\",10,0)","v":0},{"$f":"IF('Data Collection Sheet'!B280=\"Building\",50,0)","v":0},{"$f":"IF('Data Collection Sheet'!B280=\"Vehicle\",8,0)","v":0},{"$f":"IF('Data Collection Sheet'!B280=\"Other\",15,0)","v":0},{"$f":"IF('Data Collection Sheet'!I280=\"Bad\",(-0.8*$T277),0)","v":0},{"$f":"IF('Data Collection Sheet'!I280=\"Fair\",(-0.5*$T277),0)","v":0},{"$f":"IF('Data Collection Sheet'!I280=\"Good\",(-0.2*$T277),0)","v":0},{"$f":"IF('Data Collection Sheet'!I280=\"Great\",0,0)","v":0},null,0,0,0,null,null,null,{"$f":"IF('Consequence of Failure'!F280=\"No\",1,0)","v":0},{"$f":"IF('Consequence of Failure'!G278=\"0%-25%\",0.5,0)","v":0},{"$f":"IF('Consequence of Failure'!G278=\"26%-50%\",1,0)","v":0},{"$f":"IF('Consequence of Failure'!G278=\"51%-75%\",1.5,0)","v":0},{"$f":"IF('Consequence of Failure'!G278=\"76%-100%\",2,0)","v":0},{"$f":"IF('Consequence of Failure'!H278=\"Yes\",1,0)","v":0},{"$f":"IF('Consequence of Failure'!I278=\"Yes\",1,0)","v":0},null,0,null,{"$f":"IF('Consequence of Failure'!K278=\"Yes\",1,0)","v":0},{"$f":"IF('Consequence of Failure'!L278=\"Above\",2,0)","v":0},{"$f":"IF('Consequence of Failure'!L278=\"At\",1,0)","v":0},{"$f":"IF('Consequence of Failure'!L278=\"Below\",0,0)","v":0},{"$f":"IF('Consequence of Failure'!M278=\"Yes\",1,0)","v":0},{"$f":"IF('Consequence of Failure'!N278=\"Yes\",1,0)","v":0},null,0,null,0]
[{"$f":"IF('Data Collection Sheet'!B281=\"Pump\",15,0)","v":0},{"$f":"IF('Data Collection Sheet'!B281=\"Hydrant\",50,0)","v":0},{"$f":"IF('Data Collection Sheet'!B281=\"Meter\",15,0)","v":0},{"$f":"IF('Data Collection Sheet'!B281=\"Pipe\",80,0)","v":0},{"$f":"IF('Data Collection Sheet'!B281=\"Source\",50,0)","v":0},{"$f":"IF('Data Collection Sheet'!B281=\"Tank\",50,0)","v":0},{"$f":"IF('Data Collection Sheet'!B281=\"Analytical\",10,0)","v":0},{"$f":"IF('Data Collection Sheet'!B281=\"Treatment\",20,0)","v":0},{"$f":"IF('Data Collection Sheet'!B281=\"Valve\",20,0)","v":0},{"$f":"IF('Data Collection Sheet'!B281=\"Control\",15,0)","v":0},{"$f":"IF('Data Collection Sheet'!B281=\"Safety\",10,0)","v":0},{"$f":"IF('Data Collection Sheet'!B281=\"Building\",50,0)","v":0},{"$f":"IF('Data Collection Sheet'!B281=\"Vehicle\",8,0)","v":0},{"$f":"IF('Data Collection Sheet'!B281=\"Other\",15,0)","v":0},{"$f":"IF('Data Collection Sheet'!I281=\"Bad\",(-0.8*$T278),0)","v":0},{"$f":"IF('Data Collection Sheet'!I281=\"Fair\",(-0.5*$T278),0)","v":0},{"$f":"IF('Data Collection Sheet'!I281=\"Good\",(-0.2*$T278),0)","v":0},{"$f":"IF('Data Collection Sheet'!I281=\"Great\",0,0)","v":0},null,0,0,0,null,null,null,{"$f":"IF('Consequence of Failure'!F281=\"No\",1,0)","v":0},{"$f":"IF('Consequence of Failure'!G279=\"0%-25%\",0.5,0)","v":0},{"$f":"IF('Consequence of Failure'!G279=\"26%-50%\",1,0)","v":0},{"$f":"IF('Consequence of Failure'!G279=\"51%-75%\",1.5,0)","v":0},{"$f":"IF('Consequence of Failure'!G279=\"76%-100%\",2,0)","v":0},{"$f":"IF('Consequence of Failure'!H279=\"Yes\",1,0)","v":0},{"$f":"IF('Consequence of Failure'!I279=\"Yes\",1,0)","v":0},null,0,null,{"$f":"IF('Consequence of Failure'!K279=\"Yes\",1,0)","v":0},{"$f":"IF('Consequence of Failure'!L279=\"Above\",2,0)","v":0},{"$f":"IF('Consequence of Failure'!L279=\"At\",1,0)","v":0},{"$f":"IF('Consequence of Failure'!L279=\"Below\",0,0)","v":0},{"$f":"IF('Consequence of Failure'!M279=\"Yes\",1,0)","v":0},{"$f":"IF('Consequence of Failure'!N279=\"Yes\",1,0)","v":0},null,0,null,0]
[{"$f":"IF('Data Collection Sheet'!B282=\"Pump\",15,0)","v":0},{"$f":"IF('Data Collection Sheet'!B282=\"Hydrant\",50,0)","v":0},{"$f":"IF('Data Collection Sheet'!B282=\"Meter\",15,0)","v":0},{"$f":"IF('Data Collection Sheet'!B282=\"Pipe\",80,0)","v":0},{"$f":"IF('Data Collection Sheet'!B282=\"Source\",50,0)","v":0},{"$f":"IF('Data Collection Sheet'!B282=\"Tank\",50,0)","v":0},{"$f":"IF('Data Collection Sheet'!B282=\"Analytical\",10,0)","v":0},{"$f":"IF('Data Collection Sheet'!B282=\"Treatment\",20,0)","v":0},{"$f":"IF('Data Collection Sheet'!B282=\"Valve\",20,0)","v":0},{"$f":"IF('Data Collection Sheet'!B282=\"Control\",15,0)","v":0},{"$f":"IF('Data Collection Sheet'!B282=\"Safety\",10,0)","v":0},{"$f":"IF('Data Collection Sheet'!B282=\"Building\",50,0)","v":0},{"$f":"IF('Data Collection Sheet'!B282=\"Vehicle\",8,0)","v":0},{"$f":"IF('Data Collection Sheet'!B282=\"Other\",15,0)","v":0},{"$f":"IF('Data Collection Sheet'!I282=\"Bad\",(-0.8*$T279),0)","v":0},{"$f":"IF('Data Collection Sheet'!I282=\"Fair\",(-0.5*$T279),0)","v":0},{"$f":"IF('Data Collection Sheet'!I282=\"Good\",(-0.2*$T279),0)","v":0},{"$f":"IF('Data Collection Sheet'!I282=\"Great\",0,0)","v":0},null,0,0,0,null,null,null,{"$f":"IF('Consequence of Failure'!F282=\"No\",1,0)","v":0},{"$f":"IF('Consequence of Failure'!G280=\"0%-25%\",0.5,0)","v":0},{"$f":"IF('Consequence of Failure'!G280=\"26%-50%\",1,0)","v":0},{"$f":"IF('Consequence of Failure'!G280=\"51%-75%\",1.5,0)","v":0},{"$f":"IF('Consequence of Failure'!G280=\"76%-100%\",2,0)","v":0},{"$f":"IF('Consequence of Failure'!H280=\"Yes\",1,0)","v":0},{"$f":"IF('Consequence of Failure'!I280=\"Yes\",1,0)","v":0},null,0,null,{"$f":"IF('Consequence of Failure'!K280=\"Yes\",1,0)","v":0},{"$f":"IF('Consequence of Failure'!L280=\"Above\",2,0)","v":0},{"$f":"IF('Consequence of Failure'!L280=\"At\",1,0)","v":0},{"$f":"IF('Consequence of Failure'!L280=\"Below\",0,0)","v":0},{"$f":"IF('Consequence of Failure'!M280=\"Yes\",1,0)","v":0},{"$f":"IF('Consequence of Failure'!N280=\"Yes\",1,0)","v":0},null,0,null,0]
[{"$f":"IF('Data Collection Sheet'!B283=\"Pump\",15,0)","v":0},{"$f":"IF('Data Collection Sheet'!B283=\"Hydrant\",50,0)","v":0},{"$f":"IF('Data Collection Sheet'!B283=\"Meter\",15,0)","v":0},{"$f":"IF('Data Collection Sheet'!B283=\"Pipe\",80,0)","v":0},{"$f":"IF('Data Collection Sheet'!B283=\"Source\",50,0)","v":0},{"$f":"IF('Data Collection Sheet'!B283=\"Tank\",50,0)","v":0},{"$f":"IF('Data Collection Sheet'!B283=\"Analytical\",10,0)","v":0},{"$f":"IF('Data Collection Sheet'!B283=\"Treatment\",20,0)","v":0},{"$f":"IF('Data Collection Sheet'!B283=\"Valve\",20,0)","v":0},{"$f":"IF('Data Collection Sheet'!B283=\"Control\",15,0)","v":0},{"$f":"IF('Data Collection Sheet'!B283=\"Safety\",10,0)","v":0},{"$f":"IF('Data Collection Sheet'!B283=\"Building\",50,0)","v":0},{"$f":"IF('Data Collection Sheet'!B283=\"Vehicle\",8,0)","v":0},{"$f":"IF('Data Collection Sheet'!B283=\"Other\",15,0)","v":0},{"$f":"IF('Data Collection Sheet'!I283=\"Bad\",(-0.8*$T280),0)","v":0},{"$f":"IF('Data Collection Sheet'!I283=\"Fair\",(-0.5*$T280),0)","v":0},{"$f":"IF('Data Collection Sheet'!I283=\"Good\",(-0.2*$T280),0)","v":0},{"$f":"IF('Data Collection Sheet'!I283=\"Great\",0,0)","v":0},null,0,0,0,null,null,null,{"$f":"IF('Consequence of Failure'!F283=\"No\",1,0)","v":0},{"$f":"IF('Consequence of Failure'!G281=\"0%-25%\",0.5,0)","v":0},{"$f":"IF('Consequence of Failure'!G281=\"26%-50%\",1,0)","v":0},{"$f":"IF('Consequence of Failure'!G281=\"51%-75%\",1.5,0)","v":0},{"$f":"IF('Consequence of Failure'!G281=\"76%-100%\",2,0)","v":0},{"$f":"IF('Consequence of Failure'!H281=\"Yes\",1,0)","v":0},{"$f":"IF('Consequence of Failure'!I281=\"Yes\",1,0)","v":0},null,0,null,{"$f":"IF('Consequence of Failure'!K281=\"Yes\",1,0)","v":0},{"$f":"IF('Consequence of Failure'!L281=\"Above\",2,0)","v":0},{"$f":"IF('Consequence of Failure'!L281=\"At\",1,0)","v":0},{"$f":"IF('Consequence of Failure'!L281=\"Below\",0,0)","v":0},{"$f":"IF('Consequence of Failure'!M281=\"Yes\",1,0)","v":0},{"$f":"IF('Consequence of Failure'!N281=\"Yes\",1,0)","v":0},null,0,null,0]
[{"$f":"IF('Data Collection Sheet'!B284=\"Pump\",15,0)","v":0},{"$f":"IF('Data Collection Sheet'!B284=\"Hydrant\",50,0)","v":0},{"$f":"IF('Data Collection Sheet'!B284=\"Meter\",15,0)","v":0},{"$f":"IF('Data Collection Sheet'!B284=\"Pipe\",80,0)","v":0},{"$f":"IF('Data Collection Sheet'!B284=\"Source\",50,0)","v":0},{"$f":"IF('Data Collection Sheet'!B284=\"Tank\",50,0)","v":0},{"$f":"IF('Data Collection Sheet'!B284=\"Analytical\",10,0)","v":0},{"$f":"IF('Data Collection Sheet'!B284=\"Treatment\",20,0)","v":0},{"$f":"IF('Data Collection Sheet'!B284=\"Valve\",20,0)","v":0},{"$f":"IF('Data Collection Sheet'!B284=\"Control\",15,0)","v":0},{"$f":"IF('Data Collection Sheet'!B284=\"Safety\",10,0)","v":0},{"$f":"IF('Data Collection Sheet'!B284=\"Building\",50,0)","v":0},{"$f":"IF('Data Collection Sheet'!B284=\"Vehicle\",8,0)","v":0},{"$f":"IF('Data Collection Sheet'!B284=\"Other\",15,0)","v":0},{"$f":"IF('Data Collection Sheet'!I284=\"Bad\",(-0.8*$T281),0)","v":0},{"$f":"IF('Data Collection Sheet'!I284=\"Fair\",(-0.5*$T281),0)","v":0},{"$f":"IF('Data Collection Sheet'!I284=\"Good\",(-0.2*$T281),0)","v":0},{"$f":"IF('Data Collection Sheet'!I284=\"Great\",0,0)","v":0},null,0,0,0,null,null,null,{"$f":"IF('Consequence of Failure'!F284=\"No\",1,0)","v":0},{"$f":"IF('Consequence of Failure'!G282=\"0%-25%\",0.5,0)","v":0},{"$f":"IF('Consequence of Failure'!G282=\"26%-50%\",1,0)","v":0},{"$f":"IF('Consequence of Failure'!G282=\"51%-75%\",1.5,0)","v":0},{"$f":"IF('Consequence of Failure'!G282=\"76%-100%\",2,0)","v":0},{"$f":"IF('Consequence of Failure'!H282=\"Yes\",1,0)","v":0},{"$f":"IF('Consequence of Failure'!I282=\"Yes\",1,0)","v":0},null,0,null,{"$f":"IF('Consequence of Failure'!K282=\"Yes\",1,0)","v":0},{"$f":"IF('Consequence of Failure'!L282=\"Above\",2,0)","v":0},{"$f":"IF('Consequence of Failure'!L282=\"At\",1,0)","v":0},{"$f":"IF('Consequence of Failure'!L282=\"Below\",0,0)","v":0},{"$f":"IF('Consequence of Failure'!M282=\"Yes\",1,0)","v":0},{"$f":"IF('Consequence of Failure'!N282=\"Yes\",1,0)","v":0},null,0,null,0]
[{"$f":"IF('Data Collection Sheet'!B285=\"Pump\",15,0)","v":0},{"$f":"IF('Data Collection Sheet'!B285=\"Hydrant\",50,0)","v":0},{"$f":"IF('Data Collection Sheet'!B285=\"Meter\",15,0)","v":0},{"$f":"IF('Data Collection Sheet'!B285=\"Pipe\",80,0)","v":0},{"$f":"IF('Data Collection Sheet'!B285=\"Source\",50,0)","v":0},{"$f":"IF('Data Collection Sheet'!B285=\"Tank\",50,0)","v":0},{"$f":"IF('Data Collection Sheet'!B285=\"Analytical\",10,0)","v":0},{"$f":"IF('Data Collection Sheet'!B285=\"Treatment\",20,0)","v":0},{"$f":"IF('Data Collection Sheet'!B285=\"Valve\",20,0)","v":0},{"$f":"IF('Data Collection Sheet'!B285=\"Control\",15,0)","v":0},{"$f":"IF('Data Collection Sheet'!B285=\"Safety\",10,0)","v":0},{"$f":"IF('Data Collection Sheet'!B285=\"Building\",50,0)","v":0},{"$f":"IF('Data Collection Sheet'!B285=\"Vehicle\",8,0)","v":0},{"$f":"IF('Data Collection Sheet'!B285=\"Other\",15,0)","v":0},{"$f":"IF('Data Collection Sheet'!I285=\"Bad\",(-0.8*$T282),0)","v":0},{"$f":"IF('Data Collection Sheet'!I285=\"Fair\",(-0.5*$T282),0)","v":0},{"$f":"IF('Data Collection Sheet'!I285=\"Good\",(-0.2*$T282),0)","v":0},{"$f":"IF('Data Collection Sheet'!I285=\"Great\",0,0)","v":0},null,0,0,0,null,null,null,{"$f":"IF('Consequence of Failure'!F285=\"No\",1,0)","v":0},{"$f":"IF('Consequence of Failure'!G283=\"0%-25%\",0.5,0)","v":0},{"$f":"IF('Consequence of Failure'!G283=\"26%-50%\",1,0)","v":0},{"$f":"IF('Consequence of Failure'!G283=\"51%-75%\",1.5,0)","v":0},{"$f":"IF('Consequence of Failure'!G283=\"76%-100%\",2,0)","v":0},{"$f":"IF('Consequence of Failure'!H283=\"Yes\",1,0)","v":0},{"$f":"IF('Consequence of Failure'!I283=\"Yes\",1,0)","v":0},null,0,null,{"$f":"IF('Consequence of Failure'!K283=\"Yes\",1,0)","v":0},{"$f":"IF('Consequence of Failure'!L283=\"Above\",2,0)","v":0},{"$f":"IF('Consequence of Failure'!L283=\"At\",1,0)","v":0},{"$f":"IF('Consequence of Failure'!L283=\"Below\",0,0)","v":0},{"$f":"IF('Consequence of Failure'!M283=\"Yes\",1,0)","v":0},{"$f":"IF('Consequence of Failure'!N283=\"Yes\",1,0)","v":0},null,0,null,0]
[{"$f":"IF('Data Collection Sheet'!B286=\"Pump\",15,0)","v":0},{"$f":"IF('Data Collection Sheet'!B286=\"Hydrant\",50,0)","v":0},{"$f":"IF('Data Collection Sheet'!B286=\"Meter\",15,0)","v":0},{"$f":"IF('Data Collection Sheet'!B286=\"Pipe\",80,0)","v":0},{"$f":"IF('Data Collection Sheet'!B286=\"Source\",50,0)","v":0},{"$f":"IF('Data Collection Sheet'!B286=\"Tank\",50,0)","v":0},{"$f":"IF('Data Collection Sheet'!B286=\"Analytical\",10,0)","v":0},{"$f":"IF('Data Collection Sheet'!B286=\"Treatment\",20,0)","v":0},{"$f":"IF('Data Collection Sheet'!B286=\"Valve\",20,0)","v":0},{"$f":"IF('Data Collection Sheet'!B286=\"Control\",15,0)","v":0},{"$f":"IF('Data Collection Sheet'!B286=\"Safety\",10,0)","v":0},{"$f":"IF('Data Collection Sheet'!B286=\"Building\",50,0)","v":0},{"$f":"IF('Data Collection Sheet'!B286=\"Vehicle\",8,0)","v":0},{"$f":"IF('Data Collection Sheet'!B286=\"Other\",15,0)","v":0},{"$f":"IF('Data Collection Sheet'!I286=\"Bad\",(-0.8*$T283),0)","v":0},{"$f":"IF('Data Collection Sheet'!I286=\"Fair\",(-0.5*$T283),0)","v":0},{"$f":"IF('Data Collection Sheet'!I286=\"Good\",(-0.2*$T283),0)","v":0},{"$f":"IF('Data Collection Sheet'!I286=\"Great\",0,0)","v":0},null,0,0,0,null,null,null,{"$f":"IF('Consequence of Failure'!F286=\"No\",1,0)","v":0},{"$f":"IF('Consequence of Failure'!G284=\"0%-25%\",0.5,0)","v":0},{"$f":"IF('Consequence of Failure'!G284=\"26%-50%\",1,0)","v":0},{"$f":"IF('Consequence of Failure'!G284=\"51%-75%\",1.5,0)","v":0},{"$f":"IF('Consequence of Failure'!G284=\"76%-100%\",2,0)","v":0},{"$f":"IF('Consequence of Failure'!H284=\"Yes\",1,0)","v":0},{"$f":"IF('Consequence of Failure'!I284=\"Yes\",1,0)","v":0},null,0,null,{"$f":"IF('Consequence of Failure'!K284=\"Yes\",1,0)","v":0},{"$f":"IF('Consequence of Failure'!L284=\"Above\",2,0)","v":0},{"$f":"IF('Consequence of Failure'!L284=\"At\",1,0)","v":0},{"$f":"IF('Consequence of Failure'!L284=\"Below\",0,0)","v":0},{"$f":"IF('Consequence of Failure'!M284=\"Yes\",1,0)","v":0},{"$f":"IF('Consequence of Failure'!N284=\"Yes\",1,0)","v":0},null,0,null,0]
[{"$f":"IF('Data Collection Sheet'!B287=\"Pump\",15,0)","v":0},{"$f":"IF('Data Collection Sheet'!B287=\"Hydrant\",50,0)","v":0},{"$f":"IF('Data Collection Sheet'!B287=\"Meter\",15,0)","v":0},{"$f":"IF('Data Collection Sheet'!B287=\"Pipe\",80,0)","v":0},{"$f":"IF('Data Collection Sheet'!B287=\"Source\",50,0)","v":0},{"$f":"IF('Data Collection Sheet'!B287=\"Tank\",50,0)","v":0},{"$f":"IF('Data Collection Sheet'!B287=\"Analytical\",10,0)","v":0},{"$f":"IF('Data Collection Sheet'!B287=\"Treatment\",20,0)","v":0},{"$f":"IF('Data Collection Sheet'!B287=\"Valve\",20,0)","v":0},{"$f":"IF('Data Collection Sheet'!B287=\"Control\",15,0)","v":0},{"$f":"IF('Data Collection Sheet'!B287=\"Safety\",10,0)","v":0},{"$f":"IF('Data Collection Sheet'!B287=\"Building\",50,0)","v":0},{"$f":"IF('Data Collection Sheet'!B287=\"Vehicle\",8,0)","v":0},{"$f":"IF('Data Collection Sheet'!B287=\"Other\",15,0)","v":0},{"$f":"IF('Data Collection Sheet'!I287=\"Bad\",(-0.8*$T284),0)","v":0},{"$f":"IF('Data Collection Sheet'!I287=\"Fair\",(-0.5*$T284),0)","v":0},{"$f":"IF('Data Collection Sheet'!I287=\"Good\",(-0.2*$T284),0)","v":0},{"$f":"IF('Data Collection Sheet'!I287=\"Great\",0,0)","v":0},null,0,0,0,null,null,null,{"$f":"IF('Consequence of Failure'!F287=\"No\",1,0)","v":0},{"$f":"IF('Consequence of Failure'!G285=\"0%-25%\",0.5,0)","v":0},{"$f":"IF('Consequence of Failure'!G285=\"26%-50%\",1,0)","v":0},{"$f":"IF('Consequence of Failure'!G285=\"51%-75%\",1.5,0)","v":0},{"$f":"IF('Consequence of Failure'!G285=\"76%-100%\",2,0)","v":0},{"$f":"IF('Consequence of Failure'!H285=\"Yes\",1,0)","v":0},{"$f":"IF('Consequence of Failure'!I285=\"Yes\",1,0)","v":0},null,0,null,{"$f":"IF('Consequence of Failure'!K285=\"Yes\",1,0)","v":0},{"$f":"IF('Consequence of Failure'!L285=\"Above\",2,0)","v":0},{"$f":"IF('Consequence of Failure'!L285=\"At\",1,0)","v":0},{"$f":"IF('Consequence of Failure'!L285=\"Below\",0,0)","v":0},{"$f":"IF('Consequence of Failure'!M285=\"Yes\",1,0)","v":0},{"$f":"IF('Consequence of Failure'!N285=\"Yes\",1,0)","v":0},null,0,null,0]
[{"$f":"IF('Data Collection Sheet'!B288=\"Pump\",15,0)","v":0},{"$f":"IF('Data Collection Sheet'!B288=\"Hydrant\",50,0)","v":0},{"$f":"IF('Data Collection Sheet'!B288=\"Meter\",15,0)","v":0},{"$f":"IF('Data Collection Sheet'!B288=\"Pipe\",80,0)","v":0},{"$f":"IF('Data Collection Sheet'!B288=\"Source\",50,0)","v":0},{"$f":"IF('Data Collection Sheet'!B288=\"Tank\",50,0)","v":0},{"$f":"IF('Data Collection Sheet'!B288=\"Analytical\",10,0)","v":0},{"$f":"IF('Data Collection Sheet'!B288=\"Treatment\",20,0)","v":0},{"$f":"IF('Data Collection Sheet'!B288=\"Valve\",20,0)","v":0},{"$f":"IF('Data Collection Sheet'!B288=\"Control\",15,0)","v":0},{"$f":"IF('Data Collection Sheet'!B288=\"Safety\",10,0)","v":0},{"$f":"IF('Data Collection Sheet'!B288=\"Building\",50,0)","v":0},{"$f":"IF('Data Collection Sheet'!B288=\"Vehicle\",8,0)","v":0},{"$f":"IF('Data Collection Sheet'!B288=\"Other\",15,0)","v":0},{"$f":"IF('Data Collection Sheet'!I288=\"Bad\",(-0.8*$T285),0)","v":0},{"$f":"IF('Data Collection Sheet'!I288=\"Fair\",(-0.5*$T285),0)","v":0},{"$f":"IF('Data Collection Sheet'!I288=\"Good\",(-0.2*$T285),0)","v":0},{"$f":"IF('Data Collection Sheet'!I288=\"Great\",0,0)","v":0},null,0,0,0,null,null,null,{"$f":"IF('Consequence of Failure'!F288=\"No\",1,0)","v":0},{"$f":"IF('Consequence of Failure'!G286=\"0%-25%\",0.5,0)","v":0},{"$f":"IF('Consequence of Failure'!G286=\"26%-50%\",1,0)","v":0},{"$f":"IF('Consequence of Failure'!G286=\"51%-75%\",1.5,0)","v":0},{"$f":"IF('Consequence of Failure'!G286=\"76%-100%\",2,0)","v":0},{"$f":"IF('Consequence of Failure'!H286=\"Yes\",1,0)","v":0},{"$f":"IF('Consequence of Failure'!I286=\"Yes\",1,0)","v":0},null,0,null,{"$f":"IF('Consequence of Failure'!K286=\"Yes\",1,0)","v":0},{"$f":"IF('Consequence of Failure'!L286=\"Above\",2,0)","v":0},{"$f":"IF('Consequence of Failure'!L286=\"At\",1,0)","v":0},{"$f":"IF('Consequence of Failure'!L286=\"Below\",0,0)","v":0},{"$f":"IF('Consequence of Failure'!M286=\"Yes\",1,0)","v":0},{"$f":"IF('Consequence of Failure'!N286=\"Yes\",1,0)","v":0},null,0,null,0]
[{"$f":"IF('Data Collection Sheet'!B289=\"Pump\",15,0)","v":0},{"$f":"IF('Data Collection Sheet'!B289=\"Hydrant\",50,0)","v":0},{"$f":"IF('Data Collection Sheet'!B289=\"Meter\",15,0)","v":0},{"$f":"IF('Data Collection Sheet'!B289=\"Pipe\",80,0)","v":0},{"$f":"IF('Data Collection Sheet'!B289=\"Source\",50,0)","v":0},{"$f":"IF('Data Collection Sheet'!B289=\"Tank\",50,0)","v":0},{"$f":"IF('Data Collection Sheet'!B289=\"Analytical\",10,0)","v":0},{"$f":"IF('Data Collection Sheet'!B289=\"Treatment\",20,0)","v":0},{"$f":"IF('Data Collection Sheet'!B289=\"Valve\",20,0)","v":0},{"$f":"IF('Data Collection Sheet'!B289=\"Control\",15,0)","v":0},{"$f":"IF('Data Collection Sheet'!B289=\"Safety\",10,0)","v":0},{"$f":"IF('Data Collection Sheet'!B289=\"Building\",50,0)","v":0},{"$f":"IF('Data Collection Sheet'!B289=\"Vehicle\",8,0)","v":0},{"$f":"IF('Data Collection Sheet'!B289=\"Other\",15,0)","v":0},{"$f":"IF('Data Collection Sheet'!I289=\"Bad\",(-0.8*$T286),0)","v":0},{"$f":"IF('Data Collection Sheet'!I289=\"Fair\",(-0.5*$T286),0)","v":0},{"$f":"IF('Data Collection Sheet'!I289=\"Good\",(-0.2*$T286),0)","v":0},{"$f":"IF('Data Collection Sheet'!I289=\"Great\",0,0)","v":0},null,0,0,0,null,null,null,{"$f":"IF('Consequence of Failure'!F289=\"No\",1,0)","v":0},{"$f":"IF('Consequence of Failure'!G287=\"0%-25%\",0.5,0)","v":0},{"$f":"IF('Consequence of Failure'!G287=\"26%-50%\",1,0)","v":0},{"$f":"IF('Consequence of Failure'!G287=\"51%-75%\",1.5,0)","v":0},{"$f":"IF('Consequence of Failure'!G287=\"76%-100%\",2,0)","v":0},{"$f":"IF('Consequence of Failure'!H287=\"Yes\",1,0)","v":0},{"$f":"IF('Consequence of Failure'!I287=\"Yes\",1,0)","v":0},null,0,null,{"$f":"IF('Consequence of Failure'!K287=\"Yes\",1,0)","v":0},{"$f":"IF('Consequence of Failure'!L287=\"Above\",2,0)","v":0},{"$f":"IF('Consequence of Failure'!L287=\"At\",1,0)","v":0},{"$f":"IF('Consequence of Failure'!L287=\"Below\",0,0)","v":0},{"$f":"IF('Consequence of Failure'!M287=\"Yes\",1,0)","v":0},{"$f":"IF('Consequence of Failure'!N287=\"Yes\",1,0)","v":0},null,0,null,0]
[{"$f":"IF('Data Collection Sheet'!B290=\"Pump\",15,0)","v":0},{"$f":"IF('Data Collection Sheet'!B290=\"Hydrant\",50,0)","v":0},{"$f":"IF('Data Collection Sheet'!B290=\"Meter\",15,0)","v":0},{"$f":"IF('Data Collection Sheet'!B290=\"Pipe\",80,0)","v":0},{"$f":"IF('Data Collection Sheet'!B290=\"Source\",50,0)","v":0},{"$f":"IF('Data Collection Sheet'!B290=\"Tank\",50,0)","v":0},{"$f":"IF('Data Collection Sheet'!B290=\"Analytical\",10,0)","v":0},{"$f":"IF('Data Collection Sheet'!B290=\"Treatment\",20,0)","v":0},{"$f":"IF('Data Collection Sheet'!B290=\"Valve\",20,0)","v":0},{"$f":"IF('Data Collection Sheet'!B290=\"Control\",15,0)","v":0},{"$f":"IF('Data Collection Sheet'!B290=\"Safety\",10,0)","v":0},{"$f":"IF('Data Collection Sheet'!B290=\"Building\",50,0)","v":0},{"$f":"IF('Data Collection Sheet'!B290=\"Vehicle\",8,0)","v":0},{"$f":"IF('Data Collection Sheet'!B290=\"Other\",15,0)","v":0},{"$f":"IF('Data Collection Sheet'!I290=\"Bad\",(-0.8*$T287),0)","v":0},{"$f":"IF('Data Collection Sheet'!I290=\"Fair\",(-0.5*$T287),0)","v":0},{"$f":"IF('Data Collection Sheet'!I290=\"Good\",(-0.2*$T287),0)","v":0},{"$f":"IF('Data Collection Sheet'!I290=\"Great\",0,0)","v":0},null,0,0,0,null,null,null,{"$f":"IF('Consequence of Failure'!F290=\"No\",1,0)","v":0},{"$f":"IF('Consequence of Failure'!G288=\"0%-25%\",0.5,0)","v":0},{"$f":"IF('Consequence of Failure'!G288=\"26%-50%\",1,0)","v":0},{"$f":"IF('Consequence of Failure'!G288=\"51%-75%\",1.5,0)","v":0},{"$f":"IF('Consequence of Failure'!G288=\"76%-100%\",2,0)","v":0},{"$f":"IF('Consequence of Failure'!H288=\"Yes\",1,0)","v":0},{"$f":"IF('Consequence of Failure'!I288=\"Yes\",1,0)","v":0},null,0,null,{"$f":"IF('Consequence of Failure'!K288=\"Yes\",1,0)","v":0},{"$f":"IF('Consequence of Failure'!L288=\"Above\",2,0)","v":0},{"$f":"IF('Consequence of Failure'!L288=\"At\",1,0)","v":0},{"$f":"IF('Consequence of Failure'!L288=\"Below\",0,0)","v":0},{"$f":"IF('Consequence of Failure'!M288=\"Yes\",1,0)","v":0},{"$f":"IF('Consequence of Failure'!N288=\"Yes\",1,0)","v":0},null,0,null,0]
[{"$f":"IF('Data Collection Sheet'!B291=\"Pump\",15,0)","v":0},{"$f":"IF('Data Collection Sheet'!B291=\"Hydrant\",50,0)","v":0},{"$f":"IF('Data Collection Sheet'!B291=\"Meter\",15,0)","v":0},{"$f":"IF('Data Collection Sheet'!B291=\"Pipe\",80,0)","v":0},{"$f":"IF('Data Collection Sheet'!B291=\"Source\",50,0)","v":0},{"$f":"IF('Data Collection Sheet'!B291=\"Tank\",50,0)","v":0},{"$f":"IF('Data Collection Sheet'!B291=\"Analytical\",10,0)","v":0},{"$f":"IF('Data Collection Sheet'!B291=\"Treatment\",20,0)","v":0},{"$f":"IF('Data Collection Sheet'!B291=\"Valve\",20,0)","v":0},{"$f":"IF('Data Collection Sheet'!B291=\"Control\",15,0)","v":0},{"$f":"IF('Data Collection Sheet'!B291=\"Safety\",10,0)","v":0},{"$f":"IF('Data Collection Sheet'!B291=\"Building\",50,0)","v":0},{"$f":"IF('Data Collection Sheet'!B291=\"Vehicle\",8,0)","v":0},{"$f":"IF('Data Collection Sheet'!B291=\"Other\",15,0)","v":0},{"$f":"IF('Data Collection Sheet'!I291=\"Bad\",(-0.8*$T288),0)","v":0},{"$f":"IF('Data Collection Sheet'!I291=\"Fair\",(-0.5*$T288),0)","v":0},{"$f":"IF('Data Collection Sheet'!I291=\"Good\",(-0.2*$T288),0)","v":0},{"$f":"IF('Data Collection Sheet'!I291=\"Great\",0,0)","v":0},null,0,0,0,null,null,null,{"$f":"IF('Consequence of Failure'!F291=\"No\",1,0)","v":0},{"$f":"IF('Consequence of Failure'!G289=\"0%-25%\",0.5,0)","v":0},{"$f":"IF('Consequence of Failure'!G289=\"26%-50%\",1,0)","v":0},{"$f":"IF('Consequence of Failure'!G289=\"51%-75%\",1.5,0)","v":0},{"$f":"IF('Consequence of Failure'!G289=\"76%-100%\",2,0)","v":0},{"$f":"IF('Consequence of Failure'!H289=\"Yes\",1,0)","v":0},{"$f":"IF('Consequence of Failure'!I289=\"Yes\",1,0)","v":0},null,0,null,{"$f":"IF('Consequence of Failure'!K289=\"Yes\",1,0)","v":0},{"$f":"IF('Consequence of Failure'!L289=\"Above\",2,0)","v":0},{"$f":"IF('Consequence of Failure'!L289=\"At\",1,0)","v":0},{"$f":"IF('Consequence of Failure'!L289=\"Below\",0,0)","v":0},{"$f":"IF('Consequence of Failure'!M289=\"Yes\",1,0)","v":0},{"$f":"IF('Consequence of Failure'!N289=\"Yes\",1,0)","v":0},null,0,null,0]
[{"$f":"IF('Data Collection Sheet'!B292=\"Pump\",15,0)","v":0},{"$f":"IF('Data Collection Sheet'!B292=\"Hydrant\",50,0)","v":0},{"$f":"IF('Data Collection Sheet'!B292=\"Meter\",15,0)","v":0},{"$f":"IF('Data Collection Sheet'!B292=\"Pipe\",80,0)","v":0},{"$f":"IF('Data Collection Sheet'!B292=\"Source\",50,0)","v":0},{"$f":"IF('Data Collection Sheet'!B292=\"Tank\",50,0)","v":0},{"$f":"IF('Data Collection Sheet'!B292=\"Analytical\",10,0)","v":0},{"$f":"IF('Data Collection Sheet'!B292=\"Treatment\",20,0)","v":0},{"$f":"IF('Data Collection Sheet'!B292=\"Valve\",20,0)","v":0},{"$f":"IF('Data Collection Sheet'!B292=\"Control\",15,0)","v":0},{"$f":"IF('Data Collection Sheet'!B292=\"Safety\",10,0)","v":0},{"$f":"IF('Data Collection Sheet'!B292=\"Building\",50,0)","v":0},{"$f":"IF('Data Collection Sheet'!B292=\"Vehicle\",8,0)","v":0},{"$f":"IF('Data Collection Sheet'!B292=\"Other\",15,0)","v":0},{"$f":"IF('Data Collection Sheet'!I292=\"Bad\",(-0.8*$T289),0)","v":0},{"$f":"IF('Data Collection Sheet'!I292=\"Fair\",(-0.5*$T289),0)","v":0},{"$f":"IF('Data Collection Sheet'!I292=\"Good\",(-0.2*$T289),0)","v":0},{"$f":"IF('Data Collection Sheet'!I292=\"Great\",0,0)","v":0},null,0,0,0,null,null,null,{"$f":"IF('Consequence of Failure'!F292=\"No\",1,0)","v":0},{"$f":"IF('Consequence of Failure'!G290=\"0%-25%\",0.5,0)","v":0},{"$f":"IF('Consequence of Failure'!G290=\"26%-50%\",1,0)","v":0},{"$f":"IF('Consequence of Failure'!G290=\"51%-75%\",1.5,0)","v":0},{"$f":"IF('Consequence of Failure'!G290=\"76%-100%\",2,0)","v":0},{"$f":"IF('Consequence of Failure'!H290=\"Yes\",1,0)","v":0},{"$f":"IF('Consequence of Failure'!I290=\"Yes\",1,0)","v":0},null,0,null,{"$f":"IF('Consequence of Failure'!K290=\"Yes\",1,0)","v":0},{"$f":"IF('Consequence of Failure'!L290=\"Above\",2,0)","v":0},{"$f":"IF('Consequence of Failure'!L290=\"At\",1,0)","v":0},{"$f":"IF('Consequence of Failure'!L290=\"Below\",0,0)","v":0},{"$f":"IF('Consequence of Failure'!M290=\"Yes\",1,0)","v":0},{"$f":"IF('Consequence of Failure'!N290=\"Yes\",1,0)","v":0},null,0,null,0]
[{"$f":"IF('Data Collection Sheet'!B293=\"Pump\",15,0)","v":0},{"$f":"IF('Data Collection Sheet'!B293=\"Hydrant\",50,0)","v":0},{"$f":"IF('Data Collection Sheet'!B293=\"Meter\",15,0)","v":0},{"$f":"IF('Data Collection Sheet'!B293=\"Pipe\",80,0)","v":0},{"$f":"IF('Data Collection Sheet'!B293=\"Source\",50,0)","v":0},{"$f":"IF('Data Collection Sheet'!B293=\"Tank\",50,0)","v":0},{"$f":"IF('Data Collection Sheet'!B293=\"Analytical\",10,0)","v":0},{"$f":"IF('Data Collection Sheet'!B293=\"Treatment\",20,0)","v":0},{"$f":"IF('Data Collection Sheet'!B293=\"Valve\",20,0)","v":0},{"$f":"IF('Data Collection Sheet'!B293=\"Control\",15,0)","v":0},{"$f":"IF('Data Collection Sheet'!B293=\"Safety\",10,0)","v":0},{"$f":"IF('Data Collection Sheet'!B293=\"Building\",50,0)","v":0},{"$f":"IF('Data Collection Sheet'!B293=\"Vehicle\",8,0)","v":0},{"$f":"IF('Data Collection Sheet'!B293=\"Other\",15,0)","v":0},{"$f":"IF('Data Collection Sheet'!I293=\"Bad\",(-0.8*$T290),0)","v":0},{"$f":"IF('Data Collection Sheet'!I293=\"Fair\",(-0.5*$T290),0)","v":0},{"$f":"IF('Data Collection Sheet'!I293=\"Good\",(-0.2*$T290),0)","v":0},{"$f":"IF('Data Collection Sheet'!I293=\"Great\",0,0)","v":0},null,0,0,0,null,null,null,{"$f":"IF('Consequence of Failure'!F293=\"No\",1,0)","v":0},{"$f":"IF('Consequence of Failure'!G291=\"0%-25%\",0.5,0)","v":0},{"$f":"IF('Consequence of Failure'!G291=\"26%-50%\",1,0)","v":0},{"$f":"IF('Consequence of Failure'!G291=\"51%-75%\",1.5,0)","v":0},{"$f":"IF('Consequence of Failure'!G291=\"76%-100%\",2,0)","v":0},{"$f":"IF('Consequence of Failure'!H291=\"Yes\",1,0)","v":0},{"$f":"IF('Consequence of Failure'!I291=\"Yes\",1,0)","v":0},null,0,null,{"$f":"IF('Consequence of Failure'!K291=\"Yes\",1,0)","v":0},{"$f":"IF('Consequence of Failure'!L291=\"Above\",2,0)","v":0},{"$f":"IF('Consequence of Failure'!L291=\"At\",1,0)","v":0},{"$f":"IF('Consequence of Failure'!L291=\"Below\",0,0)","v":0},{"$f":"IF('Consequence of Failure'!M291=\"Yes\",1,0)","v":0},{"$f":"IF('Consequence of Failure'!N291=\"Yes\",1,0)","v":0},null,0,null,0]
[{"$f":"IF('Data Collection Sheet'!B294=\"Pump\",15,0)","v":0},{"$f":"IF('Data Collection Sheet'!B294=\"Hydrant\",50,0)","v":0},{"$f":"IF('Data Collection Sheet'!B294=\"Meter\",15,0)","v":0},{"$f":"IF('Data Collection Sheet'!B294=\"Pipe\",80,0)","v":0},{"$f":"IF('Data Collection Sheet'!B294=\"Source\",50,0)","v":0},{"$f":"IF('Data Collection Sheet'!B294=\"Tank\",50,0)","v":0},{"$f":"IF('Data Collection Sheet'!B294=\"Analytical\",10,0)","v":0},{"$f":"IF('Data Collection Sheet'!B294=\"Treatment\",20,0)","v":0},{"$f":"IF('Data Collection Sheet'!B294=\"Valve\",20,0)","v":0},{"$f":"IF('Data Collection Sheet'!B294=\"Control\",15,0)","v":0},{"$f":"IF('Data Collection Sheet'!B294=\"Safety\",10,0)","v":0},{"$f":"IF('Data Collection Sheet'!B294=\"Building\",50,0)","v":0},{"$f":"IF('Data Collection Sheet'!B294=\"Vehicle\",8,0)","v":0},{"$f":"IF('Data Collection Sheet'!B294=\"Other\",15,0)","v":0},{"$f":"IF('Data Collection Sheet'!I294=\"Bad\",(-0.8*$T291),0)","v":0},{"$f":"IF('Data Collection Sheet'!I294=\"Fair\",(-0.5*$T291),0)","v":0},{"$f":"IF('Data Collection Sheet'!I294=\"Good\",(-0.2*$T291),0)","v":0},{"$f":"IF('Data Collection Sheet'!I294=\"Great\",0,0)","v":0},null,0,0,0,null,null,null,{"$f":"IF('Consequence of Failure'!F294=\"No\",1,0)","v":0},{"$f":"IF('Consequence of Failure'!G292=\"0%-25%\",0.5,0)","v":0},{"$f":"IF('Consequence of Failure'!G292=\"26%-50%\",1,0)","v":0},{"$f":"IF('Consequence of Failure'!G292=\"51%-75%\",1.5,0)","v":0},{"$f":"IF('Consequence of Failure'!G292=\"76%-100%\",2,0)","v":0},{"$f":"IF('Consequence of Failure'!H292=\"Yes\",1,0)","v":0},{"$f":"IF('Consequence of Failure'!I292=\"Yes\",1,0)","v":0},null,0,null,{"$f":"IF('Consequence of Failure'!K292=\"Yes\",1,0)","v":0},{"$f":"IF('Consequence of Failure'!L292=\"Above\",2,0)","v":0},{"$f":"IF('Consequence of Failure'!L292=\"At\",1,0)","v":0},{"$f":"IF('Consequence of Failure'!L292=\"Below\",0,0)","v":0},{"$f":"IF('Consequence of Failure'!M292=\"Yes\",1,0)","v":0},{"$f":"IF('Consequence of Failure'!N292=\"Yes\",1,0)","v":0},null,0,null,0]
[{"$f":"IF('Data Collection Sheet'!B295=\"Pump\",15,0)","v":0},{"$f":"IF('Data Collection Sheet'!B295=\"Hydrant\",50,0)","v":0},{"$f":"IF('Data Collection Sheet'!B295=\"Meter\",15,0)","v":0},{"$f":"IF('Data Collection Sheet'!B295=\"Pipe\",80,0)","v":0},{"$f":"IF('Data Collection Sheet'!B295=\"Source\",50,0)","v":0},{"$f":"IF('Data Collection Sheet'!B295=\"Tank\",50,0)","v":0},{"$f":"IF('Data Collection Sheet'!B295=\"Analytical\",10,0)","v":0},{"$f":"IF('Data Collection Sheet'!B295=\"Treatment\",20,0)","v":0},{"$f":"IF('Data Collection Sheet'!B295=\"Valve\",20,0)","v":0},{"$f":"IF('Data Collection Sheet'!B295=\"Control\",15,0)","v":0},{"$f":"IF('Data Collection Sheet'!B295=\"Safety\",10,0)","v":0},{"$f":"IF('Data Collection Sheet'!B295=\"Building\",50,0)","v":0},{"$f":"IF('Data Collection Sheet'!B295=\"Vehicle\",8,0)","v":0},{"$f":"IF('Data Collection Sheet'!B295=\"Other\",15,0)","v":0},{"$f":"IF('Data Collection Sheet'!I295=\"Bad\",(-0.8*$T292),0)","v":0},{"$f":"IF('Data Collection Sheet'!I295=\"Fair\",(-0.5*$T292),0)","v":0},{"$f":"IF('Data Collection Sheet'!I295=\"Good\",(-0.2*$T292),0)","v":0},{"$f":"IF('Data Collection Sheet'!I295=\"Great\",0,0)","v":0},null,0,0,0,null,null,null,{"$f":"IF('Consequence of Failure'!F295=\"No\",1,0)","v":0},{"$f":"IF('Consequence of Failure'!G293=\"0%-25%\",0.5,0)","v":0},{"$f":"IF('Consequence of Failure'!G293=\"26%-50%\",1,0)","v":0},{"$f":"IF('Consequence of Failure'!G293=\"51%-75%\",1.5,0)","v":0},{"$f":"IF('Consequence of Failure'!G293=\"76%-100%\",2,0)","v":0},{"$f":"IF('Consequence of Failure'!H293=\"Yes\",1,0)","v":0},{"$f":"IF('Consequence of Failure'!I293=\"Yes\",1,0)","v":0},null,0,null,{"$f":"IF('Consequence of Failure'!K293=\"Yes\",1,0)","v":0},{"$f":"IF('Consequence of Failure'!L293=\"Above\",2,0)","v":0},{"$f":"IF('Consequence of Failure'!L293=\"At\",1,0)","v":0},{"$f":"IF('Consequence of Failure'!L293=\"Below\",0,0)","v":0},{"$f":"IF('Consequence of Failure'!M293=\"Yes\",1,0)","v":0},{"$f":"IF('Consequence of Failure'!N293=\"Yes\",1,0)","v":0},null,0,null,0]
[{"$f":"IF('Data Collection Sheet'!B296=\"Pump\",15,0)","v":0},{"$f":"IF('Data Collection Sheet'!B296=\"Hydrant\",50,0)","v":0},{"$f":"IF('Data Collection Sheet'!B296=\"Meter\",15,0)","v":0},{"$f":"IF('Data Collection Sheet'!B296=\"Pipe\",80,0)","v":0},{"$f":"IF('Data Collection Sheet'!B296=\"Source\",50,0)","v":0},{"$f":"IF('Data Collection Sheet'!B296=\"Tank\",50,0)","v":0},{"$f":"IF('Data Collection Sheet'!B296=\"Analytical\",10,0)","v":0},{"$f":"IF('Data Collection Sheet'!B296=\"Treatment\",20,0)","v":0},{"$f":"IF('Data Collection Sheet'!B296=\"Valve\",20,0)","v":0},{"$f":"IF('Data Collection Sheet'!B296=\"Control\",15,0)","v":0},{"$f":"IF('Data Collection Sheet'!B296=\"Safety\",10,0)","v":0},{"$f":"IF('Data Collection Sheet'!B296=\"Building\",50,0)","v":0},{"$f":"IF('Data Collection Sheet'!B296=\"Vehicle\",8,0)","v":0},{"$f":"IF('Data Collection Sheet'!B296=\"Other\",15,0)","v":0},{"$f":"IF('Data Collection Sheet'!I296=\"Bad\",(-0.8*$T293),0)","v":0},{"$f":"IF('Data Collection Sheet'!I296=\"Fair\",(-0.5*$T293),0)","v":0},{"$f":"IF('Data Collection Sheet'!I296=\"Good\",(-0.2*$T293),0)","v":0},{"$f":"IF('Data Collection Sheet'!I296=\"Great\",0,0)","v":0},null,0,0,0,null,null,null,{"$f":"IF('Consequence of Failure'!F296=\"No\",1,0)","v":0},{"$f":"IF('Consequence of Failure'!G294=\"0%-25%\",0.5,0)","v":0},{"$f":"IF('Consequence of Failure'!G294=\"26%-50%\",1,0)","v":0},{"$f":"IF('Consequence of Failure'!G294=\"51%-75%\",1.5,0)","v":0},{"$f":"IF('Consequence of Failure'!G294=\"76%-100%\",2,0)","v":0},{"$f":"IF('Consequence of Failure'!H294=\"Yes\",1,0)","v":0},{"$f":"IF('Consequence of Failure'!I294=\"Yes\",1,0)","v":0},null,0,null,{"$f":"IF('Consequence of Failure'!K294=\"Yes\",1,0)","v":0},{"$f":"IF('Consequence of Failure'!L294=\"Above\",2,0)","v":0},{"$f":"IF('Consequence of Failure'!L294=\"At\",1,0)","v":0},{"$f":"IF('Consequence of Failure'!L294=\"Below\",0,0)","v":0},{"$f":"IF('Consequence of Failure'!M294=\"Yes\",1,0)","v":0},{"$f":"IF('Consequence of Failure'!N294=\"Yes\",1,0)","v":0},null,0,null,0]
[{"$f":"IF('Data Collection Sheet'!B297=\"Pump\",15,0)","v":0},{"$f":"IF('Data Collection Sheet'!B297=\"Hydrant\",50,0)","v":0},{"$f":"IF('Data Collection Sheet'!B297=\"Meter\",15,0)","v":0},{"$f":"IF('Data Collection Sheet'!B297=\"Pipe\",80,0)","v":0},{"$f":"IF('Data Collection Sheet'!B297=\"Source\",50,0)","v":0},{"$f":"IF('Data Collection Sheet'!B297=\"Tank\",50,0)","v":0},{"$f":"IF('Data Collection Sheet'!B297=\"Analytical\",10,0)","v":0},{"$f":"IF('Data Collection Sheet'!B297=\"Treatment\",20,0)","v":0},{"$f":"IF('Data Collection Sheet'!B297=\"Valve\",20,0)","v":0},{"$f":"IF('Data Collection Sheet'!B297=\"Control\",15,0)","v":0},{"$f":"IF('Data Collection Sheet'!B297=\"Safety\",10,0)","v":0},{"$f":"IF('Data Collection Sheet'!B297=\"Building\",50,0)","v":0},{"$f":"IF('Data Collection Sheet'!B297=\"Vehicle\",8,0)","v":0},{"$f":"IF('Data Collection Sheet'!B297=\"Other\",15,0)","v":0},{"$f":"IF('Data Collection Sheet'!I297=\"Bad\",(-0.8*$T294),0)","v":0},{"$f":"IF('Data Collection Sheet'!I297=\"Fair\",(-0.5*$T294),0)","v":0},{"$f":"IF('Data Collection Sheet'!I297=\"Good\",(-0.2*$T294),0)","v":0},{"$f":"IF('Data Collection Sheet'!I297=\"Great\",0,0)","v":0},null,0,0,0,null,null,null,{"$f":"IF('Consequence of Failure'!F297=\"No\",1,0)","v":0},{"$f":"IF('Consequence of Failure'!G295=\"0%-25%\",0.5,0)","v":0},{"$f":"IF('Consequence of Failure'!G295=\"26%-50%\",1,0)","v":0},{"$f":"IF('Consequence of Failure'!G295=\"51%-75%\",1.5,0)","v":0},{"$f":"IF('Consequence of Failure'!G295=\"76%-100%\",2,0)","v":0},{"$f":"IF('Consequence of Failure'!H295=\"Yes\",1,0)","v":0},{"$f":"IF('Consequence of Failure'!I295=\"Yes\",1,0)","v":0},null,0,null,{"$f":"IF('Consequence of Failure'!K295=\"Yes\",1,0)","v":0},{"$f":"IF('Consequence of Failure'!L295=\"Above\",2,0)","v":0},{"$f":"IF('Consequence of Failure'!L295=\"At\",1,0)","v":0},{"$f":"IF('Consequence of Failure'!L295=\"Below\",0,0)","v":0},{"$f":"IF('Consequence of Failure'!M295=\"Yes\",1,0)","v":0},{"$f":"IF('Consequence of Failure'!N295=\"Yes\",1,0)","v":0},null,0,null,0]
[{"$f":"IF('Data Collection Sheet'!B298=\"Pump\",15,0)","v":0},{"$f":"IF('Data Collection Sheet'!B298=\"Hydrant\",50,0)","v":0},{"$f":"IF('Data Collection Sheet'!B298=\"Meter\",15,0)","v":0},{"$f":"IF('Data Collection Sheet'!B298=\"Pipe\",80,0)","v":0},{"$f":"IF('Data Collection Sheet'!B298=\"Source\",50,0)","v":0},{"$f":"IF('Data Collection Sheet'!B298=\"Tank\",50,0)","v":0},{"$f":"IF('Data Collection Sheet'!B298=\"Analytical\",10,0)","v":0},{"$f":"IF('Data Collection Sheet'!B298=\"Treatment\",20,0)","v":0},{"$f":"IF('Data Collection Sheet'!B298=\"Valve\",20,0)","v":0},{"$f":"IF('Data Collection Sheet'!B298=\"Control\",15,0)","v":0},{"$f":"IF('Data Collection Sheet'!B298=\"Safety\",10,0)","v":0},{"$f":"IF('Data Collection Sheet'!B298=\"Building\",50,0)","v":0},{"$f":"IF('Data Collection Sheet'!B298=\"Vehicle\",8,0)","v":0},{"$f":"IF('Data Collection Sheet'!B298=\"Other\",15,0)","v":0},{"$f":"IF('Data Collection Sheet'!I298=\"Bad\",(-0.8*$T295),0)","v":0},{"$f":"IF('Data Collection Sheet'!I298=\"Fair\",(-0.5*$T295),0)","v":0},{"$f":"IF('Data Collection Sheet'!I298=\"Good\",(-0.2*$T295),0)","v":0},{"$f":"IF('Data Collection Sheet'!I298=\"Great\",0,0)","v":0},null,0,0,0,null,null,null,{"$f":"IF('Consequence of Failure'!F298=\"No\",1,0)","v":0},{"$f":"IF('Consequence of Failure'!G296=\"0%-25%\",0.5,0)","v":0},{"$f":"IF('Consequence of Failure'!G296=\"26%-50%\",1,0)","v":0},{"$f":"IF('Consequence of Failure'!G296=\"51%-75%\",1.5,0)","v":0},{"$f":"IF('Consequence of Failure'!G296=\"76%-100%\",2,0)","v":0},{"$f":"IF('Consequence of Failure'!H296=\"Yes\",1,0)","v":0},{"$f":"IF('Consequence of Failure'!I296=\"Yes\",1,0)","v":0},null,0,null,{"$f":"IF('Consequence of Failure'!K296=\"Yes\",1,0)","v":0},{"$f":"IF('Consequence of Failure'!L296=\"Above\",2,0)","v":0},{"$f":"IF('Consequence of Failure'!L296=\"At\",1,0)","v":0},{"$f":"IF('Consequence of Failure'!L296=\"Below\",0,0)","v":0},{"$f":"IF('Consequence of Failure'!M296=\"Yes\",1,0)","v":0},{"$f":"IF('Consequence of Failure'!N296=\"Yes\",1,0)","v":0},null,0,null,0]
[{"$f":"IF('Data Collection Sheet'!B299=\"Pump\",15,0)","v":0},{"$f":"IF('Data Collection Sheet'!B299=\"Hydrant\",50,0)","v":0},{"$f":"IF('Data Collection Sheet'!B299=\"Meter\",15,0)","v":0},{"$f":"IF('Data Collection Sheet'!B299=\"Pipe\",80,0)","v":0},{"$f":"IF('Data Collection Sheet'!B299=\"Source\",50,0)","v":0},{"$f":"IF('Data Collection Sheet'!B299=\"Tank\",50,0)","v":0},{"$f":"IF('Data Collection Sheet'!B299=\"Analytical\",10,0)","v":0},{"$f":"IF('Data Collection Sheet'!B299=\"Treatment\",20,0)","v":0},{"$f":"IF('Data Collection Sheet'!B299=\"Valve\",20,0)","v":0},{"$f":"IF('Data Collection Sheet'!B299=\"Control\",15,0)","v":0},{"$f":"IF('Data Collection Sheet'!B299=\"Safety\",10,0)","v":0},{"$f":"IF('Data Collection Sheet'!B299=\"Building\",50,0)","v":0},{"$f":"IF('Data Collection Sheet'!B299=\"Vehicle\",8,0)","v":0},{"$f":"IF('Data Collection Sheet'!B299=\"Other\",15,0)","v":0},{"$f":"IF('Data Collection Sheet'!I299=\"Bad\",(-0.8*$T296),0)","v":0},{"$f":"IF('Data Collection Sheet'!I299=\"Fair\",(-0.5*$T296),0)","v":0},{"$f":"IF('Data Collection Sheet'!I299=\"Good\",(-0.2*$T296),0)","v":0},{"$f":"IF('Data Collection Sheet'!I299=\"Great\",0,0)","v":0},null,0,0,0,null,null,null,{"$f":"IF('Consequence of Failure'!F299=\"No\",1,0)","v":0},{"$f":"IF('Consequence of Failure'!G297=\"0%-25%\",0.5,0)","v":0},{"$f":"IF('Consequence of Failure'!G297=\"26%-50%\",1,0)","v":0},{"$f":"IF('Consequence of Failure'!G297=\"51%-75%\",1.5,0)","v":0},{"$f":"IF('Consequence of Failure'!G297=\"76%-100%\",2,0)","v":0},{"$f":"IF('Consequence of Failure'!H297=\"Yes\",1,0)","v":0},{"$f":"IF('Consequence of Failure'!I297=\"Yes\",1,0)","v":0},null,0,null,{"$f":"IF('Consequence of Failure'!K297=\"Yes\",1,0)","v":0},{"$f":"IF('Consequence of Failure'!L297=\"Above\",2,0)","v":0},{"$f":"IF('Consequence of Failure'!L297=\"At\",1,0)","v":0},{"$f":"IF('Consequence of Failure'!L297=\"Below\",0,0)","v":0},{"$f":"IF('Consequence of Failure'!M297=\"Yes\",1,0)","v":0},{"$f":"IF('Consequence of Failure'!N297=\"Yes\",1,0)","v":0},null,0,null,0]
[{"$f":"IF('Data Collection Sheet'!B300=\"Pump\",15,0)","v":0},{"$f":"IF('Data Collection Sheet'!B300=\"Hydrant\",50,0)","v":0},{"$f":"IF('Data Collection Sheet'!B300=\"Meter\",15,0)","v":0},{"$f":"IF('Data Collection Sheet'!B300=\"Pipe\",80,0)","v":0},{"$f":"IF('Data Collection Sheet'!B300=\"Source\",50,0)","v":0},{"$f":"IF('Data Collection Sheet'!B300=\"Tank\",50,0)","v":0},{"$f":"IF('Data Collection Sheet'!B300=\"Analytical\",10,0)","v":0},{"$f":"IF('Data Collection Sheet'!B300=\"Treatment\",20,0)","v":0},{"$f":"IF('Data Collection Sheet'!B300=\"Valve\",20,0)","v":0},{"$f":"IF('Data Collection Sheet'!B300=\"Control\",15,0)","v":0},{"$f":"IF('Data Collection Sheet'!B300=\"Safety\",10,0)","v":0},{"$f":"IF('Data Collection Sheet'!B300=\"Building\",50,0)","v":0},{"$f":"IF('Data Collection Sheet'!B300=\"Vehicle\",8,0)","v":0},{"$f":"IF('Data Collection Sheet'!B300=\"Other\",15,0)","v":0},{"$f":"IF('Data Collection Sheet'!I300=\"Bad\",(-0.8*$T297),0)","v":0},{"$f":"IF('Data Collection Sheet'!I300=\"Fair\",(-0.5*$T297),0)","v":0},{"$f":"IF('Data Collection Sheet'!I300=\"Good\",(-0.2*$T297),0)","v":0},{"$f":"IF('Data Collection Sheet'!I300=\"Great\",0,0)","v":0},null,0,0,0,null,null,null,{"$f":"IF('Consequence of Failure'!F300=\"No\",1,0)","v":0},{"$f":"IF('Consequence of Failure'!G298=\"0%-25%\",0.5,0)","v":0},{"$f":"IF('Consequence of Failure'!G298=\"26%-50%\",1,0)","v":0},{"$f":"IF('Consequence of Failure'!G298=\"51%-75%\",1.5,0)","v":0},{"$f":"IF('Consequence of Failure'!G298=\"76%-100%\",2,0)","v":0},{"$f":"IF('Consequence of Failure'!H298=\"Yes\",1,0)","v":0},{"$f":"IF('Consequence of Failure'!I298=\"Yes\",1,0)","v":0},null,0,null,{"$f":"IF('Consequence of Failure'!K298=\"Yes\",1,0)","v":0},{"$f":"IF('Consequence of Failure'!L298=\"Above\",2,0)","v":0},{"$f":"IF('Consequence of Failure'!L298=\"At\",1,0)","v":0},{"$f":"IF('Consequence of Failure'!L298=\"Below\",0,0)","v":0},{"$f":"IF('Consequence of Failure'!M298=\"Yes\",1,0)","v":0},{"$f":"IF('Consequence of Failure'!N298=\"Yes\",1,0)","v":0},null,0,null,0]
[{"$f":"IF('Data Collection Sheet'!B301=\"Pump\",15,0)","v":0},{"$f":"IF('Data Collection Sheet'!B301=\"Hydrant\",50,0)","v":0},{"$f":"IF('Data Collection Sheet'!B301=\"Meter\",15,0)","v":0},{"$f":"IF('Data Collection Sheet'!B301=\"Pipe\",80,0)","v":0},{"$f":"IF('Data Collection Sheet'!B301=\"Source\",50,0)","v":0},{"$f":"IF('Data Collection Sheet'!B301=\"Tank\",50,0)","v":0},{"$f":"IF('Data Collection Sheet'!B301=\"Analytical\",10,0)","v":0},{"$f":"IF('Data Collection Sheet'!B301=\"Treatment\",20,0)","v":0},{"$f":"IF('Data Collection Sheet'!B301=\"Valve\",20,0)","v":0},{"$f":"IF('Data Collection Sheet'!B301=\"Control\",15,0)","v":0},{"$f":"IF('Data Collection Sheet'!B301=\"Safety\",10,0)","v":0},{"$f":"IF('Data Collection Sheet'!B301=\"Building\",50,0)","v":0},{"$f":"IF('Data Collection Sheet'!B301=\"Vehicle\",8,0)","v":0},{"$f":"IF('Data Collection Sheet'!B301=\"Other\",15,0)","v":0},{"$f":"IF('Data Collection Sheet'!I301=\"Bad\",(-0.8*$T298),0)","v":0},{"$f":"IF('Data Collection Sheet'!I301=\"Fair\",(-0.5*$T298),0)","v":0},{"$f":"IF('Data Collection Sheet'!I301=\"Good\",(-0.2*$T298),0)","v":0},{"$f":"IF('Data Collection Sheet'!I301=\"Great\",0,0)","v":0},null,0,0,0,null,null,null,{"$f":"IF('Consequence of Failure'!F301=\"No\",1,0)","v":0},{"$f":"IF('Consequence of Failure'!G299=\"0%-25%\",0.5,0)","v":0},{"$f":"IF('Consequence of Failure'!G299=\"26%-50%\",1,0)","v":0},{"$f":"IF('Consequence of Failure'!G299=\"51%-75%\",1.5,0)","v":0},{"$f":"IF('Consequence of Failure'!G299=\"76%-100%\",2,0)","v":0},{"$f":"IF('Consequence of Failure'!H299=\"Yes\",1,0)","v":0},{"$f":"IF('Consequence of Failure'!I299=\"Yes\",1,0)","v":0},null,0,null,{"$f":"IF('Consequence of Failure'!K299=\"Yes\",1,0)","v":0},{"$f":"IF('Consequence of Failure'!L299=\"Above\",2,0)","v":0},{"$f":"IF('Consequence of Failure'!L299=\"At\",1,0)","v":0},{"$f":"IF('Consequence of Failure'!L299=\"Below\",0,0)","v":0},{"$f":"IF('Consequence of Failure'!M299=\"Yes\",1,0)","v":0},{"$f":"IF('Consequence of Failure'!N299=\"Yes\",1,0)","v":0},null,0,null,0]
[{"$f":"IF('Data Collection Sheet'!B302=\"Pump\",15,0)","v":0},{"$f":"IF('Data Collection Sheet'!B302=\"Hydrant\",50,0)","v":0},{"$f":"IF('Data Collection Sheet'!B302=\"Meter\",15,0)","v":0},{"$f":"IF('Data Collection Sheet'!B302=\"Pipe\",80,0)","v":0},{"$f":"IF('Data Collection Sheet'!B302=\"Source\",50,0)","v":0},{"$f":"IF('Data Collection Sheet'!B302=\"Tank\",50,0)","v":0},{"$f":"IF('Data Collection Sheet'!B302=\"Analytical\",10,0)","v":0},{"$f":"IF('Data Collection Sheet'!B302=\"Treatment\",20,0)","v":0},{"$f":"IF('Data Collection Sheet'!B302=\"Valve\",20,0)","v":0},{"$f":"IF('Data Collection Sheet'!B302=\"Control\",15,0)","v":0},{"$f":"IF('Data Collection Sheet'!B302=\"Safety\",10,0)","v":0},{"$f":"IF('Data Collection Sheet'!B302=\"Building\",50,0)","v":0},{"$f":"IF('Data Collection Sheet'!B302=\"Vehicle\",8,0)","v":0},{"$f":"IF('Data Collection Sheet'!B302=\"Other\",15,0)","v":0},{"$f":"IF('Data Collection Sheet'!I302=\"Bad\",(-0.8*$T299),0)","v":0},{"$f":"IF('Data Collection Sheet'!I302=\"Fair\",(-0.5*$T299),0)","v":0},{"$f":"IF('Data Collection Sheet'!I302=\"Good\",(-0.2*$T299),0)","v":0},{"$f":"IF('Data Collection Sheet'!I302=\"Great\",0,0)","v":0},null,0,0,0,null,null,null,{"$f":"IF('Consequence of Failure'!F302=\"No\",1,0)","v":0},{"$f":"IF('Consequence of Failure'!G300=\"0%-25%\",0.5,0)","v":0},{"$f":"IF('Consequence of Failure'!G300=\"26%-50%\",1,0)","v":0},{"$f":"IF('Consequence of Failure'!G300=\"51%-75%\",1.5,0)","v":0},{"$f":"IF('Consequence of Failure'!G300=\"76%-100%\",2,0)","v":0},{"$f":"IF('Consequence of Failure'!H300=\"Yes\",1,0)","v":0},{"$f":"IF('Consequence of Failure'!I300=\"Yes\",1,0)","v":0},null,0,null,{"$f":"IF('Consequence of Failure'!K300=\"Yes\",1,0)","v":0},{"$f":"IF('Consequence of Failure'!L300=\"Above\",2,0)","v":0},{"$f":"IF('Consequence of Failure'!L300=\"At\",1,0)","v":0},{"$f":"IF('Consequence of Failure'!L300=\"Below\",0,0)","v":0},{"$f":"IF('Consequence of Failure'!M300=\"Yes\",1,0)","v":0},{"$f":"IF('Consequence of Failure'!N300=\"Yes\",1,0)","v":0},null,0,null,0]
[{"$f":"IF('Data Collection Sheet'!B303=\"Pump\",15,0)","v":0},{"$f":"IF('Data Collection Sheet'!B303=\"Hydrant\",50,0)","v":0},{"$f":"IF('Data Collection Sheet'!B303=\"Meter\",15,0)","v":0},{"$f":"IF('Data Collection Sheet'!B303=\"Pipe\",80,0)","v":0},{"$f":"IF('Data Collection Sheet'!B303=\"Source\",50,0)","v":0},{"$f":"IF('Data Collection Sheet'!B303=\"Tank\",50,0)","v":0},{"$f":"IF('Data Collection Sheet'!B303=\"Analytical\",10,0)","v":0},{"$f":"IF('Data Collection Sheet'!B303=\"Treatment\",20,0)","v":0},{"$f":"IF('Data Collection Sheet'!B303=\"Valve\",20,0)","v":0},{"$f":"IF('Data Collection Sheet'!B303=\"Control\",15,0)","v":0},{"$f":"IF('Data Collection Sheet'!B303=\"Safety\",10,0)","v":0},{"$f":"IF('Data Collection Sheet'!B303=\"Building\",50,0)","v":0},{"$f":"IF('Data Collection Sheet'!B303=\"Vehicle\",8,0)","v":0},{"$f":"IF('Data Collection Sheet'!B303=\"Other\",15,0)","v":0},{"$f":"IF('Data Collection Sheet'!I303=\"Bad\",(-0.8*$T300),0)","v":0},{"$f":"IF('Data Collection Sheet'!I303=\"Fair\",(-0.5*$T300),0)","v":0},{"$f":"IF('Data Collection Sheet'!I303=\"Good\",(-0.2*$T300),0)","v":0},{"$f":"IF('Data Collection Sheet'!I303=\"Great\",0,0)","v":0},null,0,0,0,null,null,null,{"$f":"IF('Consequence of Failure'!F303=\"No\",1,0)","v":0},{"$f":"IF('Consequence of Failure'!G301=\"0%-25%\",0.5,0)","v":0},{"$f":"IF('Consequence of Failure'!G301=\"26%-50%\",1,0)","v":0},{"$f":"IF('Consequence of Failure'!G301=\"51%-75%\",1.5,0)","v":0},{"$f":"IF('Consequence of Failure'!G301=\"76%-100%\",2,0)","v":0},{"$f":"IF('Consequence of Failure'!H301=\"Yes\",1,0)","v":0},{"$f":"IF('Consequence of Failure'!I301=\"Yes\",1,0)","v":0},null,0,null,{"$f":"IF('Consequence of Failure'!K301=\"Yes\",1,0)","v":0},{"$f":"IF('Consequence of Failure'!L301=\"Above\",2,0)","v":0},{"$f":"IF('Consequence of Failure'!L301=\"At\",1,0)","v":0},{"$f":"IF('Consequence of Failure'!L301=\"Below\",0,0)","v":0},{"$f":"IF('Consequence of Failure'!M301=\"Yes\",1,0)","v":0},{"$f":"IF('Consequence of Failure'!N301=\"Yes\",1,0)","v":0},null,0,null,0]
[{"$f":"IF('Data Collection Sheet'!B304=\"Pump\",15,0)","v":0},{"$f":"IF('Data Collection Sheet'!B304=\"Hydrant\",50,0)","v":0},{"$f":"IF('Data Collection Sheet'!B304=\"Meter\",15,0)","v":0},{"$f":"IF('Data Collection Sheet'!B304=\"Pipe\",80,0)","v":0},{"$f":"IF('Data Collection Sheet'!B304=\"Source\",50,0)","v":0},{"$f":"IF('Data Collection Sheet'!B304=\"Tank\",50,0)","v":0},{"$f":"IF('Data Collection Sheet'!B304=\"Analytical\",10,0)","v":0},{"$f":"IF('Data Collection Sheet'!B304=\"Treatment\",20,0)","v":0},{"$f":"IF('Data Collection Sheet'!B304=\"Valve\",20,0)","v":0},{"$f":"IF('Data Collection Sheet'!B304=\"Control\",15,0)","v":0},{"$f":"IF('Data Collection Sheet'!B304=\"Safety\",10,0)","v":0},{"$f":"IF('Data Collection Sheet'!B304=\"Building\",50,0)","v":0},{"$f":"IF('Data Collection Sheet'!B304=\"Vehicle\",8,0)","v":0},{"$f":"IF('Data Collection Sheet'!B304=\"Other\",15,0)","v":0},{"$f":"IF('Data Collection Sheet'!I304=\"Bad\",(-0.8*$T301),0)","v":0},{"$f":"IF('Data Collection Sheet'!I304=\"Fair\",(-0.5*$T301),0)","v":0},{"$f":"IF('Data Collection Sheet'!I304=\"Good\",(-0.2*$T301),0)","v":0},{"$f":"IF('Data Collection Sheet'!I304=\"Great\",0,0)","v":0},null,0,0,0,null,null,null,{"$f":"IF('Consequence of Failure'!F304=\"No\",1,0)","v":0},{"$f":"IF('Consequence of Failure'!G302=\"0%-25%\",0.5,0)","v":0},{"$f":"IF('Consequence of Failure'!G302=\"26%-50%\",1,0)","v":0},{"$f":"IF('Consequence of Failure'!G302=\"51%-75%\",1.5,0)","v":0},{"$f":"IF('Consequence of Failure'!G302=\"76%-100%\",2,0)","v":0},{"$f":"IF('Consequence of Failure'!H302=\"Yes\",1,0)","v":0},{"$f":"IF('Consequence of Failure'!I302=\"Yes\",1,0)","v":0},null,0,null,{"$f":"IF('Consequence of Failure'!K302=\"Yes\",1,0)","v":0},{"$f":"IF('Consequence of Failure'!L302=\"Above\",2,0)","v":0},{"$f":"IF('Consequence of Failure'!L302=\"At\",1,0)","v":0},{"$f":"IF('Consequence of Failure'!L302=\"Below\",0,0)","v":0},{"$f":"IF('Consequence of Failure'!M302=\"Yes\",1,0)","v":0},{"$f":"IF('Consequence of Failure'!N302=\"Yes\",1,0)","v":0},null,0,null,0]
[{"$f":"IF('Data Collection Sheet'!B305=\"Pump\",15,0)","v":0},{"$f":"IF('Data Collection Sheet'!B305=\"Hydrant\",50,0)","v":0},{"$f":"IF('Data Collection Sheet'!B305=\"Meter\",15,0)","v":0},{"$f":"IF('Data Collection Sheet'!B305=\"Pipe\",80,0)","v":0},{"$f":"IF('Data Collection Sheet'!B305=\"Source\",50,0)","v":0},{"$f":"IF('Data Collection Sheet'!B305=\"Tank\",50,0)","v":0},{"$f":"IF('Data Collection Sheet'!B305=\"Analytical\",10,0)","v":0},{"$f":"IF('Data Collection Sheet'!B305=\"Treatment\",20,0)","v":0},{"$f":"IF('Data Collection Sheet'!B305=\"Valve\",20,0)","v":0},{"$f":"IF('Data Collection Sheet'!B305=\"Control\",15,0)","v":0},{"$f":"IF('Data Collection Sheet'!B305=\"Safety\",10,0)","v":0},{"$f":"IF('Data Collection Sheet'!B305=\"Building\",50,0)","v":0},{"$f":"IF('Data Collection Sheet'!B305=\"Vehicle\",8,0)","v":0},{"$f":"IF('Data Collection Sheet'!B305=\"Other\",15,0)","v":0},{"$f":"IF('Data Collection Sheet'!I305=\"Bad\",(-0.8*$T302),0)","v":0},{"$f":"IF('Data Collection Sheet'!I305=\"Fair\",(-0.5*$T302),0)","v":0},{"$f":"IF('Data Collection Sheet'!I305=\"Good\",(-0.2*$T302),0)","v":0},{"$f":"IF('Data Collection Sheet'!I305=\"Great\",0,0)","v":0},null,0,0,0,null,null,null,{"$f":"IF('Consequence of Failure'!F305=\"No\",1,0)","v":0},{"$f":"IF('Consequence of Failure'!G303=\"0%-25%\",0.5,0)","v":0},{"$f":"IF('Consequence of Failure'!G303=\"26%-50%\",1,0)","v":0},{"$f":"IF('Consequence of Failure'!G303=\"51%-75%\",1.5,0)","v":0},{"$f":"IF('Consequence of Failure'!G303=\"76%-100%\",2,0)","v":0},{"$f":"IF('Consequence of Failure'!H303=\"Yes\",1,0)","v":0},{"$f":"IF('Consequence of Failure'!I303=\"Yes\",1,0)","v":0},null,0,null,{"$f":"IF('Consequence of Failure'!K303=\"Yes\",1,0)","v":0},{"$f":"IF('Consequence of Failure'!L303=\"Above\",2,0)","v":0},{"$f":"IF('Consequence of Failure'!L303=\"At\",1,0)","v":0},{"$f":"IF('Consequence of Failure'!L303=\"Below\",0,0)","v":0},{"$f":"IF('Consequence of Failure'!M303=\"Yes\",1,0)","v":0},{"$f":"IF('Consequence of Failure'!N303=\"Yes\",1,0)","v":0},null,0,null,0]
[{"$f":"IF('Data Collection Sheet'!B306=\"Pump\",15,0)","v":0},{"$f":"IF('Data Collection Sheet'!B306=\"Hydrant\",50,0)","v":0},{"$f":"IF('Data Collection Sheet'!B306=\"Meter\",15,0)","v":0},{"$f":"IF('Data Collection Sheet'!B306=\"Pipe\",80,0)","v":0},{"$f":"IF('Data Collection Sheet'!B306=\"Source\",50,0)","v":0},{"$f":"IF('Data Collection Sheet'!B306=\"Tank\",50,0)","v":0},{"$f":"IF('Data Collection Sheet'!B306=\"Analytical\",10,0)","v":0},{"$f":"IF('Data Collection Sheet'!B306=\"Treatment\",20,0)","v":0},{"$f":"IF('Data Collection Sheet'!B306=\"Valve\",20,0)","v":0},{"$f":"IF('Data Collection Sheet'!B306=\"Control\",15,0)","v":0},{"$f":"IF('Data Collection Sheet'!B306=\"Safety\",10,0)","v":0},{"$f":"IF('Data Collection Sheet'!B306=\"Building\",50,0)","v":0},{"$f":"IF('Data Collection Sheet'!B306=\"Vehicle\",8,0)","v":0},{"$f":"IF('Data Collection Sheet'!B306=\"Other\",15,0)","v":0},{"$f":"IF('Data Collection Sheet'!I306=\"Bad\",(-0.8*$T303),0)","v":0},{"$f":"IF('Data Collection Sheet'!I306=\"Fair\",(-0.5*$T303),0)","v":0},{"$f":"IF('Data Collection Sheet'!I306=\"Good\",(-0.2*$T303),0)","v":0},{"$f":"IF('Data Collection Sheet'!I306=\"Great\",0,0)","v":0},null,0,0,0,null,null,null,{"$f":"IF('Consequence of Failure'!F306=\"No\",1,0)","v":0},{"$f":"IF('Consequence of Failure'!G304=\"0%-25%\",0.5,0)","v":0},{"$f":"IF('Consequence of Failure'!G304=\"26%-50%\",1,0)","v":0},{"$f":"IF('Consequence of Failure'!G304=\"51%-75%\",1.5,0)","v":0},{"$f":"IF('Consequence of Failure'!G304=\"76%-100%\",2,0)","v":0},{"$f":"IF('Consequence of Failure'!H304=\"Yes\",1,0)","v":0},{"$f":"IF('Consequence of Failure'!I304=\"Yes\",1,0)","v":0},null,0,null,{"$f":"IF('Consequence of Failure'!K304=\"Yes\",1,0)","v":0},{"$f":"IF('Consequence of Failure'!L304=\"Above\",2,0)","v":0},{"$f":"IF('Consequence of Failure'!L304=\"At\",1,0)","v":0},{"$f":"IF('Consequence of Failure'!L304=\"Below\",0,0)","v":0},{"$f":"IF('Consequence of Failure'!M304=\"Yes\",1,0)","v":0},{"$f":"IF('Consequence of Failure'!N304=\"Yes\",1,0)","v":0},null,0,null,0]
[{"$f":"IF('Data Collection Sheet'!B307=\"Pump\",15,0)","v":0},{"$f":"IF('Data Collection Sheet'!B307=\"Hydrant\",50,0)","v":0},{"$f":"IF('Data Collection Sheet'!B307=\"Meter\",15,0)","v":0},{"$f":"IF('Data Collection Sheet'!B307=\"Pipe\",80,0)","v":0},{"$f":"IF('Data Collection Sheet'!B307=\"Source\",50,0)","v":0},{"$f":"IF('Data Collection Sheet'!B307=\"Tank\",50,0)","v":0},{"$f":"IF('Data Collection Sheet'!B307=\"Analytical\",10,0)","v":0},{"$f":"IF('Data Collection Sheet'!B307=\"Treatment\",20,0)","v":0},{"$f":"IF('Data Collection Sheet'!B307=\"Valve\",20,0)","v":0},{"$f":"IF('Data Collection Sheet'!B307=\"Control\",15,0)","v":0},{"$f":"IF('Data Collection Sheet'!B307=\"Safety\",10,0)","v":0},{"$f":"IF('Data Collection Sheet'!B307=\"Building\",50,0)","v":0},{"$f":"IF('Data Collection Sheet'!B307=\"Vehicle\",8,0)","v":0},{"$f":"IF('Data Collection Sheet'!B307=\"Other\",15,0)","v":0},{"$f":"IF('Data Collection Sheet'!I307=\"Bad\",(-0.8*$T304),0)","v":0},{"$f":"IF('Data Collection Sheet'!I307=\"Fair\",(-0.5*$T304),0)","v":0},{"$f":"IF('Data Collection Sheet'!I307=\"Good\",(-0.2*$T304),0)","v":0},{"$f":"IF('Data Collection Sheet'!I307=\"Great\",0,0)","v":0},null,0,0,0,null,null,null,{"$f":"IF('Consequence of Failure'!F307=\"No\",1,0)","v":0},{"$f":"IF('Consequence of Failure'!G305=\"0%-25%\",0.5,0)","v":0},{"$f":"IF('Consequence of Failure'!G305=\"26%-50%\",1,0)","v":0},{"$f":"IF('Consequence of Failure'!G305=\"51%-75%\",1.5,0)","v":0},{"$f":"IF('Consequence of Failure'!G305=\"76%-100%\",2,0)","v":0},{"$f":"IF('Consequence of Failure'!H305=\"Yes\",1,0)","v":0},{"$f":"IF('Consequence of Failure'!I305=\"Yes\",1,0)","v":0},null,0,null,{"$f":"IF('Consequence of Failure'!K305=\"Yes\",1,0)","v":0},{"$f":"IF('Consequence of Failure'!L305=\"Above\",2,0)","v":0},{"$f":"IF('Consequence of Failure'!L305=\"At\",1,0)","v":0},{"$f":"IF('Consequence of Failure'!L305=\"Below\",0,0)","v":0},{"$f":"IF('Consequence of Failure'!M305=\"Yes\",1,0)","v":0},{"$f":"IF('Consequence of Failure'!N305=\"Yes\",1,0)","v":0},null,0,null,0]
[{"$f":"IF('Data Collection Sheet'!B308=\"Pump\",15,0)","v":0},{"$f":"IF('Data Collection Sheet'!B308=\"Hydrant\",50,0)","v":0},{"$f":"IF('Data Collection Sheet'!B308=\"Meter\",15,0)","v":0},{"$f":"IF('Data Collection Sheet'!B308=\"Pipe\",80,0)","v":0},{"$f":"IF('Data Collection Sheet'!B308=\"Source\",50,0)","v":0},{"$f":"IF('Data Collection Sheet'!B308=\"Tank\",50,0)","v":0},{"$f":"IF('Data Collection Sheet'!B308=\"Analytical\",10,0)","v":0},{"$f":"IF('Data Collection Sheet'!B308=\"Treatment\",20,0)","v":0},{"$f":"IF('Data Collection Sheet'!B308=\"Valve\",20,0)","v":0},{"$f":"IF('Data Collection Sheet'!B308=\"Control\",15,0)","v":0},{"$f":"IF('Data Collection Sheet'!B308=\"Safety\",10,0)","v":0},{"$f":"IF('Data Collection Sheet'!B308=\"Building\",50,0)","v":0},{"$f":"IF('Data Collection Sheet'!B308=\"Vehicle\",8,0)","v":0},{"$f":"IF('Data Collection Sheet'!B308=\"Other\",15,0)","v":0},{"$f":"IF('Data Collection Sheet'!I308=\"Bad\",(-0.8*$T305),0)","v":0},{"$f":"IF('Data Collection Sheet'!I308=\"Fair\",(-0.5*$T305),0)","v":0},{"$f":"IF('Data Collection Sheet'!I308=\"Good\",(-0.2*$T305),0)","v":0},{"$f":"IF('Data Collection Sheet'!I308=\"Great\",0,0)","v":0},null,0,0,0,null,null,null,{"$f":"IF('Consequence of Failure'!F308=\"No\",1,0)","v":0},{"$f":"IF('Consequence of Failure'!G306=\"0%-25%\",0.5,0)","v":0},{"$f":"IF('Consequence of Failure'!G306=\"26%-50%\",1,0)","v":0},{"$f":"IF('Consequence of Failure'!G306=\"51%-75%\",1.5,0)","v":0},{"$f":"IF('Consequence of Failure'!G306=\"76%-100%\",2,0)","v":0},{"$f":"IF('Consequence of Failure'!H306=\"Yes\",1,0)","v":0},{"$f":"IF('Consequence of Failure'!I306=\"Yes\",1,0)","v":0},null,0,null,{"$f":"IF('Consequence of Failure'!K306=\"Yes\",1,0)","v":0},{"$f":"IF('Consequence of Failure'!L306=\"Above\",2,0)","v":0},{"$f":"IF('Consequence of Failure'!L306=\"At\",1,0)","v":0},{"$f":"IF('Consequence of Failure'!L306=\"Below\",0,0)","v":0},{"$f":"IF('Consequence of Failure'!M306=\"Yes\",1,0)","v":0},{"$f":"IF('Consequence of Failure'!N306=\"Yes\",1,0)","v":0},null,0,null,0]
[{"$f":"IF('Data Collection Sheet'!B309=\"Pump\",15,0)","v":0},{"$f":"IF('Data Collection Sheet'!B309=\"Hydrant\",50,0)","v":0},{"$f":"IF('Data Collection Sheet'!B309=\"Meter\",15,0)","v":0},{"$f":"IF('Data Collection Sheet'!B309=\"Pipe\",80,0)","v":0},{"$f":"IF('Data Collection Sheet'!B309=\"Source\",50,0)","v":0},{"$f":"IF('Data Collection Sheet'!B309=\"Tank\",50,0)","v":0},{"$f":"IF('Data Collection Sheet'!B309=\"Analytical\",10,0)","v":0},{"$f":"IF('Data Collection Sheet'!B309=\"Treatment\",20,0)","v":0},{"$f":"IF('Data Collection Sheet'!B309=\"Valve\",20,0)","v":0},{"$f":"IF('Data Collection Sheet'!B309=\"Control\",15,0)","v":0},{"$f":"IF('Data Collection Sheet'!B309=\"Safety\",10,0)","v":0},{"$f":"IF('Data Collection Sheet'!B309=\"Building\",50,0)","v":0},{"$f":"IF('Data Collection Sheet'!B309=\"Vehicle\",8,0)","v":0},{"$f":"IF('Data Collection Sheet'!B309=\"Other\",15,0)","v":0},{"$f":"IF('Data Collection Sheet'!I309=\"Bad\",(-0.8*$T306),0)","v":0},{"$f":"IF('Data Collection Sheet'!I309=\"Fair\",(-0.5*$T306),0)","v":0},{"$f":"IF('Data Collection Sheet'!I309=\"Good\",(-0.2*$T306),0)","v":0},{"$f":"IF('Data Collection Sheet'!I309=\"Great\",0,0)","v":0},null,0,0,0,null,null,null,{"$f":"IF('Consequence of Failure'!F309=\"No\",1,0)","v":0},{"$f":"IF('Consequence of Failure'!G307=\"0%-25%\",0.5,0)","v":0},{"$f":"IF('Consequence of Failure'!G307=\"26%-50%\",1,0)","v":0},{"$f":"IF('Consequence of Failure'!G307=\"51%-75%\",1.5,0)","v":0},{"$f":"IF('Consequence of Failure'!G307=\"76%-100%\",2,0)","v":0},{"$f":"IF('Consequence of Failure'!H307=\"Yes\",1,0)","v":0},{"$f":"IF('Consequence of Failure'!I307=\"Yes\",1,0)","v":0},null,0,null,{"$f":"IF('Consequence of Failure'!K307=\"Yes\",1,0)","v":0},{"$f":"IF('Consequence of Failure'!L307=\"Above\",2,0)","v":0},{"$f":"IF('Consequence of Failure'!L307=\"At\",1,0)","v":0},{"$f":"IF('Consequence of Failure'!L307=\"Below\",0,0)","v":0},{"$f":"IF('Consequence of Failure'!M307=\"Yes\",1,0)","v":0},{"$f":"IF('Consequence of Failure'!N307=\"Yes\",1,0)","v":0},null,0,null,0]
[{"$f":"IF('Data Collection Sheet'!B310=\"Pump\",15,0)","v":0},{"$f":"IF('Data Collection Sheet'!B310=\"Hydrant\",50,0)","v":0},{"$f":"IF('Data Collection Sheet'!B310=\"Meter\",15,0)","v":0},{"$f":"IF('Data Collection Sheet'!B310=\"Pipe\",80,0)","v":0},{"$f":"IF('Data Collection Sheet'!B310=\"Source\",50,0)","v":0},{"$f":"IF('Data Collection Sheet'!B310=\"Tank\",50,0)","v":0},{"$f":"IF('Data Collection Sheet'!B310=\"Analytical\",10,0)","v":0},{"$f":"IF('Data Collection Sheet'!B310=\"Treatment\",20,0)","v":0},{"$f":"IF('Data Collection Sheet'!B310=\"Valve\",20,0)","v":0},{"$f":"IF('Data Collection Sheet'!B310=\"Control\",15,0)","v":0},{"$f":"IF('Data Collection Sheet'!B310=\"Safety\",10,0)","v":0},{"$f":"IF('Data Collection Sheet'!B310=\"Building\",50,0)","v":0},{"$f":"IF('Data Collection Sheet'!B310=\"Vehicle\",8,0)","v":0},{"$f":"IF('Data Collection Sheet'!B310=\"Other\",15,0)","v":0},{"$f":"IF('Data Collection Sheet'!I310=\"Bad\",(-0.8*$T307),0)","v":0},{"$f":"IF('Data Collection Sheet'!I310=\"Fair\",(-0.5*$T307),0)","v":0},{"$f":"IF('Data Collection Sheet'!I310=\"Good\",(-0.2*$T307),0)","v":0},{"$f":"IF('Data Collection Sheet'!I310=\"Great\",0,0)","v":0},null,0,0,0,null,null,null,{"$f":"IF('Consequence of Failure'!F310=\"No\",1,0)","v":0},{"$f":"IF('Consequence of Failure'!G308=\"0%-25%\",0.5,0)","v":0},{"$f":"IF('Consequence of Failure'!G308=\"26%-50%\",1,0)","v":0},{"$f":"IF('Consequence of Failure'!G308=\"51%-75%\",1.5,0)","v":0},{"$f":"IF('Consequence of Failure'!G308=\"76%-100%\",2,0)","v":0},{"$f":"IF('Consequence of Failure'!H308=\"Yes\",1,0)","v":0},{"$f":"IF('Consequence of Failure'!I308=\"Yes\",1,0)","v":0},null,0,null,{"$f":"IF('Consequence of Failure'!K308=\"Yes\",1,0)","v":0},{"$f":"IF('Consequence of Failure'!L308=\"Above\",2,0)","v":0},{"$f":"IF('Consequence of Failure'!L308=\"At\",1,0)","v":0},{"$f":"IF('Consequence of Failure'!L308=\"Below\",0,0)","v":0},{"$f":"IF('Consequence of Failure'!M308=\"Yes\",1,0)","v":0},{"$f":"IF('Consequence of Failure'!N308=\"Yes\",1,0)","v":0},null,0,null,0]
[{"$f":"IF('Data Collection Sheet'!B311=\"Pump\",15,0)","v":0},{"$f":"IF('Data Collection Sheet'!B311=\"Hydrant\",50,0)","v":0},{"$f":"IF('Data Collection Sheet'!B311=\"Meter\",15,0)","v":0},{"$f":"IF('Data Collection Sheet'!B311=\"Pipe\",80,0)","v":0},{"$f":"IF('Data Collection Sheet'!B311=\"Source\",50,0)","v":0},{"$f":"IF('Data Collection Sheet'!B311=\"Tank\",50,0)","v":0},{"$f":"IF('Data Collection Sheet'!B311=\"Analytical\",10,0)","v":0},{"$f":"IF('Data Collection Sheet'!B311=\"Treatment\",20,0)","v":0},{"$f":"IF('Data Collection Sheet'!B311=\"Valve\",20,0)","v":0},{"$f":"IF('Data Collection Sheet'!B311=\"Control\",15,0)","v":0},{"$f":"IF('Data Collection Sheet'!B311=\"Safety\",10,0)","v":0},{"$f":"IF('Data Collection Sheet'!B311=\"Building\",50,0)","v":0},{"$f":"IF('Data Collection Sheet'!B311=\"Vehicle\",8,0)","v":0},{"$f":"IF('Data Collection Sheet'!B311=\"Other\",15,0)","v":0},{"$f":"IF('Data Collection Sheet'!I311=\"Bad\",(-0.8*$T308),0)","v":0},{"$f":"IF('Data Collection Sheet'!I311=\"Fair\",(-0.5*$T308),0)","v":0},{"$f":"IF('Data Collection Sheet'!I311=\"Good\",(-0.2*$T308),0)","v":0},{"$f":"IF('Data Collection Sheet'!I311=\"Great\",0,0)","v":0},null,0,0,0,null,null,null,{"$f":"IF('Consequence of Failure'!F311=\"No\",1,0)","v":0},{"$f":"IF('Consequence of Failure'!G309=\"0%-25%\",0.5,0)","v":0},{"$f":"IF('Consequence of Failure'!G309=\"26%-50%\",1,0)","v":0},{"$f":"IF('Consequence of Failure'!G309=\"51%-75%\",1.5,0)","v":0},{"$f":"IF('Consequence of Failure'!G309=\"76%-100%\",2,0)","v":0},{"$f":"IF('Consequence of Failure'!H309=\"Yes\",1,0)","v":0},{"$f":"IF('Consequence of Failure'!I309=\"Yes\",1,0)","v":0},null,0,null,{"$f":"IF('Consequence of Failure'!K309=\"Yes\",1,0)","v":0},{"$f":"IF('Consequence of Failure'!L309=\"Above\",2,0)","v":0},{"$f":"IF('Consequence of Failure'!L309=\"At\",1,0)","v":0},{"$f":"IF('Consequence of Failure'!L309=\"Below\",0,0)","v":0},{"$f":"IF('Consequence of Failure'!M309=\"Yes\",1,0)","v":0},{"$f":"IF('Consequence of Failure'!N309=\"Yes\",1,0)","v":0},null,0,null,0]
[{"$f":"IF('Data Collection Sheet'!B312=\"Pump\",15,0)","v":0},{"$f":"IF('Data Collection Sheet'!B312=\"Hydrant\",50,0)","v":0},{"$f":"IF('Data Collection Sheet'!B312=\"Meter\",15,0)","v":0},{"$f":"IF('Data Collection Sheet'!B312=\"Pipe\",80,0)","v":0},{"$f":"IF('Data Collection Sheet'!B312=\"Source\",50,0)","v":0},{"$f":"IF('Data Collection Sheet'!B312=\"Tank\",50,0)","v":0},{"$f":"IF('Data Collection Sheet'!B312=\"Analytical\",10,0)","v":0},{"$f":"IF('Data Collection Sheet'!B312=\"Treatment\",20,0)","v":0},{"$f":"IF('Data Collection Sheet'!B312=\"Valve\",20,0)","v":0},{"$f":"IF('Data Collection Sheet'!B312=\"Control\",15,0)","v":0},{"$f":"IF('Data Collection Sheet'!B312=\"Safety\",10,0)","v":0},{"$f":"IF('Data Collection Sheet'!B312=\"Building\",50,0)","v":0},{"$f":"IF('Data Collection Sheet'!B312=\"Vehicle\",8,0)","v":0},{"$f":"IF('Data Collection Sheet'!B312=\"Other\",15,0)","v":0},{"$f":"IF('Data Collection Sheet'!I312=\"Bad\",(-0.8*$T309),0)","v":0},{"$f":"IF('Data Collection Sheet'!I312=\"Fair\",(-0.5*$T309),0)","v":0},{"$f":"IF('Data Collection Sheet'!I312=\"Good\",(-0.2*$T309),0)","v":0},{"$f":"IF('Data Collection Sheet'!I312=\"Great\",0,0)","v":0},null,0,0,0,null,null,null,{"$f":"IF('Consequence of Failure'!F312=\"No\",1,0)","v":0},{"$f":"IF('Consequence of Failure'!G310=\"0%-25%\",0.5,0)","v":0},{"$f":"IF('Consequence of Failure'!G310=\"26%-50%\",1,0)","v":0},{"$f":"IF('Consequence of Failure'!G310=\"51%-75%\",1.5,0)","v":0},{"$f":"IF('Consequence of Failure'!G310=\"76%-100%\",2,0)","v":0},{"$f":"IF('Consequence of Failure'!H310=\"Yes\",1,0)","v":0},{"$f":"IF('Consequence of Failure'!I310=\"Yes\",1,0)","v":0},null,0,null,{"$f":"IF('Consequence of Failure'!K310=\"Yes\",1,0)","v":0},{"$f":"IF('Consequence of Failure'!L310=\"Above\",2,0)","v":0},{"$f":"IF('Consequence of Failure'!L310=\"At\",1,0)","v":0},{"$f":"IF('Consequence of Failure'!L310=\"Below\",0,0)","v":0},{"$f":"IF('Consequence of Failure'!M310=\"Yes\",1,0)","v":0},{"$f":"IF('Consequence of Failure'!N310=\"Yes\",1,0)","v":0},null,0,null,0]
[{"$f":"IF('Data Collection Sheet'!B313=\"Pump\",15,0)","v":0},{"$f":"IF('Data Collection Sheet'!B313=\"Hydrant\",50,0)","v":0},{"$f":"IF('Data Collection Sheet'!B313=\"Meter\",15,0)","v":0},{"$f":"IF('Data Collection Sheet'!B313=\"Pipe\",80,0)","v":0},{"$f":"IF('Data Collection Sheet'!B313=\"Source\",50,0)","v":0},{"$f":"IF('Data Collection Sheet'!B313=\"Tank\",50,0)","v":0},{"$f":"IF('Data Collection Sheet'!B313=\"Analytical\",10,0)","v":0},{"$f":"IF('Data Collection Sheet'!B313=\"Treatment\",20,0)","v":0},{"$f":"IF('Data Collection Sheet'!B313=\"Valve\",20,0)","v":0},{"$f":"IF('Data Collection Sheet'!B313=\"Control\",15,0)","v":0},{"$f":"IF('Data Collection Sheet'!B313=\"Safety\",10,0)","v":0},{"$f":"IF('Data Collection Sheet'!B313=\"Building\",50,0)","v":0},{"$f":"IF('Data Collection Sheet'!B313=\"Vehicle\",8,0)","v":0},{"$f":"IF('Data Collection Sheet'!B313=\"Other\",15,0)","v":0},{"$f":"IF('Data Collection Sheet'!I313=\"Bad\",(-0.8*$T310),0)","v":0},{"$f":"IF('Data Collection Sheet'!I313=\"Fair\",(-0.5*$T310),0)","v":0},{"$f":"IF('Data Collection Sheet'!I313=\"Good\",(-0.2*$T310),0)","v":0},{"$f":"IF('Data Collection Sheet'!I313=\"Great\",0,0)","v":0},null,0,0,0,null,null,null,{"$f":"IF('Consequence of Failure'!F313=\"No\",1,0)","v":0},{"$f":"IF('Consequence of Failure'!G311=\"0%-25%\",0.5,0)","v":0},{"$f":"IF('Consequence of Failure'!G311=\"26%-50%\",1,0)","v":0},{"$f":"IF('Consequence of Failure'!G311=\"51%-75%\",1.5,0)","v":0},{"$f":"IF('Consequence of Failure'!G311=\"76%-100%\",2,0)","v":0},{"$f":"IF('Consequence of Failure'!H311=\"Yes\",1,0)","v":0},{"$f":"IF('Consequence of Failure'!I311=\"Yes\",1,0)","v":0},null,0,null,{"$f":"IF('Consequence of Failure'!K311=\"Yes\",1,0)","v":0},{"$f":"IF('Consequence of Failure'!L311=\"Above\",2,0)","v":0},{"$f":"IF('Consequence of Failure'!L311=\"At\",1,0)","v":0},{"$f":"IF('Consequence of Failure'!L311=\"Below\",0,0)","v":0},{"$f":"IF('Consequence of Failure'!M311=\"Yes\",1,0)","v":0},{"$f":"IF('Consequence of Failure'!N311=\"Yes\",1,0)","v":0},null,0,null,0]
[{"$f":"IF('Data Collection Sheet'!B314=\"Pump\",15,0)","v":0},{"$f":"IF('Data Collection Sheet'!B314=\"Hydrant\",50,0)","v":0},{"$f":"IF('Data Collection Sheet'!B314=\"Meter\",15,0)","v":0},{"$f":"IF('Data Collection Sheet'!B314=\"Pipe\",80,0)","v":0},{"$f":"IF('Data Collection Sheet'!B314=\"Source\",50,0)","v":0},{"$f":"IF('Data Collection Sheet'!B314=\"Tank\",50,0)","v":0},{"$f":"IF('Data Collection Sheet'!B314=\"Analytical\",10,0)","v":0},{"$f":"IF('Data Collection Sheet'!B314=\"Treatment\",20,0)","v":0},{"$f":"IF('Data Collection Sheet'!B314=\"Valve\",20,0)","v":0},{"$f":"IF('Data Collection Sheet'!B314=\"Control\",15,0)","v":0},{"$f":"IF('Data Collection Sheet'!B314=\"Safety\",10,0)","v":0},{"$f":"IF('Data Collection Sheet'!B314=\"Building\",50,0)","v":0},{"$f":"IF('Data Collection Sheet'!B314=\"Vehicle\",8,0)","v":0},{"$f":"IF('Data Collection Sheet'!B314=\"Other\",15,0)","v":0},{"$f":"IF('Data Collection Sheet'!I314=\"Bad\",(-0.8*$T311),0)","v":0},{"$f":"IF('Data Collection Sheet'!I314=\"Fair\",(-0.5*$T311),0)","v":0},{"$f":"IF('Data Collection Sheet'!I314=\"Good\",(-0.2*$T311),0)","v":0},{"$f":"IF('Data Collection Sheet'!I314=\"Great\",0,0)","v":0},null,0,0,0,null,null,null,{"$f":"IF('Consequence of Failure'!F314=\"No\",1,0)","v":0},{"$f":"IF('Consequence of Failure'!G312=\"0%-25%\",0.5,0)","v":0},{"$f":"IF('Consequence of Failure'!G312=\"26%-50%\",1,0)","v":0},{"$f":"IF('Consequence of Failure'!G312=\"51%-75%\",1.5,0)","v":0},{"$f":"IF('Consequence of Failure'!G312=\"76%-100%\",2,0)","v":0},{"$f":"IF('Consequence of Failure'!H312=\"Yes\",1,0)","v":0},{"$f":"IF('Consequence of Failure'!I312=\"Yes\",1,0)","v":0},null,0,null,{"$f":"IF('Consequence of Failure'!K312=\"Yes\",1,0)","v":0},{"$f":"IF('Consequence of Failure'!L312=\"Above\",2,0)","v":0},{"$f":"IF('Consequence of Failure'!L312=\"At\",1,0)","v":0},{"$f":"IF('Consequence of Failure'!L312=\"Below\",0,0)","v":0},{"$f":"IF('Consequence of Failure'!M312=\"Yes\",1,0)","v":0},{"$f":"IF('Consequence of Failure'!N312=\"Yes\",1,0)","v":0},null,0,null,0]
[{"$f":"IF('Data Collection Sheet'!B315=\"Pump\",15,0)","v":0},{"$f":"IF('Data Collection Sheet'!B315=\"Hydrant\",50,0)","v":0},{"$f":"IF('Data Collection Sheet'!B315=\"Meter\",15,0)","v":0},{"$f":"IF('Data Collection Sheet'!B315=\"Pipe\",80,0)","v":0},{"$f":"IF('Data Collection Sheet'!B315=\"Source\",50,0)","v":0},{"$f":"IF('Data Collection Sheet'!B315=\"Tank\",50,0)","v":0},{"$f":"IF('Data Collection Sheet'!B315=\"Analytical\",10,0)","v":0},{"$f":"IF('Data Collection Sheet'!B315=\"Treatment\",20,0)","v":0},{"$f":"IF('Data Collection Sheet'!B315=\"Valve\",20,0)","v":0},{"$f":"IF('Data Collection Sheet'!B315=\"Control\",15,0)","v":0},{"$f":"IF('Data Collection Sheet'!B315=\"Safety\",10,0)","v":0},{"$f":"IF('Data Collection Sheet'!B315=\"Building\",50,0)","v":0},{"$f":"IF('Data Collection Sheet'!B315=\"Vehicle\",8,0)","v":0},{"$f":"IF('Data Collection Sheet'!B315=\"Other\",15,0)","v":0},{"$f":"IF('Data Collection Sheet'!I315=\"Bad\",(-0.8*$T312),0)","v":0},{"$f":"IF('Data Collection Sheet'!I315=\"Fair\",(-0.5*$T312),0)","v":0},{"$f":"IF('Data Collection Sheet'!I315=\"Good\",(-0.2*$T312),0)","v":0},{"$f":"IF('Data Collection Sheet'!I315=\"Great\",0,0)","v":0},null,0,0,0,null,null,null,{"$f":"IF('Consequence of Failure'!F315=\"No\",1,0)","v":0},{"$f":"IF('Consequence of Failure'!G313=\"0%-25%\",0.5,0)","v":0},{"$f":"IF('Consequence of Failure'!G313=\"26%-50%\",1,0)","v":0},{"$f":"IF('Consequence of Failure'!G313=\"51%-75%\",1.5,0)","v":0},{"$f":"IF('Consequence of Failure'!G313=\"76%-100%\",2,0)","v":0},{"$f":"IF('Consequence of Failure'!H313=\"Yes\",1,0)","v":0},{"$f":"IF('Consequence of Failure'!I313=\"Yes\",1,0)","v":0},null,0,null,{"$f":"IF('Consequence of Failure'!K313=\"Yes\",1,0)","v":0},{"$f":"IF('Consequence of Failure'!L313=\"Above\",2,0)","v":0},{"$f":"IF('Consequence of Failure'!L313=\"At\",1,0)","v":0},{"$f":"IF('Consequence of Failure'!L313=\"Below\",0,0)","v":0},{"$f":"IF('Consequence of Failure'!M313=\"Yes\",1,0)","v":0},{"$f":"IF('Consequence of Failure'!N313=\"Yes\",1,0)","v":0},null,0,null,0]
[{"$f":"IF('Data Collection Sheet'!B316=\"Pump\",15,0)","v":0},{"$f":"IF('Data Collection Sheet'!B316=\"Hydrant\",50,0)","v":0},{"$f":"IF('Data Collection Sheet'!B316=\"Meter\",15,0)","v":0},{"$f":"IF('Data Collection Sheet'!B316=\"Pipe\",80,0)","v":0},{"$f":"IF('Data Collection Sheet'!B316=\"Source\",50,0)","v":0},{"$f":"IF('Data Collection Sheet'!B316=\"Tank\",50,0)","v":0},{"$f":"IF('Data Collection Sheet'!B316=\"Analytical\",10,0)","v":0},{"$f":"IF('Data Collection Sheet'!B316=\"Treatment\",20,0)","v":0},{"$f":"IF('Data Collection Sheet'!B316=\"Valve\",20,0)","v":0},{"$f":"IF('Data Collection Sheet'!B316=\"Control\",15,0)","v":0},{"$f":"IF('Data Collection Sheet'!B316=\"Safety\",10,0)","v":0},{"$f":"IF('Data Collection Sheet'!B316=\"Building\",50,0)","v":0},{"$f":"IF('Data Collection Sheet'!B316=\"Vehicle\",8,0)","v":0},{"$f":"IF('Data Collection Sheet'!B316=\"Other\",15,0)","v":0},{"$f":"IF('Data Collection Sheet'!I316=\"Bad\",(-0.8*$T313),0)","v":0},{"$f":"IF('Data Collection Sheet'!I316=\"Fair\",(-0.5*$T313),0)","v":0},{"$f":"IF('Data Collection Sheet'!I316=\"Good\",(-0.2*$T313),0)","v":0},{"$f":"IF('Data Collection Sheet'!I316=\"Great\",0,0)","v":0},null,0,0,0,null,null,null,{"$f":"IF('Consequence of Failure'!F316=\"No\",1,0)","v":0},{"$f":"IF('Consequence of Failure'!G314=\"0%-25%\",0.5,0)","v":0},{"$f":"IF('Consequence of Failure'!G314=\"26%-50%\",1,0)","v":0},{"$f":"IF('Consequence of Failure'!G314=\"51%-75%\",1.5,0)","v":0},{"$f":"IF('Consequence of Failure'!G314=\"76%-100%\",2,0)","v":0},{"$f":"IF('Consequence of Failure'!H314=\"Yes\",1,0)","v":0},{"$f":"IF('Consequence of Failure'!I314=\"Yes\",1,0)","v":0},null,0,null,{"$f":"IF('Consequence of Failure'!K314=\"Yes\",1,0)","v":0},{"$f":"IF('Consequence of Failure'!L314=\"Above\",2,0)","v":0},{"$f":"IF('Consequence of Failure'!L314=\"At\",1,0)","v":0},{"$f":"IF('Consequence of Failure'!L314=\"Below\",0,0)","v":0},{"$f":"IF('Consequence of Failure'!M314=\"Yes\",1,0)","v":0},{"$f":"IF('Consequence of Failure'!N314=\"Yes\",1,0)","v":0},null,0,null,0]
[{"$f":"IF('Data Collection Sheet'!B317=\"Pump\",15,0)","v":0},{"$f":"IF('Data Collection Sheet'!B317=\"Hydrant\",50,0)","v":0},{"$f":"IF('Data Collection Sheet'!B317=\"Meter\",15,0)","v":0},{"$f":"IF('Data Collection Sheet'!B317=\"Pipe\",80,0)","v":0},{"$f":"IF('Data Collection Sheet'!B317=\"Source\",50,0)","v":0},{"$f":"IF('Data Collection Sheet'!B317=\"Tank\",50,0)","v":0},{"$f":"IF('Data Collection Sheet'!B317=\"Analytical\",10,0)","v":0},{"$f":"IF('Data Collection Sheet'!B317=\"Treatment\",20,0)","v":0},{"$f":"IF('Data Collection Sheet'!B317=\"Valve\",20,0)","v":0},{"$f":"IF('Data Collection Sheet'!B317=\"Control\",15,0)","v":0},{"$f":"IF('Data Collection Sheet'!B317=\"Safety\",10,0)","v":0},{"$f":"IF('Data Collection Sheet'!B317=\"Building\",50,0)","v":0},{"$f":"IF('Data Collection Sheet'!B317=\"Vehicle\",8,0)","v":0},{"$f":"IF('Data Collection Sheet'!B317=\"Other\",15,0)","v":0},{"$f":"IF('Data Collection Sheet'!I317=\"Bad\",(-0.8*$T314),0)","v":0},{"$f":"IF('Data Collection Sheet'!I317=\"Fair\",(-0.5*$T314),0)","v":0},{"$f":"IF('Data Collection Sheet'!I317=\"Good\",(-0.2*$T314),0)","v":0},{"$f":"IF('Data Collection Sheet'!I317=\"Great\",0,0)","v":0},null,0,0,0,null,null,null,{"$f":"IF('Consequence of Failure'!F317=\"No\",1,0)","v":0},{"$f":"IF('Consequence of Failure'!G315=\"0%-25%\",0.5,0)","v":0},{"$f":"IF('Consequence of Failure'!G315=\"26%-50%\",1,0)","v":0},{"$f":"IF('Consequence of Failure'!G315=\"51%-75%\",1.5,0)","v":0},{"$f":"IF('Consequence of Failure'!G315=\"76%-100%\",2,0)","v":0},{"$f":"IF('Consequence of Failure'!H315=\"Yes\",1,0)","v":0},{"$f":"IF('Consequence of Failure'!I315=\"Yes\",1,0)","v":0},null,0,null,{"$f":"IF('Consequence of Failure'!K315=\"Yes\",1,0)","v":0},{"$f":"IF('Consequence of Failure'!L315=\"Above\",2,0)","v":0},{"$f":"IF('Consequence of Failure'!L315=\"At\",1,0)","v":0},{"$f":"IF('Consequence of Failure'!L315=\"Below\",0,0)","v":0},{"$f":"IF('Consequence of Failure'!M315=\"Yes\",1,0)","v":0},{"$f":"IF('Consequence of Failure'!N315=\"Yes\",1,0)","v":0},null,0,null,0]
[{"$f":"IF('Data Collection Sheet'!B318=\"Pump\",15,0)","v":0},{"$f":"IF('Data Collection Sheet'!B318=\"Hydrant\",50,0)","v":0},{"$f":"IF('Data Collection Sheet'!B318=\"Meter\",15,0)","v":0},{"$f":"IF('Data Collection Sheet'!B318=\"Pipe\",80,0)","v":0},{"$f":"IF('Data Collection Sheet'!B318=\"Source\",50,0)","v":0},{"$f":"IF('Data Collection Sheet'!B318=\"Tank\",50,0)","v":0},{"$f":"IF('Data Collection Sheet'!B318=\"Analytical\",10,0)","v":0},{"$f":"IF('Data Collection Sheet'!B318=\"Treatment\",20,0)","v":0},{"$f":"IF('Data Collection Sheet'!B318=\"Valve\",20,0)","v":0},{"$f":"IF('Data Collection Sheet'!B318=\"Control\",15,0)","v":0},{"$f":"IF('Data Collection Sheet'!B318=\"Safety\",10,0)","v":0},{"$f":"IF('Data Collection Sheet'!B318=\"Building\",50,0)","v":0},{"$f":"IF('Data Collection Sheet'!B318=\"Vehicle\",8,0)","v":0},{"$f":"IF('Data Collection Sheet'!B318=\"Other\",15,0)","v":0},{"$f":"IF('Data Collection Sheet'!I318=\"Bad\",(-0.8*$T315),0)","v":0},{"$f":"IF('Data Collection Sheet'!I318=\"Fair\",(-0.5*$T315),0)","v":0},{"$f":"IF('Data Collection Sheet'!I318=\"Good\",(-0.2*$T315),0)","v":0},{"$f":"IF('Data Collection Sheet'!I318=\"Great\",0,0)","v":0},null,0,0,0,null,null,null,{"$f":"IF('Consequence of Failure'!F318=\"No\",1,0)","v":0},{"$f":"IF('Consequence of Failure'!G316=\"0%-25%\",0.5,0)","v":0},{"$f":"IF('Consequence of Failure'!G316=\"26%-50%\",1,0)","v":0},{"$f":"IF('Consequence of Failure'!G316=\"51%-75%\",1.5,0)","v":0},{"$f":"IF('Consequence of Failure'!G316=\"76%-100%\",2,0)","v":0},{"$f":"IF('Consequence of Failure'!H316=\"Yes\",1,0)","v":0},{"$f":"IF('Consequence of Failure'!I316=\"Yes\",1,0)","v":0},null,0,null,{"$f":"IF('Consequence of Failure'!K316=\"Yes\",1,0)","v":0},{"$f":"IF('Consequence of Failure'!L316=\"Above\",2,0)","v":0},{"$f":"IF('Consequence of Failure'!L316=\"At\",1,0)","v":0},{"$f":"IF('Consequence of Failure'!L316=\"Below\",0,0)","v":0},{"$f":"IF('Consequence of Failure'!M316=\"Yes\",1,0)","v":0},{"$f":"IF('Consequence of Failure'!N316=\"Yes\",1,0)","v":0},null,0,null,0]
[{"$f":"IF('Data Collection Sheet'!B319=\"Pump\",15,0)","v":0},{"$f":"IF('Data Collection Sheet'!B319=\"Hydrant\",50,0)","v":0},{"$f":"IF('Data Collection Sheet'!B319=\"Meter\",15,0)","v":0},{"$f":"IF('Data Collection Sheet'!B319=\"Pipe\",80,0)","v":0},{"$f":"IF('Data Collection Sheet'!B319=\"Source\",50,0)","v":0},{"$f":"IF('Data Collection Sheet'!B319=\"Tank\",50,0)","v":0},{"$f":"IF('Data Collection Sheet'!B319=\"Analytical\",10,0)","v":0},{"$f":"IF('Data Collection Sheet'!B319=\"Treatment\",20,0)","v":0},{"$f":"IF('Data Collection Sheet'!B319=\"Valve\",20,0)","v":0},{"$f":"IF('Data Collection Sheet'!B319=\"Control\",15,0)","v":0},{"$f":"IF('Data Collection Sheet'!B319=\"Safety\",10,0)","v":0},{"$f":"IF('Data Collection Sheet'!B319=\"Building\",50,0)","v":0},{"$f":"IF('Data Collection Sheet'!B319=\"Vehicle\",8,0)","v":0},{"$f":"IF('Data Collection Sheet'!B319=\"Other\",15,0)","v":0},{"$f":"IF('Data Collection Sheet'!I319=\"Bad\",(-0.8*$T316),0)","v":0},{"$f":"IF('Data Collection Sheet'!I319=\"Fair\",(-0.5*$T316),0)","v":0},{"$f":"IF('Data Collection Sheet'!I319=\"Good\",(-0.2*$T316),0)","v":0},{"$f":"IF('Data Collection Sheet'!I319=\"Great\",0,0)","v":0},null,0,0,0,null,null,null,{"$f":"IF('Consequence of Failure'!F319=\"No\",1,0)","v":0},{"$f":"IF('Consequence of Failure'!G317=\"0%-25%\",0.5,0)","v":0},{"$f":"IF('Consequence of Failure'!G317=\"26%-50%\",1,0)","v":0},{"$f":"IF('Consequence of Failure'!G317=\"51%-75%\",1.5,0)","v":0},{"$f":"IF('Consequence of Failure'!G317=\"76%-100%\",2,0)","v":0},{"$f":"IF('Consequence of Failure'!H317=\"Yes\",1,0)","v":0},{"$f":"IF('Consequence of Failure'!I317=\"Yes\",1,0)","v":0},null,0,null,{"$f":"IF('Consequence of Failure'!K317=\"Yes\",1,0)","v":0},{"$f":"IF('Consequence of Failure'!L317=\"Above\",2,0)","v":0},{"$f":"IF('Consequence of Failure'!L317=\"At\",1,0)","v":0},{"$f":"IF('Consequence of Failure'!L317=\"Below\",0,0)","v":0},{"$f":"IF('Consequence of Failure'!M317=\"Yes\",1,0)","v":0},{"$f":"IF('Consequence of Failure'!N317=\"Yes\",1,0)","v":0},null,0,null,0]
[{"$f":"IF('Data Collection Sheet'!B320=\"Pump\",15,0)","v":0},{"$f":"IF('Data Collection Sheet'!B320=\"Hydrant\",50,0)","v":0},{"$f":"IF('Data Collection Sheet'!B320=\"Meter\",15,0)","v":0},{"$f":"IF('Data Collection Sheet'!B320=\"Pipe\",80,0)","v":0},{"$f":"IF('Data Collection Sheet'!B320=\"Source\",50,0)","v":0},{"$f":"IF('Data Collection Sheet'!B320=\"Tank\",50,0)","v":0},{"$f":"IF('Data Collection Sheet'!B320=\"Analytical\",10,0)","v":0},{"$f":"IF('Data Collection Sheet'!B320=\"Treatment\",20,0)","v":0},{"$f":"IF('Data Collection Sheet'!B320=\"Valve\",20,0)","v":0},{"$f":"IF('Data Collection Sheet'!B320=\"Control\",15,0)","v":0},{"$f":"IF('Data Collection Sheet'!B320=\"Safety\",10,0)","v":0},{"$f":"IF('Data Collection Sheet'!B320=\"Building\",50,0)","v":0},{"$f":"IF('Data Collection Sheet'!B320=\"Vehicle\",8,0)","v":0},{"$f":"IF('Data Collection Sheet'!B320=\"Other\",15,0)","v":0},{"$f":"IF('Data Collection Sheet'!I320=\"Bad\",(-0.8*$T317),0)","v":0},{"$f":"IF('Data Collection Sheet'!I320=\"Fair\",(-0.5*$T317),0)","v":0},{"$f":"IF('Data Collection Sheet'!I320=\"Good\",(-0.2*$T317),0)","v":0},{"$f":"IF('Data Collection Sheet'!I320=\"Great\",0,0)","v":0},null,0,0,0,null,null,null,{"$f":"IF('Consequence of Failure'!F320=\"No\",1,0)","v":0},{"$f":"IF('Consequence of Failure'!G318=\"0%-25%\",0.5,0)","v":0},{"$f":"IF('Consequence of Failure'!G318=\"26%-50%\",1,0)","v":0},{"$f":"IF('Consequence of Failure'!G318=\"51%-75%\",1.5,0)","v":0},{"$f":"IF('Consequence of Failure'!G318=\"76%-100%\",2,0)","v":0},{"$f":"IF('Consequence of Failure'!H318=\"Yes\",1,0)","v":0},{"$f":"IF('Consequence of Failure'!I318=\"Yes\",1,0)","v":0},null,0,null,{"$f":"IF('Consequence of Failure'!K318=\"Yes\",1,0)","v":0},{"$f":"IF('Consequence of Failure'!L318=\"Above\",2,0)","v":0},{"$f":"IF('Consequence of Failure'!L318=\"At\",1,0)","v":0},{"$f":"IF('Consequence of Failure'!L318=\"Below\",0,0)","v":0},{"$f":"IF('Consequence of Failure'!M318=\"Yes\",1,0)","v":0},{"$f":"IF('Consequence of Failure'!N318=\"Yes\",1,0)","v":0},null,0,null,0]
[{"$f":"IF('Data Collection Sheet'!B321=\"Pump\",15,0)","v":0},{"$f":"IF('Data Collection Sheet'!B321=\"Hydrant\",50,0)","v":0},{"$f":"IF('Data Collection Sheet'!B321=\"Meter\",15,0)","v":0},{"$f":"IF('Data Collection Sheet'!B321=\"Pipe\",80,0)","v":0},{"$f":"IF('Data Collection Sheet'!B321=\"Source\",50,0)","v":0},{"$f":"IF('Data Collection Sheet'!B321=\"Tank\",50,0)","v":0},{"$f":"IF('Data Collection Sheet'!B321=\"Analytical\",10,0)","v":0},{"$f":"IF('Data Collection Sheet'!B321=\"Treatment\",20,0)","v":0},{"$f":"IF('Data Collection Sheet'!B321=\"Valve\",20,0)","v":0},{"$f":"IF('Data Collection Sheet'!B321=\"Control\",15,0)","v":0},{"$f":"IF('Data Collection Sheet'!B321=\"Safety\",10,0)","v":0},{"$f":"IF('Data Collection Sheet'!B321=\"Building\",50,0)","v":0},{"$f":"IF('Data Collection Sheet'!B321=\"Vehicle\",8,0)","v":0},{"$f":"IF('Data Collection Sheet'!B321=\"Other\",15,0)","v":0},{"$f":"IF('Data Collection Sheet'!I321=\"Bad\",(-0.8*$T318),0)","v":0},{"$f":"IF('Data Collection Sheet'!I321=\"Fair\",(-0.5*$T318),0)","v":0},{"$f":"IF('Data Collection Sheet'!I321=\"Good\",(-0.2*$T318),0)","v":0},{"$f":"IF('Data Collection Sheet'!I321=\"Great\",0,0)","v":0},null,0,0,0,null,null,null,{"$f":"IF('Consequence of Failure'!F321=\"No\",1,0)","v":0},{"$f":"IF('Consequence of Failure'!G319=\"0%-25%\",0.5,0)","v":0},{"$f":"IF('Consequence of Failure'!G319=\"26%-50%\",1,0)","v":0},{"$f":"IF('Consequence of Failure'!G319=\"51%-75%\",1.5,0)","v":0},{"$f":"IF('Consequence of Failure'!G319=\"76%-100%\",2,0)","v":0},{"$f":"IF('Consequence of Failure'!H319=\"Yes\",1,0)","v":0},{"$f":"IF('Consequence of Failure'!I319=\"Yes\",1,0)","v":0},null,0,null,{"$f":"IF('Consequence of Failure'!K319=\"Yes\",1,0)","v":0},{"$f":"IF('Consequence of Failure'!L319=\"Above\",2,0)","v":0},{"$f":"IF('Consequence of Failure'!L319=\"At\",1,0)","v":0},{"$f":"IF('Consequence of Failure'!L319=\"Below\",0,0)","v":0},{"$f":"IF('Consequence of Failure'!M319=\"Yes\",1,0)","v":0},{"$f":"IF('Consequence of Failure'!N319=\"Yes\",1,0)","v":0},null,0,null,0]
[{"$f":"IF('Data Collection Sheet'!B322=\"Pump\",15,0)","v":0},{"$f":"IF('Data Collection Sheet'!B322=\"Hydrant\",50,0)","v":0},{"$f":"IF('Data Collection Sheet'!B322=\"Meter\",15,0)","v":0},{"$f":"IF('Data Collection Sheet'!B322=\"Pipe\",80,0)","v":0},{"$f":"IF('Data Collection Sheet'!B322=\"Source\",50,0)","v":0},{"$f":"IF('Data Collection Sheet'!B322=\"Tank\",50,0)","v":0},{"$f":"IF('Data Collection Sheet'!B322=\"Analytical\",10,0)","v":0},{"$f":"IF('Data Collection Sheet'!B322=\"Treatment\",20,0)","v":0},{"$f":"IF('Data Collection Sheet'!B322=\"Valve\",20,0)","v":0},{"$f":"IF('Data Collection Sheet'!B322=\"Control\",15,0)","v":0},{"$f":"IF('Data Collection Sheet'!B322=\"Safety\",10,0)","v":0},{"$f":"IF('Data Collection Sheet'!B322=\"Building\",50,0)","v":0},{"$f":"IF('Data Collection Sheet'!B322=\"Vehicle\",8,0)","v":0},{"$f":"IF('Data Collection Sheet'!B322=\"Other\",15,0)","v":0},{"$f":"IF('Data Collection Sheet'!I322=\"Bad\",(-0.8*$T319),0)","v":0},{"$f":"IF('Data Collection Sheet'!I322=\"Fair\",(-0.5*$T319),0)","v":0},{"$f":"IF('Data Collection Sheet'!I322=\"Good\",(-0.2*$T319),0)","v":0},{"$f":"IF('Data Collection Sheet'!I322=\"Great\",0,0)","v":0},null,0,0,0,null,null,null,{"$f":"IF('Consequence of Failure'!F322=\"No\",1,0)","v":0},{"$f":"IF('Consequence of Failure'!G320=\"0%-25%\",0.5,0)","v":0},{"$f":"IF('Consequence of Failure'!G320=\"26%-50%\",1,0)","v":0},{"$f":"IF('Consequence of Failure'!G320=\"51%-75%\",1.5,0)","v":0},{"$f":"IF('Consequence of Failure'!G320=\"76%-100%\",2,0)","v":0},{"$f":"IF('Consequence of Failure'!H320=\"Yes\",1,0)","v":0},{"$f":"IF('Consequence of Failure'!I320=\"Yes\",1,0)","v":0},null,0,null,{"$f":"IF('Consequence of Failure'!K320=\"Yes\",1,0)","v":0},{"$f":"IF('Consequence of Failure'!L320=\"Above\",2,0)","v":0},{"$f":"IF('Consequence of Failure'!L320=\"At\",1,0)","v":0},{"$f":"IF('Consequence of Failure'!L320=\"Below\",0,0)","v":0},{"$f":"IF('Consequence of Failure'!M320=\"Yes\",1,0)","v":0},{"$f":"IF('Consequence of Failure'!N320=\"Yes\",1,0)","v":0},null,0,null,0]
[{"$f":"IF('Data Collection Sheet'!B323=\"Pump\",15,0)","v":0},{"$f":"IF('Data Collection Sheet'!B323=\"Hydrant\",50,0)","v":0},{"$f":"IF('Data Collection Sheet'!B323=\"Meter\",15,0)","v":0},{"$f":"IF('Data Collection Sheet'!B323=\"Pipe\",80,0)","v":0},{"$f":"IF('Data Collection Sheet'!B323=\"Source\",50,0)","v":0},{"$f":"IF('Data Collection Sheet'!B323=\"Tank\",50,0)","v":0},{"$f":"IF('Data Collection Sheet'!B323=\"Analytical\",10,0)","v":0},{"$f":"IF('Data Collection Sheet'!B323=\"Treatment\",20,0)","v":0},{"$f":"IF('Data Collection Sheet'!B323=\"Valve\",20,0)","v":0},{"$f":"IF('Data Collection Sheet'!B323=\"Control\",15,0)","v":0},{"$f":"IF('Data Collection Sheet'!B323=\"Safety\",10,0)","v":0},{"$f":"IF('Data Collection Sheet'!B323=\"Building\",50,0)","v":0},{"$f":"IF('Data Collection Sheet'!B323=\"Vehicle\",8,0)","v":0},{"$f":"IF('Data Collection Sheet'!B323=\"Other\",15,0)","v":0},{"$f":"IF('Data Collection Sheet'!I323=\"Bad\",(-0.8*$T320),0)","v":0},{"$f":"IF('Data Collection Sheet'!I323=\"Fair\",(-0.5*$T320),0)","v":0},{"$f":"IF('Data Collection Sheet'!I323=\"Good\",(-0.2*$T320),0)","v":0},{"$f":"IF('Data Collection Sheet'!I323=\"Great\",0,0)","v":0},null,0,0,0,null,null,null,{"$f":"IF('Consequence of Failure'!F323=\"No\",1,0)","v":0},{"$f":"IF('Consequence of Failure'!G321=\"0%-25%\",0.5,0)","v":0},{"$f":"IF('Consequence of Failure'!G321=\"26%-50%\",1,0)","v":0},{"$f":"IF('Consequence of Failure'!G321=\"51%-75%\",1.5,0)","v":0},{"$f":"IF('Consequence of Failure'!G321=\"76%-100%\",2,0)","v":0},{"$f":"IF('Consequence of Failure'!H321=\"Yes\",1,0)","v":0},{"$f":"IF('Consequence of Failure'!I321=\"Yes\",1,0)","v":0},null,0,null,{"$f":"IF('Consequence of Failure'!K321=\"Yes\",1,0)","v":0},{"$f":"IF('Consequence of Failure'!L321=\"Above\",2,0)","v":0},{"$f":"IF('Consequence of Failure'!L321=\"At\",1,0)","v":0},{"$f":"IF('Consequence of Failure'!L321=\"Below\",0,0)","v":0},{"$f":"IF('Consequence of Failure'!M321=\"Yes\",1,0)","v":0},{"$f":"IF('Consequence of Failure'!N321=\"Yes\",1,0)","v":0},null,0,null,0]
[{"$f":"IF('Data Collection Sheet'!B324=\"Pump\",15,0)","v":0},{"$f":"IF('Data Collection Sheet'!B324=\"Hydrant\",50,0)","v":0},{"$f":"IF('Data Collection Sheet'!B324=\"Meter\",15,0)","v":0},{"$f":"IF('Data Collection Sheet'!B324=\"Pipe\",80,0)","v":0},{"$f":"IF('Data Collection Sheet'!B324=\"Source\",50,0)","v":0},{"$f":"IF('Data Collection Sheet'!B324=\"Tank\",50,0)","v":0},{"$f":"IF('Data Collection Sheet'!B324=\"Analytical\",10,0)","v":0},{"$f":"IF('Data Collection Sheet'!B324=\"Treatment\",20,0)","v":0},{"$f":"IF('Data Collection Sheet'!B324=\"Valve\",20,0)","v":0},{"$f":"IF('Data Collection Sheet'!B324=\"Control\",15,0)","v":0},{"$f":"IF('Data Collection Sheet'!B324=\"Safety\",10,0)","v":0},{"$f":"IF('Data Collection Sheet'!B324=\"Building\",50,0)","v":0},{"$f":"IF('Data Collection Sheet'!B324=\"Vehicle\",8,0)","v":0},{"$f":"IF('Data Collection Sheet'!B324=\"Other\",15,0)","v":0},{"$f":"IF('Data Collection Sheet'!I324=\"Bad\",(-0.8*$T321),0)","v":0},{"$f":"IF('Data Collection Sheet'!I324=\"Fair\",(-0.5*$T321),0)","v":0},{"$f":"IF('Data Collection Sheet'!I324=\"Good\",(-0.2*$T321),0)","v":0},{"$f":"IF('Data Collection Sheet'!I324=\"Great\",0,0)","v":0},null,0,0,0,null,null,null,{"$f":"IF('Consequence of Failure'!F324=\"No\",1,0)","v":0},{"$f":"IF('Consequence of Failure'!G322=\"0%-25%\",0.5,0)","v":0},{"$f":"IF('Consequence of Failure'!G322=\"26%-50%\",1,0)","v":0},{"$f":"IF('Consequence of Failure'!G322=\"51%-75%\",1.5,0)","v":0},{"$f":"IF('Consequence of Failure'!G322=\"76%-100%\",2,0)","v":0},{"$f":"IF('Consequence of Failure'!H322=\"Yes\",1,0)","v":0},{"$f":"IF('Consequence of Failure'!I322=\"Yes\",1,0)","v":0},null,0,null,{"$f":"IF('Consequence of Failure'!K322=\"Yes\",1,0)","v":0},{"$f":"IF('Consequence of Failure'!L322=\"Above\",2,0)","v":0},{"$f":"IF('Consequence of Failure'!L322=\"At\",1,0)","v":0},{"$f":"IF('Consequence of Failure'!L322=\"Below\",0,0)","v":0},{"$f":"IF('Consequence of Failure'!M322=\"Yes\",1,0)","v":0},{"$f":"IF('Consequence of Failure'!N322=\"Yes\",1,0)","v":0},null,0,null,0]
[{"$f":"IF('Data Collection Sheet'!B325=\"Pump\",15,0)","v":0},{"$f":"IF('Data Collection Sheet'!B325=\"Hydrant\",50,0)","v":0},{"$f":"IF('Data Collection Sheet'!B325=\"Meter\",15,0)","v":0},{"$f":"IF('Data Collection Sheet'!B325=\"Pipe\",80,0)","v":0},{"$f":"IF('Data Collection Sheet'!B325=\"Source\",50,0)","v":0},{"$f":"IF('Data Collection Sheet'!B325=\"Tank\",50,0)","v":0},{"$f":"IF('Data Collection Sheet'!B325=\"Analytical\",10,0)","v":0},{"$f":"IF('Data Collection Sheet'!B325=\"Treatment\",20,0)","v":0},{"$f":"IF('Data Collection Sheet'!B325=\"Valve\",20,0)","v":0},{"$f":"IF('Data Collection Sheet'!B325=\"Control\",15,0)","v":0},{"$f":"IF('Data Collection Sheet'!B325=\"Safety\",10,0)","v":0},{"$f":"IF('Data Collection Sheet'!B325=\"Building\",50,0)","v":0},{"$f":"IF('Data Collection Sheet'!B325=\"Vehicle\",8,0)","v":0},{"$f":"IF('Data Collection Sheet'!B325=\"Other\",15,0)","v":0},{"$f":"IF('Data Collection Sheet'!I325=\"Bad\",(-0.8*$T322),0)","v":0},{"$f":"IF('Data Collection Sheet'!I325=\"Fair\",(-0.5*$T322),0)","v":0},{"$f":"IF('Data Collection Sheet'!I325=\"Good\",(-0.2*$T322),0)","v":0},{"$f":"IF('Data Collection Sheet'!I325=\"Great\",0,0)","v":0},null,0,0,0,null,null,null,{"$f":"IF('Consequence of Failure'!F325=\"No\",1,0)","v":0},{"$f":"IF('Consequence of Failure'!G323=\"0%-25%\",0.5,0)","v":0},{"$f":"IF('Consequence of Failure'!G323=\"26%-50%\",1,0)","v":0},{"$f":"IF('Consequence of Failure'!G323=\"51%-75%\",1.5,0)","v":0},{"$f":"IF('Consequence of Failure'!G323=\"76%-100%\",2,0)","v":0},{"$f":"IF('Consequence of Failure'!H323=\"Yes\",1,0)","v":0},{"$f":"IF('Consequence of Failure'!I323=\"Yes\",1,0)","v":0},null,0,null,{"$f":"IF('Consequence of Failure'!K323=\"Yes\",1,0)","v":0},{"$f":"IF('Consequence of Failure'!L323=\"Above\",2,0)","v":0},{"$f":"IF('Consequence of Failure'!L323=\"At\",1,0)","v":0},{"$f":"IF('Consequence of Failure'!L323=\"Below\",0,0)","v":0},{"$f":"IF('Consequence of Failure'!M323=\"Yes\",1,0)","v":0},{"$f":"IF('Consequence of Failure'!N323=\"Yes\",1,0)","v":0},null,0,null,0]
[{"$f":"IF('Data Collection Sheet'!B326=\"Pump\",15,0)","v":0},{"$f":"IF('Data Collection Sheet'!B326=\"Hydrant\",50,0)","v":0},{"$f":"IF('Data Collection Sheet'!B326=\"Meter\",15,0)","v":0},{"$f":"IF('Data Collection Sheet'!B326=\"Pipe\",80,0)","v":0},{"$f":"IF('Data Collection Sheet'!B326=\"Source\",50,0)","v":0},{"$f":"IF('Data Collection Sheet'!B326=\"Tank\",50,0)","v":0},{"$f":"IF('Data Collection Sheet'!B326=\"Analytical\",10,0)","v":0},{"$f":"IF('Data Collection Sheet'!B326=\"Treatment\",20,0)","v":0},{"$f":"IF('Data Collection Sheet'!B326=\"Valve\",20,0)","v":0},{"$f":"IF('Data Collection Sheet'!B326=\"Control\",15,0)","v":0},{"$f":"IF('Data Collection Sheet'!B326=\"Safety\",10,0)","v":0},{"$f":"IF('Data Collection Sheet'!B326=\"Building\",50,0)","v":0},{"$f":"IF('Data Collection Sheet'!B326=\"Vehicle\",8,0)","v":0},{"$f":"IF('Data Collection Sheet'!B326=\"Other\",15,0)","v":0},{"$f":"IF('Data Collection Sheet'!I326=\"Bad\",(-0.8*$T323),0)","v":0},{"$f":"IF('Data Collection Sheet'!I326=\"Fair\",(-0.5*$T323),0)","v":0},{"$f":"IF('Data Collection Sheet'!I326=\"Good\",(-0.2*$T323),0)","v":0},{"$f":"IF('Data Collection Sheet'!I326=\"Great\",0,0)","v":0},null,{"$f":"SUM(A323:N323)","v":0},{"$f":"SUM($A323:$R323)","v":0},{"$f":"ROUNDDOWN($U323,0)","v":0},null,null,null,{"$f":"IF('Consequence of Failure'!F326=\"No\",1,0)","v":0},{"$f":"IF('Consequence of Failure'!G324=\"0%-25%\",0.5,0)","v":0},{"$f":"IF('Consequence of Failure'!G324=\"26%-50%\",1,0)","v":0},{"$f":"IF('Consequence of Failure'!G324=\"51%-75%\",1.5,0)","v":0},{"$f":"IF('Consequence of Failure'!G324=\"76%-100%\",2,0)","v":0},{"$f":"IF('Consequence of Failure'!H324=\"Yes\",1,0)","v":0},{"$f":"IF('Consequence of Failure'!I324=\"Yes\",1,0)","v":0},null,0,null,{"$f":"IF('Consequence of Failure'!K324=\"Yes\",1,0)","v":0},{"$f":"IF('Consequence of Failure'!L324=\"Above\",2,0)","v":0},{"$f":"IF('Consequence of Failure'!L324=\"At\",1,0)","v":0},{"$f":"IF('Consequence of Failure'!L324=\"Below\",0,0)","v":0},{"$f":"IF('Consequence of Failure'!M324=\"Yes\",1,0)","v":0},{"$f":"IF('Consequence of Failure'!N324=\"Yes\",1,0)","v":0},null,0,null,0]
[{"$f":"IF('Data Collection Sheet'!B327=\"Pump\",15,0)","v":0},{"$f":"IF('Data Collection Sheet'!B327=\"Hydrant\",50,0)","v":0},{"$f":"IF('Data Collection Sheet'!B327=\"Meter\",15,0)","v":0},{"$f":"IF('Data Collection Sheet'!B327=\"Pipe\",80,0)","v":0},{"$f":"IF('Data Collection Sheet'!B327=\"Source\",50,0)","v":0},{"$f":"IF('Data Collection Sheet'!B327=\"Tank\",50,0)","v":0},{"$f":"IF('Data Collection Sheet'!B327=\"Analytical\",10,0)","v":0},{"$f":"IF('Data Collection Sheet'!B327=\"Treatment\",20,0)","v":0},{"$f":"IF('Data Collection Sheet'!B327=\"Valve\",20,0)","v":0},{"$f":"IF('Data Collection Sheet'!B327=\"Control\",15,0)","v":0},{"$f":"IF('Data Collection Sheet'!B327=\"Safety\",10,0)","v":0},{"$f":"IF('Data Collection Sheet'!B327=\"Building\",50,0)","v":0},{"$f":"IF('Data Collection Sheet'!B327=\"Vehicle\",8,0)","v":0},{"$f":"IF('Data Collection Sheet'!B327=\"Other\",15,0)","v":0},{"$f":"IF('Data Collection Sheet'!I327=\"Bad\",(-0.8*$T324),0)","v":0},{"$f":"IF('Data Collection Sheet'!I327=\"Fair\",(-0.5*$T324),0)","v":0},{"$f":"IF('Data Collection Sheet'!I327=\"Good\",(-0.2*$T324),0)","v":0},{"$f":"IF('Data Collection Sheet'!I327=\"Great\",0,0)","v":0},null,0,0,0,null,null,null,{"$f":"IF('Consequence of Failure'!F327=\"No\",1,0)","v":0},{"$f":"IF('Consequence of Failure'!G325=\"0%-25%\",0.5,0)","v":0},{"$f":"IF('Consequence of Failure'!G325=\"26%-50%\",1,0)","v":0},{"$f":"IF('Consequence of Failure'!G325=\"51%-75%\",1.5,0)","v":0},{"$f":"IF('Consequence of Failure'!G325=\"76%-100%\",2,0)","v":0},{"$f":"IF('Consequence of Failure'!H325=\"Yes\",1,0)","v":0},{"$f":"IF('Consequence of Failure'!I325=\"Yes\",1,0)","v":0},null,0,null,{"$f":"IF('Consequence of Failure'!K325=\"Yes\",1,0)","v":0},{"$f":"IF('Consequence of Failure'!L325=\"Above\",2,0)","v":0},{"$f":"IF('Consequence of Failure'!L325=\"At\",1,0)","v":0},{"$f":"IF('Consequence of Failure'!L325=\"Below\",0,0)","v":0},{"$f":"IF('Consequence of Failure'!M325=\"Yes\",1,0)","v":0},{"$f":"IF('Consequence of Failure'!N325=\"Yes\",1,0)","v":0},null,0,null,0]
[{"$f":"IF('Data Collection Sheet'!B328=\"Pump\",15,0)","v":0},{"$f":"IF('Data Collection Sheet'!B328=\"Hydrant\",50,0)","v":0},{"$f":"IF('Data Collection Sheet'!B328=\"Meter\",15,0)","v":0},{"$f":"IF('Data Collection Sheet'!B328=\"Pipe\",80,0)","v":0},{"$f":"IF('Data Collection Sheet'!B328=\"Source\",50,0)","v":0},{"$f":"IF('Data Collection Sheet'!B328=\"Tank\",50,0)","v":0},{"$f":"IF('Data Collection Sheet'!B328=\"Analytical\",10,0)","v":0},{"$f":"IF('Data Collection Sheet'!B328=\"Treatment\",20,0)","v":0},{"$f":"IF('Data Collection Sheet'!B328=\"Valve\",20,0)","v":0},{"$f":"IF('Data Collection Sheet'!B328=\"Control\",15,0)","v":0},{"$f":"IF('Data Collection Sheet'!B328=\"Safety\",10,0)","v":0},{"$f":"IF('Data Collection Sheet'!B328=\"Building\",50,0)","v":0},{"$f":"IF('Data Collection Sheet'!B328=\"Vehicle\",8,0)","v":0},{"$f":"IF('Data Collection Sheet'!B328=\"Other\",15,0)","v":0},{"$f":"IF('Data Collection Sheet'!I328=\"Bad\",(-0.8*$T325),0)","v":0},{"$f":"IF('Data Collection Sheet'!I328=\"Fair\",(-0.5*$T325),0)","v":0},{"$f":"IF('Data Collection Sheet'!I328=\"Good\",(-0.2*$T325),0)","v":0},{"$f":"IF('Data Collection Sheet'!I328=\"Great\",0,0)","v":0},null,0,0,0,null,null,null,{"$f":"IF('Consequence of Failure'!F328=\"No\",1,0)","v":0},{"$f":"IF('Consequence of Failure'!G326=\"0%-25%\",0.5,0)","v":0},{"$f":"IF('Consequence of Failure'!G326=\"26%-50%\",1,0)","v":0},{"$f":"IF('Consequence of Failure'!G326=\"51%-75%\",1.5,0)","v":0},{"$f":"IF('Consequence of Failure'!G326=\"76%-100%\",2,0)","v":0},{"$f":"IF('Consequence of Failure'!H326=\"Yes\",1,0)","v":0},{"$f":"IF('Consequence of Failure'!I326=\"Yes\",1,0)","v":0},null,{"$f":"SUM(Z325:AF325)","v":0},null,{"$f":"IF('Consequence of Failure'!K326=\"Yes\",1,0)","v":0},{"$f":"IF('Consequence of Failure'!L326=\"Above\",2,0)","v":0},{"$f":"IF('Consequence of Failure'!L326=\"At\",1,0)","v":0},{"$f":"IF('Consequence of Failure'!L326=\"Below\",0,0)","v":0},{"$f":"IF('Consequence of Failure'!M326=\"Yes\",1,0)","v":0},{"$f":"IF('Consequence of Failure'!N326=\"Yes\",1,0)","v":0},null,{"$f":"SUM(AJ325:AO325)","v":0},null,{"$f":"SUM(AH325*AQ325)","v":0}]
[{"$f":"IF('Data Collection Sheet'!B329=\"Pump\",15,0)","v":0},{"$f":"IF('Data Collection Sheet'!B329=\"Hydrant\",50,0)","v":0},{"$f":"IF('Data Collection Sheet'!B329=\"Meter\",15,0)","v":0},{"$f":"IF('Data Collection Sheet'!B329=\"Pipe\",80,0)","v":0},{"$f":"IF('Data Collection Sheet'!B329=\"Source\",50,0)","v":0},{"$f":"IF('Data Collection Sheet'!B329=\"Tank\",50,0)","v":0},{"$f":"IF('Data Collection Sheet'!B329=\"Analytical\",10,0)","v":0},{"$f":"IF('Data Collection Sheet'!B329=\"Treatment\",20,0)","v":0},{"$f":"IF('Data Collection Sheet'!B329=\"Valve\",20,0)","v":0},{"$f":"IF('Data Collection Sheet'!B329=\"Control\",15,0)","v":0},{"$f":"IF('Data Collection Sheet'!B329=\"Safety\",10,0)","v":0},{"$f":"IF('Data Collection Sheet'!B329=\"Building\",50,0)","v":0},{"$f":"IF('Data Collection Sheet'!B329=\"Vehicle\",8,0)","v":0},{"$f":"IF('Data Collection Sheet'!B329=\"Other\",15,0)","v":0},{"$f":"IF('Data Collection Sheet'!I329=\"Bad\",(-0.8*$T326),0)","v":0},{"$f":"IF('Data Collection Sheet'!I329=\"Fair\",(-0.5*$T326),0)","v":0},{"$f":"IF('Data Collection Sheet'!I329=\"Good\",(-0.2*$T326),0)","v":0},{"$f":"IF('Data Collection Sheet'!I329=\"Great\",0,0)","v":0},null,0,0,0,null,null,null,{"$f":"IF('Consequence of Failure'!F329=\"No\",1,0)","v":0},{"$f":"IF('Consequence of Failure'!G327=\"0%-25%\",0.5,0)","v":0},{"$f":"IF('Consequence of Failure'!G327=\"26%-50%\",1,0)","v":0},{"$f":"IF('Consequence of Failure'!G327=\"51%-75%\",1.5,0)","v":0},{"$f":"IF('Consequence of Failure'!G327=\"76%-100%\",2,0)","v":0},{"$f":"IF('Consequence of Failure'!H327=\"Yes\",1,0)","v":0},{"$f":"IF('Consequence of Failure'!I327=\"Yes\",1,0)","v":0},null,0,null,{"$f":"IF('Consequence of Failure'!K327=\"Yes\",1,0)","v":0},{"$f":"IF('Consequence of Failure'!L327=\"Above\",2,0)","v":0},{"$f":"IF('Consequence of Failure'!L327=\"At\",1,0)","v":0},{"$f":"IF('Consequence of Failure'!L327=\"Below\",0,0)","v":0},{"$f":"IF('Consequence of Failure'!M327=\"Yes\",1,0)","v":0},{"$f":"IF('Consequence of Failure'!N327=\"Yes\",1,0)","v":0},null,0,null,0]
[{"$f":"IF('Data Collection Sheet'!B330=\"Pump\",15,0)","v":0},{"$f":"IF('Data Collection Sheet'!B330=\"Hydrant\",50,0)","v":0},{"$f":"IF('Data Collection Sheet'!B330=\"Meter\",15,0)","v":0},{"$f":"IF('Data Collection Sheet'!B330=\"Pipe\",80,0)","v":0},{"$f":"IF('Data Collection Sheet'!B330=\"Source\",50,0)","v":0},{"$f":"IF('Data Collection Sheet'!B330=\"Tank\",50,0)","v":0},{"$f":"IF('Data Collection Sheet'!B330=\"Analytical\",10,0)","v":0},{"$f":"IF('Data Collection Sheet'!B330=\"Treatment\",20,0)","v":0},{"$f":"IF('Data Collection Sheet'!B330=\"Valve\",20,0)","v":0},{"$f":"IF('Data Collection Sheet'!B330=\"Control\",15,0)","v":0},{"$f":"IF('Data Collection Sheet'!B330=\"Safety\",10,0)","v":0},{"$f":"IF('Data Collection Sheet'!B330=\"Building\",50,0)","v":0},{"$f":"IF('Data Collection Sheet'!B330=\"Vehicle\",8,0)","v":0},{"$f":"IF('Data Collection Sheet'!B330=\"Other\",15,0)","v":0},{"$f":"IF('Data Collection Sheet'!I330=\"Bad\",(-0.8*$T327),0)","v":0},{"$f":"IF('Data Collection Sheet'!I330=\"Fair\",(-0.5*$T327),0)","v":0},{"$f":"IF('Data Collection Sheet'!I330=\"Good\",(-0.2*$T327),0)","v":0},{"$f":"IF('Data Collection Sheet'!I330=\"Great\",0,0)","v":0},null,0,0,0,null,null,null,{"$f":"IF('Consequence of Failure'!F330=\"No\",1,0)","v":0},{"$f":"IF('Consequence of Failure'!G328=\"0%-25%\",0.5,0)","v":0},{"$f":"IF('Consequence of Failure'!G328=\"26%-50%\",1,0)","v":0},{"$f":"IF('Consequence of Failure'!G328=\"51%-75%\",1.5,0)","v":0},{"$f":"IF('Consequence of Failure'!G328=\"76%-100%\",2,0)","v":0},{"$f":"IF('Consequence of Failure'!H328=\"Yes\",1,0)","v":0},{"$f":"IF('Consequence of Failure'!I328=\"Yes\",1,0)","v":0},null,0,null,{"$f":"IF('Consequence of Failure'!K328=\"Yes\",1,0)","v":0},{"$f":"IF('Consequence of Failure'!L328=\"Above\",2,0)","v":0},{"$f":"IF('Consequence of Failure'!L328=\"At\",1,0)","v":0},{"$f":"IF('Consequence of Failure'!L328=\"Below\",0,0)","v":0},{"$f":"IF('Consequence of Failure'!M328=\"Yes\",1,0)","v":0},{"$f":"IF('Consequence of Failure'!N328=\"Yes\",1,0)","v":0},null,0,null,0]
[{"$f":"IF('Data Collection Sheet'!B331=\"Pump\",15,0)","v":0},{"$f":"IF('Data Collection Sheet'!B331=\"Hydrant\",50,0)","v":0},{"$f":"IF('Data Collection Sheet'!B331=\"Meter\",15,0)","v":0},{"$f":"IF('Data Collection Sheet'!B331=\"Pipe\",80,0)","v":0},{"$f":"IF('Data Collection Sheet'!B331=\"Source\",50,0)","v":0},{"$f":"IF('Data Collection Sheet'!B331=\"Tank\",50,0)","v":0},{"$f":"IF('Data Collection Sheet'!B331=\"Analytical\",10,0)","v":0},{"$f":"IF('Data Collection Sheet'!B331=\"Treatment\",20,0)","v":0},{"$f":"IF('Data Collection Sheet'!B331=\"Valve\",20,0)","v":0},{"$f":"IF('Data Collection Sheet'!B331=\"Control\",15,0)","v":0},{"$f":"IF('Data Collection Sheet'!B331=\"Safety\",10,0)","v":0},{"$f":"IF('Data Collection Sheet'!B331=\"Building\",50,0)","v":0},{"$f":"IF('Data Collection Sheet'!B331=\"Vehicle\",8,0)","v":0},{"$f":"IF('Data Collection Sheet'!B331=\"Other\",15,0)","v":0},{"$f":"IF('Data Collection Sheet'!I331=\"Bad\",(-0.8*$T328),0)","v":0},{"$f":"IF('Data Collection Sheet'!I331=\"Fair\",(-0.5*$T328),0)","v":0},{"$f":"IF('Data Collection Sheet'!I331=\"Good\",(-0.2*$T328),0)","v":0},{"$f":"IF('Data Collection Sheet'!I331=\"Great\",0,0)","v":0},null,0,0,0,null,null,null,{"$f":"IF('Consequence of Failure'!F331=\"No\",1,0)","v":0},{"$f":"IF('Consequence of Failure'!G329=\"0%-25%\",0.5,0)","v":0},{"$f":"IF('Consequence of Failure'!G329=\"26%-50%\",1,0)","v":0},{"$f":"IF('Consequence of Failure'!G329=\"51%-75%\",1.5,0)","v":0},{"$f":"IF('Consequence of Failure'!G329=\"76%-100%\",2,0)","v":0},{"$f":"IF('Consequence of Failure'!H329=\"Yes\",1,0)","v":0},{"$f":"IF('Consequence of Failure'!I329=\"Yes\",1,0)","v":0},null,0,null,{"$f":"IF('Consequence of Failure'!K329=\"Yes\",1,0)","v":0},{"$f":"IF('Consequence of Failure'!L329=\"Above\",2,0)","v":0},{"$f":"IF('Consequence of Failure'!L329=\"At\",1,0)","v":0},{"$f":"IF('Consequence of Failure'!L329=\"Below\",0,0)","v":0},{"$f":"IF('Consequence of Failure'!M329=\"Yes\",1,0)","v":0},{"$f":"IF('Consequence of Failure'!N329=\"Yes\",1,0)","v":0},null,0,null,0]
[{"$f":"IF('Data Collection Sheet'!B332=\"Pump\",15,0)","v":0},{"$f":"IF('Data Collection Sheet'!B332=\"Hydrant\",50,0)","v":0},{"$f":"IF('Data Collection Sheet'!B332=\"Meter\",15,0)","v":0},{"$f":"IF('Data Collection Sheet'!B332=\"Pipe\",80,0)","v":0},{"$f":"IF('Data Collection Sheet'!B332=\"Source\",50,0)","v":0},{"$f":"IF('Data Collection Sheet'!B332=\"Tank\",50,0)","v":0},{"$f":"IF('Data Collection Sheet'!B332=\"Analytical\",10,0)","v":0},{"$f":"IF('Data Collection Sheet'!B332=\"Treatment\",20,0)","v":0},{"$f":"IF('Data Collection Sheet'!B332=\"Valve\",20,0)","v":0},{"$f":"IF('Data Collection Sheet'!B332=\"Control\",15,0)","v":0},{"$f":"IF('Data Collection Sheet'!B332=\"Safety\",10,0)","v":0},{"$f":"IF('Data Collection Sheet'!B332=\"Building\",50,0)","v":0},{"$f":"IF('Data Collection Sheet'!B332=\"Vehicle\",8,0)","v":0},{"$f":"IF('Data Collection Sheet'!B332=\"Other\",15,0)","v":0},{"$f":"IF('Data Collection Sheet'!I332=\"Bad\",(-0.8*$T329),0)","v":0},{"$f":"IF('Data Collection Sheet'!I332=\"Fair\",(-0.5*$T329),0)","v":0},{"$f":"IF('Data Collection Sheet'!I332=\"Good\",(-0.2*$T329),0)","v":0},{"$f":"IF('Data Collection Sheet'!I332=\"Great\",0,0)","v":0},null,0,0,0,null,null,null,{"$f":"IF('Consequence of Failure'!F332=\"No\",1,0)","v":0},{"$f":"IF('Consequence of Failure'!G330=\"0%-25%\",0.5,0)","v":0},{"$f":"IF('Consequence of Failure'!G330=\"26%-50%\",1,0)","v":0},{"$f":"IF('Consequence of Failure'!G330=\"51%-75%\",1.5,0)","v":0},{"$f":"IF('Consequence of Failure'!G330=\"76%-100%\",2,0)","v":0},{"$f":"IF('Consequence of Failure'!H330=\"Yes\",1,0)","v":0},{"$f":"IF('Consequence of Failure'!I330=\"Yes\",1,0)","v":0},null,0,null,{"$f":"IF('Consequence of Failure'!K330=\"Yes\",1,0)","v":0},{"$f":"IF('Consequence of Failure'!L330=\"Above\",2,0)","v":0},{"$f":"IF('Consequence of Failure'!L330=\"At\",1,0)","v":0},{"$f":"IF('Consequence of Failure'!L330=\"Below\",0,0)","v":0},{"$f":"IF('Consequence of Failure'!M330=\"Yes\",1,0)","v":0},{"$f":"IF('Consequence of Failure'!N330=\"Yes\",1,0)","v":0},null,0,null,0]
[{"$f":"IF('Data Collection Sheet'!B333=\"Pump\",15,0)","v":0},{"$f":"IF('Data Collection Sheet'!B333=\"Hydrant\",50,0)","v":0},{"$f":"IF('Data Collection Sheet'!B333=\"Meter\",15,0)","v":0},{"$f":"IF('Data Collection Sheet'!B333=\"Pipe\",80,0)","v":0},{"$f":"IF('Data Collection Sheet'!B333=\"Source\",50,0)","v":0},{"$f":"IF('Data Collection Sheet'!B333=\"Tank\",50,0)","v":0},{"$f":"IF('Data Collection Sheet'!B333=\"Analytical\",10,0)","v":0},{"$f":"IF('Data Collection Sheet'!B333=\"Treatment\",20,0)","v":0},{"$f":"IF('Data Collection Sheet'!B333=\"Valve\",20,0)","v":0},{"$f":"IF('Data Collection Sheet'!B333=\"Control\",15,0)","v":0},{"$f":"IF('Data Collection Sheet'!B333=\"Safety\",10,0)","v":0},{"$f":"IF('Data Collection Sheet'!B333=\"Building\",50,0)","v":0},{"$f":"IF('Data Collection Sheet'!B333=\"Vehicle\",8,0)","v":0},{"$f":"IF('Data Collection Sheet'!B333=\"Other\",15,0)","v":0},{"$f":"IF('Data Collection Sheet'!I333=\"Bad\",(-0.8*$T330),0)","v":0},{"$f":"IF('Data Collection Sheet'!I333=\"Fair\",(-0.5*$T330),0)","v":0},{"$f":"IF('Data Collection Sheet'!I333=\"Good\",(-0.2*$T330),0)","v":0},{"$f":"IF('Data Collection Sheet'!I333=\"Great\",0,0)","v":0},null,0,0,0,null,null,null,{"$f":"IF('Consequence of Failure'!F333=\"No\",1,0)","v":0},{"$f":"IF('Consequence of Failure'!G331=\"0%-25%\",0.5,0)","v":0},{"$f":"IF('Consequence of Failure'!G331=\"26%-50%\",1,0)","v":0},{"$f":"IF('Consequence of Failure'!G331=\"51%-75%\",1.5,0)","v":0},{"$f":"IF('Consequence of Failure'!G331=\"76%-100%\",2,0)","v":0},{"$f":"IF('Consequence of Failure'!H331=\"Yes\",1,0)","v":0},{"$f":"IF('Consequence of Failure'!I331=\"Yes\",1,0)","v":0},null,0,null,{"$f":"IF('Consequence of Failure'!K331=\"Yes\",1,0)","v":0},{"$f":"IF('Consequence of Failure'!L331=\"Above\",2,0)","v":0},{"$f":"IF('Consequence of Failure'!L331=\"At\",1,0)","v":0},{"$f":"IF('Consequence of Failure'!L331=\"Below\",0,0)","v":0},{"$f":"IF('Consequence of Failure'!M331=\"Yes\",1,0)","v":0},{"$f":"IF('Consequence of Failure'!N331=\"Yes\",1,0)","v":0},null,0,null,0]
[{"$f":"IF('Data Collection Sheet'!B334=\"Pump\",15,0)","v":0},{"$f":"IF('Data Collection Sheet'!B334=\"Hydrant\",50,0)","v":0},{"$f":"IF('Data Collection Sheet'!B334=\"Meter\",15,0)","v":0},{"$f":"IF('Data Collection Sheet'!B334=\"Pipe\",80,0)","v":0},{"$f":"IF('Data Collection Sheet'!B334=\"Source\",50,0)","v":0},{"$f":"IF('Data Collection Sheet'!B334=\"Tank\",50,0)","v":0},{"$f":"IF('Data Collection Sheet'!B334=\"Analytical\",10,0)","v":0},{"$f":"IF('Data Collection Sheet'!B334=\"Treatment\",20,0)","v":0},{"$f":"IF('Data Collection Sheet'!B334=\"Valve\",20,0)","v":0},{"$f":"IF('Data Collection Sheet'!B334=\"Control\",15,0)","v":0},{"$f":"IF('Data Collection Sheet'!B334=\"Safety\",10,0)","v":0},{"$f":"IF('Data Collection Sheet'!B334=\"Building\",50,0)","v":0},{"$f":"IF('Data Collection Sheet'!B334=\"Vehicle\",8,0)","v":0},{"$f":"IF('Data Collection Sheet'!B334=\"Other\",15,0)","v":0},{"$f":"IF('Data Collection Sheet'!I334=\"Bad\",(-0.8*$T331),0)","v":0},{"$f":"IF('Data Collection Sheet'!I334=\"Fair\",(-0.5*$T331),0)","v":0},{"$f":"IF('Data Collection Sheet'!I334=\"Good\",(-0.2*$T331),0)","v":0},{"$f":"IF('Data Collection Sheet'!I334=\"Great\",0,0)","v":0},null,0,0,0,null,null,null,{"$f":"IF('Consequence of Failure'!F334=\"No\",1,0)","v":0},{"$f":"IF('Consequence of Failure'!G332=\"0%-25%\",0.5,0)","v":0},{"$f":"IF('Consequence of Failure'!G332=\"26%-50%\",1,0)","v":0},{"$f":"IF('Consequence of Failure'!G332=\"51%-75%\",1.5,0)","v":0},{"$f":"IF('Consequence of Failure'!G332=\"76%-100%\",2,0)","v":0},{"$f":"IF('Consequence of Failure'!H332=\"Yes\",1,0)","v":0},{"$f":"IF('Consequence of Failure'!I332=\"Yes\",1,0)","v":0},null,0,null,{"$f":"IF('Consequence of Failure'!K332=\"Yes\",1,0)","v":0},{"$f":"IF('Consequence of Failure'!L332=\"Above\",2,0)","v":0},{"$f":"IF('Consequence of Failure'!L332=\"At\",1,0)","v":0},{"$f":"IF('Consequence of Failure'!L332=\"Below\",0,0)","v":0},{"$f":"IF('Consequence of Failure'!M332=\"Yes\",1,0)","v":0},{"$f":"IF('Consequence of Failure'!N332=\"Yes\",1,0)","v":0},null,0,null,0]
[{"$f":"IF('Data Collection Sheet'!B335=\"Pump\",15,0)","v":0},{"$f":"IF('Data Collection Sheet'!B335=\"Hydrant\",50,0)","v":0},{"$f":"IF('Data Collection Sheet'!B335=\"Meter\",15,0)","v":0},{"$f":"IF('Data Collection Sheet'!B335=\"Pipe\",80,0)","v":0},{"$f":"IF('Data Collection Sheet'!B335=\"Source\",50,0)","v":0},{"$f":"IF('Data Collection Sheet'!B335=\"Tank\",50,0)","v":0},{"$f":"IF('Data Collection Sheet'!B335=\"Analytical\",10,0)","v":0},{"$f":"IF('Data Collection Sheet'!B335=\"Treatment\",20,0)","v":0},{"$f":"IF('Data Collection Sheet'!B335=\"Valve\",20,0)","v":0},{"$f":"IF('Data Collection Sheet'!B335=\"Control\",15,0)","v":0},{"$f":"IF('Data Collection Sheet'!B335=\"Safety\",10,0)","v":0},{"$f":"IF('Data Collection Sheet'!B335=\"Building\",50,0)","v":0},{"$f":"IF('Data Collection Sheet'!B335=\"Vehicle\",8,0)","v":0},{"$f":"IF('Data Collection Sheet'!B335=\"Other\",15,0)","v":0},{"$f":"IF('Data Collection Sheet'!I335=\"Bad\",(-0.8*$T332),0)","v":0},{"$f":"IF('Data Collection Sheet'!I335=\"Fair\",(-0.5*$T332),0)","v":0},{"$f":"IF('Data Collection Sheet'!I335=\"Good\",(-0.2*$T332),0)","v":0},{"$f":"IF('Data Collection Sheet'!I335=\"Great\",0,0)","v":0},null,0,0,0,null,null,null,{"$f":"IF('Consequence of Failure'!F335=\"No\",1,0)","v":0},{"$f":"IF('Consequence of Failure'!G333=\"0%-25%\",0.5,0)","v":0},{"$f":"IF('Consequence of Failure'!G333=\"26%-50%\",1,0)","v":0},{"$f":"IF('Consequence of Failure'!G333=\"51%-75%\",1.5,0)","v":0},{"$f":"IF('Consequence of Failure'!G333=\"76%-100%\",2,0)","v":0},{"$f":"IF('Consequence of Failure'!H333=\"Yes\",1,0)","v":0},{"$f":"IF('Consequence of Failure'!I333=\"Yes\",1,0)","v":0},null,0,null,{"$f":"IF('Consequence of Failure'!K333=\"Yes\",1,0)","v":0},{"$f":"IF('Consequence of Failure'!L333=\"Above\",2,0)","v":0},{"$f":"IF('Consequence of Failure'!L333=\"At\",1,0)","v":0},{"$f":"IF('Consequence of Failure'!L333=\"Below\",0,0)","v":0},{"$f":"IF('Consequence of Failure'!M333=\"Yes\",1,0)","v":0},{"$f":"IF('Consequence of Failure'!N333=\"Yes\",1,0)","v":0},null,0,null,0]
[{"$f":"IF('Data Collection Sheet'!B336=\"Pump\",15,0)","v":0},{"$f":"IF('Data Collection Sheet'!B336=\"Hydrant\",50,0)","v":0},{"$f":"IF('Data Collection Sheet'!B336=\"Meter\",15,0)","v":0},{"$f":"IF('Data Collection Sheet'!B336=\"Pipe\",80,0)","v":0},{"$f":"IF('Data Collection Sheet'!B336=\"Source\",50,0)","v":0},{"$f":"IF('Data Collection Sheet'!B336=\"Tank\",50,0)","v":0},{"$f":"IF('Data Collection Sheet'!B336=\"Analytical\",10,0)","v":0},{"$f":"IF('Data Collection Sheet'!B336=\"Treatment\",20,0)","v":0},{"$f":"IF('Data Collection Sheet'!B336=\"Valve\",20,0)","v":0},{"$f":"IF('Data Collection Sheet'!B336=\"Control\",15,0)","v":0},{"$f":"IF('Data Collection Sheet'!B336=\"Safety\",10,0)","v":0},{"$f":"IF('Data Collection Sheet'!B336=\"Building\",50,0)","v":0},{"$f":"IF('Data Collection Sheet'!B336=\"Vehicle\",8,0)","v":0},{"$f":"IF('Data Collection Sheet'!B336=\"Other\",15,0)","v":0},{"$f":"IF('Data Collection Sheet'!I336=\"Bad\",(-0.8*$T333),0)","v":0},{"$f":"IF('Data Collection Sheet'!I336=\"Fair\",(-0.5*$T333),0)","v":0},{"$f":"IF('Data Collection Sheet'!I336=\"Good\",(-0.2*$T333),0)","v":0},{"$f":"IF('Data Collection Sheet'!I336=\"Great\",0,0)","v":0},null,0,0,0,null,null,null,{"$f":"IF('Consequence of Failure'!F336=\"No\",1,0)","v":0},{"$f":"IF('Consequence of Failure'!G334=\"0%-25%\",0.5,0)","v":0},{"$f":"IF('Consequence of Failure'!G334=\"26%-50%\",1,0)","v":0},{"$f":"IF('Consequence of Failure'!G334=\"51%-75%\",1.5,0)","v":0},{"$f":"IF('Consequence of Failure'!G334=\"76%-100%\",2,0)","v":0},{"$f":"IF('Consequence of Failure'!H334=\"Yes\",1,0)","v":0},{"$f":"IF('Consequence of Failure'!I334=\"Yes\",1,0)","v":0},null,0,null,{"$f":"IF('Consequence of Failure'!K334=\"Yes\",1,0)","v":0},{"$f":"IF('Consequence of Failure'!L334=\"Above\",2,0)","v":0},{"$f":"IF('Consequence of Failure'!L334=\"At\",1,0)","v":0},{"$f":"IF('Consequence of Failure'!L334=\"Below\",0,0)","v":0},{"$f":"IF('Consequence of Failure'!M334=\"Yes\",1,0)","v":0},{"$f":"IF('Consequence of Failure'!N334=\"Yes\",1,0)","v":0},null,0,null,0]
[{"$f":"IF('Data Collection Sheet'!B337=\"Pump\",15,0)","v":0},{"$f":"IF('Data Collection Sheet'!B337=\"Hydrant\",50,0)","v":0},{"$f":"IF('Data Collection Sheet'!B337=\"Meter\",15,0)","v":0},{"$f":"IF('Data Collection Sheet'!B337=\"Pipe\",80,0)","v":0},{"$f":"IF('Data Collection Sheet'!B337=\"Source\",50,0)","v":0},{"$f":"IF('Data Collection Sheet'!B337=\"Tank\",50,0)","v":0},{"$f":"IF('Data Collection Sheet'!B337=\"Analytical\",10,0)","v":0},{"$f":"IF('Data Collection Sheet'!B337=\"Treatment\",20,0)","v":0},{"$f":"IF('Data Collection Sheet'!B337=\"Valve\",20,0)","v":0},{"$f":"IF('Data Collection Sheet'!B337=\"Control\",15,0)","v":0},{"$f":"IF('Data Collection Sheet'!B337=\"Safety\",10,0)","v":0},{"$f":"IF('Data Collection Sheet'!B337=\"Building\",50,0)","v":0},{"$f":"IF('Data Collection Sheet'!B337=\"Vehicle\",8,0)","v":0},{"$f":"IF('Data Collection Sheet'!B337=\"Other\",15,0)","v":0},{"$f":"IF('Data Collection Sheet'!I337=\"Bad\",(-0.8*$T334),0)","v":0},{"$f":"IF('Data Collection Sheet'!I337=\"Fair\",(-0.5*$T334),0)","v":0},{"$f":"IF('Data Collection Sheet'!I337=\"Good\",(-0.2*$T334),0)","v":0},{"$f":"IF('Data Collection Sheet'!I337=\"Great\",0,0)","v":0},null,0,0,0,null,null,null,{"$f":"IF('Consequence of Failure'!F337=\"No\",1,0)","v":0},{"$f":"IF('Consequence of Failure'!G335=\"0%-25%\",0.5,0)","v":0},{"$f":"IF('Consequence of Failure'!G335=\"26%-50%\",1,0)","v":0},{"$f":"IF('Consequence of Failure'!G335=\"51%-75%\",1.5,0)","v":0},{"$f":"IF('Consequence of Failure'!G335=\"76%-100%\",2,0)","v":0},{"$f":"IF('Consequence of Failure'!H335=\"Yes\",1,0)","v":0},{"$f":"IF('Consequence of Failure'!I335=\"Yes\",1,0)","v":0},null,0,null,{"$f":"IF('Consequence of Failure'!K335=\"Yes\",1,0)","v":0},{"$f":"IF('Consequence of Failure'!L335=\"Above\",2,0)","v":0},{"$f":"IF('Consequence of Failure'!L335=\"At\",1,0)","v":0},{"$f":"IF('Consequence of Failure'!L335=\"Below\",0,0)","v":0},{"$f":"IF('Consequence of Failure'!M335=\"Yes\",1,0)","v":0},{"$f":"IF('Consequence of Failure'!N335=\"Yes\",1,0)","v":0},null,0,null,0]
[{"$f":"IF('Data Collection Sheet'!B338=\"Pump\",15,0)","v":0},{"$f":"IF('Data Collection Sheet'!B338=\"Hydrant\",50,0)","v":0},{"$f":"IF('Data Collection Sheet'!B338=\"Meter\",15,0)","v":0},{"$f":"IF('Data Collection Sheet'!B338=\"Pipe\",80,0)","v":0},{"$f":"IF('Data Collection Sheet'!B338=\"Source\",50,0)","v":0},{"$f":"IF('Data Collection Sheet'!B338=\"Tank\",50,0)","v":0},{"$f":"IF('Data Collection Sheet'!B338=\"Analytical\",10,0)","v":0},{"$f":"IF('Data Collection Sheet'!B338=\"Treatment\",20,0)","v":0},{"$f":"IF('Data Collection Sheet'!B338=\"Valve\",20,0)","v":0},{"$f":"IF('Data Collection Sheet'!B338=\"Control\",15,0)","v":0},{"$f":"IF('Data Collection Sheet'!B338=\"Safety\",10,0)","v":0},{"$f":"IF('Data Collection Sheet'!B338=\"Building\",50,0)","v":0},{"$f":"IF('Data Collection Sheet'!B338=\"Vehicle\",8,0)","v":0},{"$f":"IF('Data Collection Sheet'!B338=\"Other\",15,0)","v":0},{"$f":"IF('Data Collection Sheet'!I338=\"Bad\",(-0.8*$T335),0)","v":0},{"$f":"IF('Data Collection Sheet'!I338=\"Fair\",(-0.5*$T335),0)","v":0},{"$f":"IF('Data Collection Sheet'!I338=\"Good\",(-0.2*$T335),0)","v":0},{"$f":"IF('Data Collection Sheet'!I338=\"Great\",0,0)","v":0},null,0,0,0,null,null,null,{"$f":"IF('Consequence of Failure'!F338=\"No\",1,0)","v":0},{"$f":"IF('Consequence of Failure'!G336=\"0%-25%\",0.5,0)","v":0},{"$f":"IF('Consequence of Failure'!G336=\"26%-50%\",1,0)","v":0},{"$f":"IF('Consequence of Failure'!G336=\"51%-75%\",1.5,0)","v":0},{"$f":"IF('Consequence of Failure'!G336=\"76%-100%\",2,0)","v":0},{"$f":"IF('Consequence of Failure'!H336=\"Yes\",1,0)","v":0},{"$f":"IF('Consequence of Failure'!I336=\"Yes\",1,0)","v":0},null,0,null,{"$f":"IF('Consequence of Failure'!K336=\"Yes\",1,0)","v":0},{"$f":"IF('Consequence of Failure'!L336=\"Above\",2,0)","v":0},{"$f":"IF('Consequence of Failure'!L336=\"At\",1,0)","v":0},{"$f":"IF('Consequence of Failure'!L336=\"Below\",0,0)","v":0},{"$f":"IF('Consequence of Failure'!M336=\"Yes\",1,0)","v":0},{"$f":"IF('Consequence of Failure'!N336=\"Yes\",1,0)","v":0},null,0,null,0]
[{"$f":"IF('Data Collection Sheet'!B339=\"Pump\",15,0)","v":0},{"$f":"IF('Data Collection Sheet'!B339=\"Hydrant\",50,0)","v":0},{"$f":"IF('Data Collection Sheet'!B339=\"Meter\",15,0)","v":0},{"$f":"IF('Data Collection Sheet'!B339=\"Pipe\",80,0)","v":0},{"$f":"IF('Data Collection Sheet'!B339=\"Source\",50,0)","v":0},{"$f":"IF('Data Collection Sheet'!B339=\"Tank\",50,0)","v":0},{"$f":"IF('Data Collection Sheet'!B339=\"Analytical\",10,0)","v":0},{"$f":"IF('Data Collection Sheet'!B339=\"Treatment\",20,0)","v":0},{"$f":"IF('Data Collection Sheet'!B339=\"Valve\",20,0)","v":0},{"$f":"IF('Data Collection Sheet'!B339=\"Control\",15,0)","v":0},{"$f":"IF('Data Collection Sheet'!B339=\"Safety\",10,0)","v":0},{"$f":"IF('Data Collection Sheet'!B339=\"Building\",50,0)","v":0},{"$f":"IF('Data Collection Sheet'!B339=\"Vehicle\",8,0)","v":0},{"$f":"IF('Data Collection Sheet'!B339=\"Other\",15,0)","v":0},{"$f":"IF('Data Collection Sheet'!I339=\"Bad\",(-0.8*$T336),0)","v":0},{"$f":"IF('Data Collection Sheet'!I339=\"Fair\",(-0.5*$T336),0)","v":0},{"$f":"IF('Data Collection Sheet'!I339=\"Good\",(-0.2*$T336),0)","v":0},{"$f":"IF('Data Collection Sheet'!I339=\"Great\",0,0)","v":0},null,0,0,0,null,null,null,{"$f":"IF('Consequence of Failure'!F339=\"No\",1,0)","v":0},{"$f":"IF('Consequence of Failure'!G337=\"0%-25%\",0.5,0)","v":0},{"$f":"IF('Consequence of Failure'!G337=\"26%-50%\",1,0)","v":0},{"$f":"IF('Consequence of Failure'!G337=\"51%-75%\",1.5,0)","v":0},{"$f":"IF('Consequence of Failure'!G337=\"76%-100%\",2,0)","v":0},{"$f":"IF('Consequence of Failure'!H337=\"Yes\",1,0)","v":0},{"$f":"IF('Consequence of Failure'!I337=\"Yes\",1,0)","v":0},null,0,null,{"$f":"IF('Consequence of Failure'!K337=\"Yes\",1,0)","v":0},{"$f":"IF('Consequence of Failure'!L337=\"Above\",2,0)","v":0},{"$f":"IF('Consequence of Failure'!L337=\"At\",1,0)","v":0},{"$f":"IF('Consequence of Failure'!L337=\"Below\",0,0)","v":0},{"$f":"IF('Consequence of Failure'!M337=\"Yes\",1,0)","v":0},{"$f":"IF('Consequence of Failure'!N337=\"Yes\",1,0)","v":0},null,0,null,0]
[{"$f":"IF('Data Collection Sheet'!B340=\"Pump\",15,0)","v":0},{"$f":"IF('Data Collection Sheet'!B340=\"Hydrant\",50,0)","v":0},{"$f":"IF('Data Collection Sheet'!B340=\"Meter\",15,0)","v":0},{"$f":"IF('Data Collection Sheet'!B340=\"Pipe\",80,0)","v":0},{"$f":"IF('Data Collection Sheet'!B340=\"Source\",50,0)","v":0},{"$f":"IF('Data Collection Sheet'!B340=\"Tank\",50,0)","v":0},{"$f":"IF('Data Collection Sheet'!B340=\"Analytical\",10,0)","v":0},{"$f":"IF('Data Collection Sheet'!B340=\"Treatment\",20,0)","v":0},{"$f":"IF('Data Collection Sheet'!B340=\"Valve\",20,0)","v":0},{"$f":"IF('Data Collection Sheet'!B340=\"Control\",15,0)","v":0},{"$f":"IF('Data Collection Sheet'!B340=\"Safety\",10,0)","v":0},{"$f":"IF('Data Collection Sheet'!B340=\"Building\",50,0)","v":0},{"$f":"IF('Data Collection Sheet'!B340=\"Vehicle\",8,0)","v":0},{"$f":"IF('Data Collection Sheet'!B340=\"Other\",15,0)","v":0},{"$f":"IF('Data Collection Sheet'!I340=\"Bad\",(-0.8*$T337),0)","v":0},{"$f":"IF('Data Collection Sheet'!I340=\"Fair\",(-0.5*$T337),0)","v":0},{"$f":"IF('Data Collection Sheet'!I340=\"Good\",(-0.2*$T337),0)","v":0},{"$f":"IF('Data Collection Sheet'!I340=\"Great\",0,0)","v":0},null,0,0,0,null,null,null,{"$f":"IF('Consequence of Failure'!F340=\"No\",1,0)","v":0},{"$f":"IF('Consequence of Failure'!G338=\"0%-25%\",0.5,0)","v":0},{"$f":"IF('Consequence of Failure'!G338=\"26%-50%\",1,0)","v":0},{"$f":"IF('Consequence of Failure'!G338=\"51%-75%\",1.5,0)","v":0},{"$f":"IF('Consequence of Failure'!G338=\"76%-100%\",2,0)","v":0},{"$f":"IF('Consequence of Failure'!H338=\"Yes\",1,0)","v":0},{"$f":"IF('Consequence of Failure'!I338=\"Yes\",1,0)","v":0},null,0,null,{"$f":"IF('Consequence of Failure'!K338=\"Yes\",1,0)","v":0},{"$f":"IF('Consequence of Failure'!L338=\"Above\",2,0)","v":0},{"$f":"IF('Consequence of Failure'!L338=\"At\",1,0)","v":0},{"$f":"IF('Consequence of Failure'!L338=\"Below\",0,0)","v":0},{"$f":"IF('Consequence of Failure'!M338=\"Yes\",1,0)","v":0},{"$f":"IF('Consequence of Failure'!N338=\"Yes\",1,0)","v":0},null,0,null,0]
[{"$f":"IF('Data Collection Sheet'!B341=\"Pump\",15,0)","v":0},{"$f":"IF('Data Collection Sheet'!B341=\"Hydrant\",50,0)","v":0},{"$f":"IF('Data Collection Sheet'!B341=\"Meter\",15,0)","v":0},{"$f":"IF('Data Collection Sheet'!B341=\"Pipe\",80,0)","v":0},{"$f":"IF('Data Collection Sheet'!B341=\"Source\",50,0)","v":0},{"$f":"IF('Data Collection Sheet'!B341=\"Tank\",50,0)","v":0},{"$f":"IF('Data Collection Sheet'!B341=\"Analytical\",10,0)","v":0},{"$f":"IF('Data Collection Sheet'!B341=\"Treatment\",20,0)","v":0},{"$f":"IF('Data Collection Sheet'!B341=\"Valve\",20,0)","v":0},{"$f":"IF('Data Collection Sheet'!B341=\"Control\",15,0)","v":0},{"$f":"IF('Data Collection Sheet'!B341=\"Safety\",10,0)","v":0},{"$f":"IF('Data Collection Sheet'!B341=\"Building\",50,0)","v":0},{"$f":"IF('Data Collection Sheet'!B341=\"Vehicle\",8,0)","v":0},{"$f":"IF('Data Collection Sheet'!B341=\"Other\",15,0)","v":0},{"$f":"IF('Data Collection Sheet'!I341=\"Bad\",(-0.8*$T338),0)","v":0},{"$f":"IF('Data Collection Sheet'!I341=\"Fair\",(-0.5*$T338),0)","v":0},{"$f":"IF('Data Collection Sheet'!I341=\"Good\",(-0.2*$T338),0)","v":0},{"$f":"IF('Data Collection Sheet'!I341=\"Great\",0,0)","v":0},null,0,0,0,null,null,null,{"$f":"IF('Consequence of Failure'!F341=\"No\",1,0)","v":0},{"$f":"IF('Consequence of Failure'!G339=\"0%-25%\",0.5,0)","v":0},{"$f":"IF('Consequence of Failure'!G339=\"26%-50%\",1,0)","v":0},{"$f":"IF('Consequence of Failure'!G339=\"51%-75%\",1.5,0)","v":0},{"$f":"IF('Consequence of Failure'!G339=\"76%-100%\",2,0)","v":0},{"$f":"IF('Consequence of Failure'!H339=\"Yes\",1,0)","v":0},{"$f":"IF('Consequence of Failure'!I339=\"Yes\",1,0)","v":0},null,0,null,{"$f":"IF('Consequence of Failure'!K339=\"Yes\",1,0)","v":0},{"$f":"IF('Consequence of Failure'!L339=\"Above\",2,0)","v":0},{"$f":"IF('Consequence of Failure'!L339=\"At\",1,0)","v":0},{"$f":"IF('Consequence of Failure'!L339=\"Below\",0,0)","v":0},{"$f":"IF('Consequence of Failure'!M339=\"Yes\",1,0)","v":0},{"$f":"IF('Consequence of Failure'!N339=\"Yes\",1,0)","v":0},null,0,null,0]
[{"$f":"IF('Data Collection Sheet'!B342=\"Pump\",15,0)","v":0},{"$f":"IF('Data Collection Sheet'!B342=\"Hydrant\",50,0)","v":0},{"$f":"IF('Data Collection Sheet'!B342=\"Meter\",15,0)","v":0},{"$f":"IF('Data Collection Sheet'!B342=\"Pipe\",80,0)","v":0},{"$f":"IF('Data Collection Sheet'!B342=\"Source\",50,0)","v":0},{"$f":"IF('Data Collection Sheet'!B342=\"Tank\",50,0)","v":0},{"$f":"IF('Data Collection Sheet'!B342=\"Analytical\",10,0)","v":0},{"$f":"IF('Data Collection Sheet'!B342=\"Treatment\",20,0)","v":0},{"$f":"IF('Data Collection Sheet'!B342=\"Valve\",20,0)","v":0},{"$f":"IF('Data Collection Sheet'!B342=\"Control\",15,0)","v":0},{"$f":"IF('Data Collection Sheet'!B342=\"Safety\",10,0)","v":0},{"$f":"IF('Data Collection Sheet'!B342=\"Building\",50,0)","v":0},{"$f":"IF('Data Collection Sheet'!B342=\"Vehicle\",8,0)","v":0},{"$f":"IF('Data Collection Sheet'!B342=\"Other\",15,0)","v":0},{"$f":"IF('Data Collection Sheet'!I342=\"Bad\",(-0.8*$T339),0)","v":0},{"$f":"IF('Data Collection Sheet'!I342=\"Fair\",(-0.5*$T339),0)","v":0},{"$f":"IF('Data Collection Sheet'!I342=\"Good\",(-0.2*$T339),0)","v":0},{"$f":"IF('Data Collection Sheet'!I342=\"Great\",0,0)","v":0},null,0,0,0,null,null,null,{"$f":"IF('Consequence of Failure'!F342=\"No\",1,0)","v":0},{"$f":"IF('Consequence of Failure'!G340=\"0%-25%\",0.5,0)","v":0},{"$f":"IF('Consequence of Failure'!G340=\"26%-50%\",1,0)","v":0},{"$f":"IF('Consequence of Failure'!G340=\"51%-75%\",1.5,0)","v":0},{"$f":"IF('Consequence of Failure'!G340=\"76%-100%\",2,0)","v":0},{"$f":"IF('Consequence of Failure'!H340=\"Yes\",1,0)","v":0},{"$f":"IF('Consequence of Failure'!I340=\"Yes\",1,0)","v":0},null,0,null,{"$f":"IF('Consequence of Failure'!K340=\"Yes\",1,0)","v":0},{"$f":"IF('Consequence of Failure'!L340=\"Above\",2,0)","v":0},{"$f":"IF('Consequence of Failure'!L340=\"At\",1,0)","v":0},{"$f":"IF('Consequence of Failure'!L340=\"Below\",0,0)","v":0},{"$f":"IF('Consequence of Failure'!M340=\"Yes\",1,0)","v":0},{"$f":"IF('Consequence of Failure'!N340=\"Yes\",1,0)","v":0},null,0,null,0]
[{"$f":"IF('Data Collection Sheet'!B343=\"Pump\",15,0)","v":0},{"$f":"IF('Data Collection Sheet'!B343=\"Hydrant\",50,0)","v":0},{"$f":"IF('Data Collection Sheet'!B343=\"Meter\",15,0)","v":0},{"$f":"IF('Data Collection Sheet'!B343=\"Pipe\",80,0)","v":0},{"$f":"IF('Data Collection Sheet'!B343=\"Source\",50,0)","v":0},{"$f":"IF('Data Collection Sheet'!B343=\"Tank\",50,0)","v":0},{"$f":"IF('Data Collection Sheet'!B343=\"Analytical\",10,0)","v":0},{"$f":"IF('Data Collection Sheet'!B343=\"Treatment\",20,0)","v":0},{"$f":"IF('Data Collection Sheet'!B343=\"Valve\",20,0)","v":0},{"$f":"IF('Data Collection Sheet'!B343=\"Control\",15,0)","v":0},{"$f":"IF('Data Collection Sheet'!B343=\"Safety\",10,0)","v":0},{"$f":"IF('Data Collection Sheet'!B343=\"Building\",50,0)","v":0},{"$f":"IF('Data Collection Sheet'!B343=\"Vehicle\",8,0)","v":0},{"$f":"IF('Data Collection Sheet'!B343=\"Other\",15,0)","v":0},{"$f":"IF('Data Collection Sheet'!I343=\"Bad\",(-0.8*$T340),0)","v":0},{"$f":"IF('Data Collection Sheet'!I343=\"Fair\",(-0.5*$T340),0)","v":0},{"$f":"IF('Data Collection Sheet'!I343=\"Good\",(-0.2*$T340),0)","v":0},{"$f":"IF('Data Collection Sheet'!I343=\"Great\",0,0)","v":0},null,0,0,0,null,null,null,{"$f":"IF('Consequence of Failure'!F343=\"No\",1,0)","v":0},{"$f":"IF('Consequence of Failure'!G341=\"0%-25%\",0.5,0)","v":0},{"$f":"IF('Consequence of Failure'!G341=\"26%-50%\",1,0)","v":0},{"$f":"IF('Consequence of Failure'!G341=\"51%-75%\",1.5,0)","v":0},{"$f":"IF('Consequence of Failure'!G341=\"76%-100%\",2,0)","v":0},{"$f":"IF('Consequence of Failure'!H341=\"Yes\",1,0)","v":0},{"$f":"IF('Consequence of Failure'!I341=\"Yes\",1,0)","v":0},null,0,null,{"$f":"IF('Consequence of Failure'!K341=\"Yes\",1,0)","v":0},{"$f":"IF('Consequence of Failure'!L341=\"Above\",2,0)","v":0},{"$f":"IF('Consequence of Failure'!L341=\"At\",1,0)","v":0},{"$f":"IF('Consequence of Failure'!L341=\"Below\",0,0)","v":0},{"$f":"IF('Consequence of Failure'!M341=\"Yes\",1,0)","v":0},{"$f":"IF('Consequence of Failure'!N341=\"Yes\",1,0)","v":0},null,0,null,0]
[{"$f":"IF('Data Collection Sheet'!B344=\"Pump\",15,0)","v":0},{"$f":"IF('Data Collection Sheet'!B344=\"Hydrant\",50,0)","v":0},{"$f":"IF('Data Collection Sheet'!B344=\"Meter\",15,0)","v":0},{"$f":"IF('Data Collection Sheet'!B344=\"Pipe\",80,0)","v":0},{"$f":"IF('Data Collection Sheet'!B344=\"Source\",50,0)","v":0},{"$f":"IF('Data Collection Sheet'!B344=\"Tank\",50,0)","v":0},{"$f":"IF('Data Collection Sheet'!B344=\"Analytical\",10,0)","v":0},{"$f":"IF('Data Collection Sheet'!B344=\"Treatment\",20,0)","v":0},{"$f":"IF('Data Collection Sheet'!B344=\"Valve\",20,0)","v":0},{"$f":"IF('Data Collection Sheet'!B344=\"Control\",15,0)","v":0},{"$f":"IF('Data Collection Sheet'!B344=\"Safety\",10,0)","v":0},{"$f":"IF('Data Collection Sheet'!B344=\"Building\",50,0)","v":0},{"$f":"IF('Data Collection Sheet'!B344=\"Vehicle\",8,0)","v":0},{"$f":"IF('Data Collection Sheet'!B344=\"Other\",15,0)","v":0},{"$f":"IF('Data Collection Sheet'!I344=\"Bad\",(-0.8*$T341),0)","v":0},{"$f":"IF('Data Collection Sheet'!I344=\"Fair\",(-0.5*$T341),0)","v":0},{"$f":"IF('Data Collection Sheet'!I344=\"Good\",(-0.2*$T341),0)","v":0},{"$f":"IF('Data Collection Sheet'!I344=\"Great\",0,0)","v":0},null,0,0,0,null,null,null,{"$f":"IF('Consequence of Failure'!F344=\"No\",1,0)","v":0},{"$f":"IF('Consequence of Failure'!G342=\"0%-25%\",0.5,0)","v":0},{"$f":"IF('Consequence of Failure'!G342=\"26%-50%\",1,0)","v":0},{"$f":"IF('Consequence of Failure'!G342=\"51%-75%\",1.5,0)","v":0},{"$f":"IF('Consequence of Failure'!G342=\"76%-100%\",2,0)","v":0},{"$f":"IF('Consequence of Failure'!H342=\"Yes\",1,0)","v":0},{"$f":"IF('Consequence of Failure'!I342=\"Yes\",1,0)","v":0},null,0,null,{"$f":"IF('Consequence of Failure'!K342=\"Yes\",1,0)","v":0},{"$f":"IF('Consequence of Failure'!L342=\"Above\",2,0)","v":0},{"$f":"IF('Consequence of Failure'!L342=\"At\",1,0)","v":0},{"$f":"IF('Consequence of Failure'!L342=\"Below\",0,0)","v":0},{"$f":"IF('Consequence of Failure'!M342=\"Yes\",1,0)","v":0},{"$f":"IF('Consequence of Failure'!N342=\"Yes\",1,0)","v":0},null,0,null,0]
[{"$f":"IF('Data Collection Sheet'!B345=\"Pump\",15,0)","v":0},{"$f":"IF('Data Collection Sheet'!B345=\"Hydrant\",50,0)","v":0},{"$f":"IF('Data Collection Sheet'!B345=\"Meter\",15,0)","v":0},{"$f":"IF('Data Collection Sheet'!B345=\"Pipe\",80,0)","v":0},{"$f":"IF('Data Collection Sheet'!B345=\"Source\",50,0)","v":0},{"$f":"IF('Data Collection Sheet'!B345=\"Tank\",50,0)","v":0},{"$f":"IF('Data Collection Sheet'!B345=\"Analytical\",10,0)","v":0},{"$f":"IF('Data Collection Sheet'!B345=\"Treatment\",20,0)","v":0},{"$f":"IF('Data Collection Sheet'!B345=\"Valve\",20,0)","v":0},{"$f":"IF('Data Collection Sheet'!B345=\"Control\",15,0)","v":0},{"$f":"IF('Data Collection Sheet'!B345=\"Safety\",10,0)","v":0},{"$f":"IF('Data Collection Sheet'!B345=\"Building\",50,0)","v":0},{"$f":"IF('Data Collection Sheet'!B345=\"Vehicle\",8,0)","v":0},{"$f":"IF('Data Collection Sheet'!B345=\"Other\",15,0)","v":0},{"$f":"IF('Data Collection Sheet'!I345=\"Bad\",(-0.8*$T342),0)","v":0},{"$f":"IF('Data Collection Sheet'!I345=\"Fair\",(-0.5*$T342),0)","v":0},{"$f":"IF('Data Collection Sheet'!I345=\"Good\",(-0.2*$T342),0)","v":0},{"$f":"IF('Data Collection Sheet'!I345=\"Great\",0,0)","v":0},null,0,0,0,null,null,null,{"$f":"IF('Consequence of Failure'!F345=\"No\",1,0)","v":0},{"$f":"IF('Consequence of Failure'!G343=\"0%-25%\",0.5,0)","v":0},{"$f":"IF('Consequence of Failure'!G343=\"26%-50%\",1,0)","v":0},{"$f":"IF('Consequence of Failure'!G343=\"51%-75%\",1.5,0)","v":0},{"$f":"IF('Consequence of Failure'!G343=\"76%-100%\",2,0)","v":0},{"$f":"IF('Consequence of Failure'!H343=\"Yes\",1,0)","v":0},{"$f":"IF('Consequence of Failure'!I343=\"Yes\",1,0)","v":0},null,0,null,{"$f":"IF('Consequence of Failure'!K343=\"Yes\",1,0)","v":0},{"$f":"IF('Consequence of Failure'!L343=\"Above\",2,0)","v":0},{"$f":"IF('Consequence of Failure'!L343=\"At\",1,0)","v":0},{"$f":"IF('Consequence of Failure'!L343=\"Below\",0,0)","v":0},{"$f":"IF('Consequence of Failure'!M343=\"Yes\",1,0)","v":0},{"$f":"IF('Consequence of Failure'!N343=\"Yes\",1,0)","v":0},null,0,null,0]
[{"$f":"IF('Data Collection Sheet'!B346=\"Pump\",15,0)","v":0},{"$f":"IF('Data Collection Sheet'!B346=\"Hydrant\",50,0)","v":0},{"$f":"IF('Data Collection Sheet'!B346=\"Meter\",15,0)","v":0},{"$f":"IF('Data Collection Sheet'!B346=\"Pipe\",80,0)","v":0},{"$f":"IF('Data Collection Sheet'!B346=\"Source\",50,0)","v":0},{"$f":"IF('Data Collection Sheet'!B346=\"Tank\",50,0)","v":0},{"$f":"IF('Data Collection Sheet'!B346=\"Analytical\",10,0)","v":0},{"$f":"IF('Data Collection Sheet'!B346=\"Treatment\",20,0)","v":0},{"$f":"IF('Data Collection Sheet'!B346=\"Valve\",20,0)","v":0},{"$f":"IF('Data Collection Sheet'!B346=\"Control\",15,0)","v":0},{"$f":"IF('Data Collection Sheet'!B346=\"Safety\",10,0)","v":0},{"$f":"IF('Data Collection Sheet'!B346=\"Building\",50,0)","v":0},{"$f":"IF('Data Collection Sheet'!B346=\"Vehicle\",8,0)","v":0},{"$f":"IF('Data Collection Sheet'!B346=\"Other\",15,0)","v":0},{"$f":"IF('Data Collection Sheet'!I346=\"Bad\",(-0.8*$T343),0)","v":0},{"$f":"IF('Data Collection Sheet'!I346=\"Fair\",(-0.5*$T343),0)","v":0},{"$f":"IF('Data Collection Sheet'!I346=\"Good\",(-0.2*$T343),0)","v":0},{"$f":"IF('Data Collection Sheet'!I346=\"Great\",0,0)","v":0},null,0,0,0,null,null,null,{"$f":"IF('Consequence of Failure'!F346=\"No\",1,0)","v":0},{"$f":"IF('Consequence of Failure'!G344=\"0%-25%\",0.5,0)","v":0},{"$f":"IF('Consequence of Failure'!G344=\"26%-50%\",1,0)","v":0},{"$f":"IF('Consequence of Failure'!G344=\"51%-75%\",1.5,0)","v":0},{"$f":"IF('Consequence of Failure'!G344=\"76%-100%\",2,0)","v":0},{"$f":"IF('Consequence of Failure'!H344=\"Yes\",1,0)","v":0},{"$f":"IF('Consequence of Failure'!I344=\"Yes\",1,0)","v":0},null,0,null,{"$f":"IF('Consequence of Failure'!K344=\"Yes\",1,0)","v":0},{"$f":"IF('Consequence of Failure'!L344=\"Above\",2,0)","v":0},{"$f":"IF('Consequence of Failure'!L344=\"At\",1,0)","v":0},{"$f":"IF('Consequence of Failure'!L344=\"Below\",0,0)","v":0},{"$f":"IF('Consequence of Failure'!M344=\"Yes\",1,0)","v":0},{"$f":"IF('Consequence of Failure'!N344=\"Yes\",1,0)","v":0},null,0,null,0]
[{"$f":"IF('Data Collection Sheet'!B347=\"Pump\",15,0)","v":0},{"$f":"IF('Data Collection Sheet'!B347=\"Hydrant\",50,0)","v":0},{"$f":"IF('Data Collection Sheet'!B347=\"Meter\",15,0)","v":0},{"$f":"IF('Data Collection Sheet'!B347=\"Pipe\",80,0)","v":0},{"$f":"IF('Data Collection Sheet'!B347=\"Source\",50,0)","v":0},{"$f":"IF('Data Collection Sheet'!B347=\"Tank\",50,0)","v":0},{"$f":"IF('Data Collection Sheet'!B347=\"Analytical\",10,0)","v":0},{"$f":"IF('Data Collection Sheet'!B347=\"Treatment\",20,0)","v":0},{"$f":"IF('Data Collection Sheet'!B347=\"Valve\",20,0)","v":0},{"$f":"IF('Data Collection Sheet'!B347=\"Control\",15,0)","v":0},{"$f":"IF('Data Collection Sheet'!B347=\"Safety\",10,0)","v":0},{"$f":"IF('Data Collection Sheet'!B347=\"Building\",50,0)","v":0},{"$f":"IF('Data Collection Sheet'!B347=\"Vehicle\",8,0)","v":0},{"$f":"IF('Data Collection Sheet'!B347=\"Other\",15,0)","v":0},{"$f":"IF('Data Collection Sheet'!I347=\"Bad\",(-0.8*$T344),0)","v":0},{"$f":"IF('Data Collection Sheet'!I347=\"Fair\",(-0.5*$T344),0)","v":0},{"$f":"IF('Data Collection Sheet'!I347=\"Good\",(-0.2*$T344),0)","v":0},{"$f":"IF('Data Collection Sheet'!I347=\"Great\",0,0)","v":0},null,0,0,0,null,null,null,{"$f":"IF('Consequence of Failure'!F347=\"No\",1,0)","v":0},{"$f":"IF('Consequence of Failure'!G345=\"0%-25%\",0.5,0)","v":0},{"$f":"IF('Consequence of Failure'!G345=\"26%-50%\",1,0)","v":0},{"$f":"IF('Consequence of Failure'!G345=\"51%-75%\",1.5,0)","v":0},{"$f":"IF('Consequence of Failure'!G345=\"76%-100%\",2,0)","v":0},{"$f":"IF('Consequence of Failure'!H345=\"Yes\",1,0)","v":0},{"$f":"IF('Consequence of Failure'!I345=\"Yes\",1,0)","v":0},null,0,null,{"$f":"IF('Consequence of Failure'!K345=\"Yes\",1,0)","v":0},{"$f":"IF('Consequence of Failure'!L345=\"Above\",2,0)","v":0},{"$f":"IF('Consequence of Failure'!L345=\"At\",1,0)","v":0},{"$f":"IF('Consequence of Failure'!L345=\"Below\",0,0)","v":0},{"$f":"IF('Consequence of Failure'!M345=\"Yes\",1,0)","v":0},{"$f":"IF('Consequence of Failure'!N345=\"Yes\",1,0)","v":0},null,0,null,0]
[{"$f":"IF('Data Collection Sheet'!B348=\"Pump\",15,0)","v":0},{"$f":"IF('Data Collection Sheet'!B348=\"Hydrant\",50,0)","v":0},{"$f":"IF('Data Collection Sheet'!B348=\"Meter\",15,0)","v":0},{"$f":"IF('Data Collection Sheet'!B348=\"Pipe\",80,0)","v":0},{"$f":"IF('Data Collection Sheet'!B348=\"Source\",50,0)","v":0},{"$f":"IF('Data Collection Sheet'!B348=\"Tank\",50,0)","v":0},{"$f":"IF('Data Collection Sheet'!B348=\"Analytical\",10,0)","v":0},{"$f":"IF('Data Collection Sheet'!B348=\"Treatment\",20,0)","v":0},{"$f":"IF('Data Collection Sheet'!B348=\"Valve\",20,0)","v":0},{"$f":"IF('Data Collection Sheet'!B348=\"Control\",15,0)","v":0},{"$f":"IF('Data Collection Sheet'!B348=\"Safety\",10,0)","v":0},{"$f":"IF('Data Collection Sheet'!B348=\"Building\",50,0)","v":0},{"$f":"IF('Data Collection Sheet'!B348=\"Vehicle\",8,0)","v":0},{"$f":"IF('Data Collection Sheet'!B348=\"Other\",15,0)","v":0},{"$f":"IF('Data Collection Sheet'!I348=\"Bad\",(-0.8*$T345),0)","v":0},{"$f":"IF('Data Collection Sheet'!I348=\"Fair\",(-0.5*$T345),0)","v":0},{"$f":"IF('Data Collection Sheet'!I348=\"Good\",(-0.2*$T345),0)","v":0},{"$f":"IF('Data Collection Sheet'!I348=\"Great\",0,0)","v":0},null,0,0,0,null,null,null,{"$f":"IF('Consequence of Failure'!F348=\"No\",1,0)","v":0},{"$f":"IF('Consequence of Failure'!G346=\"0%-25%\",0.5,0)","v":0},{"$f":"IF('Consequence of Failure'!G346=\"26%-50%\",1,0)","v":0},{"$f":"IF('Consequence of Failure'!G346=\"51%-75%\",1.5,0)","v":0},{"$f":"IF('Consequence of Failure'!G346=\"76%-100%\",2,0)","v":0},{"$f":"IF('Consequence of Failure'!H346=\"Yes\",1,0)","v":0},{"$f":"IF('Consequence of Failure'!I346=\"Yes\",1,0)","v":0},null,0,null,{"$f":"IF('Consequence of Failure'!K346=\"Yes\",1,0)","v":0},{"$f":"IF('Consequence of Failure'!L346=\"Above\",2,0)","v":0},{"$f":"IF('Consequence of Failure'!L346=\"At\",1,0)","v":0},{"$f":"IF('Consequence of Failure'!L346=\"Below\",0,0)","v":0},{"$f":"IF('Consequence of Failure'!M346=\"Yes\",1,0)","v":0},{"$f":"IF('Consequence of Failure'!N346=\"Yes\",1,0)","v":0},null,0,null,0]
[{"$f":"IF('Data Collection Sheet'!B349=\"Pump\",15,0)","v":0},{"$f":"IF('Data Collection Sheet'!B349=\"Hydrant\",50,0)","v":0},{"$f":"IF('Data Collection Sheet'!B349=\"Meter\",15,0)","v":0},{"$f":"IF('Data Collection Sheet'!B349=\"Pipe\",80,0)","v":0},{"$f":"IF('Data Collection Sheet'!B349=\"Source\",50,0)","v":0},{"$f":"IF('Data Collection Sheet'!B349=\"Tank\",50,0)","v":0},{"$f":"IF('Data Collection Sheet'!B349=\"Analytical\",10,0)","v":0},{"$f":"IF('Data Collection Sheet'!B349=\"Treatment\",20,0)","v":0},{"$f":"IF('Data Collection Sheet'!B349=\"Valve\",20,0)","v":0},{"$f":"IF('Data Collection Sheet'!B349=\"Control\",15,0)","v":0},{"$f":"IF('Data Collection Sheet'!B349=\"Safety\",10,0)","v":0},{"$f":"IF('Data Collection Sheet'!B349=\"Building\",50,0)","v":0},{"$f":"IF('Data Collection Sheet'!B349=\"Vehicle\",8,0)","v":0},{"$f":"IF('Data Collection Sheet'!B349=\"Other\",15,0)","v":0},{"$f":"IF('Data Collection Sheet'!I349=\"Bad\",(-0.8*$T346),0)","v":0},{"$f":"IF('Data Collection Sheet'!I349=\"Fair\",(-0.5*$T346),0)","v":0},{"$f":"IF('Data Collection Sheet'!I349=\"Good\",(-0.2*$T346),0)","v":0},{"$f":"IF('Data Collection Sheet'!I349=\"Great\",0,0)","v":0},null,0,0,0,null,null,null,{"$f":"IF('Consequence of Failure'!F349=\"No\",1,0)","v":0},{"$f":"IF('Consequence of Failure'!G347=\"0%-25%\",0.5,0)","v":0},{"$f":"IF('Consequence of Failure'!G347=\"26%-50%\",1,0)","v":0},{"$f":"IF('Consequence of Failure'!G347=\"51%-75%\",1.5,0)","v":0},{"$f":"IF('Consequence of Failure'!G347=\"76%-100%\",2,0)","v":0},{"$f":"IF('Consequence of Failure'!H347=\"Yes\",1,0)","v":0},{"$f":"IF('Consequence of Failure'!I347=\"Yes\",1,0)","v":0},null,0,null,{"$f":"IF('Consequence of Failure'!K347=\"Yes\",1,0)","v":0},{"$f":"IF('Consequence of Failure'!L347=\"Above\",2,0)","v":0},{"$f":"IF('Consequence of Failure'!L347=\"At\",1,0)","v":0},{"$f":"IF('Consequence of Failure'!L347=\"Below\",0,0)","v":0},{"$f":"IF('Consequence of Failure'!M347=\"Yes\",1,0)","v":0},{"$f":"IF('Consequence of Failure'!N347=\"Yes\",1,0)","v":0},null,0,null,0]
[{"$f":"IF('Data Collection Sheet'!B350=\"Pump\",15,0)","v":0},{"$f":"IF('Data Collection Sheet'!B350=\"Hydrant\",50,0)","v":0},{"$f":"IF('Data Collection Sheet'!B350=\"Meter\",15,0)","v":0},{"$f":"IF('Data Collection Sheet'!B350=\"Pipe\",80,0)","v":0},{"$f":"IF('Data Collection Sheet'!B350=\"Source\",50,0)","v":0},{"$f":"IF('Data Collection Sheet'!B350=\"Tank\",50,0)","v":0},{"$f":"IF('Data Collection Sheet'!B350=\"Analytical\",10,0)","v":0},{"$f":"IF('Data Collection Sheet'!B350=\"Treatment\",20,0)","v":0},{"$f":"IF('Data Collection Sheet'!B350=\"Valve\",20,0)","v":0},{"$f":"IF('Data Collection Sheet'!B350=\"Control\",15,0)","v":0},{"$f":"IF('Data Collection Sheet'!B350=\"Safety\",10,0)","v":0},{"$f":"IF('Data Collection Sheet'!B350=\"Building\",50,0)","v":0},{"$f":"IF('Data Collection Sheet'!B350=\"Vehicle\",8,0)","v":0},{"$f":"IF('Data Collection Sheet'!B350=\"Other\",15,0)","v":0},{"$f":"IF('Data Collection Sheet'!I350=\"Bad\",(-0.8*$T347),0)","v":0},{"$f":"IF('Data Collection Sheet'!I350=\"Fair\",(-0.5*$T347),0)","v":0},{"$f":"IF('Data Collection Sheet'!I350=\"Good\",(-0.2*$T347),0)","v":0},{"$f":"IF('Data Collection Sheet'!I350=\"Great\",0,0)","v":0},null,0,0,0,null,null,null,{"$f":"IF('Consequence of Failure'!F350=\"No\",1,0)","v":0},{"$f":"IF('Consequence of Failure'!G348=\"0%-25%\",0.5,0)","v":0},{"$f":"IF('Consequence of Failure'!G348=\"26%-50%\",1,0)","v":0},{"$f":"IF('Consequence of Failure'!G348=\"51%-75%\",1.5,0)","v":0},{"$f":"IF('Consequence of Failure'!G348=\"76%-100%\",2,0)","v":0},{"$f":"IF('Consequence of Failure'!H348=\"Yes\",1,0)","v":0},{"$f":"IF('Consequence of Failure'!I348=\"Yes\",1,0)","v":0},null,0,null,{"$f":"IF('Consequence of Failure'!K348=\"Yes\",1,0)","v":0},{"$f":"IF('Consequence of Failure'!L348=\"Above\",2,0)","v":0},{"$f":"IF('Consequence of Failure'!L348=\"At\",1,0)","v":0},{"$f":"IF('Consequence of Failure'!L348=\"Below\",0,0)","v":0},{"$f":"IF('Consequence of Failure'!M348=\"Yes\",1,0)","v":0},{"$f":"IF('Consequence of Failure'!N348=\"Yes\",1,0)","v":0},null,0,null,0]
[{"$f":"IF('Data Collection Sheet'!B351=\"Pump\",15,0)","v":0},{"$f":"IF('Data Collection Sheet'!B351=\"Hydrant\",50,0)","v":0},{"$f":"IF('Data Collection Sheet'!B351=\"Meter\",15,0)","v":0},{"$f":"IF('Data Collection Sheet'!B351=\"Pipe\",80,0)","v":0},{"$f":"IF('Data Collection Sheet'!B351=\"Source\",50,0)","v":0},{"$f":"IF('Data Collection Sheet'!B351=\"Tank\",50,0)","v":0},{"$f":"IF('Data Collection Sheet'!B351=\"Analytical\",10,0)","v":0},{"$f":"IF('Data Collection Sheet'!B351=\"Treatment\",20,0)","v":0},{"$f":"IF('Data Collection Sheet'!B351=\"Valve\",20,0)","v":0},{"$f":"IF('Data Collection Sheet'!B351=\"Control\",15,0)","v":0},{"$f":"IF('Data Collection Sheet'!B351=\"Safety\",10,0)","v":0},{"$f":"IF('Data Collection Sheet'!B351=\"Building\",50,0)","v":0},{"$f":"IF('Data Collection Sheet'!B351=\"Vehicle\",8,0)","v":0},{"$f":"IF('Data Collection Sheet'!B351=\"Other\",15,0)","v":0},{"$f":"IF('Data Collection Sheet'!I351=\"Bad\",(-0.8*$T348),0)","v":0},{"$f":"IF('Data Collection Sheet'!I351=\"Fair\",(-0.5*$T348),0)","v":0},{"$f":"IF('Data Collection Sheet'!I351=\"Good\",(-0.2*$T348),0)","v":0},{"$f":"IF('Data Collection Sheet'!I351=\"Great\",0,0)","v":0},null,0,0,0,null,null,null,{"$f":"IF('Consequence of Failure'!F351=\"No\",1,0)","v":0},{"$f":"IF('Consequence of Failure'!G349=\"0%-25%\",0.5,0)","v":0},{"$f":"IF('Consequence of Failure'!G349=\"26%-50%\",1,0)","v":0},{"$f":"IF('Consequence of Failure'!G349=\"51%-75%\",1.5,0)","v":0},{"$f":"IF('Consequence of Failure'!G349=\"76%-100%\",2,0)","v":0},{"$f":"IF('Consequence of Failure'!H349=\"Yes\",1,0)","v":0},{"$f":"IF('Consequence of Failure'!I349=\"Yes\",1,0)","v":0},null,0,null,{"$f":"IF('Consequence of Failure'!K349=\"Yes\",1,0)","v":0},{"$f":"IF('Consequence of Failure'!L349=\"Above\",2,0)","v":0},{"$f":"IF('Consequence of Failure'!L349=\"At\",1,0)","v":0},{"$f":"IF('Consequence of Failure'!L349=\"Below\",0,0)","v":0},{"$f":"IF('Consequence of Failure'!M349=\"Yes\",1,0)","v":0},{"$f":"IF('Consequence of Failure'!N349=\"Yes\",1,0)","v":0},null,0,null,0]
[{"$f":"IF('Data Collection Sheet'!B352=\"Pump\",15,0)","v":0},{"$f":"IF('Data Collection Sheet'!B352=\"Hydrant\",50,0)","v":0},{"$f":"IF('Data Collection Sheet'!B352=\"Meter\",15,0)","v":0},{"$f":"IF('Data Collection Sheet'!B352=\"Pipe\",80,0)","v":0},{"$f":"IF('Data Collection Sheet'!B352=\"Source\",50,0)","v":0},{"$f":"IF('Data Collection Sheet'!B352=\"Tank\",50,0)","v":0},{"$f":"IF('Data Collection Sheet'!B352=\"Analytical\",10,0)","v":0},{"$f":"IF('Data Collection Sheet'!B352=\"Treatment\",20,0)","v":0},{"$f":"IF('Data Collection Sheet'!B352=\"Valve\",20,0)","v":0},{"$f":"IF('Data Collection Sheet'!B352=\"Control\",15,0)","v":0},{"$f":"IF('Data Collection Sheet'!B352=\"Safety\",10,0)","v":0},{"$f":"IF('Data Collection Sheet'!B352=\"Building\",50,0)","v":0},{"$f":"IF('Data Collection Sheet'!B352=\"Vehicle\",8,0)","v":0},{"$f":"IF('Data Collection Sheet'!B352=\"Other\",15,0)","v":0},{"$f":"IF('Data Collection Sheet'!I352=\"Bad\",(-0.8*$T349),0)","v":0},{"$f":"IF('Data Collection Sheet'!I352=\"Fair\",(-0.5*$T349),0)","v":0},{"$f":"IF('Data Collection Sheet'!I352=\"Good\",(-0.2*$T349),0)","v":0},{"$f":"IF('Data Collection Sheet'!I352=\"Great\",0,0)","v":0},null,0,0,0,null,null,null,{"$f":"IF('Consequence of Failure'!F352=\"No\",1,0)","v":0},{"$f":"IF('Consequence of Failure'!G350=\"0%-25%\",0.5,0)","v":0},{"$f":"IF('Consequence of Failure'!G350=\"26%-50%\",1,0)","v":0},{"$f":"IF('Consequence of Failure'!G350=\"51%-75%\",1.5,0)","v":0},{"$f":"IF('Consequence of Failure'!G350=\"76%-100%\",2,0)","v":0},{"$f":"IF('Consequence of Failure'!H350=\"Yes\",1,0)","v":0},{"$f":"IF('Consequence of Failure'!I350=\"Yes\",1,0)","v":0},null,0,null,{"$f":"IF('Consequence of Failure'!K350=\"Yes\",1,0)","v":0},{"$f":"IF('Consequence of Failure'!L350=\"Above\",2,0)","v":0},{"$f":"IF('Consequence of Failure'!L350=\"At\",1,0)","v":0},{"$f":"IF('Consequence of Failure'!L350=\"Below\",0,0)","v":0},{"$f":"IF('Consequence of Failure'!M350=\"Yes\",1,0)","v":0},{"$f":"IF('Consequence of Failure'!N350=\"Yes\",1,0)","v":0},null,0,null,0]
[{"$f":"IF('Data Collection Sheet'!B353=\"Pump\",15,0)","v":0},{"$f":"IF('Data Collection Sheet'!B353=\"Hydrant\",50,0)","v":0},{"$f":"IF('Data Collection Sheet'!B353=\"Meter\",15,0)","v":0},{"$f":"IF('Data Collection Sheet'!B353=\"Pipe\",80,0)","v":0},{"$f":"IF('Data Collection Sheet'!B353=\"Source\",50,0)","v":0},{"$f":"IF('Data Collection Sheet'!B353=\"Tank\",50,0)","v":0},{"$f":"IF('Data Collection Sheet'!B353=\"Analytical\",10,0)","v":0},{"$f":"IF('Data Collection Sheet'!B353=\"Treatment\",20,0)","v":0},{"$f":"IF('Data Collection Sheet'!B353=\"Valve\",20,0)","v":0},{"$f":"IF('Data Collection Sheet'!B353=\"Control\",15,0)","v":0},{"$f":"IF('Data Collection Sheet'!B353=\"Safety\",10,0)","v":0},{"$f":"IF('Data Collection Sheet'!B353=\"Building\",50,0)","v":0},{"$f":"IF('Data Collection Sheet'!B353=\"Vehicle\",8,0)","v":0},{"$f":"IF('Data Collection Sheet'!B353=\"Other\",15,0)","v":0},{"$f":"IF('Data Collection Sheet'!I353=\"Bad\",(-0.8*$T350),0)","v":0},{"$f":"IF('Data Collection Sheet'!I353=\"Fair\",(-0.5*$T350),0)","v":0},{"$f":"IF('Data Collection Sheet'!I353=\"Good\",(-0.2*$T350),0)","v":0},{"$f":"IF('Data Collection Sheet'!I353=\"Great\",0,0)","v":0},null,0,0,0,null,null,null,{"$f":"IF('Consequence of Failure'!F353=\"No\",1,0)","v":0},{"$f":"IF('Consequence of Failure'!G351=\"0%-25%\",0.5,0)","v":0},{"$f":"IF('Consequence of Failure'!G351=\"26%-50%\",1,0)","v":0},{"$f":"IF('Consequence of Failure'!G351=\"51%-75%\",1.5,0)","v":0},{"$f":"IF('Consequence of Failure'!G351=\"76%-100%\",2,0)","v":0},{"$f":"IF('Consequence of Failure'!H351=\"Yes\",1,0)","v":0},{"$f":"IF('Consequence of Failure'!I351=\"Yes\",1,0)","v":0},null,0,null,{"$f":"IF('Consequence of Failure'!K351=\"Yes\",1,0)","v":0},{"$f":"IF('Consequence of Failure'!L351=\"Above\",2,0)","v":0},{"$f":"IF('Consequence of Failure'!L351=\"At\",1,0)","v":0},{"$f":"IF('Consequence of Failure'!L351=\"Below\",0,0)","v":0},{"$f":"IF('Consequence of Failure'!M351=\"Yes\",1,0)","v":0},{"$f":"IF('Consequence of Failure'!N351=\"Yes\",1,0)","v":0},null,0,null,0]
[{"$f":"IF('Data Collection Sheet'!B354=\"Pump\",15,0)","v":0},{"$f":"IF('Data Collection Sheet'!B354=\"Hydrant\",50,0)","v":0},{"$f":"IF('Data Collection Sheet'!B354=\"Meter\",15,0)","v":0},{"$f":"IF('Data Collection Sheet'!B354=\"Pipe\",80,0)","v":0},{"$f":"IF('Data Collection Sheet'!B354=\"Source\",50,0)","v":0},{"$f":"IF('Data Collection Sheet'!B354=\"Tank\",50,0)","v":0},{"$f":"IF('Data Collection Sheet'!B354=\"Analytical\",10,0)","v":0},{"$f":"IF('Data Collection Sheet'!B354=\"Treatment\",20,0)","v":0},{"$f":"IF('Data Collection Sheet'!B354=\"Valve\",20,0)","v":0},{"$f":"IF('Data Collection Sheet'!B354=\"Control\",15,0)","v":0},{"$f":"IF('Data Collection Sheet'!B354=\"Safety\",10,0)","v":0},{"$f":"IF('Data Collection Sheet'!B354=\"Building\",50,0)","v":0},{"$f":"IF('Data Collection Sheet'!B354=\"Vehicle\",8,0)","v":0},{"$f":"IF('Data Collection Sheet'!B354=\"Other\",15,0)","v":0},{"$f":"IF('Data Collection Sheet'!I354=\"Bad\",(-0.8*$T351),0)","v":0},{"$f":"IF('Data Collection Sheet'!I354=\"Fair\",(-0.5*$T351),0)","v":0},{"$f":"IF('Data Collection Sheet'!I354=\"Good\",(-0.2*$T351),0)","v":0},{"$f":"IF('Data Collection Sheet'!I354=\"Great\",0,0)","v":0},null,0,0,0,null,null,null,{"$f":"IF('Consequence of Failure'!F354=\"No\",1,0)","v":0},{"$f":"IF('Consequence of Failure'!G352=\"0%-25%\",0.5,0)","v":0},{"$f":"IF('Consequence of Failure'!G352=\"26%-50%\",1,0)","v":0},{"$f":"IF('Consequence of Failure'!G352=\"51%-75%\",1.5,0)","v":0},{"$f":"IF('Consequence of Failure'!G352=\"76%-100%\",2,0)","v":0},{"$f":"IF('Consequence of Failure'!H352=\"Yes\",1,0)","v":0},{"$f":"IF('Consequence of Failure'!I352=\"Yes\",1,0)","v":0},null,0,null,{"$f":"IF('Consequence of Failure'!K352=\"Yes\",1,0)","v":0},{"$f":"IF('Consequence of Failure'!L352=\"Above\",2,0)","v":0},{"$f":"IF('Consequence of Failure'!L352=\"At\",1,0)","v":0},{"$f":"IF('Consequence of Failure'!L352=\"Below\",0,0)","v":0},{"$f":"IF('Consequence of Failure'!M352=\"Yes\",1,0)","v":0},{"$f":"IF('Consequence of Failure'!N352=\"Yes\",1,0)","v":0},null,0,null,0]
[{"$f":"IF('Data Collection Sheet'!B355=\"Pump\",15,0)","v":0},{"$f":"IF('Data Collection Sheet'!B355=\"Hydrant\",50,0)","v":0},{"$f":"IF('Data Collection Sheet'!B355=\"Meter\",15,0)","v":0},{"$f":"IF('Data Collection Sheet'!B355=\"Pipe\",80,0)","v":0},{"$f":"IF('Data Collection Sheet'!B355=\"Source\",50,0)","v":0},{"$f":"IF('Data Collection Sheet'!B355=\"Tank\",50,0)","v":0},{"$f":"IF('Data Collection Sheet'!B355=\"Analytical\",10,0)","v":0},{"$f":"IF('Data Collection Sheet'!B355=\"Treatment\",20,0)","v":0},{"$f":"IF('Data Collection Sheet'!B355=\"Valve\",20,0)","v":0},{"$f":"IF('Data Collection Sheet'!B355=\"Control\",15,0)","v":0},{"$f":"IF('Data Collection Sheet'!B355=\"Safety\",10,0)","v":0},{"$f":"IF('Data Collection Sheet'!B355=\"Building\",50,0)","v":0},{"$f":"IF('Data Collection Sheet'!B355=\"Vehicle\",8,0)","v":0},{"$f":"IF('Data Collection Sheet'!B355=\"Other\",15,0)","v":0},{"$f":"IF('Data Collection Sheet'!I355=\"Bad\",(-0.8*$T352),0)","v":0},{"$f":"IF('Data Collection Sheet'!I355=\"Fair\",(-0.5*$T352),0)","v":0},{"$f":"IF('Data Collection Sheet'!I355=\"Good\",(-0.2*$T352),0)","v":0},{"$f":"IF('Data Collection Sheet'!I355=\"Great\",0,0)","v":0},null,0,0,0,null,null,null,{"$f":"IF('Consequence of Failure'!F355=\"No\",1,0)","v":0},{"$f":"IF('Consequence of Failure'!G353=\"0%-25%\",0.5,0)","v":0},{"$f":"IF('Consequence of Failure'!G353=\"26%-50%\",1,0)","v":0},{"$f":"IF('Consequence of Failure'!G353=\"51%-75%\",1.5,0)","v":0},{"$f":"IF('Consequence of Failure'!G353=\"76%-100%\",2,0)","v":0},{"$f":"IF('Consequence of Failure'!H353=\"Yes\",1,0)","v":0},{"$f":"IF('Consequence of Failure'!I353=\"Yes\",1,0)","v":0},null,0,null,{"$f":"IF('Consequence of Failure'!K353=\"Yes\",1,0)","v":0},{"$f":"IF('Consequence of Failure'!L353=\"Above\",2,0)","v":0},{"$f":"IF('Consequence of Failure'!L353=\"At\",1,0)","v":0},{"$f":"IF('Consequence of Failure'!L353=\"Below\",0,0)","v":0},{"$f":"IF('Consequence of Failure'!M353=\"Yes\",1,0)","v":0},{"$f":"IF('Consequence of Failure'!N353=\"Yes\",1,0)","v":0},null,0,null,0]
[{"$f":"IF('Data Collection Sheet'!B356=\"Pump\",15,0)","v":0},{"$f":"IF('Data Collection Sheet'!B356=\"Hydrant\",50,0)","v":0},{"$f":"IF('Data Collection Sheet'!B356=\"Meter\",15,0)","v":0},{"$f":"IF('Data Collection Sheet'!B356=\"Pipe\",80,0)","v":0},{"$f":"IF('Data Collection Sheet'!B356=\"Source\",50,0)","v":0},{"$f":"IF('Data Collection Sheet'!B356=\"Tank\",50,0)","v":0},{"$f":"IF('Data Collection Sheet'!B356=\"Analytical\",10,0)","v":0},{"$f":"IF('Data Collection Sheet'!B356=\"Treatment\",20,0)","v":0},{"$f":"IF('Data Collection Sheet'!B356=\"Valve\",20,0)","v":0},{"$f":"IF('Data Collection Sheet'!B356=\"Control\",15,0)","v":0},{"$f":"IF('Data Collection Sheet'!B356=\"Safety\",10,0)","v":0},{"$f":"IF('Data Collection Sheet'!B356=\"Building\",50,0)","v":0},{"$f":"IF('Data Collection Sheet'!B356=\"Vehicle\",8,0)","v":0},{"$f":"IF('Data Collection Sheet'!B356=\"Other\",15,0)","v":0},{"$f":"IF('Data Collection Sheet'!I356=\"Bad\",(-0.8*$T353),0)","v":0},{"$f":"IF('Data Collection Sheet'!I356=\"Fair\",(-0.5*$T353),0)","v":0},{"$f":"IF('Data Collection Sheet'!I356=\"Good\",(-0.2*$T353),0)","v":0},{"$f":"IF('Data Collection Sheet'!I356=\"Great\",0,0)","v":0},null,0,0,0,null,null,null,{"$f":"IF('Consequence of Failure'!F356=\"No\",1,0)","v":0},{"$f":"IF('Consequence of Failure'!G354=\"0%-25%\",0.5,0)","v":0},{"$f":"IF('Consequence of Failure'!G354=\"26%-50%\",1,0)","v":0},{"$f":"IF('Consequence of Failure'!G354=\"51%-75%\",1.5,0)","v":0},{"$f":"IF('Consequence of Failure'!G354=\"76%-100%\",2,0)","v":0},{"$f":"IF('Consequence of Failure'!H354=\"Yes\",1,0)","v":0},{"$f":"IF('Consequence of Failure'!I354=\"Yes\",1,0)","v":0},null,0,null,{"$f":"IF('Consequence of Failure'!K354=\"Yes\",1,0)","v":0},{"$f":"IF('Consequence of Failure'!L354=\"Above\",2,0)","v":0},{"$f":"IF('Consequence of Failure'!L354=\"At\",1,0)","v":0},{"$f":"IF('Consequence of Failure'!L354=\"Below\",0,0)","v":0},{"$f":"IF('Consequence of Failure'!M354=\"Yes\",1,0)","v":0},{"$f":"IF('Consequence of Failure'!N354=\"Yes\",1,0)","v":0},null,0,null,0]
[{"$f":"IF('Data Collection Sheet'!B357=\"Pump\",15,0)","v":0},{"$f":"IF('Data Collection Sheet'!B357=\"Hydrant\",50,0)","v":0},{"$f":"IF('Data Collection Sheet'!B357=\"Meter\",15,0)","v":0},{"$f":"IF('Data Collection Sheet'!B357=\"Pipe\",80,0)","v":0},{"$f":"IF('Data Collection Sheet'!B357=\"Source\",50,0)","v":0},{"$f":"IF('Data Collection Sheet'!B357=\"Tank\",50,0)","v":0},{"$f":"IF('Data Collection Sheet'!B357=\"Analytical\",10,0)","v":0},{"$f":"IF('Data Collection Sheet'!B357=\"Treatment\",20,0)","v":0},{"$f":"IF('Data Collection Sheet'!B357=\"Valve\",20,0)","v":0},{"$f":"IF('Data Collection Sheet'!B357=\"Control\",15,0)","v":0},{"$f":"IF('Data Collection Sheet'!B357=\"Safety\",10,0)","v":0},{"$f":"IF('Data Collection Sheet'!B357=\"Building\",50,0)","v":0},{"$f":"IF('Data Collection Sheet'!B357=\"Vehicle\",8,0)","v":0},{"$f":"IF('Data Collection Sheet'!B357=\"Other\",15,0)","v":0},{"$f":"IF('Data Collection Sheet'!I357=\"Bad\",(-0.8*$T354),0)","v":0},{"$f":"IF('Data Collection Sheet'!I357=\"Fair\",(-0.5*$T354),0)","v":0},{"$f":"IF('Data Collection Sheet'!I357=\"Good\",(-0.2*$T354),0)","v":0},{"$f":"IF('Data Collection Sheet'!I357=\"Great\",0,0)","v":0},null,0,0,0,null,null,null,{"$f":"IF('Consequence of Failure'!F357=\"No\",1,0)","v":0},{"$f":"IF('Consequence of Failure'!G355=\"0%-25%\",0.5,0)","v":0},{"$f":"IF('Consequence of Failure'!G355=\"26%-50%\",1,0)","v":0},{"$f":"IF('Consequence of Failure'!G355=\"51%-75%\",1.5,0)","v":0},{"$f":"IF('Consequence of Failure'!G355=\"76%-100%\",2,0)","v":0},{"$f":"IF('Consequence of Failure'!H355=\"Yes\",1,0)","v":0},{"$f":"IF('Consequence of Failure'!I355=\"Yes\",1,0)","v":0},null,0,null,{"$f":"IF('Consequence of Failure'!K355=\"Yes\",1,0)","v":0},{"$f":"IF('Consequence of Failure'!L355=\"Above\",2,0)","v":0},{"$f":"IF('Consequence of Failure'!L355=\"At\",1,0)","v":0},{"$f":"IF('Consequence of Failure'!L355=\"Below\",0,0)","v":0},{"$f":"IF('Consequence of Failure'!M355=\"Yes\",1,0)","v":0},{"$f":"IF('Consequence of Failure'!N355=\"Yes\",1,0)","v":0},null,0,null,0]
[{"$f":"IF('Data Collection Sheet'!B358=\"Pump\",15,0)","v":0},{"$f":"IF('Data Collection Sheet'!B358=\"Hydrant\",50,0)","v":0},{"$f":"IF('Data Collection Sheet'!B358=\"Meter\",15,0)","v":0},{"$f":"IF('Data Collection Sheet'!B358=\"Pipe\",80,0)","v":0},{"$f":"IF('Data Collection Sheet'!B358=\"Source\",50,0)","v":0},{"$f":"IF('Data Collection Sheet'!B358=\"Tank\",50,0)","v":0},{"$f":"IF('Data Collection Sheet'!B358=\"Analytical\",10,0)","v":0},{"$f":"IF('Data Collection Sheet'!B358=\"Treatment\",20,0)","v":0},{"$f":"IF('Data Collection Sheet'!B358=\"Valve\",20,0)","v":0},{"$f":"IF('Data Collection Sheet'!B358=\"Control\",15,0)","v":0},{"$f":"IF('Data Collection Sheet'!B358=\"Safety\",10,0)","v":0},{"$f":"IF('Data Collection Sheet'!B358=\"Building\",50,0)","v":0},{"$f":"IF('Data Collection Sheet'!B358=\"Vehicle\",8,0)","v":0},{"$f":"IF('Data Collection Sheet'!B358=\"Other\",15,0)","v":0},{"$f":"IF('Data Collection Sheet'!I358=\"Bad\",(-0.8*$T355),0)","v":0},{"$f":"IF('Data Collection Sheet'!I358=\"Fair\",(-0.5*$T355),0)","v":0},{"$f":"IF('Data Collection Sheet'!I358=\"Good\",(-0.2*$T355),0)","v":0},{"$f":"IF('Data Collection Sheet'!I358=\"Great\",0,0)","v":0},null,0,0,0,null,null,null,{"$f":"IF('Consequence of Failure'!F358=\"No\",1,0)","v":0},{"$f":"IF('Consequence of Failure'!G356=\"0%-25%\",0.5,0)","v":0},{"$f":"IF('Consequence of Failure'!G356=\"26%-50%\",1,0)","v":0},{"$f":"IF('Consequence of Failure'!G356=\"51%-75%\",1.5,0)","v":0},{"$f":"IF('Consequence of Failure'!G356=\"76%-100%\",2,0)","v":0},{"$f":"IF('Consequence of Failure'!H356=\"Yes\",1,0)","v":0},{"$f":"IF('Consequence of Failure'!I356=\"Yes\",1,0)","v":0},null,0,null,{"$f":"IF('Consequence of Failure'!K356=\"Yes\",1,0)","v":0},{"$f":"IF('Consequence of Failure'!L356=\"Above\",2,0)","v":0},{"$f":"IF('Consequence of Failure'!L356=\"At\",1,0)","v":0},{"$f":"IF('Consequence of Failure'!L356=\"Below\",0,0)","v":0},{"$f":"IF('Consequence of Failure'!M356=\"Yes\",1,0)","v":0},{"$f":"IF('Consequence of Failure'!N356=\"Yes\",1,0)","v":0},null,0,null,0]
[{"$f":"IF('Data Collection Sheet'!B359=\"Pump\",15,0)","v":0},{"$f":"IF('Data Collection Sheet'!B359=\"Hydrant\",50,0)","v":0},{"$f":"IF('Data Collection Sheet'!B359=\"Meter\",15,0)","v":0},{"$f":"IF('Data Collection Sheet'!B359=\"Pipe\",80,0)","v":0},{"$f":"IF('Data Collection Sheet'!B359=\"Source\",50,0)","v":0},{"$f":"IF('Data Collection Sheet'!B359=\"Tank\",50,0)","v":0},{"$f":"IF('Data Collection Sheet'!B359=\"Analytical\",10,0)","v":0},{"$f":"IF('Data Collection Sheet'!B359=\"Treatment\",20,0)","v":0},{"$f":"IF('Data Collection Sheet'!B359=\"Valve\",20,0)","v":0},{"$f":"IF('Data Collection Sheet'!B359=\"Control\",15,0)","v":0},{"$f":"IF('Data Collection Sheet'!B359=\"Safety\",10,0)","v":0},{"$f":"IF('Data Collection Sheet'!B359=\"Building\",50,0)","v":0},{"$f":"IF('Data Collection Sheet'!B359=\"Vehicle\",8,0)","v":0},{"$f":"IF('Data Collection Sheet'!B359=\"Other\",15,0)","v":0},{"$f":"IF('Data Collection Sheet'!I359=\"Bad\",(-0.8*$T356),0)","v":0},{"$f":"IF('Data Collection Sheet'!I359=\"Fair\",(-0.5*$T356),0)","v":0},{"$f":"IF('Data Collection Sheet'!I359=\"Good\",(-0.2*$T356),0)","v":0},{"$f":"IF('Data Collection Sheet'!I359=\"Great\",0,0)","v":0},null,0,0,0,null,null,null,{"$f":"IF('Consequence of Failure'!F359=\"No\",1,0)","v":0},{"$f":"IF('Consequence of Failure'!G357=\"0%-25%\",0.5,0)","v":0},{"$f":"IF('Consequence of Failure'!G357=\"26%-50%\",1,0)","v":0},{"$f":"IF('Consequence of Failure'!G357=\"51%-75%\",1.5,0)","v":0},{"$f":"IF('Consequence of Failure'!G357=\"76%-100%\",2,0)","v":0},{"$f":"IF('Consequence of Failure'!H357=\"Yes\",1,0)","v":0},{"$f":"IF('Consequence of Failure'!I357=\"Yes\",1,0)","v":0},null,0,null,{"$f":"IF('Consequence of Failure'!K357=\"Yes\",1,0)","v":0},{"$f":"IF('Consequence of Failure'!L357=\"Above\",2,0)","v":0},{"$f":"IF('Consequence of Failure'!L357=\"At\",1,0)","v":0},{"$f":"IF('Consequence of Failure'!L357=\"Below\",0,0)","v":0},{"$f":"IF('Consequence of Failure'!M357=\"Yes\",1,0)","v":0},{"$f":"IF('Consequence of Failure'!N357=\"Yes\",1,0)","v":0},null,0,null,0]
[{"$f":"IF('Data Collection Sheet'!B360=\"Pump\",15,0)","v":0},{"$f":"IF('Data Collection Sheet'!B360=\"Hydrant\",50,0)","v":0},{"$f":"IF('Data Collection Sheet'!B360=\"Meter\",15,0)","v":0},{"$f":"IF('Data Collection Sheet'!B360=\"Pipe\",80,0)","v":0},{"$f":"IF('Data Collection Sheet'!B360=\"Source\",50,0)","v":0},{"$f":"IF('Data Collection Sheet'!B360=\"Tank\",50,0)","v":0},{"$f":"IF('Data Collection Sheet'!B360=\"Analytical\",10,0)","v":0},{"$f":"IF('Data Collection Sheet'!B360=\"Treatment\",20,0)","v":0},{"$f":"IF('Data Collection Sheet'!B360=\"Valve\",20,0)","v":0},{"$f":"IF('Data Collection Sheet'!B360=\"Control\",15,0)","v":0},{"$f":"IF('Data Collection Sheet'!B360=\"Safety\",10,0)","v":0},{"$f":"IF('Data Collection Sheet'!B360=\"Building\",50,0)","v":0},{"$f":"IF('Data Collection Sheet'!B360=\"Vehicle\",8,0)","v":0},{"$f":"IF('Data Collection Sheet'!B360=\"Other\",15,0)","v":0},{"$f":"IF('Data Collection Sheet'!I360=\"Bad\",(-0.8*$T357),0)","v":0},{"$f":"IF('Data Collection Sheet'!I360=\"Fair\",(-0.5*$T357),0)","v":0},{"$f":"IF('Data Collection Sheet'!I360=\"Good\",(-0.2*$T357),0)","v":0},{"$f":"IF('Data Collection Sheet'!I360=\"Great\",0,0)","v":0},null,0,0,0,null,null,null,{"$f":"IF('Consequence of Failure'!F360=\"No\",1,0)","v":0},{"$f":"IF('Consequence of Failure'!G358=\"0%-25%\",0.5,0)","v":0},{"$f":"IF('Consequence of Failure'!G358=\"26%-50%\",1,0)","v":0},{"$f":"IF('Consequence of Failure'!G358=\"51%-75%\",1.5,0)","v":0},{"$f":"IF('Consequence of Failure'!G358=\"76%-100%\",2,0)","v":0},{"$f":"IF('Consequence of Failure'!H358=\"Yes\",1,0)","v":0},{"$f":"IF('Consequence of Failure'!I358=\"Yes\",1,0)","v":0},null,0,null,{"$f":"IF('Consequence of Failure'!K358=\"Yes\",1,0)","v":0},{"$f":"IF('Consequence of Failure'!L358=\"Above\",2,0)","v":0},{"$f":"IF('Consequence of Failure'!L358=\"At\",1,0)","v":0},{"$f":"IF('Consequence of Failure'!L358=\"Below\",0,0)","v":0},{"$f":"IF('Consequence of Failure'!M358=\"Yes\",1,0)","v":0},{"$f":"IF('Consequence of Failure'!N358=\"Yes\",1,0)","v":0},null,0,null,0]
[{"$f":"IF('Data Collection Sheet'!B361=\"Pump\",15,0)","v":0},{"$f":"IF('Data Collection Sheet'!B361=\"Hydrant\",50,0)","v":0},{"$f":"IF('Data Collection Sheet'!B361=\"Meter\",15,0)","v":0},{"$f":"IF('Data Collection Sheet'!B361=\"Pipe\",80,0)","v":0},{"$f":"IF('Data Collection Sheet'!B361=\"Source\",50,0)","v":0},{"$f":"IF('Data Collection Sheet'!B361=\"Tank\",50,0)","v":0},{"$f":"IF('Data Collection Sheet'!B361=\"Analytical\",10,0)","v":0},{"$f":"IF('Data Collection Sheet'!B361=\"Treatment\",20,0)","v":0},{"$f":"IF('Data Collection Sheet'!B361=\"Valve\",20,0)","v":0},{"$f":"IF('Data Collection Sheet'!B361=\"Control\",15,0)","v":0},{"$f":"IF('Data Collection Sheet'!B361=\"Safety\",10,0)","v":0},{"$f":"IF('Data Collection Sheet'!B361=\"Building\",50,0)","v":0},{"$f":"IF('Data Collection Sheet'!B361=\"Vehicle\",8,0)","v":0},{"$f":"IF('Data Collection Sheet'!B361=\"Other\",15,0)","v":0},{"$f":"IF('Data Collection Sheet'!I361=\"Bad\",(-0.8*$T358),0)","v":0},{"$f":"IF('Data Collection Sheet'!I361=\"Fair\",(-0.5*$T358),0)","v":0},{"$f":"IF('Data Collection Sheet'!I361=\"Good\",(-0.2*$T358),0)","v":0},{"$f":"IF('Data Collection Sheet'!I361=\"Great\",0,0)","v":0},null,0,0,0,null,null,null,{"$f":"IF('Consequence of Failure'!F361=\"No\",1,0)","v":0},{"$f":"IF('Consequence of Failure'!G359=\"0%-25%\",0.5,0)","v":0},{"$f":"IF('Consequence of Failure'!G359=\"26%-50%\",1,0)","v":0},{"$f":"IF('Consequence of Failure'!G359=\"51%-75%\",1.5,0)","v":0},{"$f":"IF('Consequence of Failure'!G359=\"76%-100%\",2,0)","v":0},{"$f":"IF('Consequence of Failure'!H359=\"Yes\",1,0)","v":0},{"$f":"IF('Consequence of Failure'!I359=\"Yes\",1,0)","v":0},null,0,null,{"$f":"IF('Consequence of Failure'!K359=\"Yes\",1,0)","v":0},{"$f":"IF('Consequence of Failure'!L359=\"Above\",2,0)","v":0},{"$f":"IF('Consequence of Failure'!L359=\"At\",1,0)","v":0},{"$f":"IF('Consequence of Failure'!L359=\"Below\",0,0)","v":0},{"$f":"IF('Consequence of Failure'!M359=\"Yes\",1,0)","v":0},{"$f":"IF('Consequence of Failure'!N359=\"Yes\",1,0)","v":0},null,0,null,0]
[{"$f":"IF('Data Collection Sheet'!B362=\"Pump\",15,0)","v":0},{"$f":"IF('Data Collection Sheet'!B362=\"Hydrant\",50,0)","v":0},{"$f":"IF('Data Collection Sheet'!B362=\"Meter\",15,0)","v":0},{"$f":"IF('Data Collection Sheet'!B362=\"Pipe\",80,0)","v":0},{"$f":"IF('Data Collection Sheet'!B362=\"Source\",50,0)","v":0},{"$f":"IF('Data Collection Sheet'!B362=\"Tank\",50,0)","v":0},{"$f":"IF('Data Collection Sheet'!B362=\"Analytical\",10,0)","v":0},{"$f":"IF('Data Collection Sheet'!B362=\"Treatment\",20,0)","v":0},{"$f":"IF('Data Collection Sheet'!B362=\"Valve\",20,0)","v":0},{"$f":"IF('Data Collection Sheet'!B362=\"Control\",15,0)","v":0},{"$f":"IF('Data Collection Sheet'!B362=\"Safety\",10,0)","v":0},{"$f":"IF('Data Collection Sheet'!B362=\"Building\",50,0)","v":0},{"$f":"IF('Data Collection Sheet'!B362=\"Vehicle\",8,0)","v":0},{"$f":"IF('Data Collection Sheet'!B362=\"Other\",15,0)","v":0},{"$f":"IF('Data Collection Sheet'!I362=\"Bad\",(-0.8*$T359),0)","v":0},{"$f":"IF('Data Collection Sheet'!I362=\"Fair\",(-0.5*$T359),0)","v":0},{"$f":"IF('Data Collection Sheet'!I362=\"Good\",(-0.2*$T359),0)","v":0},{"$f":"IF('Data Collection Sheet'!I362=\"Great\",0,0)","v":0},null,0,0,0,null,null,null,{"$f":"IF('Consequence of Failure'!F362=\"No\",1,0)","v":0},{"$f":"IF('Consequence of Failure'!G360=\"0%-25%\",0.5,0)","v":0},{"$f":"IF('Consequence of Failure'!G360=\"26%-50%\",1,0)","v":0},{"$f":"IF('Consequence of Failure'!G360=\"51%-75%\",1.5,0)","v":0},{"$f":"IF('Consequence of Failure'!G360=\"76%-100%\",2,0)","v":0},{"$f":"IF('Consequence of Failure'!H360=\"Yes\",1,0)","v":0},{"$f":"IF('Consequence of Failure'!I360=\"Yes\",1,0)","v":0},null,0,null,{"$f":"IF('Consequence of Failure'!K360=\"Yes\",1,0)","v":0},{"$f":"IF('Consequence of Failure'!L360=\"Above\",2,0)","v":0},{"$f":"IF('Consequence of Failure'!L360=\"At\",1,0)","v":0},{"$f":"IF('Consequence of Failure'!L360=\"Below\",0,0)","v":0},{"$f":"IF('Consequence of Failure'!M360=\"Yes\",1,0)","v":0},{"$f":"IF('Consequence of Failure'!N360=\"Yes\",1,0)","v":0},null,0,null,0]
[{"$f":"IF('Data Collection Sheet'!B363=\"Pump\",15,0)","v":0},{"$f":"IF('Data Collection Sheet'!B363=\"Hydrant\",50,0)","v":0},{"$f":"IF('Data Collection Sheet'!B363=\"Meter\",15,0)","v":0},{"$f":"IF('Data Collection Sheet'!B363=\"Pipe\",80,0)","v":0},{"$f":"IF('Data Collection Sheet'!B363=\"Source\",50,0)","v":0},{"$f":"IF('Data Collection Sheet'!B363=\"Tank\",50,0)","v":0},{"$f":"IF('Data Collection Sheet'!B363=\"Analytical\",10,0)","v":0},{"$f":"IF('Data Collection Sheet'!B363=\"Treatment\",20,0)","v":0},{"$f":"IF('Data Collection Sheet'!B363=\"Valve\",20,0)","v":0},{"$f":"IF('Data Collection Sheet'!B363=\"Control\",15,0)","v":0},{"$f":"IF('Data Collection Sheet'!B363=\"Safety\",10,0)","v":0},{"$f":"IF('Data Collection Sheet'!B363=\"Building\",50,0)","v":0},{"$f":"IF('Data Collection Sheet'!B363=\"Vehicle\",8,0)","v":0},{"$f":"IF('Data Collection Sheet'!B363=\"Other\",15,0)","v":0},{"$f":"IF('Data Collection Sheet'!I363=\"Bad\",(-0.8*$T360),0)","v":0},{"$f":"IF('Data Collection Sheet'!I363=\"Fair\",(-0.5*$T360),0)","v":0},{"$f":"IF('Data Collection Sheet'!I363=\"Good\",(-0.2*$T360),0)","v":0},{"$f":"IF('Data Collection Sheet'!I363=\"Great\",0,0)","v":0},null,0,0,0,null,null,null,{"$f":"IF('Consequence of Failure'!F363=\"No\",1,0)","v":0},{"$f":"IF('Consequence of Failure'!G361=\"0%-25%\",0.5,0)","v":0},{"$f":"IF('Consequence of Failure'!G361=\"26%-50%\",1,0)","v":0},{"$f":"IF('Consequence of Failure'!G361=\"51%-75%\",1.5,0)","v":0},{"$f":"IF('Consequence of Failure'!G361=\"76%-100%\",2,0)","v":0},{"$f":"IF('Consequence of Failure'!H361=\"Yes\",1,0)","v":0},{"$f":"IF('Consequence of Failure'!I361=\"Yes\",1,0)","v":0},null,0,null,{"$f":"IF('Consequence of Failure'!K361=\"Yes\",1,0)","v":0},{"$f":"IF('Consequence of Failure'!L361=\"Above\",2,0)","v":0},{"$f":"IF('Consequence of Failure'!L361=\"At\",1,0)","v":0},{"$f":"IF('Consequence of Failure'!L361=\"Below\",0,0)","v":0},{"$f":"IF('Consequence of Failure'!M361=\"Yes\",1,0)","v":0},{"$f":"IF('Consequence of Failure'!N361=\"Yes\",1,0)","v":0},null,0,null,0]
[{"$f":"IF('Data Collection Sheet'!B364=\"Pump\",15,0)","v":0},{"$f":"IF('Data Collection Sheet'!B364=\"Hydrant\",50,0)","v":0},{"$f":"IF('Data Collection Sheet'!B364=\"Meter\",15,0)","v":0},{"$f":"IF('Data Collection Sheet'!B364=\"Pipe\",80,0)","v":0},{"$f":"IF('Data Collection Sheet'!B364=\"Source\",50,0)","v":0},{"$f":"IF('Data Collection Sheet'!B364=\"Tank\",50,0)","v":0},{"$f":"IF('Data Collection Sheet'!B364=\"Analytical\",10,0)","v":0},{"$f":"IF('Data Collection Sheet'!B364=\"Treatment\",20,0)","v":0},{"$f":"IF('Data Collection Sheet'!B364=\"Valve\",20,0)","v":0},{"$f":"IF('Data Collection Sheet'!B364=\"Control\",15,0)","v":0},{"$f":"IF('Data Collection Sheet'!B364=\"Safety\",10,0)","v":0},{"$f":"IF('Data Collection Sheet'!B364=\"Building\",50,0)","v":0},{"$f":"IF('Data Collection Sheet'!B364=\"Vehicle\",8,0)","v":0},{"$f":"IF('Data Collection Sheet'!B364=\"Other\",15,0)","v":0},{"$f":"IF('Data Collection Sheet'!I364=\"Bad\",(-0.8*$T361),0)","v":0},{"$f":"IF('Data Collection Sheet'!I364=\"Fair\",(-0.5*$T361),0)","v":0},{"$f":"IF('Data Collection Sheet'!I364=\"Good\",(-0.2*$T361),0)","v":0},{"$f":"IF('Data Collection Sheet'!I364=\"Great\",0,0)","v":0},null,0,0,0,null,null,null,{"$f":"IF('Consequence of Failure'!F364=\"No\",1,0)","v":0},{"$f":"IF('Consequence of Failure'!G362=\"0%-25%\",0.5,0)","v":0},{"$f":"IF('Consequence of Failure'!G362=\"26%-50%\",1,0)","v":0},{"$f":"IF('Consequence of Failure'!G362=\"51%-75%\",1.5,0)","v":0},{"$f":"IF('Consequence of Failure'!G362=\"76%-100%\",2,0)","v":0},{"$f":"IF('Consequence of Failure'!H362=\"Yes\",1,0)","v":0},{"$f":"IF('Consequence of Failure'!I362=\"Yes\",1,0)","v":0},null,0,null,{"$f":"IF('Consequence of Failure'!K362=\"Yes\",1,0)","v":0},{"$f":"IF('Consequence of Failure'!L362=\"Above\",2,0)","v":0},{"$f":"IF('Consequence of Failure'!L362=\"At\",1,0)","v":0},{"$f":"IF('Consequence of Failure'!L362=\"Below\",0,0)","v":0},{"$f":"IF('Consequence of Failure'!M362=\"Yes\",1,0)","v":0},{"$f":"IF('Consequence of Failure'!N362=\"Yes\",1,0)","v":0},null,0,null,0]
[{"$f":"IF('Data Collection Sheet'!B365=\"Pump\",15,0)","v":0},{"$f":"IF('Data Collection Sheet'!B365=\"Hydrant\",50,0)","v":0},{"$f":"IF('Data Collection Sheet'!B365=\"Meter\",15,0)","v":0},{"$f":"IF('Data Collection Sheet'!B365=\"Pipe\",80,0)","v":0},{"$f":"IF('Data Collection Sheet'!B365=\"Source\",50,0)","v":0},{"$f":"IF('Data Collection Sheet'!B365=\"Tank\",50,0)","v":0},{"$f":"IF('Data Collection Sheet'!B365=\"Analytical\",10,0)","v":0},{"$f":"IF('Data Collection Sheet'!B365=\"Treatment\",20,0)","v":0},{"$f":"IF('Data Collection Sheet'!B365=\"Valve\",20,0)","v":0},{"$f":"IF('Data Collection Sheet'!B365=\"Control\",15,0)","v":0},{"$f":"IF('Data Collection Sheet'!B365=\"Safety\",10,0)","v":0},{"$f":"IF('Data Collection Sheet'!B365=\"Building\",50,0)","v":0},{"$f":"IF('Data Collection Sheet'!B365=\"Vehicle\",8,0)","v":0},{"$f":"IF('Data Collection Sheet'!B365=\"Other\",15,0)","v":0},{"$f":"IF('Data Collection Sheet'!I365=\"Bad\",(-0.8*$T362),0)","v":0},{"$f":"IF('Data Collection Sheet'!I365=\"Fair\",(-0.5*$T362),0)","v":0},{"$f":"IF('Data Collection Sheet'!I365=\"Good\",(-0.2*$T362),0)","v":0},{"$f":"IF('Data Collection Sheet'!I365=\"Great\",0,0)","v":0},null,0,0,0,null,null,null,{"$f":"IF('Consequence of Failure'!F365=\"No\",1,0)","v":0},{"$f":"IF('Consequence of Failure'!G363=\"0%-25%\",0.5,0)","v":0},{"$f":"IF('Consequence of Failure'!G363=\"26%-50%\",1,0)","v":0},{"$f":"IF('Consequence of Failure'!G363=\"51%-75%\",1.5,0)","v":0},{"$f":"IF('Consequence of Failure'!G363=\"76%-100%\",2,0)","v":0},{"$f":"IF('Consequence of Failure'!H363=\"Yes\",1,0)","v":0},{"$f":"IF('Consequence of Failure'!I363=\"Yes\",1,0)","v":0},null,0,null,{"$f":"IF('Consequence of Failure'!K363=\"Yes\",1,0)","v":0},{"$f":"IF('Consequence of Failure'!L363=\"Above\",2,0)","v":0},{"$f":"IF('Consequence of Failure'!L363=\"At\",1,0)","v":0},{"$f":"IF('Consequence of Failure'!L363=\"Below\",0,0)","v":0},{"$f":"IF('Consequence of Failure'!M363=\"Yes\",1,0)","v":0},{"$f":"IF('Consequence of Failure'!N363=\"Yes\",1,0)","v":0},null,0,null,0]
[{"$f":"IF('Data Collection Sheet'!B366=\"Pump\",15,0)","v":0},{"$f":"IF('Data Collection Sheet'!B366=\"Hydrant\",50,0)","v":0},{"$f":"IF('Data Collection Sheet'!B366=\"Meter\",15,0)","v":0},{"$f":"IF('Data Collection Sheet'!B366=\"Pipe\",80,0)","v":0},{"$f":"IF('Data Collection Sheet'!B366=\"Source\",50,0)","v":0},{"$f":"IF('Data Collection Sheet'!B366=\"Tank\",50,0)","v":0},{"$f":"IF('Data Collection Sheet'!B366=\"Analytical\",10,0)","v":0},{"$f":"IF('Data Collection Sheet'!B366=\"Treatment\",20,0)","v":0},{"$f":"IF('Data Collection Sheet'!B366=\"Valve\",20,0)","v":0},{"$f":"IF('Data Collection Sheet'!B366=\"Control\",15,0)","v":0},{"$f":"IF('Data Collection Sheet'!B366=\"Safety\",10,0)","v":0},{"$f":"IF('Data Collection Sheet'!B366=\"Building\",50,0)","v":0},{"$f":"IF('Data Collection Sheet'!B366=\"Vehicle\",8,0)","v":0},{"$f":"IF('Data Collection Sheet'!B366=\"Other\",15,0)","v":0},{"$f":"IF('Data Collection Sheet'!I366=\"Bad\",(-0.8*$T363),0)","v":0},{"$f":"IF('Data Collection Sheet'!I366=\"Fair\",(-0.5*$T363),0)","v":0},{"$f":"IF('Data Collection Sheet'!I366=\"Good\",(-0.2*$T363),0)","v":0},{"$f":"IF('Data Collection Sheet'!I366=\"Great\",0,0)","v":0},null,0,0,0,null,null,null,{"$f":"IF('Consequence of Failure'!F366=\"No\",1,0)","v":0},{"$f":"IF('Consequence of Failure'!G364=\"0%-25%\",0.5,0)","v":0},{"$f":"IF('Consequence of Failure'!G364=\"26%-50%\",1,0)","v":0},{"$f":"IF('Consequence of Failure'!G364=\"51%-75%\",1.5,0)","v":0},{"$f":"IF('Consequence of Failure'!G364=\"76%-100%\",2,0)","v":0},{"$f":"IF('Consequence of Failure'!H364=\"Yes\",1,0)","v":0},{"$f":"IF('Consequence of Failure'!I364=\"Yes\",1,0)","v":0},null,0,null,{"$f":"IF('Consequence of Failure'!K364=\"Yes\",1,0)","v":0},{"$f":"IF('Consequence of Failure'!L364=\"Above\",2,0)","v":0},{"$f":"IF('Consequence of Failure'!L364=\"At\",1,0)","v":0},{"$f":"IF('Consequence of Failure'!L364=\"Below\",0,0)","v":0},{"$f":"IF('Consequence of Failure'!M364=\"Yes\",1,0)","v":0},{"$f":"IF('Consequence of Failure'!N364=\"Yes\",1,0)","v":0},null,0,null,0]
[{"$f":"IF('Data Collection Sheet'!B367=\"Pump\",15,0)","v":0},{"$f":"IF('Data Collection Sheet'!B367=\"Hydrant\",50,0)","v":0},{"$f":"IF('Data Collection Sheet'!B367=\"Meter\",15,0)","v":0},{"$f":"IF('Data Collection Sheet'!B367=\"Pipe\",80,0)","v":0},{"$f":"IF('Data Collection Sheet'!B367=\"Source\",50,0)","v":0},{"$f":"IF('Data Collection Sheet'!B367=\"Tank\",50,0)","v":0},{"$f":"IF('Data Collection Sheet'!B367=\"Analytical\",10,0)","v":0},{"$f":"IF('Data Collection Sheet'!B367=\"Treatment\",20,0)","v":0},{"$f":"IF('Data Collection Sheet'!B367=\"Valve\",20,0)","v":0},{"$f":"IF('Data Collection Sheet'!B367=\"Control\",15,0)","v":0},{"$f":"IF('Data Collection Sheet'!B367=\"Safety\",10,0)","v":0},{"$f":"IF('Data Collection Sheet'!B367=\"Building\",50,0)","v":0},{"$f":"IF('Data Collection Sheet'!B367=\"Vehicle\",8,0)","v":0},{"$f":"IF('Data Collection Sheet'!B367=\"Other\",15,0)","v":0},{"$f":"IF('Data Collection Sheet'!I367=\"Bad\",(-0.8*$T364),0)","v":0},{"$f":"IF('Data Collection Sheet'!I367=\"Fair\",(-0.5*$T364),0)","v":0},{"$f":"IF('Data Collection Sheet'!I367=\"Good\",(-0.2*$T364),0)","v":0},{"$f":"IF('Data Collection Sheet'!I367=\"Great\",0,0)","v":0},null,0,0,0,null,null,null,{"$f":"IF('Consequence of Failure'!F367=\"No\",1,0)","v":0},{"$f":"IF('Consequence of Failure'!G365=\"0%-25%\",0.5,0)","v":0},{"$f":"IF('Consequence of Failure'!G365=\"26%-50%\",1,0)","v":0},{"$f":"IF('Consequence of Failure'!G365=\"51%-75%\",1.5,0)","v":0},{"$f":"IF('Consequence of Failure'!G365=\"76%-100%\",2,0)","v":0},{"$f":"IF('Consequence of Failure'!H365=\"Yes\",1,0)","v":0},{"$f":"IF('Consequence of Failure'!I365=\"Yes\",1,0)","v":0},null,0,null,{"$f":"IF('Consequence of Failure'!K365=\"Yes\",1,0)","v":0},{"$f":"IF('Consequence of Failure'!L365=\"Above\",2,0)","v":0},{"$f":"IF('Consequence of Failure'!L365=\"At\",1,0)","v":0},{"$f":"IF('Consequence of Failure'!L365=\"Below\",0,0)","v":0},{"$f":"IF('Consequence of Failure'!M365=\"Yes\",1,0)","v":0},{"$f":"IF('Consequence of Failure'!N365=\"Yes\",1,0)","v":0},null,0,null,0]
[{"$f":"IF('Data Collection Sheet'!B368=\"Pump\",15,0)","v":0},{"$f":"IF('Data Collection Sheet'!B368=\"Hydrant\",50,0)","v":0},{"$f":"IF('Data Collection Sheet'!B368=\"Meter\",15,0)","v":0},{"$f":"IF('Data Collection Sheet'!B368=\"Pipe\",80,0)","v":0},{"$f":"IF('Data Collection Sheet'!B368=\"Source\",50,0)","v":0},{"$f":"IF('Data Collection Sheet'!B368=\"Tank\",50,0)","v":0},{"$f":"IF('Data Collection Sheet'!B368=\"Analytical\",10,0)","v":0},{"$f":"IF('Data Collection Sheet'!B368=\"Treatment\",20,0)","v":0},{"$f":"IF('Data Collection Sheet'!B368=\"Valve\",20,0)","v":0},{"$f":"IF('Data Collection Sheet'!B368=\"Control\",15,0)","v":0},{"$f":"IF('Data Collection Sheet'!B368=\"Safety\",10,0)","v":0},{"$f":"IF('Data Collection Sheet'!B368=\"Building\",50,0)","v":0},{"$f":"IF('Data Collection Sheet'!B368=\"Vehicle\",8,0)","v":0},{"$f":"IF('Data Collection Sheet'!B368=\"Other\",15,0)","v":0},{"$f":"IF('Data Collection Sheet'!I368=\"Bad\",(-0.8*$T365),0)","v":0},{"$f":"IF('Data Collection Sheet'!I368=\"Fair\",(-0.5*$T365),0)","v":0},{"$f":"IF('Data Collection Sheet'!I368=\"Good\",(-0.2*$T365),0)","v":0},{"$f":"IF('Data Collection Sheet'!I368=\"Great\",0,0)","v":0},null,0,0,0,null,null,null,{"$f":"IF('Consequence of Failure'!F368=\"No\",1,0)","v":0},{"$f":"IF('Consequence of Failure'!G366=\"0%-25%\",0.5,0)","v":0},{"$f":"IF('Consequence of Failure'!G366=\"26%-50%\",1,0)","v":0},{"$f":"IF('Consequence of Failure'!G366=\"51%-75%\",1.5,0)","v":0},{"$f":"IF('Consequence of Failure'!G366=\"76%-100%\",2,0)","v":0},{"$f":"IF('Consequence of Failure'!H366=\"Yes\",1,0)","v":0},{"$f":"IF('Consequence of Failure'!I366=\"Yes\",1,0)","v":0},null,0,null,{"$f":"IF('Consequence of Failure'!K366=\"Yes\",1,0)","v":0},{"$f":"IF('Consequence of Failure'!L366=\"Above\",2,0)","v":0},{"$f":"IF('Consequence of Failure'!L366=\"At\",1,0)","v":0},{"$f":"IF('Consequence of Failure'!L366=\"Below\",0,0)","v":0},{"$f":"IF('Consequence of Failure'!M366=\"Yes\",1,0)","v":0},{"$f":"IF('Consequence of Failure'!N366=\"Yes\",1,0)","v":0},null,0,null,0]
[{"$f":"IF('Data Collection Sheet'!B369=\"Pump\",15,0)","v":0},{"$f":"IF('Data Collection Sheet'!B369=\"Hydrant\",50,0)","v":0},{"$f":"IF('Data Collection Sheet'!B369=\"Meter\",15,0)","v":0},{"$f":"IF('Data Collection Sheet'!B369=\"Pipe\",80,0)","v":0},{"$f":"IF('Data Collection Sheet'!B369=\"Source\",50,0)","v":0},{"$f":"IF('Data Collection Sheet'!B369=\"Tank\",50,0)","v":0},{"$f":"IF('Data Collection Sheet'!B369=\"Analytical\",10,0)","v":0},{"$f":"IF('Data Collection Sheet'!B369=\"Treatment\",20,0)","v":0},{"$f":"IF('Data Collection Sheet'!B369=\"Valve\",20,0)","v":0},{"$f":"IF('Data Collection Sheet'!B369=\"Control\",15,0)","v":0},{"$f":"IF('Data Collection Sheet'!B369=\"Safety\",10,0)","v":0},{"$f":"IF('Data Collection Sheet'!B369=\"Building\",50,0)","v":0},{"$f":"IF('Data Collection Sheet'!B369=\"Vehicle\",8,0)","v":0},{"$f":"IF('Data Collection Sheet'!B369=\"Other\",15,0)","v":0},{"$f":"IF('Data Collection Sheet'!I369=\"Bad\",(-0.8*$T366),0)","v":0},{"$f":"IF('Data Collection Sheet'!I369=\"Fair\",(-0.5*$T366),0)","v":0},{"$f":"IF('Data Collection Sheet'!I369=\"Good\",(-0.2*$T366),0)","v":0},{"$f":"IF('Data Collection Sheet'!I369=\"Great\",0,0)","v":0},null,0,0,0,null,null,null,{"$f":"IF('Consequence of Failure'!F369=\"No\",1,0)","v":0},{"$f":"IF('Consequence of Failure'!G367=\"0%-25%\",0.5,0)","v":0},{"$f":"IF('Consequence of Failure'!G367=\"26%-50%\",1,0)","v":0},{"$f":"IF('Consequence of Failure'!G367=\"51%-75%\",1.5,0)","v":0},{"$f":"IF('Consequence of Failure'!G367=\"76%-100%\",2,0)","v":0},{"$f":"IF('Consequence of Failure'!H367=\"Yes\",1,0)","v":0},{"$f":"IF('Consequence of Failure'!I367=\"Yes\",1,0)","v":0},null,0,null,{"$f":"IF('Consequence of Failure'!K367=\"Yes\",1,0)","v":0},{"$f":"IF('Consequence of Failure'!L367=\"Above\",2,0)","v":0},{"$f":"IF('Consequence of Failure'!L367=\"At\",1,0)","v":0},{"$f":"IF('Consequence of Failure'!L367=\"Below\",0,0)","v":0},{"$f":"IF('Consequence of Failure'!M367=\"Yes\",1,0)","v":0},{"$f":"IF('Consequence of Failure'!N367=\"Yes\",1,0)","v":0},null,0,null,0]
[{"$f":"IF('Data Collection Sheet'!B370=\"Pump\",15,0)","v":0},{"$f":"IF('Data Collection Sheet'!B370=\"Hydrant\",50,0)","v":0},{"$f":"IF('Data Collection Sheet'!B370=\"Meter\",15,0)","v":0},{"$f":"IF('Data Collection Sheet'!B370=\"Pipe\",80,0)","v":0},{"$f":"IF('Data Collection Sheet'!B370=\"Source\",50,0)","v":0},{"$f":"IF('Data Collection Sheet'!B370=\"Tank\",50,0)","v":0},{"$f":"IF('Data Collection Sheet'!B370=\"Analytical\",10,0)","v":0},{"$f":"IF('Data Collection Sheet'!B370=\"Treatment\",20,0)","v":0},{"$f":"IF('Data Collection Sheet'!B370=\"Valve\",20,0)","v":0},{"$f":"IF('Data Collection Sheet'!B370=\"Control\",15,0)","v":0},{"$f":"IF('Data Collection Sheet'!B370=\"Safety\",10,0)","v":0},{"$f":"IF('Data Collection Sheet'!B370=\"Building\",50,0)","v":0},{"$f":"IF('Data Collection Sheet'!B370=\"Vehicle\",8,0)","v":0},{"$f":"IF('Data Collection Sheet'!B370=\"Other\",15,0)","v":0},{"$f":"IF('Data Collection Sheet'!I370=\"Bad\",(-0.8*$T367),0)","v":0},{"$f":"IF('Data Collection Sheet'!I370=\"Fair\",(-0.5*$T367),0)","v":0},{"$f":"IF('Data Collection Sheet'!I370=\"Good\",(-0.2*$T367),0)","v":0},{"$f":"IF('Data Collection Sheet'!I370=\"Great\",0,0)","v":0},null,0,0,0,null,null,null,{"$f":"IF('Consequence of Failure'!F370=\"No\",1,0)","v":0},{"$f":"IF('Consequence of Failure'!G368=\"0%-25%\",0.5,0)","v":0},{"$f":"IF('Consequence of Failure'!G368=\"26%-50%\",1,0)","v":0},{"$f":"IF('Consequence of Failure'!G368=\"51%-75%\",1.5,0)","v":0},{"$f":"IF('Consequence of Failure'!G368=\"76%-100%\",2,0)","v":0},{"$f":"IF('Consequence of Failure'!H368=\"Yes\",1,0)","v":0},{"$f":"IF('Consequence of Failure'!I368=\"Yes\",1,0)","v":0},null,0,null,{"$f":"IF('Consequence of Failure'!K368=\"Yes\",1,0)","v":0},{"$f":"IF('Consequence of Failure'!L368=\"Above\",2,0)","v":0},{"$f":"IF('Consequence of Failure'!L368=\"At\",1,0)","v":0},{"$f":"IF('Consequence of Failure'!L368=\"Below\",0,0)","v":0},{"$f":"IF('Consequence of Failure'!M368=\"Yes\",1,0)","v":0},{"$f":"IF('Consequence of Failure'!N368=\"Yes\",1,0)","v":0},null,0,null,0]
[{"$f":"IF('Data Collection Sheet'!B371=\"Pump\",15,0)","v":0},{"$f":"IF('Data Collection Sheet'!B371=\"Hydrant\",50,0)","v":0},{"$f":"IF('Data Collection Sheet'!B371=\"Meter\",15,0)","v":0},{"$f":"IF('Data Collection Sheet'!B371=\"Pipe\",80,0)","v":0},{"$f":"IF('Data Collection Sheet'!B371=\"Source\",50,0)","v":0},{"$f":"IF('Data Collection Sheet'!B371=\"Tank\",50,0)","v":0},{"$f":"IF('Data Collection Sheet'!B371=\"Analytical\",10,0)","v":0},{"$f":"IF('Data Collection Sheet'!B371=\"Treatment\",20,0)","v":0},{"$f":"IF('Data Collection Sheet'!B371=\"Valve\",20,0)","v":0},{"$f":"IF('Data Collection Sheet'!B371=\"Control\",15,0)","v":0},{"$f":"IF('Data Collection Sheet'!B371=\"Safety\",10,0)","v":0},{"$f":"IF('Data Collection Sheet'!B371=\"Building\",50,0)","v":0},{"$f":"IF('Data Collection Sheet'!B371=\"Vehicle\",8,0)","v":0},{"$f":"IF('Data Collection Sheet'!B371=\"Other\",15,0)","v":0},{"$f":"IF('Data Collection Sheet'!I371=\"Bad\",(-0.8*$T368),0)","v":0},{"$f":"IF('Data Collection Sheet'!I371=\"Fair\",(-0.5*$T368),0)","v":0},{"$f":"IF('Data Collection Sheet'!I371=\"Good\",(-0.2*$T368),0)","v":0},{"$f":"IF('Data Collection Sheet'!I371=\"Great\",0,0)","v":0},null,0,0,0,null,null,null,{"$f":"IF('Consequence of Failure'!F371=\"No\",1,0)","v":0},{"$f":"IF('Consequence of Failure'!G369=\"0%-25%\",0.5,0)","v":0},{"$f":"IF('Consequence of Failure'!G369=\"26%-50%\",1,0)","v":0},{"$f":"IF('Consequence of Failure'!G369=\"51%-75%\",1.5,0)","v":0},{"$f":"IF('Consequence of Failure'!G369=\"76%-100%\",2,0)","v":0},{"$f":"IF('Consequence of Failure'!H369=\"Yes\",1,0)","v":0},{"$f":"IF('Consequence of Failure'!I369=\"Yes\",1,0)","v":0},null,0,null,{"$f":"IF('Consequence of Failure'!K369=\"Yes\",1,0)","v":0},{"$f":"IF('Consequence of Failure'!L369=\"Above\",2,0)","v":0},{"$f":"IF('Consequence of Failure'!L369=\"At\",1,0)","v":0},{"$f":"IF('Consequence of Failure'!L369=\"Below\",0,0)","v":0},{"$f":"IF('Consequence of Failure'!M369=\"Yes\",1,0)","v":0},{"$f":"IF('Consequence of Failure'!N369=\"Yes\",1,0)","v":0},null,0,null,0]
[{"$f":"IF('Data Collection Sheet'!B372=\"Pump\",15,0)","v":0},{"$f":"IF('Data Collection Sheet'!B372=\"Hydrant\",50,0)","v":0},{"$f":"IF('Data Collection Sheet'!B372=\"Meter\",15,0)","v":0},{"$f":"IF('Data Collection Sheet'!B372=\"Pipe\",80,0)","v":0},{"$f":"IF('Data Collection Sheet'!B372=\"Source\",50,0)","v":0},{"$f":"IF('Data Collection Sheet'!B372=\"Tank\",50,0)","v":0},{"$f":"IF('Data Collection Sheet'!B372=\"Analytical\",10,0)","v":0},{"$f":"IF('Data Collection Sheet'!B372=\"Treatment\",20,0)","v":0},{"$f":"IF('Data Collection Sheet'!B372=\"Valve\",20,0)","v":0},{"$f":"IF('Data Collection Sheet'!B372=\"Control\",15,0)","v":0},{"$f":"IF('Data Collection Sheet'!B372=\"Safety\",10,0)","v":0},{"$f":"IF('Data Collection Sheet'!B372=\"Building\",50,0)","v":0},{"$f":"IF('Data Collection Sheet'!B372=\"Vehicle\",8,0)","v":0},{"$f":"IF('Data Collection Sheet'!B372=\"Other\",15,0)","v":0},{"$f":"IF('Data Collection Sheet'!I372=\"Bad\",(-0.8*$T369),0)","v":0},{"$f":"IF('Data Collection Sheet'!I372=\"Fair\",(-0.5*$T369),0)","v":0},{"$f":"IF('Data Collection Sheet'!I372=\"Good\",(-0.2*$T369),0)","v":0},{"$f":"IF('Data Collection Sheet'!I372=\"Great\",0,0)","v":0},null,0,0,0,null,null,null,{"$f":"IF('Consequence of Failure'!F372=\"No\",1,0)","v":0},{"$f":"IF('Consequence of Failure'!G370=\"0%-25%\",0.5,0)","v":0},{"$f":"IF('Consequence of Failure'!G370=\"26%-50%\",1,0)","v":0},{"$f":"IF('Consequence of Failure'!G370=\"51%-75%\",1.5,0)","v":0},{"$f":"IF('Consequence of Failure'!G370=\"76%-100%\",2,0)","v":0},{"$f":"IF('Consequence of Failure'!H370=\"Yes\",1,0)","v":0},{"$f":"IF('Consequence of Failure'!I370=\"Yes\",1,0)","v":0},null,0,null,{"$f":"IF('Consequence of Failure'!K370=\"Yes\",1,0)","v":0},{"$f":"IF('Consequence of Failure'!L370=\"Above\",2,0)","v":0},{"$f":"IF('Consequence of Failure'!L370=\"At\",1,0)","v":0},{"$f":"IF('Consequence of Failure'!L370=\"Below\",0,0)","v":0},{"$f":"IF('Consequence of Failure'!M370=\"Yes\",1,0)","v":0},{"$f":"IF('Consequence of Failure'!N370=\"Yes\",1,0)","v":0},null,0,null,0]
[{"$f":"IF('Data Collection Sheet'!B373=\"Pump\",15,0)","v":0},{"$f":"IF('Data Collection Sheet'!B373=\"Hydrant\",50,0)","v":0},{"$f":"IF('Data Collection Sheet'!B373=\"Meter\",15,0)","v":0},{"$f":"IF('Data Collection Sheet'!B373=\"Pipe\",80,0)","v":0},{"$f":"IF('Data Collection Sheet'!B373=\"Source\",50,0)","v":0},{"$f":"IF('Data Collection Sheet'!B373=\"Tank\",50,0)","v":0},{"$f":"IF('Data Collection Sheet'!B373=\"Analytical\",10,0)","v":0},{"$f":"IF('Data Collection Sheet'!B373=\"Treatment\",20,0)","v":0},{"$f":"IF('Data Collection Sheet'!B373=\"Valve\",20,0)","v":0},{"$f":"IF('Data Collection Sheet'!B373=\"Control\",15,0)","v":0},{"$f":"IF('Data Collection Sheet'!B373=\"Safety\",10,0)","v":0},{"$f":"IF('Data Collection Sheet'!B373=\"Building\",50,0)","v":0},{"$f":"IF('Data Collection Sheet'!B373=\"Vehicle\",8,0)","v":0},{"$f":"IF('Data Collection Sheet'!B373=\"Other\",15,0)","v":0},{"$f":"IF('Data Collection Sheet'!I373=\"Bad\",(-0.8*$T370),0)","v":0},{"$f":"IF('Data Collection Sheet'!I373=\"Fair\",(-0.5*$T370),0)","v":0},{"$f":"IF('Data Collection Sheet'!I373=\"Good\",(-0.2*$T370),0)","v":0},{"$f":"IF('Data Collection Sheet'!I373=\"Great\",0,0)","v":0},null,0,0,0,null,null,null,{"$f":"IF('Consequence of Failure'!F373=\"No\",1,0)","v":0},{"$f":"IF('Consequence of Failure'!G371=\"0%-25%\",0.5,0)","v":0},{"$f":"IF('Consequence of Failure'!G371=\"26%-50%\",1,0)","v":0},{"$f":"IF('Consequence of Failure'!G371=\"51%-75%\",1.5,0)","v":0},{"$f":"IF('Consequence of Failure'!G371=\"76%-100%\",2,0)","v":0},{"$f":"IF('Consequence of Failure'!H371=\"Yes\",1,0)","v":0},{"$f":"IF('Consequence of Failure'!I371=\"Yes\",1,0)","v":0},null,0,null,{"$f":"IF('Consequence of Failure'!K371=\"Yes\",1,0)","v":0},{"$f":"IF('Consequence of Failure'!L371=\"Above\",2,0)","v":0},{"$f":"IF('Consequence of Failure'!L371=\"At\",1,0)","v":0},{"$f":"IF('Consequence of Failure'!L371=\"Below\",0,0)","v":0},{"$f":"IF('Consequence of Failure'!M371=\"Yes\",1,0)","v":0},{"$f":"IF('Consequence of Failure'!N371=\"Yes\",1,0)","v":0},null,0,null,0]
[{"$f":"IF('Data Collection Sheet'!B374=\"Pump\",15,0)","v":0},{"$f":"IF('Data Collection Sheet'!B374=\"Hydrant\",50,0)","v":0},{"$f":"IF('Data Collection Sheet'!B374=\"Meter\",15,0)","v":0},{"$f":"IF('Data Collection Sheet'!B374=\"Pipe\",80,0)","v":0},{"$f":"IF('Data Collection Sheet'!B374=\"Source\",50,0)","v":0},{"$f":"IF('Data Collection Sheet'!B374=\"Tank\",50,0)","v":0},{"$f":"IF('Data Collection Sheet'!B374=\"Analytical\",10,0)","v":0},{"$f":"IF('Data Collection Sheet'!B374=\"Treatment\",20,0)","v":0},{"$f":"IF('Data Collection Sheet'!B374=\"Valve\",20,0)","v":0},{"$f":"IF('Data Collection Sheet'!B374=\"Control\",15,0)","v":0},{"$f":"IF('Data Collection Sheet'!B374=\"Safety\",10,0)","v":0},{"$f":"IF('Data Collection Sheet'!B374=\"Building\",50,0)","v":0},{"$f":"IF('Data Collection Sheet'!B374=\"Vehicle\",8,0)","v":0},{"$f":"IF('Data Collection Sheet'!B374=\"Other\",15,0)","v":0},{"$f":"IF('Data Collection Sheet'!I374=\"Bad\",(-0.8*$T371),0)","v":0},{"$f":"IF('Data Collection Sheet'!I374=\"Fair\",(-0.5*$T371),0)","v":0},{"$f":"IF('Data Collection Sheet'!I374=\"Good\",(-0.2*$T371),0)","v":0},{"$f":"IF('Data Collection Sheet'!I374=\"Great\",0,0)","v":0},null,0,0,0,null,null,null,{"$f":"IF('Consequence of Failure'!F374=\"No\",1,0)","v":0},{"$f":"IF('Consequence of Failure'!G372=\"0%-25%\",0.5,0)","v":0},{"$f":"IF('Consequence of Failure'!G372=\"26%-50%\",1,0)","v":0},{"$f":"IF('Consequence of Failure'!G372=\"51%-75%\",1.5,0)","v":0},{"$f":"IF('Consequence of Failure'!G372=\"76%-100%\",2,0)","v":0},{"$f":"IF('Consequence of Failure'!H372=\"Yes\",1,0)","v":0},{"$f":"IF('Consequence of Failure'!I372=\"Yes\",1,0)","v":0},null,0,null,{"$f":"IF('Consequence of Failure'!K372=\"Yes\",1,0)","v":0},{"$f":"IF('Consequence of Failure'!L372=\"Above\",2,0)","v":0},{"$f":"IF('Consequence of Failure'!L372=\"At\",1,0)","v":0},{"$f":"IF('Consequence of Failure'!L372=\"Below\",0,0)","v":0},{"$f":"IF('Consequence of Failure'!M372=\"Yes\",1,0)","v":0},{"$f":"IF('Consequence of Failure'!N372=\"Yes\",1,0)","v":0},null,0,null,0]
[{"$f":"IF('Data Collection Sheet'!B375=\"Pump\",15,0)","v":0},{"$f":"IF('Data Collection Sheet'!B375=\"Hydrant\",50,0)","v":0},{"$f":"IF('Data Collection Sheet'!B375=\"Meter\",15,0)","v":0},{"$f":"IF('Data Collection Sheet'!B375=\"Pipe\",80,0)","v":0},{"$f":"IF('Data Collection Sheet'!B375=\"Source\",50,0)","v":0},{"$f":"IF('Data Collection Sheet'!B375=\"Tank\",50,0)","v":0},{"$f":"IF('Data Collection Sheet'!B375=\"Analytical\",10,0)","v":0},{"$f":"IF('Data Collection Sheet'!B375=\"Treatment\",20,0)","v":0},{"$f":"IF('Data Collection Sheet'!B375=\"Valve\",20,0)","v":0},{"$f":"IF('Data Collection Sheet'!B375=\"Control\",15,0)","v":0},{"$f":"IF('Data Collection Sheet'!B375=\"Safety\",10,0)","v":0},{"$f":"IF('Data Collection Sheet'!B375=\"Building\",50,0)","v":0},{"$f":"IF('Data Collection Sheet'!B375=\"Vehicle\",8,0)","v":0},{"$f":"IF('Data Collection Sheet'!B375=\"Other\",15,0)","v":0},{"$f":"IF('Data Collection Sheet'!I375=\"Bad\",(-0.8*$T372),0)","v":0},{"$f":"IF('Data Collection Sheet'!I375=\"Fair\",(-0.5*$T372),0)","v":0},{"$f":"IF('Data Collection Sheet'!I375=\"Good\",(-0.2*$T372),0)","v":0},{"$f":"IF('Data Collection Sheet'!I375=\"Great\",0,0)","v":0},null,0,0,0,null,null,null,{"$f":"IF('Consequence of Failure'!F375=\"No\",1,0)","v":0},{"$f":"IF('Consequence of Failure'!G373=\"0%-25%\",0.5,0)","v":0},{"$f":"IF('Consequence of Failure'!G373=\"26%-50%\",1,0)","v":0},{"$f":"IF('Consequence of Failure'!G373=\"51%-75%\",1.5,0)","v":0},{"$f":"IF('Consequence of Failure'!G373=\"76%-100%\",2,0)","v":0},{"$f":"IF('Consequence of Failure'!H373=\"Yes\",1,0)","v":0},{"$f":"IF('Consequence of Failure'!I373=\"Yes\",1,0)","v":0},null,0,null,{"$f":"IF('Consequence of Failure'!K373=\"Yes\",1,0)","v":0},{"$f":"IF('Consequence of Failure'!L373=\"Above\",2,0)","v":0},{"$f":"IF('Consequence of Failure'!L373=\"At\",1,0)","v":0},{"$f":"IF('Consequence of Failure'!L373=\"Below\",0,0)","v":0},{"$f":"IF('Consequence of Failure'!M373=\"Yes\",1,0)","v":0},{"$f":"IF('Consequence of Failure'!N373=\"Yes\",1,0)","v":0},null,0,null,0]
[{"$f":"IF('Data Collection Sheet'!B376=\"Pump\",15,0)","v":0},{"$f":"IF('Data Collection Sheet'!B376=\"Hydrant\",50,0)","v":0},{"$f":"IF('Data Collection Sheet'!B376=\"Meter\",15,0)","v":0},{"$f":"IF('Data Collection Sheet'!B376=\"Pipe\",80,0)","v":0},{"$f":"IF('Data Collection Sheet'!B376=\"Source\",50,0)","v":0},{"$f":"IF('Data Collection Sheet'!B376=\"Tank\",50,0)","v":0},{"$f":"IF('Data Collection Sheet'!B376=\"Analytical\",10,0)","v":0},{"$f":"IF('Data Collection Sheet'!B376=\"Treatment\",20,0)","v":0},{"$f":"IF('Data Collection Sheet'!B376=\"Valve\",20,0)","v":0},{"$f":"IF('Data Collection Sheet'!B376=\"Control\",15,0)","v":0},{"$f":"IF('Data Collection Sheet'!B376=\"Safety\",10,0)","v":0},{"$f":"IF('Data Collection Sheet'!B376=\"Building\",50,0)","v":0},{"$f":"IF('Data Collection Sheet'!B376=\"Vehicle\",8,0)","v":0},{"$f":"IF('Data Collection Sheet'!B376=\"Other\",15,0)","v":0},{"$f":"IF('Data Collection Sheet'!I376=\"Bad\",(-0.8*$T373),0)","v":0},{"$f":"IF('Data Collection Sheet'!I376=\"Fair\",(-0.5*$T373),0)","v":0},{"$f":"IF('Data Collection Sheet'!I376=\"Good\",(-0.2*$T373),0)","v":0},{"$f":"IF('Data Collection Sheet'!I376=\"Great\",0,0)","v":0},null,0,0,0,null,null,null,{"$f":"IF('Consequence of Failure'!F376=\"No\",1,0)","v":0},{"$f":"IF('Consequence of Failure'!G374=\"0%-25%\",0.5,0)","v":0},{"$f":"IF('Consequence of Failure'!G374=\"26%-50%\",1,0)","v":0},{"$f":"IF('Consequence of Failure'!G374=\"51%-75%\",1.5,0)","v":0},{"$f":"IF('Consequence of Failure'!G374=\"76%-100%\",2,0)","v":0},{"$f":"IF('Consequence of Failure'!H374=\"Yes\",1,0)","v":0},{"$f":"IF('Consequence of Failure'!I374=\"Yes\",1,0)","v":0},null,0,null,{"$f":"IF('Consequence of Failure'!K374=\"Yes\",1,0)","v":0},{"$f":"IF('Consequence of Failure'!L374=\"Above\",2,0)","v":0},{"$f":"IF('Consequence of Failure'!L374=\"At\",1,0)","v":0},{"$f":"IF('Consequence of Failure'!L374=\"Below\",0,0)","v":0},{"$f":"IF('Consequence of Failure'!M374=\"Yes\",1,0)","v":0},{"$f":"IF('Consequence of Failure'!N374=\"Yes\",1,0)","v":0},null,0,null,0]
[{"$f":"IF('Data Collection Sheet'!B377=\"Pump\",15,0)","v":0},{"$f":"IF('Data Collection Sheet'!B377=\"Hydrant\",50,0)","v":0},{"$f":"IF('Data Collection Sheet'!B377=\"Meter\",15,0)","v":0},{"$f":"IF('Data Collection Sheet'!B377=\"Pipe\",80,0)","v":0},{"$f":"IF('Data Collection Sheet'!B377=\"Source\",50,0)","v":0},{"$f":"IF('Data Collection Sheet'!B377=\"Tank\",50,0)","v":0},{"$f":"IF('Data Collection Sheet'!B377=\"Analytical\",10,0)","v":0},{"$f":"IF('Data Collection Sheet'!B377=\"Treatment\",20,0)","v":0},{"$f":"IF('Data Collection Sheet'!B377=\"Valve\",20,0)","v":0},{"$f":"IF('Data Collection Sheet'!B377=\"Control\",15,0)","v":0},{"$f":"IF('Data Collection Sheet'!B377=\"Safety\",10,0)","v":0},{"$f":"IF('Data Collection Sheet'!B377=\"Building\",50,0)","v":0},{"$f":"IF('Data Collection Sheet'!B377=\"Vehicle\",8,0)","v":0},{"$f":"IF('Data Collection Sheet'!B377=\"Other\",15,0)","v":0},{"$f":"IF('Data Collection Sheet'!I377=\"Bad\",(-0.8*$T374),0)","v":0},{"$f":"IF('Data Collection Sheet'!I377=\"Fair\",(-0.5*$T374),0)","v":0},{"$f":"IF('Data Collection Sheet'!I377=\"Good\",(-0.2*$T374),0)","v":0},{"$f":"IF('Data Collection Sheet'!I377=\"Great\",0,0)","v":0},null,0,0,0,null,null,null,{"$f":"IF('Consequence of Failure'!F377=\"No\",1,0)","v":0},{"$f":"IF('Consequence of Failure'!G375=\"0%-25%\",0.5,0)","v":0},{"$f":"IF('Consequence of Failure'!G375=\"26%-50%\",1,0)","v":0},{"$f":"IF('Consequence of Failure'!G375=\"51%-75%\",1.5,0)","v":0},{"$f":"IF('Consequence of Failure'!G375=\"76%-100%\",2,0)","v":0},{"$f":"IF('Consequence of Failure'!H375=\"Yes\",1,0)","v":0},{"$f":"IF('Consequence of Failure'!I375=\"Yes\",1,0)","v":0},null,0,null,{"$f":"IF('Consequence of Failure'!K375=\"Yes\",1,0)","v":0},{"$f":"IF('Consequence of Failure'!L375=\"Above\",2,0)","v":0},{"$f":"IF('Consequence of Failure'!L375=\"At\",1,0)","v":0},{"$f":"IF('Consequence of Failure'!L375=\"Below\",0,0)","v":0},{"$f":"IF('Consequence of Failure'!M375=\"Yes\",1,0)","v":0},{"$f":"IF('Consequence of Failure'!N375=\"Yes\",1,0)","v":0},null,0,null,0]
[{"$f":"IF('Data Collection Sheet'!B378=\"Pump\",15,0)","v":0},{"$f":"IF('Data Collection Sheet'!B378=\"Hydrant\",50,0)","v":0},{"$f":"IF('Data Collection Sheet'!B378=\"Meter\",15,0)","v":0},{"$f":"IF('Data Collection Sheet'!B378=\"Pipe\",80,0)","v":0},{"$f":"IF('Data Collection Sheet'!B378=\"Source\",50,0)","v":0},{"$f":"IF('Data Collection Sheet'!B378=\"Tank\",50,0)","v":0},{"$f":"IF('Data Collection Sheet'!B378=\"Analytical\",10,0)","v":0},{"$f":"IF('Data Collection Sheet'!B378=\"Treatment\",20,0)","v":0},{"$f":"IF('Data Collection Sheet'!B378=\"Valve\",20,0)","v":0},{"$f":"IF('Data Collection Sheet'!B378=\"Control\",15,0)","v":0},{"$f":"IF('Data Collection Sheet'!B378=\"Safety\",10,0)","v":0},{"$f":"IF('Data Collection Sheet'!B378=\"Building\",50,0)","v":0},{"$f":"IF('Data Collection Sheet'!B378=\"Vehicle\",8,0)","v":0},{"$f":"IF('Data Collection Sheet'!B378=\"Other\",15,0)","v":0},{"$f":"IF('Data Collection Sheet'!I378=\"Bad\",(-0.8*$T375),0)","v":0},{"$f":"IF('Data Collection Sheet'!I378=\"Fair\",(-0.5*$T375),0)","v":0},{"$f":"IF('Data Collection Sheet'!I378=\"Good\",(-0.2*$T375),0)","v":0},{"$f":"IF('Data Collection Sheet'!I378=\"Great\",0,0)","v":0},null,0,0,0,null,null,null,{"$f":"IF('Consequence of Failure'!F378=\"No\",1,0)","v":0},{"$f":"IF('Consequence of Failure'!G376=\"0%-25%\",0.5,0)","v":0},{"$f":"IF('Consequence of Failure'!G376=\"26%-50%\",1,0)","v":0},{"$f":"IF('Consequence of Failure'!G376=\"51%-75%\",1.5,0)","v":0},{"$f":"IF('Consequence of Failure'!G376=\"76%-100%\",2,0)","v":0},{"$f":"IF('Consequence of Failure'!H376=\"Yes\",1,0)","v":0},{"$f":"IF('Consequence of Failure'!I376=\"Yes\",1,0)","v":0},null,0,null,{"$f":"IF('Consequence of Failure'!K376=\"Yes\",1,0)","v":0},{"$f":"IF('Consequence of Failure'!L376=\"Above\",2,0)","v":0},{"$f":"IF('Consequence of Failure'!L376=\"At\",1,0)","v":0},{"$f":"IF('Consequence of Failure'!L376=\"Below\",0,0)","v":0},{"$f":"IF('Consequence of Failure'!M376=\"Yes\",1,0)","v":0},{"$f":"IF('Consequence of Failure'!N376=\"Yes\",1,0)","v":0},null,0,null,0]
[{"$f":"IF('Data Collection Sheet'!B379=\"Pump\",15,0)","v":0},{"$f":"IF('Data Collection Sheet'!B379=\"Hydrant\",50,0)","v":0},{"$f":"IF('Data Collection Sheet'!B379=\"Meter\",15,0)","v":0},{"$f":"IF('Data Collection Sheet'!B379=\"Pipe\",80,0)","v":0},{"$f":"IF('Data Collection Sheet'!B379=\"Source\",50,0)","v":0},{"$f":"IF('Data Collection Sheet'!B379=\"Tank\",50,0)","v":0},{"$f":"IF('Data Collection Sheet'!B379=\"Analytical\",10,0)","v":0},{"$f":"IF('Data Collection Sheet'!B379=\"Treatment\",20,0)","v":0},{"$f":"IF('Data Collection Sheet'!B379=\"Valve\",20,0)","v":0},{"$f":"IF('Data Collection Sheet'!B379=\"Control\",15,0)","v":0},{"$f":"IF('Data Collection Sheet'!B379=\"Safety\",10,0)","v":0},{"$f":"IF('Data Collection Sheet'!B379=\"Building\",50,0)","v":0},{"$f":"IF('Data Collection Sheet'!B379=\"Vehicle\",8,0)","v":0},{"$f":"IF('Data Collection Sheet'!B379=\"Other\",15,0)","v":0},{"$f":"IF('Data Collection Sheet'!I379=\"Bad\",(-0.8*$T376),0)","v":0},{"$f":"IF('Data Collection Sheet'!I379=\"Fair\",(-0.5*$T376),0)","v":0},{"$f":"IF('Data Collection Sheet'!I379=\"Good\",(-0.2*$T376),0)","v":0},{"$f":"IF('Data Collection Sheet'!I379=\"Great\",0,0)","v":0},null,0,0,0,null,null,null,{"$f":"IF('Consequence of Failure'!F379=\"No\",1,0)","v":0},{"$f":"IF('Consequence of Failure'!G377=\"0%-25%\",0.5,0)","v":0},{"$f":"IF('Consequence of Failure'!G377=\"26%-50%\",1,0)","v":0},{"$f":"IF('Consequence of Failure'!G377=\"51%-75%\",1.5,0)","v":0},{"$f":"IF('Consequence of Failure'!G377=\"76%-100%\",2,0)","v":0},{"$f":"IF('Consequence of Failure'!H377=\"Yes\",1,0)","v":0},{"$f":"IF('Consequence of Failure'!I377=\"Yes\",1,0)","v":0},null,0,null,{"$f":"IF('Consequence of Failure'!K377=\"Yes\",1,0)","v":0},{"$f":"IF('Consequence of Failure'!L377=\"Above\",2,0)","v":0},{"$f":"IF('Consequence of Failure'!L377=\"At\",1,0)","v":0},{"$f":"IF('Consequence of Failure'!L377=\"Below\",0,0)","v":0},{"$f":"IF('Consequence of Failure'!M377=\"Yes\",1,0)","v":0},{"$f":"IF('Consequence of Failure'!N377=\"Yes\",1,0)","v":0},null,0,null,0]
[{"$f":"IF('Data Collection Sheet'!B380=\"Pump\",15,0)","v":0},{"$f":"IF('Data Collection Sheet'!B380=\"Hydrant\",50,0)","v":0},{"$f":"IF('Data Collection Sheet'!B380=\"Meter\",15,0)","v":0},{"$f":"IF('Data Collection Sheet'!B380=\"Pipe\",80,0)","v":0},{"$f":"IF('Data Collection Sheet'!B380=\"Source\",50,0)","v":0},{"$f":"IF('Data Collection Sheet'!B380=\"Tank\",50,0)","v":0},{"$f":"IF('Data Collection Sheet'!B380=\"Analytical\",10,0)","v":0},{"$f":"IF('Data Collection Sheet'!B380=\"Treatment\",20,0)","v":0},{"$f":"IF('Data Collection Sheet'!B380=\"Valve\",20,0)","v":0},{"$f":"IF('Data Collection Sheet'!B380=\"Control\",15,0)","v":0},{"$f":"IF('Data Collection Sheet'!B380=\"Safety\",10,0)","v":0},{"$f":"IF('Data Collection Sheet'!B380=\"Building\",50,0)","v":0},{"$f":"IF('Data Collection Sheet'!B380=\"Vehicle\",8,0)","v":0},{"$f":"IF('Data Collection Sheet'!B380=\"Other\",15,0)","v":0},{"$f":"IF('Data Collection Sheet'!I380=\"Bad\",(-0.8*$T377),0)","v":0},{"$f":"IF('Data Collection Sheet'!I380=\"Fair\",(-0.5*$T377),0)","v":0},{"$f":"IF('Data Collection Sheet'!I380=\"Good\",(-0.2*$T377),0)","v":0},{"$f":"IF('Data Collection Sheet'!I380=\"Great\",0,0)","v":0},null,0,0,0,null,null,null,{"$f":"IF('Consequence of Failure'!F380=\"No\",1,0)","v":0},{"$f":"IF('Consequence of Failure'!G378=\"0%-25%\",0.5,0)","v":0},{"$f":"IF('Consequence of Failure'!G378=\"26%-50%\",1,0)","v":0},{"$f":"IF('Consequence of Failure'!G378=\"51%-75%\",1.5,0)","v":0},{"$f":"IF('Consequence of Failure'!G378=\"76%-100%\",2,0)","v":0},{"$f":"IF('Consequence of Failure'!H378=\"Yes\",1,0)","v":0},{"$f":"IF('Consequence of Failure'!I378=\"Yes\",1,0)","v":0},null,0,null,{"$f":"IF('Consequence of Failure'!K378=\"Yes\",1,0)","v":0},{"$f":"IF('Consequence of Failure'!L378=\"Above\",2,0)","v":0},{"$f":"IF('Consequence of Failure'!L378=\"At\",1,0)","v":0},{"$f":"IF('Consequence of Failure'!L378=\"Below\",0,0)","v":0},{"$f":"IF('Consequence of Failure'!M378=\"Yes\",1,0)","v":0},{"$f":"IF('Consequence of Failure'!N378=\"Yes\",1,0)","v":0},null,0,null,0]
[{"$f":"IF('Data Collection Sheet'!B381=\"Pump\",15,0)","v":0},{"$f":"IF('Data Collection Sheet'!B381=\"Hydrant\",50,0)","v":0},{"$f":"IF('Data Collection Sheet'!B381=\"Meter\",15,0)","v":0},{"$f":"IF('Data Collection Sheet'!B381=\"Pipe\",80,0)","v":0},{"$f":"IF('Data Collection Sheet'!B381=\"Source\",50,0)","v":0},{"$f":"IF('Data Collection Sheet'!B381=\"Tank\",50,0)","v":0},{"$f":"IF('Data Collection Sheet'!B381=\"Analytical\",10,0)","v":0},{"$f":"IF('Data Collection Sheet'!B381=\"Treatment\",20,0)","v":0},{"$f":"IF('Data Collection Sheet'!B381=\"Valve\",20,0)","v":0},{"$f":"IF('Data Collection Sheet'!B381=\"Control\",15,0)","v":0},{"$f":"IF('Data Collection Sheet'!B381=\"Safety\",10,0)","v":0},{"$f":"IF('Data Collection Sheet'!B381=\"Building\",50,0)","v":0},{"$f":"IF('Data Collection Sheet'!B381=\"Vehicle\",8,0)","v":0},{"$f":"IF('Data Collection Sheet'!B381=\"Other\",15,0)","v":0},{"$f":"IF('Data Collection Sheet'!I381=\"Bad\",(-0.8*$T378),0)","v":0},{"$f":"IF('Data Collection Sheet'!I381=\"Fair\",(-0.5*$T378),0)","v":0},{"$f":"IF('Data Collection Sheet'!I381=\"Good\",(-0.2*$T378),0)","v":0},{"$f":"IF('Data Collection Sheet'!I381=\"Great\",0,0)","v":0},null,0,0,0,null,null,null,{"$f":"IF('Consequence of Failure'!F381=\"No\",1,0)","v":0},{"$f":"IF('Consequence of Failure'!G379=\"0%-25%\",0.5,0)","v":0},{"$f":"IF('Consequence of Failure'!G379=\"26%-50%\",1,0)","v":0},{"$f":"IF('Consequence of Failure'!G379=\"51%-75%\",1.5,0)","v":0},{"$f":"IF('Consequence of Failure'!G379=\"76%-100%\",2,0)","v":0},{"$f":"IF('Consequence of Failure'!H379=\"Yes\",1,0)","v":0},{"$f":"IF('Consequence of Failure'!I379=\"Yes\",1,0)","v":0},null,0,null,{"$f":"IF('Consequence of Failure'!K379=\"Yes\",1,0)","v":0},{"$f":"IF('Consequence of Failure'!L379=\"Above\",2,0)","v":0},{"$f":"IF('Consequence of Failure'!L379=\"At\",1,0)","v":0},{"$f":"IF('Consequence of Failure'!L379=\"Below\",0,0)","v":0},{"$f":"IF('Consequence of Failure'!M379=\"Yes\",1,0)","v":0},{"$f":"IF('Consequence of Failure'!N379=\"Yes\",1,0)","v":0},null,0,null,0]
[{"$f":"IF('Data Collection Sheet'!B382=\"Pump\",15,0)","v":0},{"$f":"IF('Data Collection Sheet'!B382=\"Hydrant\",50,0)","v":0},{"$f":"IF('Data Collection Sheet'!B382=\"Meter\",15,0)","v":0},{"$f":"IF('Data Collection Sheet'!B382=\"Pipe\",80,0)","v":0},{"$f":"IF('Data Collection Sheet'!B382=\"Source\",50,0)","v":0},{"$f":"IF('Data Collection Sheet'!B382=\"Tank\",50,0)","v":0},{"$f":"IF('Data Collection Sheet'!B382=\"Analytical\",10,0)","v":0},{"$f":"IF('Data Collection Sheet'!B382=\"Treatment\",20,0)","v":0},{"$f":"IF('Data Collection Sheet'!B382=\"Valve\",20,0)","v":0},{"$f":"IF('Data Collection Sheet'!B382=\"Control\",15,0)","v":0},{"$f":"IF('Data Collection Sheet'!B382=\"Safety\",10,0)","v":0},{"$f":"IF('Data Collection Sheet'!B382=\"Building\",50,0)","v":0},{"$f":"IF('Data Collection Sheet'!B382=\"Vehicle\",8,0)","v":0},{"$f":"IF('Data Collection Sheet'!B382=\"Other\",15,0)","v":0},{"$f":"IF('Data Collection Sheet'!I382=\"Bad\",(-0.8*$T379),0)","v":0},{"$f":"IF('Data Collection Sheet'!I382=\"Fair\",(-0.5*$T379),0)","v":0},{"$f":"IF('Data Collection Sheet'!I382=\"Good\",(-0.2*$T379),0)","v":0},{"$f":"IF('Data Collection Sheet'!I382=\"Great\",0,0)","v":0},null,0,0,0,null,null,null,{"$f":"IF('Consequence of Failure'!F382=\"No\",1,0)","v":0},{"$f":"IF('Consequence of Failure'!G380=\"0%-25%\",0.5,0)","v":0},{"$f":"IF('Consequence of Failure'!G380=\"26%-50%\",1,0)","v":0},{"$f":"IF('Consequence of Failure'!G380=\"51%-75%\",1.5,0)","v":0},{"$f":"IF('Consequence of Failure'!G380=\"76%-100%\",2,0)","v":0},{"$f":"IF('Consequence of Failure'!H380=\"Yes\",1,0)","v":0},{"$f":"IF('Consequence of Failure'!I380=\"Yes\",1,0)","v":0},null,0,null,{"$f":"IF('Consequence of Failure'!K380=\"Yes\",1,0)","v":0},{"$f":"IF('Consequence of Failure'!L380=\"Above\",2,0)","v":0},{"$f":"IF('Consequence of Failure'!L380=\"At\",1,0)","v":0},{"$f":"IF('Consequence of Failure'!L380=\"Below\",0,0)","v":0},{"$f":"IF('Consequence of Failure'!M380=\"Yes\",1,0)","v":0},{"$f":"IF('Consequence of Failure'!N380=\"Yes\",1,0)","v":0},null,0,null,0]
[{"$f":"IF('Data Collection Sheet'!B383=\"Pump\",15,0)","v":0},{"$f":"IF('Data Collection Sheet'!B383=\"Hydrant\",50,0)","v":0},{"$f":"IF('Data Collection Sheet'!B383=\"Meter\",15,0)","v":0},{"$f":"IF('Data Collection Sheet'!B383=\"Pipe\",80,0)","v":0},{"$f":"IF('Data Collection Sheet'!B383=\"Source\",50,0)","v":0},{"$f":"IF('Data Collection Sheet'!B383=\"Tank\",50,0)","v":0},{"$f":"IF('Data Collection Sheet'!B383=\"Analytical\",10,0)","v":0},{"$f":"IF('Data Collection Sheet'!B383=\"Treatment\",20,0)","v":0},{"$f":"IF('Data Collection Sheet'!B383=\"Valve\",20,0)","v":0},{"$f":"IF('Data Collection Sheet'!B383=\"Control\",15,0)","v":0},{"$f":"IF('Data Collection Sheet'!B383=\"Safety\",10,0)","v":0},{"$f":"IF('Data Collection Sheet'!B383=\"Building\",50,0)","v":0},{"$f":"IF('Data Collection Sheet'!B383=\"Vehicle\",8,0)","v":0},{"$f":"IF('Data Collection Sheet'!B383=\"Other\",15,0)","v":0},{"$f":"IF('Data Collection Sheet'!I383=\"Bad\",(-0.8*$T380),0)","v":0},{"$f":"IF('Data Collection Sheet'!I383=\"Fair\",(-0.5*$T380),0)","v":0},{"$f":"IF('Data Collection Sheet'!I383=\"Good\",(-0.2*$T380),0)","v":0},{"$f":"IF('Data Collection Sheet'!I383=\"Great\",0,0)","v":0},null,0,0,0,null,null,null,{"$f":"IF('Consequence of Failure'!F383=\"No\",1,0)","v":0},{"$f":"IF('Consequence of Failure'!G381=\"0%-25%\",0.5,0)","v":0},{"$f":"IF('Consequence of Failure'!G381=\"26%-50%\",1,0)","v":0},{"$f":"IF('Consequence of Failure'!G381=\"51%-75%\",1.5,0)","v":0},{"$f":"IF('Consequence of Failure'!G381=\"76%-100%\",2,0)","v":0},{"$f":"IF('Consequence of Failure'!H381=\"Yes\",1,0)","v":0},{"$f":"IF('Consequence of Failure'!I381=\"Yes\",1,0)","v":0},null,0,null,{"$f":"IF('Consequence of Failure'!K381=\"Yes\",1,0)","v":0},{"$f":"IF('Consequence of Failure'!L381=\"Above\",2,0)","v":0},{"$f":"IF('Consequence of Failure'!L381=\"At\",1,0)","v":0},{"$f":"IF('Consequence of Failure'!L381=\"Below\",0,0)","v":0},{"$f":"IF('Consequence of Failure'!M381=\"Yes\",1,0)","v":0},{"$f":"IF('Consequence of Failure'!N381=\"Yes\",1,0)","v":0},null,0,null,0]
[{"$f":"IF('Data Collection Sheet'!B384=\"Pump\",15,0)","v":0},{"$f":"IF('Data Collection Sheet'!B384=\"Hydrant\",50,0)","v":0},{"$f":"IF('Data Collection Sheet'!B384=\"Meter\",15,0)","v":0},{"$f":"IF('Data Collection Sheet'!B384=\"Pipe\",80,0)","v":0},{"$f":"IF('Data Collection Sheet'!B384=\"Source\",50,0)","v":0},{"$f":"IF('Data Collection Sheet'!B384=\"Tank\",50,0)","v":0},{"$f":"IF('Data Collection Sheet'!B384=\"Analytical\",10,0)","v":0},{"$f":"IF('Data Collection Sheet'!B384=\"Treatment\",20,0)","v":0},{"$f":"IF('Data Collection Sheet'!B384=\"Valve\",20,0)","v":0},{"$f":"IF('Data Collection Sheet'!B384=\"Control\",15,0)","v":0},{"$f":"IF('Data Collection Sheet'!B384=\"Safety\",10,0)","v":0},{"$f":"IF('Data Collection Sheet'!B384=\"Building\",50,0)","v":0},{"$f":"IF('Data Collection Sheet'!B384=\"Vehicle\",8,0)","v":0},{"$f":"IF('Data Collection Sheet'!B384=\"Other\",15,0)","v":0},{"$f":"IF('Data Collection Sheet'!I384=\"Bad\",(-0.8*$T381),0)","v":0},{"$f":"IF('Data Collection Sheet'!I384=\"Fair\",(-0.5*$T381),0)","v":0},{"$f":"IF('Data Collection Sheet'!I384=\"Good\",(-0.2*$T381),0)","v":0},{"$f":"IF('Data Collection Sheet'!I384=\"Great\",0,0)","v":0},null,0,0,0,null,null,null,{"$f":"IF('Consequence of Failure'!F384=\"No\",1,0)","v":0},{"$f":"IF('Consequence of Failure'!G382=\"0%-25%\",0.5,0)","v":0},{"$f":"IF('Consequence of Failure'!G382=\"26%-50%\",1,0)","v":0},{"$f":"IF('Consequence of Failure'!G382=\"51%-75%\",1.5,0)","v":0},{"$f":"IF('Consequence of Failure'!G382=\"76%-100%\",2,0)","v":0},{"$f":"IF('Consequence of Failure'!H382=\"Yes\",1,0)","v":0},{"$f":"IF('Consequence of Failure'!I382=\"Yes\",1,0)","v":0},null,0,null,{"$f":"IF('Consequence of Failure'!K382=\"Yes\",1,0)","v":0},{"$f":"IF('Consequence of Failure'!L382=\"Above\",2,0)","v":0},{"$f":"IF('Consequence of Failure'!L382=\"At\",1,0)","v":0},{"$f":"IF('Consequence of Failure'!L382=\"Below\",0,0)","v":0},{"$f":"IF('Consequence of Failure'!M382=\"Yes\",1,0)","v":0},{"$f":"IF('Consequence of Failure'!N382=\"Yes\",1,0)","v":0},null,0,null,0]
[{"$f":"IF('Data Collection Sheet'!B385=\"Pump\",15,0)","v":0},{"$f":"IF('Data Collection Sheet'!B385=\"Hydrant\",50,0)","v":0},{"$f":"IF('Data Collection Sheet'!B385=\"Meter\",15,0)","v":0},{"$f":"IF('Data Collection Sheet'!B385=\"Pipe\",80,0)","v":0},{"$f":"IF('Data Collection Sheet'!B385=\"Source\",50,0)","v":0},{"$f":"IF('Data Collection Sheet'!B385=\"Tank\",50,0)","v":0},{"$f":"IF('Data Collection Sheet'!B385=\"Analytical\",10,0)","v":0},{"$f":"IF('Data Collection Sheet'!B385=\"Treatment\",20,0)","v":0},{"$f":"IF('Data Collection Sheet'!B385=\"Valve\",20,0)","v":0},{"$f":"IF('Data Collection Sheet'!B385=\"Control\",15,0)","v":0},{"$f":"IF('Data Collection Sheet'!B385=\"Safety\",10,0)","v":0},{"$f":"IF('Data Collection Sheet'!B385=\"Building\",50,0)","v":0},{"$f":"IF('Data Collection Sheet'!B385=\"Vehicle\",8,0)","v":0},{"$f":"IF('Data Collection Sheet'!B385=\"Other\",15,0)","v":0},{"$f":"IF('Data Collection Sheet'!I385=\"Bad\",(-0.8*$T382),0)","v":0},{"$f":"IF('Data Collection Sheet'!I385=\"Fair\",(-0.5*$T382),0)","v":0},{"$f":"IF('Data Collection Sheet'!I385=\"Good\",(-0.2*$T382),0)","v":0},{"$f":"IF('Data Collection Sheet'!I385=\"Great\",0,0)","v":0},null,0,0,0,null,null,null,{"$f":"IF('Consequence of Failure'!F385=\"No\",1,0)","v":0},{"$f":"IF('Consequence of Failure'!G383=\"0%-25%\",0.5,0)","v":0},{"$f":"IF('Consequence of Failure'!G383=\"26%-50%\",1,0)","v":0},{"$f":"IF('Consequence of Failure'!G383=\"51%-75%\",1.5,0)","v":0},{"$f":"IF('Consequence of Failure'!G383=\"76%-100%\",2,0)","v":0},{"$f":"IF('Consequence of Failure'!H383=\"Yes\",1,0)","v":0},{"$f":"IF('Consequence of Failure'!I383=\"Yes\",1,0)","v":0},null,0,null,{"$f":"IF('Consequence of Failure'!K383=\"Yes\",1,0)","v":0},{"$f":"IF('Consequence of Failure'!L383=\"Above\",2,0)","v":0},{"$f":"IF('Consequence of Failure'!L383=\"At\",1,0)","v":0},{"$f":"IF('Consequence of Failure'!L383=\"Below\",0,0)","v":0},{"$f":"IF('Consequence of Failure'!M383=\"Yes\",1,0)","v":0},{"$f":"IF('Consequence of Failure'!N383=\"Yes\",1,0)","v":0},null,0,null,0]
[{"$f":"IF('Data Collection Sheet'!B386=\"Pump\",15,0)","v":0},{"$f":"IF('Data Collection Sheet'!B386=\"Hydrant\",50,0)","v":0},{"$f":"IF('Data Collection Sheet'!B386=\"Meter\",15,0)","v":0},{"$f":"IF('Data Collection Sheet'!B386=\"Pipe\",80,0)","v":0},{"$f":"IF('Data Collection Sheet'!B386=\"Source\",50,0)","v":0},{"$f":"IF('Data Collection Sheet'!B386=\"Tank\",50,0)","v":0},{"$f":"IF('Data Collection Sheet'!B386=\"Analytical\",10,0)","v":0},{"$f":"IF('Data Collection Sheet'!B386=\"Treatment\",20,0)","v":0},{"$f":"IF('Data Collection Sheet'!B386=\"Valve\",20,0)","v":0},{"$f":"IF('Data Collection Sheet'!B386=\"Control\",15,0)","v":0},{"$f":"IF('Data Collection Sheet'!B386=\"Safety\",10,0)","v":0},{"$f":"IF('Data Collection Sheet'!B386=\"Building\",50,0)","v":0},{"$f":"IF('Data Collection Sheet'!B386=\"Vehicle\",8,0)","v":0},{"$f":"IF('Data Collection Sheet'!B386=\"Other\",15,0)","v":0},{"$f":"IF('Data Collection Sheet'!I386=\"Bad\",(-0.8*$T383),0)","v":0},{"$f":"IF('Data Collection Sheet'!I386=\"Fair\",(-0.5*$T383),0)","v":0},{"$f":"IF('Data Collection Sheet'!I386=\"Good\",(-0.2*$T383),0)","v":0},{"$f":"IF('Data Collection Sheet'!I386=\"Great\",0,0)","v":0},null,0,0,0,null,null,null,{"$f":"IF('Consequence of Failure'!F386=\"No\",1,0)","v":0},{"$f":"IF('Consequence of Failure'!G384=\"0%-25%\",0.5,0)","v":0},{"$f":"IF('Consequence of Failure'!G384=\"26%-50%\",1,0)","v":0},{"$f":"IF('Consequence of Failure'!G384=\"51%-75%\",1.5,0)","v":0},{"$f":"IF('Consequence of Failure'!G384=\"76%-100%\",2,0)","v":0},{"$f":"IF('Consequence of Failure'!H384=\"Yes\",1,0)","v":0},{"$f":"IF('Consequence of Failure'!I384=\"Yes\",1,0)","v":0},null,0,null,{"$f":"IF('Consequence of Failure'!K384=\"Yes\",1,0)","v":0},{"$f":"IF('Consequence of Failure'!L384=\"Above\",2,0)","v":0},{"$f":"IF('Consequence of Failure'!L384=\"At\",1,0)","v":0},{"$f":"IF('Consequence of Failure'!L384=\"Below\",0,0)","v":0},{"$f":"IF('Consequence of Failure'!M384=\"Yes\",1,0)","v":0},{"$f":"IF('Consequence of Failure'!N384=\"Yes\",1,0)","v":0},null,0,null,0]
[{"$f":"IF('Data Collection Sheet'!B387=\"Pump\",15,0)","v":0},{"$f":"IF('Data Collection Sheet'!B387=\"Hydrant\",50,0)","v":0},{"$f":"IF('Data Collection Sheet'!B387=\"Meter\",15,0)","v":0},{"$f":"IF('Data Collection Sheet'!B387=\"Pipe\",80,0)","v":0},{"$f":"IF('Data Collection Sheet'!B387=\"Source\",50,0)","v":0},{"$f":"IF('Data Collection Sheet'!B387=\"Tank\",50,0)","v":0},{"$f":"IF('Data Collection Sheet'!B387=\"Analytical\",10,0)","v":0},{"$f":"IF('Data Collection Sheet'!B387=\"Treatment\",20,0)","v":0},{"$f":"IF('Data Collection Sheet'!B387=\"Valve\",20,0)","v":0},{"$f":"IF('Data Collection Sheet'!B387=\"Control\",15,0)","v":0},{"$f":"IF('Data Collection Sheet'!B387=\"Safety\",10,0)","v":0},{"$f":"IF('Data Collection Sheet'!B387=\"Building\",50,0)","v":0},{"$f":"IF('Data Collection Sheet'!B387=\"Vehicle\",8,0)","v":0},{"$f":"IF('Data Collection Sheet'!B387=\"Other\",15,0)","v":0},{"$f":"IF('Data Collection Sheet'!I387=\"Bad\",(-0.8*$T384),0)","v":0},{"$f":"IF('Data Collection Sheet'!I387=\"Fair\",(-0.5*$T384),0)","v":0},{"$f":"IF('Data Collection Sheet'!I387=\"Good\",(-0.2*$T384),0)","v":0},{"$f":"IF('Data Collection Sheet'!I387=\"Great\",0,0)","v":0},null,0,0,0,null,null,null,{"$f":"IF('Consequence of Failure'!F387=\"No\",1,0)","v":0},{"$f":"IF('Consequence of Failure'!G385=\"0%-25%\",0.5,0)","v":0},{"$f":"IF('Consequence of Failure'!G385=\"26%-50%\",1,0)","v":0},{"$f":"IF('Consequence of Failure'!G385=\"51%-75%\",1.5,0)","v":0},{"$f":"IF('Consequence of Failure'!G385=\"76%-100%\",2,0)","v":0},{"$f":"IF('Consequence of Failure'!H385=\"Yes\",1,0)","v":0},{"$f":"IF('Consequence of Failure'!I385=\"Yes\",1,0)","v":0},null,0,null,{"$f":"IF('Consequence of Failure'!K385=\"Yes\",1,0)","v":0},{"$f":"IF('Consequence of Failure'!L385=\"Above\",2,0)","v":0},{"$f":"IF('Consequence of Failure'!L385=\"At\",1,0)","v":0},{"$f":"IF('Consequence of Failure'!L385=\"Below\",0,0)","v":0},{"$f":"IF('Consequence of Failure'!M385=\"Yes\",1,0)","v":0},{"$f":"IF('Consequence of Failure'!N385=\"Yes\",1,0)","v":0},null,0,null,0]
[{"$f":"IF('Data Collection Sheet'!B388=\"Pump\",15,0)","v":0},{"$f":"IF('Data Collection Sheet'!B388=\"Hydrant\",50,0)","v":0},{"$f":"IF('Data Collection Sheet'!B388=\"Meter\",15,0)","v":0},{"$f":"IF('Data Collection Sheet'!B388=\"Pipe\",80,0)","v":0},{"$f":"IF('Data Collection Sheet'!B388=\"Source\",50,0)","v":0},{"$f":"IF('Data Collection Sheet'!B388=\"Tank\",50,0)","v":0},{"$f":"IF('Data Collection Sheet'!B388=\"Analytical\",10,0)","v":0},{"$f":"IF('Data Collection Sheet'!B388=\"Treatment\",20,0)","v":0},{"$f":"IF('Data Collection Sheet'!B388=\"Valve\",20,0)","v":0},{"$f":"IF('Data Collection Sheet'!B388=\"Control\",15,0)","v":0},{"$f":"IF('Data Collection Sheet'!B388=\"Safety\",10,0)","v":0},{"$f":"IF('Data Collection Sheet'!B388=\"Building\",50,0)","v":0},{"$f":"IF('Data Collection Sheet'!B388=\"Vehicle\",8,0)","v":0},{"$f":"IF('Data Collection Sheet'!B388=\"Other\",15,0)","v":0},{"$f":"IF('Data Collection Sheet'!I388=\"Bad\",(-0.8*$T385),0)","v":0},{"$f":"IF('Data Collection Sheet'!I388=\"Fair\",(-0.5*$T385),0)","v":0},{"$f":"IF('Data Collection Sheet'!I388=\"Good\",(-0.2*$T385),0)","v":0},{"$f":"IF('Data Collection Sheet'!I388=\"Great\",0,0)","v":0},null,0,0,0,null,null,null,{"$f":"IF('Consequence of Failure'!F388=\"No\",1,0)","v":0},{"$f":"IF('Consequence of Failure'!G386=\"0%-25%\",0.5,0)","v":0},{"$f":"IF('Consequence of Failure'!G386=\"26%-50%\",1,0)","v":0},{"$f":"IF('Consequence of Failure'!G386=\"51%-75%\",1.5,0)","v":0},{"$f":"IF('Consequence of Failure'!G386=\"76%-100%\",2,0)","v":0},{"$f":"IF('Consequence of Failure'!H386=\"Yes\",1,0)","v":0},{"$f":"IF('Consequence of Failure'!I386=\"Yes\",1,0)","v":0},null,0,null,{"$f":"IF('Consequence of Failure'!K386=\"Yes\",1,0)","v":0},{"$f":"IF('Consequence of Failure'!L386=\"Above\",2,0)","v":0},{"$f":"IF('Consequence of Failure'!L386=\"At\",1,0)","v":0},{"$f":"IF('Consequence of Failure'!L386=\"Below\",0,0)","v":0},{"$f":"IF('Consequence of Failure'!M386=\"Yes\",1,0)","v":0},{"$f":"IF('Consequence of Failure'!N386=\"Yes\",1,0)","v":0},null,0,null,0]
[{"$f":"IF('Data Collection Sheet'!B389=\"Pump\",15,0)","v":0},{"$f":"IF('Data Collection Sheet'!B389=\"Hydrant\",50,0)","v":0},{"$f":"IF('Data Collection Sheet'!B389=\"Meter\",15,0)","v":0},{"$f":"IF('Data Collection Sheet'!B389=\"Pipe\",80,0)","v":0},{"$f":"IF('Data Collection Sheet'!B389=\"Source\",50,0)","v":0},{"$f":"IF('Data Collection Sheet'!B389=\"Tank\",50,0)","v":0},{"$f":"IF('Data Collection Sheet'!B389=\"Analytical\",10,0)","v":0},{"$f":"IF('Data Collection Sheet'!B389=\"Treatment\",20,0)","v":0},{"$f":"IF('Data Collection Sheet'!B389=\"Valve\",20,0)","v":0},{"$f":"IF('Data Collection Sheet'!B389=\"Control\",15,0)","v":0},{"$f":"IF('Data Collection Sheet'!B389=\"Safety\",10,0)","v":0},{"$f":"IF('Data Collection Sheet'!B389=\"Building\",50,0)","v":0},{"$f":"IF('Data Collection Sheet'!B389=\"Vehicle\",8,0)","v":0},{"$f":"IF('Data Collection Sheet'!B389=\"Other\",15,0)","v":0},{"$f":"IF('Data Collection Sheet'!I389=\"Bad\",(-0.8*$T386),0)","v":0},{"$f":"IF('Data Collection Sheet'!I389=\"Fair\",(-0.5*$T386),0)","v":0},{"$f":"IF('Data Collection Sheet'!I389=\"Good\",(-0.2*$T386),0)","v":0},{"$f":"IF('Data Collection Sheet'!I389=\"Great\",0,0)","v":0},null,0,0,0,null,null,null,{"$f":"IF('Consequence of Failure'!F389=\"No\",1,0)","v":0},{"$f":"IF('Consequence of Failure'!G387=\"0%-25%\",0.5,0)","v":0},{"$f":"IF('Consequence of Failure'!G387=\"26%-50%\",1,0)","v":0},{"$f":"IF('Consequence of Failure'!G387=\"51%-75%\",1.5,0)","v":0},{"$f":"IF('Consequence of Failure'!G387=\"76%-100%\",2,0)","v":0},{"$f":"IF('Consequence of Failure'!H387=\"Yes\",1,0)","v":0},{"$f":"IF('Consequence of Failure'!I387=\"Yes\",1,0)","v":0},null,0,null,{"$f":"IF('Consequence of Failure'!K387=\"Yes\",1,0)","v":0},{"$f":"IF('Consequence of Failure'!L387=\"Above\",2,0)","v":0},{"$f":"IF('Consequence of Failure'!L387=\"At\",1,0)","v":0},{"$f":"IF('Consequence of Failure'!L387=\"Below\",0,0)","v":0},{"$f":"IF('Consequence of Failure'!M387=\"Yes\",1,0)","v":0},{"$f":"IF('Consequence of Failure'!N387=\"Yes\",1,0)","v":0},null,0,null,0]
[{"$f":"IF('Data Collection Sheet'!B390=\"Pump\",15,0)","v":0},{"$f":"IF('Data Collection Sheet'!B390=\"Hydrant\",50,0)","v":0},{"$f":"IF('Data Collection Sheet'!B390=\"Meter\",15,0)","v":0},{"$f":"IF('Data Collection Sheet'!B390=\"Pipe\",80,0)","v":0},{"$f":"IF('Data Collection Sheet'!B390=\"Source\",50,0)","v":0},{"$f":"IF('Data Collection Sheet'!B390=\"Tank\",50,0)","v":0},{"$f":"IF('Data Collection Sheet'!B390=\"Analytical\",10,0)","v":0},{"$f":"IF('Data Collection Sheet'!B390=\"Treatment\",20,0)","v":0},{"$f":"IF('Data Collection Sheet'!B390=\"Valve\",20,0)","v":0},{"$f":"IF('Data Collection Sheet'!B390=\"Control\",15,0)","v":0},{"$f":"IF('Data Collection Sheet'!B390=\"Safety\",10,0)","v":0},{"$f":"IF('Data Collection Sheet'!B390=\"Building\",50,0)","v":0},{"$f":"IF('Data Collection Sheet'!B390=\"Vehicle\",8,0)","v":0},{"$f":"IF('Data Collection Sheet'!B390=\"Other\",15,0)","v":0},{"$f":"IF('Data Collection Sheet'!I390=\"Bad\",(-0.8*$T387),0)","v":0},{"$f":"IF('Data Collection Sheet'!I390=\"Fair\",(-0.5*$T387),0)","v":0},{"$f":"IF('Data Collection Sheet'!I390=\"Good\",(-0.2*$T387),0)","v":0},{"$f":"IF('Data Collection Sheet'!I390=\"Great\",0,0)","v":0},null,{"$f":"SUM(A387:N387)","v":0},{"$f":"SUM($A387:$R387)","v":0},{"$f":"ROUNDDOWN($U387,0)","v":0},null,null,null,{"$f":"IF('Consequence of Failure'!F390=\"No\",1,0)","v":0},{"$f":"IF('Consequence of Failure'!G388=\"0%-25%\",0.5,0)","v":0},{"$f":"IF('Consequence of Failure'!G388=\"26%-50%\",1,0)","v":0},{"$f":"IF('Consequence of Failure'!G388=\"51%-75%\",1.5,0)","v":0},{"$f":"IF('Consequence of Failure'!G388=\"76%-100%\",2,0)","v":0},{"$f":"IF('Consequence of Failure'!H388=\"Yes\",1,0)","v":0},{"$f":"IF('Consequence of Failure'!I388=\"Yes\",1,0)","v":0},null,0,null,{"$f":"IF('Consequence of Failure'!K388=\"Yes\",1,0)","v":0},{"$f":"IF('Consequence of Failure'!L388=\"Above\",2,0)","v":0},{"$f":"IF('Consequence of Failure'!L388=\"At\",1,0)","v":0},{"$f":"IF('Consequence of Failure'!L388=\"Below\",0,0)","v":0},{"$f":"IF('Consequence of Failure'!M388=\"Yes\",1,0)","v":0},{"$f":"IF('Consequence of Failure'!N388=\"Yes\",1,0)","v":0},null,0,null,0]
[{"$f":"IF('Data Collection Sheet'!B391=\"Pump\",15,0)","v":0},{"$f":"IF('Data Collection Sheet'!B391=\"Hydrant\",50,0)","v":0},{"$f":"IF('Data Collection Sheet'!B391=\"Meter\",15,0)","v":0},{"$f":"IF('Data Collection Sheet'!B391=\"Pipe\",80,0)","v":0},{"$f":"IF('Data Collection Sheet'!B391=\"Source\",50,0)","v":0},{"$f":"IF('Data Collection Sheet'!B391=\"Tank\",50,0)","v":0},{"$f":"IF('Data Collection Sheet'!B391=\"Analytical\",10,0)","v":0},{"$f":"IF('Data Collection Sheet'!B391=\"Treatment\",20,0)","v":0},{"$f":"IF('Data Collection Sheet'!B391=\"Valve\",20,0)","v":0},{"$f":"IF('Data Collection Sheet'!B391=\"Control\",15,0)","v":0},{"$f":"IF('Data Collection Sheet'!B391=\"Safety\",10,0)","v":0},{"$f":"IF('Data Collection Sheet'!B391=\"Building\",50,0)","v":0},{"$f":"IF('Data Collection Sheet'!B391=\"Vehicle\",8,0)","v":0},{"$f":"IF('Data Collection Sheet'!B391=\"Other\",15,0)","v":0},{"$f":"IF('Data Collection Sheet'!I391=\"Bad\",(-0.8*$T388),0)","v":0},{"$f":"IF('Data Collection Sheet'!I391=\"Fair\",(-0.5*$T388),0)","v":0},{"$f":"IF('Data Collection Sheet'!I391=\"Good\",(-0.2*$T388),0)","v":0},{"$f":"IF('Data Collection Sheet'!I391=\"Great\",0,0)","v":0},null,0,0,0,null,null,null,{"$f":"IF('Consequence of Failure'!F391=\"No\",1,0)","v":0},{"$f":"IF('Consequence of Failure'!G389=\"0%-25%\",0.5,0)","v":0},{"$f":"IF('Consequence of Failure'!G389=\"26%-50%\",1,0)","v":0},{"$f":"IF('Consequence of Failure'!G389=\"51%-75%\",1.5,0)","v":0},{"$f":"IF('Consequence of Failure'!G389=\"76%-100%\",2,0)","v":0},{"$f":"IF('Consequence of Failure'!H389=\"Yes\",1,0)","v":0},{"$f":"IF('Consequence of Failure'!I389=\"Yes\",1,0)","v":0},null,0,null,{"$f":"IF('Consequence of Failure'!K389=\"Yes\",1,0)","v":0},{"$f":"IF('Consequence of Failure'!L389=\"Above\",2,0)","v":0},{"$f":"IF('Consequence of Failure'!L389=\"At\",1,0)","v":0},{"$f":"IF('Consequence of Failure'!L389=\"Below\",0,0)","v":0},{"$f":"IF('Consequence of Failure'!M389=\"Yes\",1,0)","v":0},{"$f":"IF('Consequence of Failure'!N389=\"Yes\",1,0)","v":0},null,0,null,0]
[{"$f":"IF('Data Collection Sheet'!B392=\"Pump\",15,0)","v":0},{"$f":"IF('Data Collection Sheet'!B392=\"Hydrant\",50,0)","v":0},{"$f":"IF('Data Collection Sheet'!B392=\"Meter\",15,0)","v":0},{"$f":"IF('Data Collection Sheet'!B392=\"Pipe\",80,0)","v":0},{"$f":"IF('Data Collection Sheet'!B392=\"Source\",50,0)","v":0},{"$f":"IF('Data Collection Sheet'!B392=\"Tank\",50,0)","v":0},{"$f":"IF('Data Collection Sheet'!B392=\"Analytical\",10,0)","v":0},{"$f":"IF('Data Collection Sheet'!B392=\"Treatment\",20,0)","v":0},{"$f":"IF('Data Collection Sheet'!B392=\"Valve\",20,0)","v":0},{"$f":"IF('Data Collection Sheet'!B392=\"Control\",15,0)","v":0},{"$f":"IF('Data Collection Sheet'!B392=\"Safety\",10,0)","v":0},{"$f":"IF('Data Collection Sheet'!B392=\"Building\",50,0)","v":0},{"$f":"IF('Data Collection Sheet'!B392=\"Vehicle\",8,0)","v":0},{"$f":"IF('Data Collection Sheet'!B392=\"Other\",15,0)","v":0},{"$f":"IF('Data Collection Sheet'!I392=\"Bad\",(-0.8*$T389),0)","v":0},{"$f":"IF('Data Collection Sheet'!I392=\"Fair\",(-0.5*$T389),0)","v":0},{"$f":"IF('Data Collection Sheet'!I392=\"Good\",(-0.2*$T389),0)","v":0},{"$f":"IF('Data Collection Sheet'!I392=\"Great\",0,0)","v":0},null,0,0,0,null,null,null,{"$f":"IF('Consequence of Failure'!F392=\"No\",1,0)","v":0},{"$f":"IF('Consequence of Failure'!G390=\"0%-25%\",0.5,0)","v":0},{"$f":"IF('Consequence of Failure'!G390=\"26%-50%\",1,0)","v":0},{"$f":"IF('Consequence of Failure'!G390=\"51%-75%\",1.5,0)","v":0},{"$f":"IF('Consequence of Failure'!G390=\"76%-100%\",2,0)","v":0},{"$f":"IF('Consequence of Failure'!H390=\"Yes\",1,0)","v":0},{"$f":"IF('Consequence of Failure'!I390=\"Yes\",1,0)","v":0},null,{"$f":"SUM(Z389:AF389)","v":0},null,{"$f":"IF('Consequence of Failure'!K390=\"Yes\",1,0)","v":0},{"$f":"IF('Consequence of Failure'!L390=\"Above\",2,0)","v":0},{"$f":"IF('Consequence of Failure'!L390=\"At\",1,0)","v":0},{"$f":"IF('Consequence of Failure'!L390=\"Below\",0,0)","v":0},{"$f":"IF('Consequence of Failure'!M390=\"Yes\",1,0)","v":0},{"$f":"IF('Consequence of Failure'!N390=\"Yes\",1,0)","v":0},null,{"$f":"SUM(AJ389:AO389)","v":0},null,{"$f":"SUM(AH389*AQ389)","v":0}]
[{"$f":"IF('Data Collection Sheet'!B393=\"Pump\",15,0)","v":0},{"$f":"IF('Data Collection Sheet'!B393=\"Hydrant\",50,0)","v":0},{"$f":"IF('Data Collection Sheet'!B393=\"Meter\",15,0)","v":0},{"$f":"IF('Data Collection Sheet'!B393=\"Pipe\",80,0)","v":0},{"$f":"IF('Data Collection Sheet'!B393=\"Source\",50,0)","v":0},{"$f":"IF('Data Collection Sheet'!B393=\"Tank\",50,0)","v":0},{"$f":"IF('Data Collection Sheet'!B393=\"Analytical\",10,0)","v":0},{"$f":"IF('Data Collection Sheet'!B393=\"Treatment\",20,0)","v":0},{"$f":"IF('Data Collection Sheet'!B393=\"Valve\",20,0)","v":0},{"$f":"IF('Data Collection Sheet'!B393=\"Control\",15,0)","v":0},{"$f":"IF('Data Collection Sheet'!B393=\"Safety\",10,0)","v":0},{"$f":"IF('Data Collection Sheet'!B393=\"Building\",50,0)","v":0},{"$f":"IF('Data Collection Sheet'!B393=\"Vehicle\",8,0)","v":0},{"$f":"IF('Data Collection Sheet'!B393=\"Other\",15,0)","v":0},{"$f":"IF('Data Collection Sheet'!I393=\"Bad\",(-0.8*$T390),0)","v":0},{"$f":"IF('Data Collection Sheet'!I393=\"Fair\",(-0.5*$T390),0)","v":0},{"$f":"IF('Data Collection Sheet'!I393=\"Good\",(-0.2*$T390),0)","v":0},{"$f":"IF('Data Collection Sheet'!I393=\"Great\",0,0)","v":0},null,0,0,0,null,null,null,{"$f":"IF('Consequence of Failure'!F393=\"No\",1,0)","v":0},{"$f":"IF('Consequence of Failure'!G391=\"0%-25%\",0.5,0)","v":0},{"$f":"IF('Consequence of Failure'!G391=\"26%-50%\",1,0)","v":0},{"$f":"IF('Consequence of Failure'!G391=\"51%-75%\",1.5,0)","v":0},{"$f":"IF('Consequence of Failure'!G391=\"76%-100%\",2,0)","v":0},{"$f":"IF('Consequence of Failure'!H391=\"Yes\",1,0)","v":0},{"$f":"IF('Consequence of Failure'!I391=\"Yes\",1,0)","v":0},null,0,null,{"$f":"IF('Consequence of Failure'!K391=\"Yes\",1,0)","v":0},{"$f":"IF('Consequence of Failure'!L391=\"Above\",2,0)","v":0},{"$f":"IF('Consequence of Failure'!L391=\"At\",1,0)","v":0},{"$f":"IF('Consequence of Failure'!L391=\"Below\",0,0)","v":0},{"$f":"IF('Consequence of Failure'!M391=\"Yes\",1,0)","v":0},{"$f":"IF('Consequence of Failure'!N391=\"Yes\",1,0)","v":0},null,0,null,0]
[{"$f":"IF('Data Collection Sheet'!B394=\"Pump\",15,0)","v":0},{"$f":"IF('Data Collection Sheet'!B394=\"Hydrant\",50,0)","v":0},{"$f":"IF('Data Collection Sheet'!B394=\"Meter\",15,0)","v":0},{"$f":"IF('Data Collection Sheet'!B394=\"Pipe\",80,0)","v":0},{"$f":"IF('Data Collection Sheet'!B394=\"Source\",50,0)","v":0},{"$f":"IF('Data Collection Sheet'!B394=\"Tank\",50,0)","v":0},{"$f":"IF('Data Collection Sheet'!B394=\"Analytical\",10,0)","v":0},{"$f":"IF('Data Collection Sheet'!B394=\"Treatment\",20,0)","v":0},{"$f":"IF('Data Collection Sheet'!B394=\"Valve\",20,0)","v":0},{"$f":"IF('Data Collection Sheet'!B394=\"Control\",15,0)","v":0},{"$f":"IF('Data Collection Sheet'!B394=\"Safety\",10,0)","v":0},{"$f":"IF('Data Collection Sheet'!B394=\"Building\",50,0)","v":0},{"$f":"IF('Data Collection Sheet'!B394=\"Vehicle\",8,0)","v":0},{"$f":"IF('Data Collection Sheet'!B394=\"Other\",15,0)","v":0},{"$f":"IF('Data Collection Sheet'!I394=\"Bad\",(-0.8*$T391),0)","v":0},{"$f":"IF('Data Collection Sheet'!I394=\"Fair\",(-0.5*$T391),0)","v":0},{"$f":"IF('Data Collection Sheet'!I394=\"Good\",(-0.2*$T391),0)","v":0},{"$f":"IF('Data Collection Sheet'!I394=\"Great\",0,0)","v":0},null,0,0,0,null,null,null,{"$f":"IF('Consequence of Failure'!F394=\"No\",1,0)","v":0},{"$f":"IF('Consequence of Failure'!G392=\"0%-25%\",0.5,0)","v":0},{"$f":"IF('Consequence of Failure'!G392=\"26%-50%\",1,0)","v":0},{"$f":"IF('Consequence of Failure'!G392=\"51%-75%\",1.5,0)","v":0},{"$f":"IF('Consequence of Failure'!G392=\"76%-100%\",2,0)","v":0},{"$f":"IF('Consequence of Failure'!H392=\"Yes\",1,0)","v":0},{"$f":"IF('Consequence of Failure'!I392=\"Yes\",1,0)","v":0},null,0,null,{"$f":"IF('Consequence of Failure'!K392=\"Yes\",1,0)","v":0},{"$f":"IF('Consequence of Failure'!L392=\"Above\",2,0)","v":0},{"$f":"IF('Consequence of Failure'!L392=\"At\",1,0)","v":0},{"$f":"IF('Consequence of Failure'!L392=\"Below\",0,0)","v":0},{"$f":"IF('Consequence of Failure'!M392=\"Yes\",1,0)","v":0},{"$f":"IF('Consequence of Failure'!N392=\"Yes\",1,0)","v":0},null,0,null,0]
[{"$f":"IF('Data Collection Sheet'!B395=\"Pump\",15,0)","v":0},{"$f":"IF('Data Collection Sheet'!B395=\"Hydrant\",50,0)","v":0},{"$f":"IF('Data Collection Sheet'!B395=\"Meter\",15,0)","v":0},{"$f":"IF('Data Collection Sheet'!B395=\"Pipe\",80,0)","v":0},{"$f":"IF('Data Collection Sheet'!B395=\"Source\",50,0)","v":0},{"$f":"IF('Data Collection Sheet'!B395=\"Tank\",50,0)","v":0},{"$f":"IF('Data Collection Sheet'!B395=\"Analytical\",10,0)","v":0},{"$f":"IF('Data Collection Sheet'!B395=\"Treatment\",20,0)","v":0},{"$f":"IF('Data Collection Sheet'!B395=\"Valve\",20,0)","v":0},{"$f":"IF('Data Collection Sheet'!B395=\"Control\",15,0)","v":0},{"$f":"IF('Data Collection Sheet'!B395=\"Safety\",10,0)","v":0},{"$f":"IF('Data Collection Sheet'!B395=\"Building\",50,0)","v":0},{"$f":"IF('Data Collection Sheet'!B395=\"Vehicle\",8,0)","v":0},{"$f":"IF('Data Collection Sheet'!B395=\"Other\",15,0)","v":0},{"$f":"IF('Data Collection Sheet'!I395=\"Bad\",(-0.8*$T392),0)","v":0},{"$f":"IF('Data Collection Sheet'!I395=\"Fair\",(-0.5*$T392),0)","v":0},{"$f":"IF('Data Collection Sheet'!I395=\"Good\",(-0.2*$T392),0)","v":0},{"$f":"IF('Data Collection Sheet'!I395=\"Great\",0,0)","v":0},null,0,0,0,null,null,null,{"$f":"IF('Consequence of Failure'!F395=\"No\",1,0)","v":0},{"$f":"IF('Consequence of Failure'!G393=\"0%-25%\",0.5,0)","v":0},{"$f":"IF('Consequence of Failure'!G393=\"26%-50%\",1,0)","v":0},{"$f":"IF('Consequence of Failure'!G393=\"51%-75%\",1.5,0)","v":0},{"$f":"IF('Consequence of Failure'!G393=\"76%-100%\",2,0)","v":0},{"$f":"IF('Consequence of Failure'!H393=\"Yes\",1,0)","v":0},{"$f":"IF('Consequence of Failure'!I393=\"Yes\",1,0)","v":0},null,0,null,{"$f":"IF('Consequence of Failure'!K393=\"Yes\",1,0)","v":0},{"$f":"IF('Consequence of Failure'!L393=\"Above\",2,0)","v":0},{"$f":"IF('Consequence of Failure'!L393=\"At\",1,0)","v":0},{"$f":"IF('Consequence of Failure'!L393=\"Below\",0,0)","v":0},{"$f":"IF('Consequence of Failure'!M393=\"Yes\",1,0)","v":0},{"$f":"IF('Consequence of Failure'!N393=\"Yes\",1,0)","v":0},null,0,null,0]
[{"$f":"IF('Data Collection Sheet'!B396=\"Pump\",15,0)","v":0},{"$f":"IF('Data Collection Sheet'!B396=\"Hydrant\",50,0)","v":0},{"$f":"IF('Data Collection Sheet'!B396=\"Meter\",15,0)","v":0},{"$f":"IF('Data Collection Sheet'!B396=\"Pipe\",80,0)","v":0},{"$f":"IF('Data Collection Sheet'!B396=\"Source\",50,0)","v":0},{"$f":"IF('Data Collection Sheet'!B396=\"Tank\",50,0)","v":0},{"$f":"IF('Data Collection Sheet'!B396=\"Analytical\",10,0)","v":0},{"$f":"IF('Data Collection Sheet'!B396=\"Treatment\",20,0)","v":0},{"$f":"IF('Data Collection Sheet'!B396=\"Valve\",20,0)","v":0},{"$f":"IF('Data Collection Sheet'!B396=\"Control\",15,0)","v":0},{"$f":"IF('Data Collection Sheet'!B396=\"Safety\",10,0)","v":0},{"$f":"IF('Data Collection Sheet'!B396=\"Building\",50,0)","v":0},{"$f":"IF('Data Collection Sheet'!B396=\"Vehicle\",8,0)","v":0},{"$f":"IF('Data Collection Sheet'!B396=\"Other\",15,0)","v":0},{"$f":"IF('Data Collection Sheet'!I396=\"Bad\",(-0.8*$T393),0)","v":0},{"$f":"IF('Data Collection Sheet'!I396=\"Fair\",(-0.5*$T393),0)","v":0},{"$f":"IF('Data Collection Sheet'!I396=\"Good\",(-0.2*$T393),0)","v":0},{"$f":"IF('Data Collection Sheet'!I396=\"Great\",0,0)","v":0},null,0,0,0,null,null,null,{"$f":"IF('Consequence of Failure'!F396=\"No\",1,0)","v":0},{"$f":"IF('Consequence of Failure'!G394=\"0%-25%\",0.5,0)","v":0},{"$f":"IF('Consequence of Failure'!G394=\"26%-50%\",1,0)","v":0},{"$f":"IF('Consequence of Failure'!G394=\"51%-75%\",1.5,0)","v":0},{"$f":"IF('Consequence of Failure'!G394=\"76%-100%\",2,0)","v":0},{"$f":"IF('Consequence of Failure'!H394=\"Yes\",1,0)","v":0},{"$f":"IF('Consequence of Failure'!I394=\"Yes\",1,0)","v":0},null,0,null,{"$f":"IF('Consequence of Failure'!K394=\"Yes\",1,0)","v":0},{"$f":"IF('Consequence of Failure'!L394=\"Above\",2,0)","v":0},{"$f":"IF('Consequence of Failure'!L394=\"At\",1,0)","v":0},{"$f":"IF('Consequence of Failure'!L394=\"Below\",0,0)","v":0},{"$f":"IF('Consequence of Failure'!M394=\"Yes\",1,0)","v":0},{"$f":"IF('Consequence of Failure'!N394=\"Yes\",1,0)","v":0},null,0,null,0]
[{"$f":"IF('Data Collection Sheet'!B397=\"Pump\",15,0)","v":0},{"$f":"IF('Data Collection Sheet'!B397=\"Hydrant\",50,0)","v":0},{"$f":"IF('Data Collection Sheet'!B397=\"Meter\",15,0)","v":0},{"$f":"IF('Data Collection Sheet'!B397=\"Pipe\",80,0)","v":0},{"$f":"IF('Data Collection Sheet'!B397=\"Source\",50,0)","v":0},{"$f":"IF('Data Collection Sheet'!B397=\"Tank\",50,0)","v":0},{"$f":"IF('Data Collection Sheet'!B397=\"Analytical\",10,0)","v":0},{"$f":"IF('Data Collection Sheet'!B397=\"Treatment\",20,0)","v":0},{"$f":"IF('Data Collection Sheet'!B397=\"Valve\",20,0)","v":0},{"$f":"IF('Data Collection Sheet'!B397=\"Control\",15,0)","v":0},{"$f":"IF('Data Collection Sheet'!B397=\"Safety\",10,0)","v":0},{"$f":"IF('Data Collection Sheet'!B397=\"Building\",50,0)","v":0},{"$f":"IF('Data Collection Sheet'!B397=\"Vehicle\",8,0)","v":0},{"$f":"IF('Data Collection Sheet'!B397=\"Other\",15,0)","v":0},{"$f":"IF('Data Collection Sheet'!I397=\"Bad\",(-0.8*$T394),0)","v":0},{"$f":"IF('Data Collection Sheet'!I397=\"Fair\",(-0.5*$T394),0)","v":0},{"$f":"IF('Data Collection Sheet'!I397=\"Good\",(-0.2*$T394),0)","v":0},{"$f":"IF('Data Collection Sheet'!I397=\"Great\",0,0)","v":0},null,0,0,0,null,null,null,{"$f":"IF('Consequence of Failure'!F397=\"No\",1,0)","v":0},{"$f":"IF('Consequence of Failure'!G395=\"0%-25%\",0.5,0)","v":0},{"$f":"IF('Consequence of Failure'!G395=\"26%-50%\",1,0)","v":0},{"$f":"IF('Consequence of Failure'!G395=\"51%-75%\",1.5,0)","v":0},{"$f":"IF('Consequence of Failure'!G395=\"76%-100%\",2,0)","v":0},{"$f":"IF('Consequence of Failure'!H395=\"Yes\",1,0)","v":0},{"$f":"IF('Consequence of Failure'!I395=\"Yes\",1,0)","v":0},null,0,null,{"$f":"IF('Consequence of Failure'!K395=\"Yes\",1,0)","v":0},{"$f":"IF('Consequence of Failure'!L395=\"Above\",2,0)","v":0},{"$f":"IF('Consequence of Failure'!L395=\"At\",1,0)","v":0},{"$f":"IF('Consequence of Failure'!L395=\"Below\",0,0)","v":0},{"$f":"IF('Consequence of Failure'!M395=\"Yes\",1,0)","v":0},{"$f":"IF('Consequence of Failure'!N395=\"Yes\",1,0)","v":0},null,0,null,0]
[{"$f":"IF('Data Collection Sheet'!B398=\"Pump\",15,0)","v":0},{"$f":"IF('Data Collection Sheet'!B398=\"Hydrant\",50,0)","v":0},{"$f":"IF('Data Collection Sheet'!B398=\"Meter\",15,0)","v":0},{"$f":"IF('Data Collection Sheet'!B398=\"Pipe\",80,0)","v":0},{"$f":"IF('Data Collection Sheet'!B398=\"Source\",50,0)","v":0},{"$f":"IF('Data Collection Sheet'!B398=\"Tank\",50,0)","v":0},{"$f":"IF('Data Collection Sheet'!B398=\"Analytical\",10,0)","v":0},{"$f":"IF('Data Collection Sheet'!B398=\"Treatment\",20,0)","v":0},{"$f":"IF('Data Collection Sheet'!B398=\"Valve\",20,0)","v":0},{"$f":"IF('Data Collection Sheet'!B398=\"Control\",15,0)","v":0},{"$f":"IF('Data Collection Sheet'!B398=\"Safety\",10,0)","v":0},{"$f":"IF('Data Collection Sheet'!B398=\"Building\",50,0)","v":0},{"$f":"IF('Data Collection Sheet'!B398=\"Vehicle\",8,0)","v":0},{"$f":"IF('Data Collection Sheet'!B398=\"Other\",15,0)","v":0},{"$f":"IF('Data Collection Sheet'!I398=\"Bad\",(-0.8*$T395),0)","v":0},{"$f":"IF('Data Collection Sheet'!I398=\"Fair\",(-0.5*$T395),0)","v":0},{"$f":"IF('Data Collection Sheet'!I398=\"Good\",(-0.2*$T395),0)","v":0},{"$f":"IF('Data Collection Sheet'!I398=\"Great\",0,0)","v":0},null,0,0,0,null,null,null,{"$f":"IF('Consequence of Failure'!F398=\"No\",1,0)","v":0},{"$f":"IF('Consequence of Failure'!G396=\"0%-25%\",0.5,0)","v":0},{"$f":"IF('Consequence of Failure'!G396=\"26%-50%\",1,0)","v":0},{"$f":"IF('Consequence of Failure'!G396=\"51%-75%\",1.5,0)","v":0},{"$f":"IF('Consequence of Failure'!G396=\"76%-100%\",2,0)","v":0},{"$f":"IF('Consequence of Failure'!H396=\"Yes\",1,0)","v":0},{"$f":"IF('Consequence of Failure'!I396=\"Yes\",1,0)","v":0},null,0,null,{"$f":"IF('Consequence of Failure'!K396=\"Yes\",1,0)","v":0},{"$f":"IF('Consequence of Failure'!L396=\"Above\",2,0)","v":0},{"$f":"IF('Consequence of Failure'!L396=\"At\",1,0)","v":0},{"$f":"IF('Consequence of Failure'!L396=\"Below\",0,0)","v":0},{"$f":"IF('Consequence of Failure'!M396=\"Yes\",1,0)","v":0},{"$f":"IF('Consequence of Failure'!N396=\"Yes\",1,0)","v":0},null,0,null,0]
[{"$f":"IF('Data Collection Sheet'!B399=\"Pump\",15,0)","v":0},{"$f":"IF('Data Collection Sheet'!B399=\"Hydrant\",50,0)","v":0},{"$f":"IF('Data Collection Sheet'!B399=\"Meter\",15,0)","v":0},{"$f":"IF('Data Collection Sheet'!B399=\"Pipe\",80,0)","v":0},{"$f":"IF('Data Collection Sheet'!B399=\"Source\",50,0)","v":0},{"$f":"IF('Data Collection Sheet'!B399=\"Tank\",50,0)","v":0},{"$f":"IF('Data Collection Sheet'!B399=\"Analytical\",10,0)","v":0},{"$f":"IF('Data Collection Sheet'!B399=\"Treatment\",20,0)","v":0},{"$f":"IF('Data Collection Sheet'!B399=\"Valve\",20,0)","v":0},{"$f":"IF('Data Collection Sheet'!B399=\"Control\",15,0)","v":0},{"$f":"IF('Data Collection Sheet'!B399=\"Safety\",10,0)","v":0},{"$f":"IF('Data Collection Sheet'!B399=\"Building\",50,0)","v":0},{"$f":"IF('Data Collection Sheet'!B399=\"Vehicle\",8,0)","v":0},{"$f":"IF('Data Collection Sheet'!B399=\"Other\",15,0)","v":0},{"$f":"IF('Data Collection Sheet'!I399=\"Bad\",(-0.8*$T396),0)","v":0},{"$f":"IF('Data Collection Sheet'!I399=\"Fair\",(-0.5*$T396),0)","v":0},{"$f":"IF('Data Collection Sheet'!I399=\"Good\",(-0.2*$T396),0)","v":0},{"$f":"IF('Data Collection Sheet'!I399=\"Great\",0,0)","v":0},null,0,0,0,null,null,null,{"$f":"IF('Consequence of Failure'!F399=\"No\",1,0)","v":0},{"$f":"IF('Consequence of Failure'!G397=\"0%-25%\",0.5,0)","v":0},{"$f":"IF('Consequence of Failure'!G397=\"26%-50%\",1,0)","v":0},{"$f":"IF('Consequence of Failure'!G397=\"51%-75%\",1.5,0)","v":0},{"$f":"IF('Consequence of Failure'!G397=\"76%-100%\",2,0)","v":0},{"$f":"IF('Consequence of Failure'!H397=\"Yes\",1,0)","v":0},{"$f":"IF('Consequence of Failure'!I397=\"Yes\",1,0)","v":0},null,0,null,{"$f":"IF('Consequence of Failure'!K397=\"Yes\",1,0)","v":0},{"$f":"IF('Consequence of Failure'!L397=\"Above\",2,0)","v":0},{"$f":"IF('Consequence of Failure'!L397=\"At\",1,0)","v":0},{"$f":"IF('Consequence of Failure'!L397=\"Below\",0,0)","v":0},{"$f":"IF('Consequence of Failure'!M397=\"Yes\",1,0)","v":0},{"$f":"IF('Consequence of Failure'!N397=\"Yes\",1,0)","v":0},null,0,null,0]
[{"$f":"IF('Data Collection Sheet'!B400=\"Pump\",15,0)","v":0},{"$f":"IF('Data Collection Sheet'!B400=\"Hydrant\",50,0)","v":0},{"$f":"IF('Data Collection Sheet'!B400=\"Meter\",15,0)","v":0},{"$f":"IF('Data Collection Sheet'!B400=\"Pipe\",80,0)","v":0},{"$f":"IF('Data Collection Sheet'!B400=\"Source\",50,0)","v":0},{"$f":"IF('Data Collection Sheet'!B400=\"Tank\",50,0)","v":0},{"$f":"IF('Data Collection Sheet'!B400=\"Analytical\",10,0)","v":0},{"$f":"IF('Data Collection Sheet'!B400=\"Treatment\",20,0)","v":0},{"$f":"IF('Data Collection Sheet'!B400=\"Valve\",20,0)","v":0},{"$f":"IF('Data Collection Sheet'!B400=\"Control\",15,0)","v":0},{"$f":"IF('Data Collection Sheet'!B400=\"Safety\",10,0)","v":0},{"$f":"IF('Data Collection Sheet'!B400=\"Building\",50,0)","v":0},{"$f":"IF('Data Collection Sheet'!B400=\"Vehicle\",8,0)","v":0},{"$f":"IF('Data Collection Sheet'!B400=\"Other\",15,0)","v":0},{"$f":"IF('Data Collection Sheet'!I400=\"Bad\",(-0.8*$T397),0)","v":0},{"$f":"IF('Data Collection Sheet'!I400=\"Fair\",(-0.5*$T397),0)","v":0},{"$f":"IF('Data Collection Sheet'!I400=\"Good\",(-0.2*$T397),0)","v":0},{"$f":"IF('Data Collection Sheet'!I400=\"Great\",0,0)","v":0},null,0,0,0,null,null,null,{"$f":"IF('Consequence of Failure'!F400=\"No\",1,0)","v":0},{"$f":"IF('Consequence of Failure'!G398=\"0%-25%\",0.5,0)","v":0},{"$f":"IF('Consequence of Failure'!G398=\"26%-50%\",1,0)","v":0},{"$f":"IF('Consequence of Failure'!G398=\"51%-75%\",1.5,0)","v":0},{"$f":"IF('Consequence of Failure'!G398=\"76%-100%\",2,0)","v":0},{"$f":"IF('Consequence of Failure'!H398=\"Yes\",1,0)","v":0},{"$f":"IF('Consequence of Failure'!I398=\"Yes\",1,0)","v":0},null,0,null,{"$f":"IF('Consequence of Failure'!K398=\"Yes\",1,0)","v":0},{"$f":"IF('Consequence of Failure'!L398=\"Above\",2,0)","v":0},{"$f":"IF('Consequence of Failure'!L398=\"At\",1,0)","v":0},{"$f":"IF('Consequence of Failure'!L398=\"Below\",0,0)","v":0},{"$f":"IF('Consequence of Failure'!M398=\"Yes\",1,0)","v":0},{"$f":"IF('Consequence of Failure'!N398=\"Yes\",1,0)","v":0},null,0,null,0]
[{"$f":"IF('Data Collection Sheet'!B401=\"Pump\",15,0)","v":0},{"$f":"IF('Data Collection Sheet'!B401=\"Hydrant\",50,0)","v":0},{"$f":"IF('Data Collection Sheet'!B401=\"Meter\",15,0)","v":0},{"$f":"IF('Data Collection Sheet'!B401=\"Pipe\",80,0)","v":0},{"$f":"IF('Data Collection Sheet'!B401=\"Source\",50,0)","v":0},{"$f":"IF('Data Collection Sheet'!B401=\"Tank\",50,0)","v":0},{"$f":"IF('Data Collection Sheet'!B401=\"Analytical\",10,0)","v":0},{"$f":"IF('Data Collection Sheet'!B401=\"Treatment\",20,0)","v":0},{"$f":"IF('Data Collection Sheet'!B401=\"Valve\",20,0)","v":0},{"$f":"IF('Data Collection Sheet'!B401=\"Control\",15,0)","v":0},{"$f":"IF('Data Collection Sheet'!B401=\"Safety\",10,0)","v":0},{"$f":"IF('Data Collection Sheet'!B401=\"Building\",50,0)","v":0},{"$f":"IF('Data Collection Sheet'!B401=\"Vehicle\",8,0)","v":0},{"$f":"IF('Data Collection Sheet'!B401=\"Other\",15,0)","v":0},{"$f":"IF('Data Collection Sheet'!I401=\"Bad\",(-0.8*$T398),0)","v":0},{"$f":"IF('Data Collection Sheet'!I401=\"Fair\",(-0.5*$T398),0)","v":0},{"$f":"IF('Data Collection Sheet'!I401=\"Good\",(-0.2*$T398),0)","v":0},{"$f":"IF('Data Collection Sheet'!I401=\"Great\",0,0)","v":0},null,0,0,0,null,null,null,{"$f":"IF('Consequence of Failure'!F401=\"No\",1,0)","v":0},{"$f":"IF('Consequence of Failure'!G399=\"0%-25%\",0.5,0)","v":0},{"$f":"IF('Consequence of Failure'!G399=\"26%-50%\",1,0)","v":0},{"$f":"IF('Consequence of Failure'!G399=\"51%-75%\",1.5,0)","v":0},{"$f":"IF('Consequence of Failure'!G399=\"76%-100%\",2,0)","v":0},{"$f":"IF('Consequence of Failure'!H399=\"Yes\",1,0)","v":0},{"$f":"IF('Consequence of Failure'!I399=\"Yes\",1,0)","v":0},null,0,null,{"$f":"IF('Consequence of Failure'!K399=\"Yes\",1,0)","v":0},{"$f":"IF('Consequence of Failure'!L399=\"Above\",2,0)","v":0},{"$f":"IF('Consequence of Failure'!L399=\"At\",1,0)","v":0},{"$f":"IF('Consequence of Failure'!L399=\"Below\",0,0)","v":0},{"$f":"IF('Consequence of Failure'!M399=\"Yes\",1,0)","v":0},{"$f":"IF('Consequence of Failure'!N399=\"Yes\",1,0)","v":0},null,0,null,0]
[{"$f":"IF('Data Collection Sheet'!B402=\"Pump\",15,0)","v":0},{"$f":"IF('Data Collection Sheet'!B402=\"Hydrant\",50,0)","v":0},{"$f":"IF('Data Collection Sheet'!B402=\"Meter\",15,0)","v":0},{"$f":"IF('Data Collection Sheet'!B402=\"Pipe\",80,0)","v":0},{"$f":"IF('Data Collection Sheet'!B402=\"Source\",50,0)","v":0},{"$f":"IF('Data Collection Sheet'!B402=\"Tank\",50,0)","v":0},{"$f":"IF('Data Collection Sheet'!B402=\"Analytical\",10,0)","v":0},{"$f":"IF('Data Collection Sheet'!B402=\"Treatment\",20,0)","v":0},{"$f":"IF('Data Collection Sheet'!B402=\"Valve\",20,0)","v":0},{"$f":"IF('Data Collection Sheet'!B402=\"Control\",15,0)","v":0},{"$f":"IF('Data Collection Sheet'!B402=\"Safety\",10,0)","v":0},{"$f":"IF('Data Collection Sheet'!B402=\"Building\",50,0)","v":0},{"$f":"IF('Data Collection Sheet'!B402=\"Vehicle\",8,0)","v":0},{"$f":"IF('Data Collection Sheet'!B402=\"Other\",15,0)","v":0},{"$f":"IF('Data Collection Sheet'!I402=\"Bad\",(-0.8*$T399),0)","v":0},{"$f":"IF('Data Collection Sheet'!I402=\"Fair\",(-0.5*$T399),0)","v":0},{"$f":"IF('Data Collection Sheet'!I402=\"Good\",(-0.2*$T399),0)","v":0},{"$f":"IF('Data Collection Sheet'!I402=\"Great\",0,0)","v":0},null,0,0,0,null,null,null,{"$f":"IF('Consequence of Failure'!F402=\"No\",1,0)","v":0},{"$f":"IF('Consequence of Failure'!G400=\"0%-25%\",0.5,0)","v":0},{"$f":"IF('Consequence of Failure'!G400=\"26%-50%\",1,0)","v":0},{"$f":"IF('Consequence of Failure'!G400=\"51%-75%\",1.5,0)","v":0},{"$f":"IF('Consequence of Failure'!G400=\"76%-100%\",2,0)","v":0},{"$f":"IF('Consequence of Failure'!H400=\"Yes\",1,0)","v":0},{"$f":"IF('Consequence of Failure'!I400=\"Yes\",1,0)","v":0},null,0,null,{"$f":"IF('Consequence of Failure'!K400=\"Yes\",1,0)","v":0},{"$f":"IF('Consequence of Failure'!L400=\"Above\",2,0)","v":0},{"$f":"IF('Consequence of Failure'!L400=\"At\",1,0)","v":0},{"$f":"IF('Consequence of Failure'!L400=\"Below\",0,0)","v":0},{"$f":"IF('Consequence of Failure'!M400=\"Yes\",1,0)","v":0},{"$f":"IF('Consequence of Failure'!N400=\"Yes\",1,0)","v":0},null,0,null,0]